{"text_format":"1","workbook":"xlsx","n_sheets":12,"sheets":["Titolare","Dati Gen","Committenti","UnitàImmobiliari","Computo-Massimali","SAL.30%","SAL.60%","SAL.Finale","Pratica ENEA","Fatture","Rendiconto","ModelloFattura"],"not_rendered":{"charts":2,"images":6,"macros":1,"external_links":0,"defined_names":56,"comments":7,"pivot_tables":0},"unopened":[],"bounds":{"document_bytes":16777216,"sheet_cells":100000,"rows_first":2000,"rows_last":500,"rows_between":2000,"halvings":0,"cell_chars":16384,"cell_head_chars":4096},"cells_cut":0,"cells_raw":0,"read":"whole","date_system":"1900"}

{"sheet":"Titolare","index":0,"n_rows":31,"n_cols":3,"rows_kept":31,"cut":false,"hidden":false,"merged":[[5,2,5,3],[6,2,6,3],[7,2,7,3],[13,2,13,3],[15,1,15,3],[8,2,8,3],[9,2,9,3],[10,2,10,3],[11,2,11,3],[12,2,12,3],[0,1,0,3],[1,2,1,3],[2,2,2,3],[3,2,3,3],[4,2,4,3]]}
[null,"Titolare Licenza d'uso"]
[null,"Titolo"]
[null,"Cognome "]
[null,"Nome"]
[null,"Codice Fiscale"]
[null,"P.Iva"]
[null,"Indirizzo"]
[null,"CAP"]
[null,"Città"]
[null,"Provincia"]
[null,"Telefono"]
[null,"Mail"]
[null,"Codice Univoco"]
[null,"Mail/Pec"]
[true]
[null,"Versione Demo"]
[]
[]
[null,"Guida","https://www.madosoft.it/prodotti/superbonus110/pratica-110-xlsm"]
[null,"Introduzione"]
[null,"Download"]
[null,"Attivazione Software"]
[null,"Dati Generali"]
[null,"    Tipologia Edificio"]
[null,"    Dati Progetto"]
[null,"Committenti"]
[null,"Unità Immobiliari"]
[null,"Computo Massimali"]
[null,"    Interventi Trainanti"]
[null,"    Interventi Trainati Parti Comuni condominiali"]
[null,"    Interventi Trainanti Unità Immobiliari"]

{"sheet":"Dati Gen","index":1,"n_rows":1006,"n_cols":19,"rows_kept":1006,"cut":false,"hidden":false,"merged":[[7,19,7,25],[32,19,32,25],[23,18,23,25],[51,18,51,25],[19,12,19,13],[20,12,20,13],[26,12,26,13],[27,12,27,13],[28,12,28,13],[29,12,29,13],[21,12,21,13],[1,10,1,12],[28,10,28,11],[25,10,25,11],[31,10,31,11],[17,12,17,13],[18,12,18,13],[27,10,27,11],[29,10,29,11],[23,9,23,11],[5,7,5,9],[5,10,5,13],[15,5,15,13],[15,2,15,4],[45,11,45,12],[46,11,46,12],[47,11,47,12],[42,4,42,5],[42,6,42,8],[43,6,43,8],[44,6,44,8],[30,12,30,13],[30,10,30,11],[32,10,32,11],[47,6,47,8],[33,6,33,8],[33,9,33,11],[31,12,31,13],[32,12,32,13],[31,7,31,8],[32,7,32,8],[16,12,16,13],[26,10,26,11],[45,4,45,5],[46,4,46,5],[31,2,31,3],[32,4,32,5],[35,7,35,8],[35,12,35,13],[35,4,35,5],[35,10,35,11],[31,4,31,5],[44,9,44,10],[37,1,37,13],[39,2,39,4],[38,12,38,13],[39,12,39,13],[38,2,38,4],[38,6,38,10],[39,6,39,10],[43,4,43,5],[42,11,42,12],[43,11,43,12],[40,2,40,13],[42,9,42,10],[43,9,43,10],[50,4,50,5],[50,6,50,8],[26,4,26,5],[34,10,34,11],[34,7,34,8],[34,4,34,5],[33,4,33,5],[33,12,33,13],[34,12,34,13],[49,9,49,10],[50,9,50,10],[45,6,45,8],[46,6,46,8],[48,6,48,8],[49,6,49,8],[48,9,48,10],[45,9,45,10],[46,9,46,10],[47,9,47,10],[48,11,48,12],[49,11,49,12],[50,11,50,12],[47,4,47,5],[48,4,48,5],[49,1,49,2],[50,1,50,2],[42,1,42,2],[43,1,43,2],[44,1,44,2],[45,1,45,2],[46,1,46,2],[47,1,47,2],[48,1,48,2],[49,4,49,5],[44,4,44,5],[8,1,8,3],[9,1,9,3],[10,1,10,3],[11,1,11,3],[26,7,26,8],[27,7,27,8],[28,7,28,8],[29,2,29,3],[16,5,16,8],[17,6,17,8],[18,6,18,8],[25,7,25,8],[29,7,29,8],[9,7,9,8],[10,7,10,12],[23,12,23,13],[13,1,13,3],[12,8,12,9],[12,10,12,12],[12,1,12,7],[24,10,24,11],[44,11,44,12],[30,2,30,3],[24,12,24,13],[25,12,25,13],[28,4,28,5],[29,4,29,5],[30,4,30,5],[16,1,16,4],[24,7,24,8],[24,2,24,3],[25,2,25,3],[26,2,26,3],[27,2,27,3],[28,2,28,3],[23,4,23,5],[25,4,25,5],[24,4,24,5],[30,7,30,8],[23,2,23,3],[23,6,23,8],[7,1,7,3],[27,4,27,5],[4,7,4,9],[21,6,21,11],[19,6,19,8],[20,6,20,8],[16,10,16,11],[17,10,17,11],[18,10,18,11],[19,10,19,11],[20,10,20,11],[10,4,10,6],[4,1,4,4],[5,1,5,6],[8,4,8,11],[7,4,7,11],[9,4,9,5],[11,4,11,9],[20,1,20,4],[17,1,17,4],[18,1,18,4],[19,1,19,4],[4,10,4,13],[13,4,13,5]]}
[null,"https://www.madosoft.it/prodotti/superbonus110/pratica-110-xlsm",null,null,null,null,null,null,null,null,null,null,null,null,null,1,1]
[0,null,null,null,null,null,null,null,null,null,"Pratica.110plus",null,null,null,null,null,"Edificio Unifamiliare"]
[null,"PRATICA SUPERBONUS 110%",null,null,null,"N.",1,null,null,null,"Vers.ne","2.1",null,null,null,1,1]
["","Tipologia Immobile",null,null,null,null,null,null,null,null,"©2021 SIM srl - www.madosoft.it"]
[null,1,null,null,null,2,1,{"$f":"IF(TipoEdif=2,\"Denominazione : \",\"\")","v":""},null,null,null,null,null,null,null,null,"Edificio Unifamiliare"]
[null,{"$f":"IF(TipoEdif=1, IF(N_Uimm>1,\"Inserire N.Unità Immobiliari =1\",\"\"),IF(N_Uimm<=1,\"Inserire N.Unità Immobiliari >=2\",\"\"))","v":""},null,null,null,null,null,{"$f":"IF(TipoEdif=2,\"Codice Fiscale : \",\"\")","v":""},null,null,null,null,null,null,null,null,"Condominio "]
[null,"Dati Edificio",null,null,null,null,null,null,null,null,null,null,null,null,null,null,1]
[null,"Comune di Ubicazione",null,null,null,null,null,null,null,null,null,null,"CAP",null,null,null,{"$f":"Q7+1","v":2}]
[null,"Indirizzo",null,null,null,null,null,null,null,null,null,null,"N.",null,null,null,{"$f":"Q8+1","v":3}]
[null,{"$f":"IF(TipoEdif=2,\"\",\"Dati Catastali\")","v":"Dati Catastali"},null,null,{"$f":"IF(TipoEdif=2,\"\",\"Foglio\")","v":"Foglio"},null,null,{"$f":"IF(TipoEdif=2,\"\",\"Particella\")","v":"Particella"},null,null,{"$f":"IF(TipoEdif=2,\"\",\"Sub.\")","v":"Sub."},null,{"$f":"IF(TipoEdif=2,\"\",\"CAT.\")","v":"CAT."},null,null,null,4]
[null,"Anno di Costruzione Immobile",null,null,null,null,null,"Superficie Totale Disperdente   :",null,null,null,null,null,null,null,null,5]
[null,"Autorizzazione Edilizia",null,null,"Licenza Edilizia / Titolo Edilizio",null,null,null,null,null,{"$f":"IF(E12=\"Licenza Edilizia / Titolo Edilizio\",\"N.\",IF(E12=\"Concessione in Sanatoria\",\"N.\",\"\"))","v":"N."},null,"Data",null,null,null,6]
[null,"Relazione ex Legge 10/91  Depositata al Comune in Data ",null,null,null,null,null,null,null,null,"Prot. N.  ",null,null,null,null,null,7]
[null,"Data Inizio Lavori",null,null,null,null,null,null,null,null,null,null,null,null,null,null,8]
[null,null,null,null,null,null,null,null,null,null,null,null,null,null,null,null,9]
[null,"DATI DI PROGETTO","Oggetto Lavori :",null,null,"Oggetto Lavori",null,null,null,null,null,null,null,null,null,null,10]
[null,"Descrizione",null,null,null,"Imponibile",null,null,null,"%iva","IVA",null,"Totale",null,null,null,11]
[null,"Importo complessivo Lavori",null,null,null,null,10000,null,null,0.1,{"$f":"G18*J18","v":1000},null,{"$f":"G18+K18","v":11000},null,null,null,12]
[null,"di cui Oneri/Lavori x Sicurezza",null,null,null,null,0,null,null,{"$f":"J18","v":0.1},{"$f":"G19*J19","v":0},null,{"$f":"G19+K19","v":0},null,null,null,13]
[null,"Importo Lavori al netto della Sicurezza",null,null,null,null,{"$f":"G18-G19","v":10000},null,null,{"$f":"J18","v":0.1},{"$f":"G20*J20","v":1000},null,{"$f":"G20+K20","v":11000},null,null,null,14]
[null,"Spese tecniche (compresa iva)",null,null,null,null,{"$f":"M36","v":266.45},null,null,null,null,null,{"$f":"G21","v":266.45},null,null,null,15]
[null,null,null,null,null,null,"Importo Complessivo Progetto : ",null,null,null,null,null,{"$f":"M18+M21","v":11266.45},null,null,null,16]
[null,null,null,null,null,null,null,null,null,null,null,null,null,null,null,null,17]
[null,"SPESE TECNICHE","Tecnico",null,"Onorario",null,"C.Cassa",null,null,"IVA",null,null,"Totale",null,null,null,18,null,"Foto 1"]
[null,"Incarico 1","Ingegnere 1",null,10,null,0.04,{"$f":"E25*G25","v":0.4},null,0.22,{"$f":"(E25+H25)*J25","v":2.2880000000000003},null,{"$f":"ROUND(E25+H25+K25,2)","v":12.69},null,null,null,19]
[null,"Calcoli e Deposito G.C.","Ingegnere 1",null,0,null,0.04,0,null,0.22,0,null,0,null,null,null,20]
[null,"Congruità","Ingegnere 1",null,0,null,0.04,0,null,0.22,0,null,0,null,null,null,21]
[null,null,null,null,0,null,0.04,0,null,0.22,0,null,0,null,null,null,22]
[null,null,null,null,0,null,0.04,0,null,0.22,0,null,0,null,null,null,23]
[null,null,null,null,0,null,0.04,0,null,0.22,0,null,0,null,null,null,24]
[null,null,null,null,0,null,0.04,0,null,0.22,0,null,0,null,null,null,25]
[null,null,null,null,0,null,0.04,0,null,0.22,0,null,0,null,null,null,26]
[null,null,null,null,{"$f":"SUM(E25:F32)","v":10},null,null,{"$f":"SUM(H25:I32)","v":0.4},null,null,{"$f":"SUM(K25:L32)","v":2.2880000000000003},null,{"$f":"SUM(M25:N32)","v":12.69},null,null,null,27]
[null,null,null,null,"onorario",null,"c.cassa",null,null,"iva",null,null,"totale",null,null,null,28]
[null,"Visto Conformità","Dott. Igor",0.02,{"$f":"D35*G18","v":200},null,0.04,{"$f":"E35*G35","v":8},null,0.22,{"$f":"(E35+H35)*J35","v":45.76},null,{"$f":"ROUND(E35+H35+K35,2)","v":253.76},null,null,null,29]
[null,null,null,null,{"$f":"E33+E35","v":210},null,null,{"$f":"H33+H35","v":8.4},null,null,{"$f":"K33+K35","v":48.048000000000002},null,{"$f":"M33+M35","v":266.45},null,null,null,30]
[null,null,null,null,null,null,null,null,null,null,null,null,null,null,null,null,31]
[null,"Appaltatore / General Contractor / Soggetto Principale a cui viene ceduto il credito",null,null,null,null,null,null,null,null,null,null,null,null,null,null,32]
[null,"Denominazione","SIM srl",null,null,"CF/Piva",null,null,null,null,null,"Tel.",null,null,null,null,33]
[null,"Indirizzo",null,null,null,"Città",null,null,null,null,null,"Mail",null,null,null,null,34]
[null,"Dati Pagamento",null,null,null,null,null,null,null,null,null,null,null,null,null,null,35]
[null,null,null,null,null,null,null,null,null,null,null,null,null,null,null,null,36]
[null,"TECNICI",null,"Sc.to","Indirizzo",null,"Città",null,null,"CodFisc/Piva",null,"Tel./Mail",null,"Dati Pagamento"," ",null,37]
[null,"Ingegnere 1",null,"SI","Via Libertà N.3",null,"90020 Castellana Sicula (PA)",null,null,null,null,null,null,"Bonifico Bancario | Zafonte Mario | Banca Unicredit | IBAN : IT69Y0897643240000000305975"," ",null,38]
[null,"Dott. Igor",null,"NO",null,null,null,null,null,null,null,null,null,null," ",null,39]
[null,null,null,"NO",null,null,null,null,null,null,null,null,null,null," ",null,40]
[null,null,null,"NO",null,null,null,null,null,null,null,null,null,null," ",null,41]
[null,null,null,"NO",null,null,null,null,null,null,null,null,null,null," ",null,42]
[null,null,null,"NO",null,null,null,null,null,null,null,null,null,null," ",null,43]
[null,null,null,"NO",null,null,null,null,null,null,null,null,null,null," ",null,44]
[null,null,null,"NO",null,null,null,null,null,null,null,null,null,null," ",null,45]
[null,null,null,null,null,null,null,null,null,null,null,null,null,null,null,null,46,null,"Foto 2"]
[null,null,null,null,null,null,null,null,null,null,null,null,null,null,null,null,47]
[null,null,null,null,null,null,null,null,null,null,null,null,null,null,null,null,48]
[null,null,null,null,null,null,null,null,null,null,null,null,null,null,null,null,49]
[null,null,null,null,null,null,null,null,null,null,null,null,null,null,null,null,50]
[null,null,null,null,null,null,null,null,null,null,null,null,null,null,null,null,51]
[null,null,null,null,null,null,null,null,null,null,null,null,null,null,null,null,52]
[null,null,null,null,null,null,null,null,null,null,null,null,null,null,null,null,53]
[null,null,null,null,null,null,null,null,null,null,null,null,null,null,null,null,54]
[null,null,null,null,null,null,null,null,null,null,null,null,null,null,null,null,55]
[null,null,null,null,null,null,null,null,null,null,null,null,null,null,null,null,56]
[null,null,null,null,null,null,null,null,null,null,null,null,null,null,null,null,57]
[null,null,null,null,null,null,null,null,null,null,null,null,null,null,null,null,58]
[null,null,null,null,null,null,null,null,null,null,null,null,null,null,null,null,59]
[null,null,null,null,null,null,null,null,null,null,null,null,null,null,null,null,60]
[null,null,null,null,null,null,null,null,null,null,null,null,null,null,null,null,61]
[null,null,null,null,null,null,null,null,null,null,null,null,null,null,null,null,62]
[null,null,null,null,null,null,null,null,null,null,null,null,null,null,null,null,63]
[null,null,null,null,null,null,null,null,null,null,null,null,null,null,null,null,64]
[null,null,null,null,null,null,null,null,null,null,null,null,null,null,null,null,65]
[null,null,null,null,null,null,null,null,null,null,null,null,null,null,null,null,66]
[null,null,null,null,null,null,null,null,null,null,null,null,null,null,null,null,{"$f":"Q72+1","v":67}]
[null,null,null,null,null,null,null,null,null,null,null,null,null,null,null,null,68]
[null,null,null,null,null,null,null,null,null,null,null,null,null,null,null,null,69]
[null,null,null,null,null,null,null,null,null,null,null,null,null,null,null,null,70]
[null,null,null,null,null,null,null,null,null,null,null,null,null,null,null,null,71]
[null,null,null,null,null,null,null,null,null,null,null,null,null,null,null,null,72]
[null,null,null,null,null,null,null,null,null,null,null,null,null,null,null,null,73]
[null,null,null,null,null,null,null,null,null,null,null,null,null,null,null,null,74]
[null,null,null,null,null,null,null,null,null,null,null,null,null,null,null,null,75]
[null,null,null,null,null,null,null,null,null,null,null,null,null,null,null,null,76]
[null,null,null,null,null,null,null,null,null,null,null,null,null,null,null,null,77]
[null,null,null,null,null,null,null,null,null,null,null,null,null,null,null,null,78]
[null,null,null,null,null,null,null,null,null,null,null,null,null,null,null,null,79]
[null,null,null,null,null,null,null,null,null,null,null,null,null,null,null,null,80]
[null,null,null,null,null,null,null,null,null,null,null,null,null,null,null,null,81]
[null,null,null,null,null,null,null,null,null,null,null,null,null,null,null,null,82]
[null,null,null,null,null,null,null,null,null,null,null,null,null,null,null,null,83]
[null,null,null,null,null,null,null,null,null,null,null,null,null,null,null,null,84]
[null,null,null,null,null,null,null,null,null,null,null,null,null,null,null,null,85]
[null,null,null,null,null,null,null,null,null,null,null,null,null,null,null,null,86]
[null,null,null,null,null,null,null,null,null,null,null,null,null,null,null,null,87]
[null,null,null,null,null,null,null,null,null,null,null,null,null,null,null,null,88]
[null,null,null,null,null,null,null,null,null,null,null,null,null,null,null,null,89]
[null,null,null,null,null,null,null,null,null,null,null,null,null,null,null,null,90]
[null,null,null,null,null,null,null,null,null,null,null,null,null,null,null,null,91]
[null,null,null,null,null,null,null,null,null,null,null,null,null,null,null,null,92]
[null,null,null,null,null,null,null,null,null,null,null,null,null,null,null,null,93]
[null,null,null,null,null,null,null,null,null,null,null,null,null,null,null,null,94]
[null,null,null,null,null,null,null,null,null,null,null,null,null,null,null,null,95]
[null,null,null,null,null,null,null,null,null,null,null,null,null,null,null,null,96]
[null,null,null,null,null,null,null,null,null,null,null,null,null,null,null,null,97]
[null,null,null,null,null,null,null,null,null,null,null,null,null,null,null,null,98]
[null,null,null,null,null,null,null,null,null,null,null,null,null,null,null,null,99]
[null,null,null,null,null,null,null,null,null,null,null,null,null,null,null,null,100]
[null,null,null,null,null,null,null,null,null,null,null,null,null,null,null,null,101]
[null,null,null,null,null,null,null,null,null,null,null,null,null,null,null,null,102]
[null,null,null,null,null,null,null,null,null,null,null,null,null,null,null,null,103]
[null,null,null,null,null,null,null,null,null,null,null,null,null,null,null,null,104]
[null,null,null,null,null,null,null,null,null,null,null,null,null,null,null,null,105]
[null,null,null,null,null,null,null,null,null,null,null,null,null,null,null,null,106]
[null,null,null,null,null,null,null,null,null,null,null,null,null,null,null,null,107]
[null,null,null,null,null,null,null,null,null,null,null,null,null,null,null,null,108]
[null,null,null,null,null,null,null,null,null,null,null,null,null,null,null,null,109]
[null,null,null,null,null,null,null,null,null,null,null,null,null,null,null,null,110]
[null,null,null,null,null,null,null,null,null,null,null,null,null,null,null,null,111]
[null,null,null,null,null,null,null,null,null,null,null,null,null,null,null,null,112]
[null,null,null,null,null,null,null,null,null,null,null,null,null,null,null,null,113]
[null,null,null,null,null,null,null,null,null,null,null,null,null,null,null,null,114]
[null,null,null,null,null,null,null,null,null,null,null,null,null,null,null,null,115]
[null,null,null,null,null,null,null,null,null,null,null,null,null,null,null,null,116]
[null,null,null,null,null,null,null,null,null,null,null,null,null,null,null,null,117]
[null,null,null,null,null,null,null,null,null,null,null,null,null,null,null,null,118]
[null,null,null,null,null,null,null,null,null,null,null,null,null,null,null,null,119]
[null,null,null,null,null,null,null,null,null,null,null,null,null,null,null,null,120]
[null,null,null,null,null,null,null,null,null,null,null,null,null,null,null,null,121]
[null,null,null,null,null,null,null,null,null,null,null,null,null,null,null,null,122]
[null,null,null,null,null,null,null,null,null,null,null,null,null,null,null,null,123]
[null,null,null,null,null,null,null,null,null,null,null,null,null,null,null,null,124]
[null,null,null,null,null,null,null,null,null,null,null,null,null,null,null,null,125]
[null,null,null,null,null,null,null,null,null,null,null,null,null,null,null,null,126]
[null,null,null,null,null,null,null,null,null,null,null,null,null,null,null,null,127]
[null,null,null,null,null,null,null,null,null,null,null,null,null,null,null,null,128]
[null,null,null,null,null,null,null,null,null,null,null,null,null,null,null,null,129]
[null,null,null,null,null,null,null,null,null,null,null,null,null,null,null,null,130]
[null,null,null,null,null,null,null,null,null,null,null,null,null,null,null,null,{"$f":"Q136+1","v":131}]
[null,null,null,null,null,null,null,null,null,null,null,null,null,null,null,null,132]
[null,null,null,null,null,null,null,null,null,null,null,null,null,null,null,null,133]
[null,null,null,null,null,null,null,null,null,null,null,null,null,null,null,null,134]
[null,null,null,null,null,null,null,null,null,null,null,null,null,null,null,null,135]
[null,null,null,null,null,null,null,null,null,null,null,null,null,null,null,null,136]
[null,null,null,null,null,null,null,null,null,null,null,null,null,null,null,null,137]
[null,null,null,null,null,null,null,null,null,null,null,null,null,null,null,null,138]
[null,null,null,null,null,null,null,null,null,null,null,null,null,null,null,null,139]
[null,null,null,null,null,null,null,null,null,null,null,null,null,null,null,null,140]
[null,null,null,null,null,null,null,null,null,null,null,null,null,null,null,null,141]
[null,null,null,null,null,null,null,null,null,null,null,null,null,null,null,null,142]
[null,null,null,null,null,null,null,null,null,null,null,null,null,null,null,null,143]
[null,null,null,null,null,null,null,null,null,null,null,null,null,null,null,null,144]
[null,null,null,null,null,null,null,null,null,null,null,null,null,null,null,null,145]
[null,null,null,null,null,null,null,null,null,null,null,null,null,null,null,null,146]
[null,null,null,null,null,null,null,null,null,null,null,null,null,null,null,null,147]
[null,null,null,null,null,null,null,null,null,null,null,null,null,null,null,null,148]
[null,null,null,null,null,null,null,null,null,null,null,null,null,null,null,null,149]
[null,null,null,null,null,null,null,null,null,null,null,null,null,null,null,null,150]
[null,null,null,null,null,null,null,null,null,null,null,null,null,null,null,null,151]
[null,null,null,null,null,null,null,null,null,null,null,null,null,null,null,null,152]
[null,null,null,null,null,null,null,null,null,null,null,null,null,null,null,null,153]
[null,null,null,null,null,null,null,null,null,null,null,null,null,null,null,null,154]
[null,null,null,null,null,null,null,null,null,null,null,null,null,null,null,null,155]
[null,null,null,null,null,null,null,null,null,null,null,null,null,null,null,null,156]
[null,null,null,null,null,null,null,null,null,null,null,null,null,null,null,null,157]
[null,null,null,null,null,null,null,null,null,null,null,null,null,null,null,null,158]
[null,null,null,null,null,null,null,null,null,null,null,null,null,null,null,null,159]
[null,null,null,null,null,null,null,null,null,null,null,null,null,null,null,null,160]
[null,null,null,null,null,null,null,null,null,null,null,null,null,null,null,null,161]
[null,null,null,null,null,null,null,null,null,null,null,null,null,null,null,null,162]
[null,null,null,null,null,null,null,null,null,null,null,null,null,null,null,null,163]
[null,null,null,null,null,null,null,null,null,null,null,null,null,null,null,null,164]
[null,null,null,null,null,null,null,null,null,null,null,null,null,null,null,null,165]
[null,null,null,null,null,null,null,null,null,null,null,null,null,null,null,null,166]
[null,null,null,null,null,null,null,null,null,null,null,null,null,null,null,null,167]
[null,null,null,null,null,null,null,null,null,null,null,null,null,null,null,null,168]
[null,null,null,null,null,null,null,null,null,null,null,null,null,null,null,null,169]
[null,null,null,null,null,null,null,null,null,null,null,null,null,null,null,null,170]
[null,null,null,null,null,null,null,null,null,null,null,null,null,null,null,null,171]
[null,null,null,null,null,null,null,null,null,null,null,null,null,null,null,null,172]
[null,null,null,null,null,null,null,null,null,null,null,null,null,null,null,null,173]
[null,null,null,null,null,null,null,null,null,null,null,null,null,null,null,null,174]
[null,null,null,null,null,null,null,null,null,null,null,null,null,null,null,null,175]
[null,null,null,null,null,null,null,null,null,null,null,null,null,null,null,null,176]
[null,null,null,null,null,null,null,null,null,null,null,null,null,null,null,null,177]
[null,null,null,null,null,null,null,null,null,null,null,null,null,null,null,null,178]
[null,null,null,null,null,null,null,null,null,null,null,null,null,null,null,null,179]
[null,null,null,null,null,null,null,null,null,null,null,null,null,null,null,null,180]
[null,null,null,null,null,null,null,null,null,null,null,null,null,null,null,null,181]
[null,null,null,null,null,null,null,null,null,null,null,null,null,null,null,null,182]
[null,null,null,null,null,null,null,null,null,null,null,null,null,null,null,null,183]
[null,null,null,null,null,null,null,null,null,null,null,null,null,null,null,null,184]
[null,null,null,null,null,null,null,null,null,null,null,null,null,null,null,null,185]
[null,null,null,null,null,null,null,null,null,null,null,null,null,null,null,null,186]
[null,null,null,null,null,null,null,null,null,null,null,null,null,null,null,null,187]
[null,null,null,null,null,null,null,null,null,null,null,null,null,null,null,null,188]
[null,null,null,null,null,null,null,null,null,null,null,null,null,null,null,null,189]
[null,null,null,null,null,null,null,null,null,null,null,null,null,null,null,null,190]
[null,null,null,null,null,null,null,null,null,null,null,null,null,null,null,null,191]
[null,null,null,null,null,null,null,null,null,null,null,null,null,null,null,null,192]
[null,null,null,null,null,null,null,null,null,null,null,null,null,null,null,null,193]
[null,null,null,null,null,null,null,null,null,null,null,null,null,null,null,null,194]
[null,null,null,null,null,null,null,null,null,null,null,null,null,null,null,null,{"$f":"Q200+1","v":195}]
[null,null,null,null,null,null,null,null,null,null,null,null,null,null,null,null,196]
[null,null,null,null,null,null,null,null,null,null,null,null,null,null,null,null,197]
[null,null,null,null,null,null,null,null,null,null,null,null,null,null,null,null,198]
[null,null,null,null,null,null,null,null,null,null,null,null,null,null,null,null,199]
[null,null,null,null,null,null,null,null,null,null,null,null,null,null,null,null,200]
[null,null,null,null,null,null,null,null,null,null,null,null,null,null,null,null,201]
[null,null,null,null,null,null,null,null,null,null,null,null,null,null,null,null,202]
[null,null,null,null,null,null,null,null,null,null,null,null,null,null,null,null,203]
[null,null,null,null,null,null,null,null,null,null,null,null,null,null,null,null,204]
[null,null,null,null,null,null,null,null,null,null,null,null,null,null,null,null,205]
[null,null,null,null,null,null,null,null,null,null,null,null,null,null,null,null,206]
[null,null,null,null,null,null,null,null,null,null,null,null,null,null,null,null,207]
[null,null,null,null,null,null,null,null,null,null,null,null,null,null,null,null,208]
[null,null,null,null,null,null,null,null,null,null,null,null,null,null,null,null,209]
[null,null,null,null,null,null,null,null,null,null,null,null,null,null,null,null,210]
[null,null,null,null,null,null,null,null,null,null,null,null,null,null,null,null,211]
[null,null,null,null,null,null,null,null,null,null,null,null,null,null,null,null,212]
[null,null,null,null,null,null,null,null,null,null,null,null,null,null,null,null,213]
[null,null,null,null,null,null,null,null,null,null,null,null,null,null,null,null,214]
[null,null,null,null,null,null,null,null,null,null,null,null,null,null,null,null,215]
[null,null,null,null,null,null,null,null,null,null,null,null,null,null,null,null,216]
[null,null,null,null,null,null,null,null,null,null,null,null,null,null,null,null,217]
[null,null,null,null,null,null,null,null,null,null,null,null,null,null,null,null,218]
[null,null,null,null,null,null,null,null,null,null,null,null,null,null,null,null,219]
[null,null,null,null,null,null,null,null,null,null,null,null,null,null,null,null,220]
[null,null,null,null,null,null,null,null,null,null,null,null,null,null,null,null,221]
[null,null,null,null,null,null,null,null,null,null,null,null,null,null,null,null,222]
[null,null,null,null,null,null,null,null,null,null,null,null,null,null,null,null,223]
[null,null,null,null,null,null,null,null,null,null,null,null,null,null,null,null,224]
[null,null,null,null,null,null,null,null,null,null,null,null,null,null,null,null,225]
[null,null,null,null,null,null,null,null,null,null,null,null,null,null,null,null,226]
[null,null,null,null,null,null,null,null,null,null,null,null,null,null,null,null,227]
[null,null,null,null,null,null,null,null,null,null,null,null,null,null,null,null,228]
[null,null,null,null,null,null,null,null,null,null,null,null,null,null,null,null,229]
[null,null,null,null,null,null,null,null,null,null,null,null,null,null,null,null,230]
[null,null,null,null,null,null,null,null,null,null,null,null,null,null,null,null,231]
[null,null,null,null,null,null,null,null,null,null,null,null,null,null,null,null,232]
[null,null,null,null,null,null,null,null,null,null,null,null,null,null,null,null,233]
[null,null,null,null,null,null,null,null,null,null,null,null,null,null,null,null,234]
[null,null,null,null,null,null,null,null,null,null,null,null,null,null,null,null,235]
[null,null,null,null,null,null,null,null,null,null,null,null,null,null,null,null,236]
[null,null,null,null,null,null,null,null,null,null,null,null,null,null,null,null,237]
[null,null,null,null,null,null,null,null,null,null,null,null,null,null,null,null,238]
[null,null,null,null,null,null,null,null,null,null,null,null,null,null,null,null,239]
[null,null,null,null,null,null,null,null,null,null,null,null,null,null,null,null,240]
[null,null,null,null,null,null,null,null,null,null,null,null,null,null,null,null,241]
[null,null,null,null,null,null,null,null,null,null,null,null,null,null,null,null,242]
[null,null,null,null,null,null,null,null,null,null,null,null,null,null,null,null,243]
[null,null,null,null,null,null,null,null,null,null,null,null,null,null,null,null,244]
[null,null,null,null,null,null,null,null,null,null,null,null,null,null,null,null,245]
[null,null,null,null,null,null,null,null,null,null,null,null,null,null,null,null,246]
[null,null,null,null,null,null,null,null,null,null,null,null,null,null,null,null,247]
[null,null,null,null,null,null,null,null,null,null,null,null,null,null,null,null,248]
[null,null,null,null,null,null,null,null,null,null,null,null,null,null,null,null,249]
[null,null,null,null,null,null,null,null,null,null,null,null,null,null,null,null,250]
[null,null,null,null,null,null,null,null,null,null,null,null,null,null,null,null,251]
[null,null,null,null,null,null,null,null,null,null,null,null,null,null,null,null,252]
[null,null,null,null,null,null,null,null,null,null,null,null,null,null,null,null,253]
[null,null,null,null,null,null,null,null,null,null,null,null,null,null,null,null,254]
[null,null,null,null,null,null,null,null,null,null,null,null,null,null,null,null,255]
[null,null,null,null,null,null,null,null,null,null,null,null,null,null,null,null,256]
[null,null,null,null,null,null,null,null,null,null,null,null,null,null,null,null,257]
[null,null,null,null,null,null,null,null,null,null,null,null,null,null,null,null,258]
[null,null,null,null,null,null,null,null,null,null,null,null,null,null,null,null,{"$f":"Q264+1","v":259}]
[null,null,null,null,null,null,null,null,null,null,null,null,null,null,null,null,260]
[null,null,null,null,null,null,null,null,null,null,null,null,null,null,null,null,261]
[null,null,null,null,null,null,null,null,null,null,null,null,null,null,null,null,262]
[null,null,null,null,null,null,null,null,null,null,null,null,null,null,null,null,263]
[null,null,null,null,null,null,null,null,null,null,null,null,null,null,null,null,264]
[null,null,null,null,null,null,null,null,null,null,null,null,null,null,null,null,265]
[null,null,null,null,null,null,null,null,null,null,null,null,null,null,null,null,266]
[null,null,null,null,null,null,null,null,null,null,null,null,null,null,null,null,267]
[null,null,null,null,null,null,null,null,null,null,null,null,null,null,null,null,268]
[null,null,null,null,null,null,null,null,null,null,null,null,null,null,null,null,269]
[null,null,null,null,null,null,null,null,null,null,null,null,null,null,null,null,270]
[null,null,null,null,null,null,null,null,null,null,null,null,null,null,null,null,271]
[null,null,null,null,null,null,null,null,null,null,null,null,null,null,null,null,272]
[null,null,null,null,null,null,null,null,null,null,null,null,null,null,null,null,273]
[null,null,null,null,null,null,null,null,null,null,null,null,null,null,null,null,274]
[null,null,null,null,null,null,null,null,null,null,null,null,null,null,null,null,275]
[null,null,null,null,null,null,null,null,null,null,null,null,null,null,null,null,276]
[null,null,null,null,null,null,null,null,null,null,null,null,null,null,null,null,277]
[null,null,null,null,null,null,null,null,null,null,null,null,null,null,null,null,278]
[null,null,null,null,null,null,null,null,null,null,null,null,null,null,null,null,279]
[null,null,null,null,null,null,null,null,null,null,null,null,null,null,null,null,280]
[null,null,null,null,null,null,null,null,null,null,null,null,null,null,null,null,281]
[null,null,null,null,null,null,null,null,null,null,null,null,null,null,null,null,282]
[null,null,null,null,null,null,null,null,null,null,null,null,null,null,null,null,283]
[null,null,null,null,null,null,null,null,null,null,null,null,null,null,null,null,284]
[null,null,null,null,null,null,null,null,null,null,null,null,null,null,null,null,285]
[null,null,null,null,null,null,null,null,null,null,null,null,null,null,null,null,286]
[null,null,null,null,null,null,null,null,null,null,null,null,null,null,null,null,287]
[null,null,null,null,null,null,null,null,null,null,null,null,null,null,null,null,288]
[null,null,null,null,null,null,null,null,null,null,null,null,null,null,null,null,289]
[null,null,null,null,null,null,null,null,null,null,null,null,null,null,null,null,290]
[null,null,null,null,null,null,null,null,null,null,null,null,null,null,null,null,291]
[null,null,null,null,null,null,null,null,null,null,null,null,null,null,null,null,292]
[null,null,null,null,null,null,null,null,null,null,null,null,null,null,null,null,293]
[null,null,null,null,null,null,null,null,null,null,null,null,null,null,null,null,294]
[null,null,null,null,null,null,null,null,null,null,null,null,null,null,null,null,295]
[null,null,null,null,null,null,null,null,null,null,null,null,null,null,null,null,296]
[null,null,null,null,null,null,null,null,null,null,null,null,null,null,null,null,297]
[null,null,null,null,null,null,null,null,null,null,null,null,null,null,null,null,298]
[null,null,null,null,null,null,null,null,null,null,null,null,null,null,null,null,299]
[null,null,null,null,null,null,null,null,null,null,null,null,null,null,null,null,300]
[null,null,null,null,null,null,null,null,null,null,null,null,null,null,null,null,301]
[null,null,null,null,null,null,null,null,null,null,null,null,null,null,null,null,302]
[null,null,null,null,null,null,null,null,null,null,null,null,null,null,null,null,303]
[null,null,null,null,null,null,null,null,null,null,null,null,null,null,null,null,304]
[null,null,null,null,null,null,null,null,null,null,null,null,null,null,null,null,305]
[null,null,null,null,null,null,null,null,null,null,null,null,null,null,null,null,306]
[null,null,null,null,null,null,null,null,null,null,null,null,null,null,null,null,307]
[null,null,null,null,null,null,null,null,null,null,null,null,null,null,null,null,308]
[null,null,null,null,null,null,null,null,null,null,null,null,null,null,null,null,309]
[null,null,null,null,null,null,null,null,null,null,null,null,null,null,null,null,310]
[null,null,null,null,null,null,null,null,null,null,null,null,null,null,null,null,311]
[null,null,null,null,null,null,null,null,null,null,null,null,null,null,null,null,312]
[null,null,null,null,null,null,null,null,null,null,null,null,null,null,null,null,313]
[null,null,null,null,null,null,null,null,null,null,null,null,null,null,null,null,314]
[null,null,null,null,null,null,null,null,null,null,null,null,null,null,null,null,315]
[null,null,null,null,null,null,null,null,null,null,null,null,null,null,null,null,316]
[null,null,null,null,null,null,null,null,null,null,null,null,null,null,null,null,317]
[null,null,null,null,null,null,null,null,null,null,null,null,null,null,null,null,318]
[null,null,null,null,null,null,null,null,null,null,null,null,null,null,null,null,319]
[null,null,null,null,null,null,null,null,null,null,null,null,null,null,null,null,320]
[null,null,null,null,null,null,null,null,null,null,null,null,null,null,null,null,321]
[null,null,null,null,null,null,null,null,null,null,null,null,null,null,null,null,322]
[null,null,null,null,null,null,null,null,null,null,null,null,null,null,null,null,{"$f":"Q328+1","v":323}]
[null,null,null,null,null,null,null,null,null,null,null,null,null,null,null,null,324]
[null,null,null,null,null,null,null,null,null,null,null,null,null,null,null,null,325]
[null,null,null,null,null,null,null,null,null,null,null,null,null,null,null,null,326]
[null,null,null,null,null,null,null,null,null,null,null,null,null,null,null,null,327]
[null,null,null,null,null,null,null,null,null,null,null,null,null,null,null,null,328]
[null,null,null,null,null,null,null,null,null,null,null,null,null,null,null,null,329]
[null,null,null,null,null,null,null,null,null,null,null,null,null,null,null,null,330]
[null,null,null,null,null,null,null,null,null,null,null,null,null,null,null,null,331]
[null,null,null,null,null,null,null,null,null,null,null,null,null,null,null,null,332]
[null,null,null,null,null,null,null,null,null,null,null,null,null,null,null,null,333]
[null,null,null,null,null,null,null,null,null,null,null,null,null,null,null,null,334]
[null,null,null,null,null,null,null,null,null,null,null,null,null,null,null,null,335]
[null,null,null,null,null,null,null,null,null,null,null,null,null,null,null,null,336]
[null,null,null,null,null,null,null,null,null,null,null,null,null,null,null,null,337]
[null,null,null,null,null,null,null,null,null,null,null,null,null,null,null,null,338]
[null,null,null,null,null,null,null,null,null,null,null,null,null,null,null,null,339]
[null,null,null,null,null,null,null,null,null,null,null,null,null,null,null,null,340]
[null,null,null,null,null,null,null,null,null,null,null,null,null,null,null,null,341]
[null,null,null,null,null,null,null,null,null,null,null,null,null,null,null,null,342]
[null,null,null,null,null,null,null,null,null,null,null,null,null,null,null,null,343]
[null,null,null,null,null,null,null,null,null,null,null,null,null,null,null,null,344]
[null,null,null,null,null,null,null,null,null,null,null,null,null,null,null,null,345]
[null,null,null,null,null,null,null,null,null,null,null,null,null,null,null,null,346]
[null,null,null,null,null,null,null,null,null,null,null,null,null,null,null,null,347]
[null,null,null,null,null,null,null,null,null,null,null,null,null,null,null,null,348]
[null,null,null,null,null,null,null,null,null,null,null,null,null,null,null,null,349]
[null,null,null,null,null,null,null,null,null,null,null,null,null,null,null,null,350]
[null,null,null,null,null,null,null,null,null,null,null,null,null,null,null,null,351]
[null,null,null,null,null,null,null,null,null,null,null,null,null,null,null,null,352]
[null,null,null,null,null,null,null,null,null,null,null,null,null,null,null,null,353]
[null,null,null,null,null,null,null,null,null,null,null,null,null,null,null,null,354]
[null,null,null,null,null,null,null,null,null,null,null,null,null,null,null,null,355]
[null,null,null,null,null,null,null,null,null,null,null,null,null,null,null,null,356]
[null,null,null,null,null,null,null,null,null,null,null,null,null,null,null,null,357]
[null,null,null,null,null,null,null,null,null,null,null,null,null,null,null,null,358]
[null,null,null,null,null,null,null,null,null,null,null,null,null,null,null,null,359]
[null,null,null,null,null,null,null,null,null,null,null,null,null,null,null,null,360]
[null,null,null,null,null,null,null,null,null,null,null,null,null,null,null,null,361]
[null,null,null,null,null,null,null,null,null,null,null,null,null,null,null,null,362]
[null,null,null,null,null,null,null,null,null,null,null,null,null,null,null,null,363]
[null,null,null,null,null,null,null,null,null,null,null,null,null,null,null,null,364]
[null,null,null,null,null,null,null,null,null,null,null,null,null,null,null,null,365]
[null,null,null,null,null,null,null,null,null,null,null,null,null,null,null,null,366]
[null,null,null,null,null,null,null,null,null,null,null,null,null,null,null,null,367]
[null,null,null,null,null,null,null,null,null,null,null,null,null,null,null,null,368]
[null,null,null,null,null,null,null,null,null,null,null,null,null,null,null,null,369]
[null,null,null,null,null,null,null,null,null,null,null,null,null,null,null,null,370]
[null,null,null,null,null,null,null,null,null,null,null,null,null,null,null,null,371]
[null,null,null,null,null,null,null,null,null,null,null,null,null,null,null,null,372]
[null,null,null,null,null,null,null,null,null,null,null,null,null,null,null,null,373]
[null,null,null,null,null,null,null,null,null,null,null,null,null,null,null,null,374]
[null,null,null,null,null,null,null,null,null,null,null,null,null,null,null,null,375]
[null,null,null,null,null,null,null,null,null,null,null,null,null,null,null,null,376]
[null,null,null,null,null,null,null,null,null,null,null,null,null,null,null,null,377]
[null,null,null,null,null,null,null,null,null,null,null,null,null,null,null,null,378]
[null,null,null,null,null,null,null,null,null,null,null,null,null,null,null,null,379]
[null,null,null,null,null,null,null,null,null,null,null,null,null,null,null,null,380]
[null,null,null,null,null,null,null,null,null,null,null,null,null,null,null,null,381]
[null,null,null,null,null,null,null,null,null,null,null,null,null,null,null,null,382]
[null,null,null,null,null,null,null,null,null,null,null,null,null,null,null,null,383]
[null,null,null,null,null,null,null,null,null,null,null,null,null,null,null,null,384]
[null,null,null,null,null,null,null,null,null,null,null,null,null,null,null,null,385]
[null,null,null,null,null,null,null,null,null,null,null,null,null,null,null,null,386]
[null,null,null,null,null,null,null,null,null,null,null,null,null,null,null,null,{"$f":"Q392+1","v":387}]
[null,null,null,null,null,null,null,null,null,null,null,null,null,null,null,null,388]
[null,null,null,null,null,null,null,null,null,null,null,null,null,null,null,null,389]
[null,null,null,null,null,null,null,null,null,null,null,null,null,null,null,null,390]
[null,null,null,null,null,null,null,null,null,null,null,null,null,null,null,null,391]
[null,null,null,null,null,null,null,null,null,null,null,null,null,null,null,null,392]
[null,null,null,null,null,null,null,null,null,null,null,null,null,null,null,null,393]
[null,null,null,null,null,null,null,null,null,null,null,null,null,null,null,null,394]
[null,null,null,null,null,null,null,null,null,null,null,null,null,null,null,null,395]
[null,null,null,null,null,null,null,null,null,null,null,null,null,null,null,null,396]
[null,null,null,null,null,null,null,null,null,null,null,null,null,null,null,null,397]
[null,null,null,null,null,null,null,null,null,null,null,null,null,null,null,null,398]
[null,null,null,null,null,null,null,null,null,null,null,null,null,null,null,null,399]
[null,null,null,null,null,null,null,null,null,null,null,null,null,null,null,null,400]
[null,null,null,null,null,null,null,null,null,null,null,null,null,null,null,null,401]
[null,null,null,null,null,null,null,null,null,null,null,null,null,null,null,null,402]
[null,null,null,null,null,null,null,null,null,null,null,null,null,null,null,null,403]
[null,null,null,null,null,null,null,null,null,null,null,null,null,null,null,null,404]
[null,null,null,null,null,null,null,null,null,null,null,null,null,null,null,null,405]
[null,null,null,null,null,null,null,null,null,null,null,null,null,null,null,null,406]
[null,null,null,null,null,null,null,null,null,null,null,null,null,null,null,null,407]
[null,null,null,null,null,null,null,null,null,null,null,null,null,null,null,null,408]
[null,null,null,null,null,null,null,null,null,null,null,null,null,null,null,null,409]
[null,null,null,null,null,null,null,null,null,null,null,null,null,null,null,null,410]
[null,null,null,null,null,null,null,null,null,null,null,null,null,null,null,null,411]
[null,null,null,null,null,null,null,null,null,null,null,null,null,null,null,null,412]
[null,null,null,null,null,null,null,null,null,null,null,null,null,null,null,null,413]
[null,null,null,null,null,null,null,null,null,null,null,null,null,null,null,null,414]
[null,null,null,null,null,null,null,null,null,null,null,null,null,null,null,null,415]
[null,null,null,null,null,null,null,null,null,null,null,null,null,null,null,null,416]
[null,null,null,null,null,null,null,null,null,null,null,null,null,null,null,null,417]
[null,null,null,null,null,null,null,null,null,null,null,null,null,null,null,null,418]
[null,null,null,null,null,null,null,null,null,null,null,null,null,null,null,null,419]
[null,null,null,null,null,null,null,null,null,null,null,null,null,null,null,null,420]
[null,null,null,null,null,null,null,null,null,null,null,null,null,null,null,null,421]
[null,null,null,null,null,null,null,null,null,null,null,null,null,null,null,null,422]
[null,null,null,null,null,null,null,null,null,null,null,null,null,null,null,null,423]
[null,null,null,null,null,null,null,null,null,null,null,null,null,null,null,null,424]
[null,null,null,null,null,null,null,null,null,null,null,null,null,null,null,null,425]
[null,null,null,null,null,null,null,null,null,null,null,null,null,null,null,null,426]
[null,null,null,null,null,null,null,null,null,null,null,null,null,null,null,null,427]
[null,null,null,null,null,null,null,null,null,null,null,null,null,null,null,null,428]
[null,null,null,null,null,null,null,null,null,null,null,null,null,null,null,null,429]
[null,null,null,null,null,null,null,null,null,null,null,null,null,null,null,null,430]
[null,null,null,null,null,null,null,null,null,null,null,null,null,null,null,null,431]
[null,null,null,null,null,null,null,null,null,null,null,null,null,null,null,null,432]
[null,null,null,null,null,null,null,null,null,null,null,null,null,null,null,null,433]
[null,null,null,null,null,null,null,null,null,null,null,null,null,null,null,null,434]
[null,null,null,null,null,null,null,null,null,null,null,null,null,null,null,null,435]
[null,null,null,null,null,null,null,null,null,null,null,null,null,null,null,null,436]
[null,null,null,null,null,null,null,null,null,null,null,null,null,null,null,null,437]
[null,null,null,null,null,null,null,null,null,null,null,null,null,null,null,null,438]
[null,null,null,null,null,null,null,null,null,null,null,null,null,null,null,null,439]
[null,null,null,null,null,null,null,null,null,null,null,null,null,null,null,null,440]
[null,null,null,null,null,null,null,null,null,null,null,null,null,null,null,null,441]
[null,null,null,null,null,null,null,null,null,null,null,null,null,null,null,null,442]
[null,null,null,null,null,null,null,null,null,null,null,null,null,null,null,null,443]
[null,null,null,null,null,null,null,null,null,null,null,null,null,null,null,null,444]
[null,null,null,null,null,null,null,null,null,null,null,null,null,null,null,null,445]
[null,null,null,null,null,null,null,null,null,null,null,null,null,null,null,null,446]
[null,null,null,null,null,null,null,null,null,null,null,null,null,null,null,null,447]
[null,null,null,null,null,null,null,null,null,null,null,null,null,null,null,null,448]
[null,null,null,null,null,null,null,null,null,null,null,null,null,null,null,null,449]
[null,null,null,null,null,null,null,null,null,null,null,null,null,null,null,null,450]
[null,null,null,null,null,null,null,null,null,null,null,null,null,null,null,null,{"$f":"Q456+1","v":451}]
[null,null,null,null,null,null,null,null,null,null,null,null,null,null,null,null,452]
[null,null,null,null,null,null,null,null,null,null,null,null,null,null,null,null,453]
[null,null,null,null,null,null,null,null,null,null,null,null,null,null,null,null,454]
[null,null,null,null,null,null,null,null,null,null,null,null,null,null,null,null,455]
[null,null,null,null,null,null,null,null,null,null,null,null,null,null,null,null,456]
[null,null,null,null,null,null,null,null,null,null,null,null,null,null,null,null,457]
[null,null,null,null,null,null,null,null,null,null,null,null,null,null,null,null,458]
[null,null,null,null,null,null,null,null,null,null,null,null,null,null,null,null,459]
[null,null,null,null,null,null,null,null,null,null,null,null,null,null,null,null,460]
[null,null,null,null,null,null,null,null,null,null,null,null,null,null,null,null,461]
[null,null,null,null,null,null,null,null,null,null,null,null,null,null,null,null,462]
[null,null,null,null,null,null,null,null,null,null,null,null,null,null,null,null,463]
[null,null,null,null,null,null,null,null,null,null,null,null,null,null,null,null,464]
[null,null,null,null,null,null,null,null,null,null,null,null,null,null,null,null,465]
[null,null,null,null,null,null,null,null,null,null,null,null,null,null,null,null,466]
[null,null,null,null,null,null,null,null,null,null,null,null,null,null,null,null,467]
[null,null,null,null,null,null,null,null,null,null,null,null,null,null,null,null,468]
[null,null,null,null,null,null,null,null,null,null,null,null,null,null,null,null,469]
[null,null,null,null,null,null,null,null,null,null,null,null,null,null,null,null,470]
[null,null,null,null,null,null,null,null,null,null,null,null,null,null,null,null,471]
[null,null,null,null,null,null,null,null,null,null,null,null,null,null,null,null,472]
[null,null,null,null,null,null,null,null,null,null,null,null,null,null,null,null,473]
[null,null,null,null,null,null,null,null,null,null,null,null,null,null,null,null,474]
[null,null,null,null,null,null,null,null,null,null,null,null,null,null,null,null,475]
[null,null,null,null,null,null,null,null,null,null,null,null,null,null,null,null,476]
[null,null,null,null,null,null,null,null,null,null,null,null,null,null,null,null,477]
[null,null,null,null,null,null,null,null,null,null,null,null,null,null,null,null,478]
[null,null,null,null,null,null,null,null,null,null,null,null,null,null,null,null,479]
[null,null,null,null,null,null,null,null,null,null,null,null,null,null,null,null,480]
[null,null,null,null,null,null,null,null,null,null,null,null,null,null,null,null,481]
[null,null,null,null,null,null,null,null,null,null,null,null,null,null,null,null,482]
[null,null,null,null,null,null,null,null,null,null,null,null,null,null,null,null,483]
[null,null,null,null,null,null,null,null,null,null,null,null,null,null,null,null,484]
[null,null,null,null,null,null,null,null,null,null,null,null,null,null,null,null,485]
[null,null,null,null,null,null,null,null,null,null,null,null,null,null,null,null,486]
[null,null,null,null,null,null,null,null,null,null,null,null,null,null,null,null,487]
[null,null,null,null,null,null,null,null,null,null,null,null,null,null,null,null,488]
[null,null,null,null,null,null,null,null,null,null,null,null,null,null,null,null,489]
[null,null,null,null,null,null,null,null,null,null,null,null,null,null,null,null,490]
[null,null,null,null,null,null,null,null,null,null,null,null,null,null,null,null,491]
[null,null,null,null,null,null,null,null,null,null,null,null,null,null,null,null,492]
[null,null,null,null,null,null,null,null,null,null,null,null,null,null,null,null,493]
[null,null,null,null,null,null,null,null,null,null,null,null,null,null,null,null,494]
[null,null,null,null,null,null,null,null,null,null,null,null,null,null,null,null,495]
[null,null,null,null,null,null,null,null,null,null,null,null,null,null,null,null,496]
[null,null,null,null,null,null,null,null,null,null,null,null,null,null,null,null,497]
[null,null,null,null,null,null,null,null,null,null,null,null,null,null,null,null,498]
[null,null,null,null,null,null,null,null,null,null,null,null,null,null,null,null,499]
[null,null,null,null,null,null,null,null,null,null,null,null,null,null,null,null,500]
[null,null,null,null,null,null,null,null,null,null,null,null,null,null,null,null,501]
[null,null,null,null,null,null,null,null,null,null,null,null,null,null,null,null,502]
[null,null,null,null,null,null,null,null,null,null,null,null,null,null,null,null,503]
[null,null,null,null,null,null,null,null,null,null,null,null,null,null,null,null,504]
[null,null,null,null,null,null,null,null,null,null,null,null,null,null,null,null,505]
[null,null,null,null,null,null,null,null,null,null,null,null,null,null,null,null,506]
[null,null,null,null,null,null,null,null,null,null,null,null,null,null,null,null,507]
[null,null,null,null,null,null,null,null,null,null,null,null,null,null,null,null,508]
[null,null,null,null,null,null,null,null,null,null,null,null,null,null,null,null,509]
[null,null,null,null,null,null,null,null,null,null,null,null,null,null,null,null,510]
[null,null,null,null,null,null,null,null,null,null,null,null,null,null,null,null,511]
[null,null,null,null,null,null,null,null,null,null,null,null,null,null,null,null,512]
[null,null,null,null,null,null,null,null,null,null,null,null,null,null,null,null,513]
[null,null,null,null,null,null,null,null,null,null,null,null,null,null,null,null,514]
[null,null,null,null,null,null,null,null,null,null,null,null,null,null,null,null,{"$f":"Q520+1","v":515}]
[null,null,null,null,null,null,null,null,null,null,null,null,null,null,null,null,516]
[null,null,null,null,null,null,null,null,null,null,null,null,null,null,null,null,517]
[null,null,null,null,null,null,null,null,null,null,null,null,null,null,null,null,518]
[null,null,null,null,null,null,null,null,null,null,null,null,null,null,null,null,519]
[null,null,null,null,null,null,null,null,null,null,null,null,null,null,null,null,520]
[null,null,null,null,null,null,null,null,null,null,null,null,null,null,null,null,521]
[null,null,null,null,null,null,null,null,null,null,null,null,null,null,null,null,522]
[null,null,null,null,null,null,null,null,null,null,null,null,null,null,null,null,523]
[null,null,null,null,null,null,null,null,null,null,null,null,null,null,null,null,524]
[null,null,null,null,null,null,null,null,null,null,null,null,null,null,null,null,525]
[null,null,null,null,null,null,null,null,null,null,null,null,null,null,null,null,526]
[null,null,null,null,null,null,null,null,null,null,null,null,null,null,null,null,527]
[null,null,null,null,null,null,null,null,null,null,null,null,null,null,null,null,528]
[null,null,null,null,null,null,null,null,null,null,null,null,null,null,null,null,529]
[null,null,null,null,null,null,null,null,null,null,null,null,null,null,null,null,530]
[null,null,null,null,null,null,null,null,null,null,null,null,null,null,null,null,531]
[null,null,null,null,null,null,null,null,null,null,null,null,null,null,null,null,532]
[null,null,null,null,null,null,null,null,null,null,null,null,null,null,null,null,533]
[null,null,null,null,null,null,null,null,null,null,null,null,null,null,null,null,534]
[null,null,null,null,null,null,null,null,null,null,null,null,null,null,null,null,535]
[null,null,null,null,null,null,null,null,null,null,null,null,null,null,null,null,536]
[null,null,null,null,null,null,null,null,null,null,null,null,null,null,null,null,537]
[null,null,null,null,null,null,null,null,null,null,null,null,null,null,null,null,538]
[null,null,null,null,null,null,null,null,null,null,null,null,null,null,null,null,539]
[null,null,null,null,null,null,null,null,null,null,null,null,null,null,null,null,540]
[null,null,null,null,null,null,null,null,null,null,null,null,null,null,null,null,541]
[null,null,null,null,null,null,null,null,null,null,null,null,null,null,null,null,542]
[null,null,null,null,null,null,null,null,null,null,null,null,null,null,null,null,543]
[null,null,null,null,null,null,null,null,null,null,null,null,null,null,null,null,544]
[null,null,null,null,null,null,null,null,null,null,null,null,null,null,null,null,545]
[null,null,null,null,null,null,null,null,null,null,null,null,null,null,null,null,546]
[null,null,null,null,null,null,null,null,null,null,null,null,null,null,null,null,547]
[null,null,null,null,null,null,null,null,null,null,null,null,null,null,null,null,548]
[null,null,null,null,null,null,null,null,null,null,null,null,null,null,null,null,549]
[null,null,null,null,null,null,null,null,null,null,null,null,null,null,null,null,550]
[null,null,null,null,null,null,null,null,null,null,null,null,null,null,null,null,551]
[null,null,null,null,null,null,null,null,null,null,null,null,null,null,null,null,552]
[null,null,null,null,null,null,null,null,null,null,null,null,null,null,null,null,553]
[null,null,null,null,null,null,null,null,null,null,null,null,null,null,null,null,554]
[null,null,null,null,null,null,null,null,null,null,null,null,null,null,null,null,555]
[null,null,null,null,null,null,null,null,null,null,null,null,null,null,null,null,556]
[null,null,null,null,null,null,null,null,null,null,null,null,null,null,null,null,557]
[null,null,null,null,null,null,null,null,null,null,null,null,null,null,null,null,558]
[null,null,null,null,null,null,null,null,null,null,null,null,null,null,null,null,559]
[null,null,null,null,null,null,null,null,null,null,null,null,null,null,null,null,560]
[null,null,null,null,null,null,null,null,null,null,null,null,null,null,null,null,561]
[null,null,null,null,null,null,null,null,null,null,null,null,null,null,null,null,562]
[null,null,null,null,null,null,null,null,null,null,null,null,null,null,null,null,563]
[null,null,null,null,null,null,null,null,null,null,null,null,null,null,null,null,564]
[null,null,null,null,null,null,null,null,null,null,null,null,null,null,null,null,565]
[null,null,null,null,null,null,null,null,null,null,null,null,null,null,null,null,566]
[null,null,null,null,null,null,null,null,null,null,null,null,null,null,null,null,567]
[null,null,null,null,null,null,null,null,null,null,null,null,null,null,null,null,568]
[null,null,null,null,null,null,null,null,null,null,null,null,null,null,null,null,569]
[null,null,null,null,null,null,null,null,null,null,null,null,null,null,null,null,570]
[null,null,null,null,null,null,null,null,null,null,null,null,null,null,null,null,571]
[null,null,null,null,null,null,null,null,null,null,null,null,null,null,null,null,572]
[null,null,null,null,null,null,null,null,null,null,null,null,null,null,null,null,573]
[null,null,null,null,null,null,null,null,null,null,null,null,null,null,null,null,574]
[null,null,null,null,null,null,null,null,null,null,null,null,null,null,null,null,575]
[null,null,null,null,null,null,null,null,null,null,null,null,null,null,null,null,576]
[null,null,null,null,null,null,null,null,null,null,null,null,null,null,null,null,577]
[null,null,null,null,null,null,null,null,null,null,null,null,null,null,null,null,578]
[null,null,null,null,null,null,null,null,null,null,null,null,null,null,null,null,{"$f":"Q584+1","v":579}]
[null,null,null,null,null,null,null,null,null,null,null,null,null,null,null,null,580]
[null,null,null,null,null,null,null,null,null,null,null,null,null,null,null,null,581]
[null,null,null,null,null,null,null,null,null,null,null,null,null,null,null,null,582]
[null,null,null,null,null,null,null,null,null,null,null,null,null,null,null,null,583]
[null,null,null,null,null,null,null,null,null,null,null,null,null,null,null,null,584]
[null,null,null,null,null,null,null,null,null,null,null,null,null,null,null,null,585]
[null,null,null,null,null,null,null,null,null,null,null,null,null,null,null,null,586]
[null,null,null,null,null,null,null,null,null,null,null,null,null,null,null,null,587]
[null,null,null,null,null,null,null,null,null,null,null,null,null,null,null,null,588]
[null,null,null,null,null,null,null,null,null,null,null,null,null,null,null,null,589]
[null,null,null,null,null,null,null,null,null,null,null,null,null,null,null,null,590]
[null,null,null,null,null,null,null,null,null,null,null,null,null,null,null,null,591]
[null,null,null,null,null,null,null,null,null,null,null,null,null,null,null,null,592]
[null,null,null,null,null,null,null,null,null,null,null,null,null,null,null,null,593]
[null,null,null,null,null,null,null,null,null,null,null,null,null,null,null,null,594]
[null,null,null,null,null,null,null,null,null,null,null,null,null,null,null,null,595]
[null,null,null,null,null,null,null,null,null,null,null,null,null,null,null,null,596]
[null,null,null,null,null,null,null,null,null,null,null,null,null,null,null,null,597]
[null,null,null,null,null,null,null,null,null,null,null,null,null,null,null,null,598]
[null,null,null,null,null,null,null,null,null,null,null,null,null,null,null,null,599]
[null,null,null,null,null,null,null,null,null,null,null,null,null,null,null,null,600]
[null,null,null,null,null,null,null,null,null,null,null,null,null,null,null,null,601]
[null,null,null,null,null,null,null,null,null,null,null,null,null,null,null,null,602]
[null,null,null,null,null,null,null,null,null,null,null,null,null,null,null,null,603]
[null,null,null,null,null,null,null,null,null,null,null,null,null,null,null,null,604]
[null,null,null,null,null,null,null,null,null,null,null,null,null,null,null,null,605]
[null,null,null,null,null,null,null,null,null,null,null,null,null,null,null,null,606]
[null,null,null,null,null,null,null,null,null,null,null,null,null,null,null,null,607]
[null,null,null,null,null,null,null,null,null,null,null,null,null,null,null,null,608]
[null,null,null,null,null,null,null,null,null,null,null,null,null,null,null,null,609]
[null,null,null,null,null,null,null,null,null,null,null,null,null,null,null,null,610]
[null,null,null,null,null,null,null,null,null,null,null,null,null,null,null,null,611]
[null,null,null,null,null,null,null,null,null,null,null,null,null,null,null,null,612]
[null,null,null,null,null,null,null,null,null,null,null,null,null,null,null,null,613]
[null,null,null,null,null,null,null,null,null,null,null,null,null,null,null,null,614]
[null,null,null,null,null,null,null,null,null,null,null,null,null,null,null,null,615]
[null,null,null,null,null,null,null,null,null,null,null,null,null,null,null,null,616]
[null,null,null,null,null,null,null,null,null,null,null,null,null,null,null,null,617]
[null,null,null,null,null,null,null,null,null,null,null,null,null,null,null,null,618]
[null,null,null,null,null,null,null,null,null,null,null,null,null,null,null,null,619]
[null,null,null,null,null,null,null,null,null,null,null,null,null,null,null,null,620]
[null,null,null,null,null,null,null,null,null,null,null,null,null,null,null,null,621]
[null,null,null,null,null,null,null,null,null,null,null,null,null,null,null,null,622]
[null,null,null,null,null,null,null,null,null,null,null,null,null,null,null,null,623]
[null,null,null,null,null,null,null,null,null,null,null,null,null,null,null,null,624]
[null,null,null,null,null,null,null,null,null,null,null,null,null,null,null,null,625]
[null,null,null,null,null,null,null,null,null,null,null,null,null,null,null,null,626]
[null,null,null,null,null,null,null,null,null,null,null,null,null,null,null,null,627]
[null,null,null,null,null,null,null,null,null,null,null,null,null,null,null,null,628]
[null,null,null,null,null,null,null,null,null,null,null,null,null,null,null,null,629]
[null,null,null,null,null,null,null,null,null,null,null,null,null,null,null,null,630]
[null,null,null,null,null,null,null,null,null,null,null,null,null,null,null,null,631]
[null,null,null,null,null,null,null,null,null,null,null,null,null,null,null,null,632]
[null,null,null,null,null,null,null,null,null,null,null,null,null,null,null,null,633]
[null,null,null,null,null,null,null,null,null,null,null,null,null,null,null,null,634]
[null,null,null,null,null,null,null,null,null,null,null,null,null,null,null,null,635]
[null,null,null,null,null,null,null,null,null,null,null,null,null,null,null,null,636]
[null,null,null,null,null,null,null,null,null,null,null,null,null,null,null,null,637]
[null,null,null,null,null,null,null,null,null,null,null,null,null,null,null,null,638]
[null,null,null,null,null,null,null,null,null,null,null,null,null,null,null,null,639]
[null,null,null,null,null,null,null,null,null,null,null,null,null,null,null,null,640]
[null,null,null,null,null,null,null,null,null,null,null,null,null,null,null,null,641]
[null,null,null,null,null,null,null,null,null,null,null,null,null,null,null,null,642]
[null,null,null,null,null,null,null,null,null,null,null,null,null,null,null,null,{"$f":"Q648+1","v":643}]
[null,null,null,null,null,null,null,null,null,null,null,null,null,null,null,null,644]
[null,null,null,null,null,null,null,null,null,null,null,null,null,null,null,null,645]
[null,null,null,null,null,null,null,null,null,null,null,null,null,null,null,null,646]
[null,null,null,null,null,null,null,null,null,null,null,null,null,null,null,null,647]
[null,null,null,null,null,null,null,null,null,null,null,null,null,null,null,null,648]
[null,null,null,null,null,null,null,null,null,null,null,null,null,null,null,null,649]
[null,null,null,null,null,null,null,null,null,null,null,null,null,null,null,null,650]
[null,null,null,null,null,null,null,null,null,null,null,null,null,null,null,null,651]
[null,null,null,null,null,null,null,null,null,null,null,null,null,null,null,null,652]
[null,null,null,null,null,null,null,null,null,null,null,null,null,null,null,null,653]
[null,null,null,null,null,null,null,null,null,null,null,null,null,null,null,null,654]
[null,null,null,null,null,null,null,null,null,null,null,null,null,null,null,null,655]
[null,null,null,null,null,null,null,null,null,null,null,null,null,null,null,null,656]
[null,null,null,null,null,null,null,null,null,null,null,null,null,null,null,null,657]
[null,null,null,null,null,null,null,null,null,null,null,null,null,null,null,null,658]
[null,null,null,null,null,null,null,null,null,null,null,null,null,null,null,null,659]
[null,null,null,null,null,null,null,null,null,null,null,null,null,null,null,null,660]
[null,null,null,null,null,null,null,null,null,null,null,null,null,null,null,null,661]
[null,null,null,null,null,null,null,null,null,null,null,null,null,null,null,null,662]
[null,null,null,null,null,null,null,null,null,null,null,null,null,null,null,null,663]
[null,null,null,null,null,null,null,null,null,null,null,null,null,null,null,null,664]
[null,null,null,null,null,null,null,null,null,null,null,null,null,null,null,null,665]
[null,null,null,null,null,null,null,null,null,null,null,null,null,null,null,null,666]
[null,null,null,null,null,null,null,null,null,null,null,null,null,null,null,null,667]
[null,null,null,null,null,null,null,null,null,null,null,null,null,null,null,null,668]
[null,null,null,null,null,null,null,null,null,null,null,null,null,null,null,null,669]
[null,null,null,null,null,null,null,null,null,null,null,null,null,null,null,null,670]
[null,null,null,null,null,null,null,null,null,null,null,null,null,null,null,null,671]
[null,null,null,null,null,null,null,null,null,null,null,null,null,null,null,null,672]
[null,null,null,null,null,null,null,null,null,null,null,null,null,null,null,null,673]
[null,null,null,null,null,null,null,null,null,null,null,null,null,null,null,null,674]
[null,null,null,null,null,null,null,null,null,null,null,null,null,null,null,null,675]
[null,null,null,null,null,null,null,null,null,null,null,null,null,null,null,null,676]
[null,null,null,null,null,null,null,null,null,null,null,null,null,null,null,null,677]
[null,null,null,null,null,null,null,null,null,null,null,null,null,null,null,null,678]
[null,null,null,null,null,null,null,null,null,null,null,null,null,null,null,null,679]
[null,null,null,null,null,null,null,null,null,null,null,null,null,null,null,null,680]
[null,null,null,null,null,null,null,null,null,null,null,null,null,null,null,null,681]
[null,null,null,null,null,null,null,null,null,null,null,null,null,null,null,null,682]
[null,null,null,null,null,null,null,null,null,null,null,null,null,null,null,null,683]
[null,null,null,null,null,null,null,null,null,null,null,null,null,null,null,null,684]
[null,null,null,null,null,null,null,null,null,null,null,null,null,null,null,null,685]
[null,null,null,null,null,null,null,null,null,null,null,null,null,null,null,null,686]
[null,null,null,null,null,null,null,null,null,null,null,null,null,null,null,null,687]
[null,null,null,null,null,null,null,null,null,null,null,null,null,null,null,null,688]
[null,null,null,null,null,null,null,null,null,null,null,null,null,null,null,null,689]
[null,null,null,null,null,null,null,null,null,null,null,null,null,null,null,null,690]
[null,null,null,null,null,null,null,null,null,null,null,null,null,null,null,null,691]
[null,null,null,null,null,null,null,null,null,null,null,null,null,null,null,null,692]
[null,null,null,null,null,null,null,null,null,null,null,null,null,null,null,null,693]
[null,null,null,null,null,null,null,null,null,null,null,null,null,null,null,null,694]
[null,null,null,null,null,null,null,null,null,null,null,null,null,null,null,null,695]
[null,null,null,null,null,null,null,null,null,null,null,null,null,null,null,null,696]
[null,null,null,null,null,null,null,null,null,null,null,null,null,null,null,null,697]
[null,null,null,null,null,null,null,null,null,null,null,null,null,null,null,null,698]
[null,null,null,null,null,null,null,null,null,null,null,null,null,null,null,null,699]
[null,null,null,null,null,null,null,null,null,null,null,null,null,null,null,null,700]
[null,null,null,null,null,null,null,null,null,null,null,null,null,null,null,null,701]
[null,null,null,null,null,null,null,null,null,null,null,null,null,null,null,null,702]
[null,null,null,null,null,null,null,null,null,null,null,null,null,null,null,null,703]
[null,null,null,null,null,null,null,null,null,null,null,null,null,null,null,null,704]
[null,null,null,null,null,null,null,null,null,null,null,null,null,null,null,null,705]
[null,null,null,null,null,null,null,null,null,null,null,null,null,null,null,null,706]
[null,null,null,null,null,null,null,null,null,null,null,null,null,null,null,null,{"$f":"Q712+1","v":707}]
[null,null,null,null,null,null,null,null,null,null,null,null,null,null,null,null,708]
[null,null,null,null,null,null,null,null,null,null,null,null,null,null,null,null,709]
[null,null,null,null,null,null,null,null,null,null,null,null,null,null,null,null,710]
[null,null,null,null,null,null,null,null,null,null,null,null,null,null,null,null,711]
[null,null,null,null,null,null,null,null,null,null,null,null,null,null,null,null,712]
[null,null,null,null,null,null,null,null,null,null,null,null,null,null,null,null,713]
[null,null,null,null,null,null,null,null,null,null,null,null,null,null,null,null,714]
[null,null,null,null,null,null,null,null,null,null,null,null,null,null,null,null,715]
[null,null,null,null,null,null,null,null,null,null,null,null,null,null,null,null,716]
[null,null,null,null,null,null,null,null,null,null,null,null,null,null,null,null,717]
[null,null,null,null,null,null,null,null,null,null,null,null,null,null,null,null,718]
[null,null,null,null,null,null,null,null,null,null,null,null,null,null,null,null,719]
[null,null,null,null,null,null,null,null,null,null,null,null,null,null,null,null,720]
[null,null,null,null,null,null,null,null,null,null,null,null,null,null,null,null,721]
[null,null,null,null,null,null,null,null,null,null,null,null,null,null,null,null,722]
[null,null,null,null,null,null,null,null,null,null,null,null,null,null,null,null,723]
[null,null,null,null,null,null,null,null,null,null,null,null,null,null,null,null,724]
[null,null,null,null,null,null,null,null,null,null,null,null,null,null,null,null,725]
[null,null,null,null,null,null,null,null,null,null,null,null,null,null,null,null,726]
[null,null,null,null,null,null,null,null,null,null,null,null,null,null,null,null,727]
[null,null,null,null,null,null,null,null,null,null,null,null,null,null,null,null,728]
[null,null,null,null,null,null,null,null,null,null,null,null,null,null,null,null,729]
[null,null,null,null,null,null,null,null,null,null,null,null,null,null,null,null,730]
[null,null,null,null,null,null,null,null,null,null,null,null,null,null,null,null,731]
[null,null,null,null,null,null,null,null,null,null,null,null,null,null,null,null,732]
[null,null,null,null,null,null,null,null,null,null,null,null,null,null,null,null,733]
[null,null,null,null,null,null,null,null,null,null,null,null,null,null,null,null,734]
[null,null,null,null,null,null,null,null,null,null,null,null,null,null,null,null,735]
[null,null,null,null,null,null,null,null,null,null,null,null,null,null,null,null,736]
[null,null,null,null,null,null,null,null,null,null,null,null,null,null,null,null,737]
[null,null,null,null,null,null,null,null,null,null,null,null,null,null,null,null,738]
[null,null,null,null,null,null,null,null,null,null,null,null,null,null,null,null,739]
[null,null,null,null,null,null,null,null,null,null,null,null,null,null,null,null,740]
[null,null,null,null,null,null,null,null,null,null,null,null,null,null,null,null,741]
[null,null,null,null,null,null,null,null,null,null,null,null,null,null,null,null,742]
[null,null,null,null,null,null,null,null,null,null,null,null,null,null,null,null,743]
[null,null,null,null,null,null,null,null,null,null,null,null,null,null,null,null,744]
[null,null,null,null,null,null,null,null,null,null,null,null,null,null,null,null,745]
[null,null,null,null,null,null,null,null,null,null,null,null,null,null,null,null,746]
[null,null,null,null,null,null,null,null,null,null,null,null,null,null,null,null,747]
[null,null,null,null,null,null,null,null,null,null,null,null,null,null,null,null,748]
[null,null,null,null,null,null,null,null,null,null,null,null,null,null,null,null,749]
[null,null,null,null,null,null,null,null,null,null,null,null,null,null,null,null,750]
[null,null,null,null,null,null,null,null,null,null,null,null,null,null,null,null,751]
[null,null,null,null,null,null,null,null,null,null,null,null,null,null,null,null,752]
[null,null,null,null,null,null,null,null,null,null,null,null,null,null,null,null,753]
[null,null,null,null,null,null,null,null,null,null,null,null,null,null,null,null,754]
[null,null,null,null,null,null,null,null,null,null,null,null,null,null,null,null,755]
[null,null,null,null,null,null,null,null,null,null,null,null,null,null,null,null,756]
[null,null,null,null,null,null,null,null,null,null,null,null,null,null,null,null,757]
[null,null,null,null,null,null,null,null,null,null,null,null,null,null,null,null,758]
[null,null,null,null,null,null,null,null,null,null,null,null,null,null,null,null,759]
[null,null,null,null,null,null,null,null,null,null,null,null,null,null,null,null,760]
[null,null,null,null,null,null,null,null,null,null,null,null,null,null,null,null,761]
[null,null,null,null,null,null,null,null,null,null,null,null,null,null,null,null,762]
[null,null,null,null,null,null,null,null,null,null,null,null,null,null,null,null,763]
[null,null,null,null,null,null,null,null,null,null,null,null,null,null,null,null,764]
[null,null,null,null,null,null,null,null,null,null,null,null,null,null,null,null,765]
[null,null,null,null,null,null,null,null,null,null,null,null,null,null,null,null,766]
[null,null,null,null,null,null,null,null,null,null,null,null,null,null,null,null,767]
[null,null,null,null,null,null,null,null,null,null,null,null,null,null,null,null,768]
[null,null,null,null,null,null,null,null,null,null,null,null,null,null,null,null,769]
[null,null,null,null,null,null,null,null,null,null,null,null,null,null,null,null,770]
[null,null,null,null,null,null,null,null,null,null,null,null,null,null,null,null,{"$f":"Q776+1","v":771}]
[null,null,null,null,null,null,null,null,null,null,null,null,null,null,null,null,772]
[null,null,null,null,null,null,null,null,null,null,null,null,null,null,null,null,773]
[null,null,null,null,null,null,null,null,null,null,null,null,null,null,null,null,774]
[null,null,null,null,null,null,null,null,null,null,null,null,null,null,null,null,775]
[null,null,null,null,null,null,null,null,null,null,null,null,null,null,null,null,776]
[null,null,null,null,null,null,null,null,null,null,null,null,null,null,null,null,777]
[null,null,null,null,null,null,null,null,null,null,null,null,null,null,null,null,778]
[null,null,null,null,null,null,null,null,null,null,null,null,null,null,null,null,779]
[null,null,null,null,null,null,null,null,null,null,null,null,null,null,null,null,780]
[null,null,null,null,null,null,null,null,null,null,null,null,null,null,null,null,781]
[null,null,null,null,null,null,null,null,null,null,null,null,null,null,null,null,782]
[null,null,null,null,null,null,null,null,null,null,null,null,null,null,null,null,783]
[null,null,null,null,null,null,null,null,null,null,null,null,null,null,null,null,784]
[null,null,null,null,null,null,null,null,null,null,null,null,null,null,null,null,785]
[null,null,null,null,null,null,null,null,null,null,null,null,null,null,null,null,786]
[null,null,null,null,null,null,null,null,null,null,null,null,null,null,null,null,787]
[null,null,null,null,null,null,null,null,null,null,null,null,null,null,null,null,788]
[null,null,null,null,null,null,null,null,null,null,null,null,null,null,null,null,789]
[null,null,null,null,null,null,null,null,null,null,null,null,null,null,null,null,790]
[null,null,null,null,null,null,null,null,null,null,null,null,null,null,null,null,791]
[null,null,null,null,null,null,null,null,null,null,null,null,null,null,null,null,792]
[null,null,null,null,null,null,null,null,null,null,null,null,null,null,null,null,793]
[null,null,null,null,null,null,null,null,null,null,null,null,null,null,null,null,794]
[null,null,null,null,null,null,null,null,null,null,null,null,null,null,null,null,795]
[null,null,null,null,null,null,null,null,null,null,null,null,null,null,null,null,796]
[null,null,null,null,null,null,null,null,null,null,null,null,null,null,null,null,797]
[null,null,null,null,null,null,null,null,null,null,null,null,null,null,null,null,798]
[null,null,null,null,null,null,null,null,null,null,null,null,null,null,null,null,799]
[null,null,null,null,null,null,null,null,null,null,null,null,null,null,null,null,800]
[null,null,null,null,null,null,null,null,null,null,null,null,null,null,null,null,801]
[null,null,null,null,null,null,null,null,null,null,null,null,null,null,null,null,802]
[null,null,null,null,null,null,null,null,null,null,null,null,null,null,null,null,803]
[null,null,null,null,null,null,null,null,null,null,null,null,null,null,null,null,804]
[null,null,null,null,null,null,null,null,null,null,null,null,null,null,null,null,805]
[null,null,null,null,null,null,null,null,null,null,null,null,null,null,null,null,806]
[null,null,null,null,null,null,null,null,null,null,null,null,null,null,null,null,807]
[null,null,null,null,null,null,null,null,null,null,null,null,null,null,null,null,808]
[null,null,null,null,null,null,null,null,null,null,null,null,null,null,null,null,809]
[null,null,null,null,null,null,null,null,null,null,null,null,null,null,null,null,810]
[null,null,null,null,null,null,null,null,null,null,null,null,null,null,null,null,811]
[null,null,null,null,null,null,null,null,null,null,null,null,null,null,null,null,812]
[null,null,null,null,null,null,null,null,null,null,null,null,null,null,null,null,813]
[null,null,null,null,null,null,null,null,null,null,null,null,null,null,null,null,814]
[null,null,null,null,null,null,null,null,null,null,null,null,null,null,null,null,815]
[null,null,null,null,null,null,null,null,null,null,null,null,null,null,null,null,816]
[null,null,null,null,null,null,null,null,null,null,null,null,null,null,null,null,817]
[null,null,null,null,null,null,null,null,null,null,null,null,null,null,null,null,818]
[null,null,null,null,null,null,null,null,null,null,null,null,null,null,null,null,819]
[null,null,null,null,null,null,null,null,null,null,null,null,null,null,null,null,820]
[null,null,null,null,null,null,null,null,null,null,null,null,null,null,null,null,821]
[null,null,null,null,null,null,null,null,null,null,null,null,null,null,null,null,822]
[null,null,null,null,null,null,null,null,null,null,null,null,null,null,null,null,823]
[null,null,null,null,null,null,null,null,null,null,null,null,null,null,null,null,824]
[null,null,null,null,null,null,null,null,null,null,null,null,null,null,null,null,825]
[null,null,null,null,null,null,null,null,null,null,null,null,null,null,null,null,826]
[null,null,null,null,null,null,null,null,null,null,null,null,null,null,null,null,827]
[null,null,null,null,null,null,null,null,null,null,null,null,null,null,null,null,828]
[null,null,null,null,null,null,null,null,null,null,null,null,null,null,null,null,829]
[null,null,null,null,null,null,null,null,null,null,null,null,null,null,null,null,830]
[null,null,null,null,null,null,null,null,null,null,null,null,null,null,null,null,831]
[null,null,null,null,null,null,null,null,null,null,null,null,null,null,null,null,832]
[null,null,null,null,null,null,null,null,null,null,null,null,null,null,null,null,833]
[null,null,null,null,null,null,null,null,null,null,null,null,null,null,null,null,834]
[null,null,null,null,null,null,null,null,null,null,null,null,null,null,null,null,{"$f":"Q840+1","v":835}]
[null,null,null,null,null,null,null,null,null,null,null,null,null,null,null,null,836]
[null,null,null,null,null,null,null,null,null,null,null,null,null,null,null,null,837]
[null,null,null,null,null,null,null,null,null,null,null,null,null,null,null,null,838]
[null,null,null,null,null,null,null,null,null,null,null,null,null,null,null,null,839]
[null,null,null,null,null,null,null,null,null,null,null,null,null,null,null,null,840]
[null,null,null,null,null,null,null,null,null,null,null,null,null,null,null,null,841]
[null,null,null,null,null,null,null,null,null,null,null,null,null,null,null,null,842]
[null,null,null,null,null,null,null,null,null,null,null,null,null,null,null,null,843]
[null,null,null,null,null,null,null,null,null,null,null,null,null,null,null,null,844]
[null,null,null,null,null,null,null,null,null,null,null,null,null,null,null,null,845]
[null,null,null,null,null,null,null,null,null,null,null,null,null,null,null,null,846]
[null,null,null,null,null,null,null,null,null,null,null,null,null,null,null,null,847]
[null,null,null,null,null,null,null,null,null,null,null,null,null,null,null,null,848]
[null,null,null,null,null,null,null,null,null,null,null,null,null,null,null,null,849]
[null,null,null,null,null,null,null,null,null,null,null,null,null,null,null,null,850]
[null,null,null,null,null,null,null,null,null,null,null,null,null,null,null,null,851]
[null,null,null,null,null,null,null,null,null,null,null,null,null,null,null,null,852]
[null,null,null,null,null,null,null,null,null,null,null,null,null,null,null,null,853]
[null,null,null,null,null,null,null,null,null,null,null,null,null,null,null,null,854]
[null,null,null,null,null,null,null,null,null,null,null,null,null,null,null,null,855]
[null,null,null,null,null,null,null,null,null,null,null,null,null,null,null,null,856]
[null,null,null,null,null,null,null,null,null,null,null,null,null,null,null,null,857]
[null,null,null,null,null,null,null,null,null,null,null,null,null,null,null,null,858]
[null,null,null,null,null,null,null,null,null,null,null,null,null,null,null,null,859]
[null,null,null,null,null,null,null,null,null,null,null,null,null,null,null,null,860]
[null,null,null,null,null,null,null,null,null,null,null,null,null,null,null,null,861]
[null,null,null,null,null,null,null,null,null,null,null,null,null,null,null,null,862]
[null,null,null,null,null,null,null,null,null,null,null,null,null,null,null,null,863]
[null,null,null,null,null,null,null,null,null,null,null,null,null,null,null,null,864]
[null,null,null,null,null,null,null,null,null,null,null,null,null,null,null,null,865]
[null,null,null,null,null,null,null,null,null,null,null,null,null,null,null,null,866]
[null,null,null,null,null,null,null,null,null,null,null,null,null,null,null,null,867]
[null,null,null,null,null,null,null,null,null,null,null,null,null,null,null,null,868]
[null,null,null,null,null,null,null,null,null,null,null,null,null,null,null,null,869]
[null,null,null,null,null,null,null,null,null,null,null,null,null,null,null,null,870]
[null,null,null,null,null,null,null,null,null,null,null,null,null,null,null,null,871]
[null,null,null,null,null,null,null,null,null,null,null,null,null,null,null,null,872]
[null,null,null,null,null,null,null,null,null,null,null,null,null,null,null,null,873]
[null,null,null,null,null,null,null,null,null,null,null,null,null,null,null,null,874]
[null,null,null,null,null,null,null,null,null,null,null,null,null,null,null,null,875]
[null,null,null,null,null,null,null,null,null,null,null,null,null,null,null,null,876]
[null,null,null,null,null,null,null,null,null,null,null,null,null,null,null,null,877]
[null,null,null,null,null,null,null,null,null,null,null,null,null,null,null,null,878]
[null,null,null,null,null,null,null,null,null,null,null,null,null,null,null,null,879]
[null,null,null,null,null,null,null,null,null,null,null,null,null,null,null,null,880]
[null,null,null,null,null,null,null,null,null,null,null,null,null,null,null,null,881]
[null,null,null,null,null,null,null,null,null,null,null,null,null,null,null,null,882]
[null,null,null,null,null,null,null,null,null,null,null,null,null,null,null,null,883]
[null,null,null,null,null,null,null,null,null,null,null,null,null,null,null,null,884]
[null,null,null,null,null,null,null,null,null,null,null,null,null,null,null,null,885]
[null,null,null,null,null,null,null,null,null,null,null,null,null,null,null,null,886]
[null,null,null,null,null,null,null,null,null,null,null,null,null,null,null,null,887]
[null,null,null,null,null,null,null,null,null,null,null,null,null,null,null,null,888]
[null,null,null,null,null,null,null,null,null,null,null,null,null,null,null,null,889]
[null,null,null,null,null,null,null,null,null,null,null,null,null,null,null,null,890]
[null,null,null,null,null,null,null,null,null,null,null,null,null,null,null,null,891]
[null,null,null,null,null,null,null,null,null,null,null,null,null,null,null,null,892]
[null,null,null,null,null,null,null,null,null,null,null,null,null,null,null,null,893]
[null,null,null,null,null,null,null,null,null,null,null,null,null,null,null,null,894]
[null,null,null,null,null,null,null,null,null,null,null,null,null,null,null,null,895]
[null,null,null,null,null,null,null,null,null,null,null,null,null,null,null,null,896]
[null,null,null,null,null,null,null,null,null,null,null,null,null,null,null,null,897]
[null,null,null,null,null,null,null,null,null,null,null,null,null,null,null,null,898]
[null,null,null,null,null,null,null,null,null,null,null,null,null,null,null,null,{"$f":"Q904+1","v":899}]
[null,null,null,null,null,null,null,null,null,null,null,null,null,null,null,null,900]
[null,null,null,null,null,null,null,null,null,null,null,null,null,null,null,null,901]
[null,null,null,null,null,null,null,null,null,null,null,null,null,null,null,null,902]
[null,null,null,null,null,null,null,null,null,null,null,null,null,null,null,null,903]
[null,null,null,null,null,null,null,null,null,null,null,null,null,null,null,null,904]
[null,null,null,null,null,null,null,null,null,null,null,null,null,null,null,null,905]
[null,null,null,null,null,null,null,null,null,null,null,null,null,null,null,null,906]
[null,null,null,null,null,null,null,null,null,null,null,null,null,null,null,null,907]
[null,null,null,null,null,null,null,null,null,null,null,null,null,null,null,null,908]
[null,null,null,null,null,null,null,null,null,null,null,null,null,null,null,null,909]
[null,null,null,null,null,null,null,null,null,null,null,null,null,null,null,null,910]
[null,null,null,null,null,null,null,null,null,null,null,null,null,null,null,null,911]
[null,null,null,null,null,null,null,null,null,null,null,null,null,null,null,null,912]
[null,null,null,null,null,null,null,null,null,null,null,null,null,null,null,null,913]
[null,null,null,null,null,null,null,null,null,null,null,null,null,null,null,null,914]
[null,null,null,null,null,null,null,null,null,null,null,null,null,null,null,null,915]
[null,null,null,null,null,null,null,null,null,null,null,null,null,null,null,null,916]
[null,null,null,null,null,null,null,null,null,null,null,null,null,null,null,null,917]
[null,null,null,null,null,null,null,null,null,null,null,null,null,null,null,null,918]
[null,null,null,null,null,null,null,null,null,null,null,null,null,null,null,null,919]
[null,null,null,null,null,null,null,null,null,null,null,null,null,null,null,null,920]
[null,null,null,null,null,null,null,null,null,null,null,null,null,null,null,null,921]
[null,null,null,null,null,null,null,null,null,null,null,null,null,null,null,null,922]
[null,null,null,null,null,null,null,null,null,null,null,null,null,null,null,null,923]
[null,null,null,null,null,null,null,null,null,null,null,null,null,null,null,null,924]
[null,null,null,null,null,null,null,null,null,null,null,null,null,null,null,null,925]
[null,null,null,null,null,null,null,null,null,null,null,null,null,null,null,null,926]
[null,null,null,null,null,null,null,null,null,null,null,null,null,null,null,null,927]
[null,null,null,null,null,null,null,null,null,null,null,null,null,null,null,null,928]
[null,null,null,null,null,null,null,null,null,null,null,null,null,null,null,null,929]
[null,null,null,null,null,null,null,null,null,null,null,null,null,null,null,null,930]
[null,null,null,null,null,null,null,null,null,null,null,null,null,null,null,null,931]
[null,null,null,null,null,null,null,null,null,null,null,null,null,null,null,null,932]
[null,null,null,null,null,null,null,null,null,null,null,null,null,null,null,null,933]
[null,null,null,null,null,null,null,null,null,null,null,null,null,null,null,null,934]
[null,null,null,null,null,null,null,null,null,null,null,null,null,null,null,null,935]
[null,null,null,null,null,null,null,null,null,null,null,null,null,null,null,null,936]
[null,null,null,null,null,null,null,null,null,null,null,null,null,null,null,null,937]
[null,null,null,null,null,null,null,null,null,null,null,null,null,null,null,null,938]
[null,null,null,null,null,null,null,null,null,null,null,null,null,null,null,null,939]
[null,null,null,null,null,null,null,null,null,null,null,null,null,null,null,null,940]
[null,null,null,null,null,null,null,null,null,null,null,null,null,null,null,null,941]
[null,null,null,null,null,null,null,null,null,null,null,null,null,null,null,null,942]
[null,null,null,null,null,null,null,null,null,null,null,null,null,null,null,null,943]
[null,null,null,null,null,null,null,null,null,null,null,null,null,null,null,null,944]
[null,null,null,null,null,null,null,null,null,null,null,null,null,null,null,null,945]
[null,null,null,null,null,null,null,null,null,null,null,null,null,null,null,null,946]
[null,null,null,null,null,null,null,null,null,null,null,null,null,null,null,null,947]
[null,null,null,null,null,null,null,null,null,null,null,null,null,null,null,null,948]
[null,null,null,null,null,null,null,null,null,null,null,null,null,null,null,null,949]
[null,null,null,null,null,null,null,null,null,null,null,null,null,null,null,null,950]
[null,null,null,null,null,null,null,null,null,null,null,null,null,null,null,null,951]
[null,null,null,null,null,null,null,null,null,null,null,null,null,null,null,null,952]
[null,null,null,null,null,null,null,null,null,null,null,null,null,null,null,null,953]
[null,null,null,null,null,null,null,null,null,null,null,null,null,null,null,null,954]
[null,null,null,null,null,null,null,null,null,null,null,null,null,null,null,null,955]
[null,null,null,null,null,null,null,null,null,null,null,null,null,null,null,null,956]
[null,null,null,null,null,null,null,null,null,null,null,null,null,null,null,null,957]
[null,null,null,null,null,null,null,null,null,null,null,null,null,null,null,null,958]
[null,null,null,null,null,null,null,null,null,null,null,null,null,null,null,null,959]
[null,null,null,null,null,null,null,null,null,null,null,null,null,null,null,null,960]
[null,null,null,null,null,null,null,null,null,null,null,null,null,null,null,null,961]
[null,null,null,null,null,null,null,null,null,null,null,null,null,null,null,null,962]
[null,null,null,null,null,null,null,null,null,null,null,null,null,null,null,null,{"$f":"Q968+1","v":963}]
[null,null,null,null,null,null,null,null,null,null,null,null,null,null,null,null,964]
[null,null,null,null,null,null,null,null,null,null,null,null,null,null,null,null,965]
[null,null,null,null,null,null,null,null,null,null,null,null,null,null,null,null,966]
[null,null,null,null,null,null,null,null,null,null,null,null,null,null,null,null,967]
[null,null,null,null,null,null,null,null,null,null,null,null,null,null,null,null,968]
[null,null,null,null,null,null,null,null,null,null,null,null,null,null,null,null,969]
[null,null,null,null,null,null,null,null,null,null,null,null,null,null,null,null,970]
[null,null,null,null,null,null,null,null,null,null,null,null,null,null,null,null,971]
[null,null,null,null,null,null,null,null,null,null,null,null,null,null,null,null,972]
[null,null,null,null,null,null,null,null,null,null,null,null,null,null,null,null,973]
[null,null,null,null,null,null,null,null,null,null,null,null,null,null,null,null,974]
[null,null,null,null,null,null,null,null,null,null,null,null,null,null,null,null,975]
[null,null,null,null,null,null,null,null,null,null,null,null,null,null,null,null,976]
[null,null,null,null,null,null,null,null,null,null,null,null,null,null,null,null,977]
[null,null,null,null,null,null,null,null,null,null,null,null,null,null,null,null,978]
[null,null,null,null,null,null,null,null,null,null,null,null,null,null,null,null,979]
[null,null,null,null,null,null,null,null,null,null,null,null,null,null,null,null,980]
[null,null,null,null,null,null,null,null,null,null,null,null,null,null,null,null,981]
[null,null,null,null,null,null,null,null,null,null,null,null,null,null,null,null,982]
[null,null,null,null,null,null,null,null,null,null,null,null,null,null,null,null,983]
[null,null,null,null,null,null,null,null,null,null,null,null,null,null,null,null,984]
[null,null,null,null,null,null,null,null,null,null,null,null,null,null,null,null,985]
[null,null,null,null,null,null,null,null,null,null,null,null,null,null,null,null,986]
[null,null,null,null,null,null,null,null,null,null,null,null,null,null,null,null,987]
[null,null,null,null,null,null,null,null,null,null,null,null,null,null,null,null,988]
[null,null,null,null,null,null,null,null,null,null,null,null,null,null,null,null,989]
[null,null,null,null,null,null,null,null,null,null,null,null,null,null,null,null,990]
[null,null,null,null,null,null,null,null,null,null,null,null,null,null,null,null,991]
[null,null,null,null,null,null,null,null,null,null,null,null,null,null,null,null,992]
[null,null,null,null,null,null,null,null,null,null,null,null,null,null,null,null,993]
[null,null,null,null,null,null,null,null,null,null,null,null,null,null,null,null,994]
[null,null,null,null,null,null,null,null,null,null,null,null,null,null,null,null,995]
[null,null,null,null,null,null,null,null,null,null,null,null,null,null,null,null,996]
[null,null,null,null,null,null,null,null,null,null,null,null,null,null,null,null,997]
[null,null,null,null,null,null,null,null,null,null,null,null,null,null,null,null,998]
[null,null,null,null,null,null,null,null,null,null,null,null,null,null,null,null,999]
[null,null,null,null,null,null,null,null,null,null,null,null,null,null,null,null,1000]

{"sheet":"Committenti","index":2,"n_rows":1017,"n_cols":14,"rows_kept":1017,"cut":false,"hidden":false,"merged":[]}
[null,"Elenco Committenti"]
[null,"Cognome","Nome","Codice Fiscale","Sesso","Data Nascita","Nazione Nascita","Comune Nascita","Nazione Residenza","Comune Residenza","Provincia","Indirizzo","CAP","Telefono"]
[{"$f":"IF(B3<>\"\",1,\"\")","v":1},"Tizio","Caio"]
[{"$f":"IF(B4<>\"\", IF(A3<>\"\",A3+1,\"\"),\"\")","v":""}]
[{"$f":"IF(B5<>\"\", IF(A4<>\"\",A4+1,\"\"),\"\")","v":""}]
[""]
[""]
[""]
[""]
[""]
[""]
[""]
[""]
[""]
[""]
[""]
[""]
[""]
[""]
[""]
[""]
[""]
[""]
[""]
[""]
[""]
[""]
[""]
[""]
[""]
[""]
[""]
[""]
[""]
[""]
[""]
[""]
[""]
[""]
[""]
[""]
[""]
[""]
[""]
[""]
[""]
[""]
[""]
[""]
[""]
[""]
[""]
[""]
[""]
[""]
[""]
[""]
[""]
[""]
[""]
[""]
[""]
[""]
[""]
[""]
[""]
[""]
[""]
[{"$f":"IF(B69<>\"\", IF(A68<>\"\",A68+1,\"\"),\"\")","v":""}]
[""]
[""]
[""]
[""]
[""]
[""]
[""]
[""]
[""]
[""]
[""]
[""]
[""]
[""]
[""]
[""]
[""]
[""]
[""]
[""]
[""]
[""]
[""]
[""]
[""]
[""]
[""]
[""]
[""]
[""]
[""]
[""]
[""]
[""]
[""]
[""]
[""]
[""]
[""]
[""]
[""]
[""]
[""]
[""]
[""]
[""]
[""]
[""]
[""]
[""]
[""]
[""]
[""]
[""]
[""]
[""]
[""]
[""]
[""]
[""]
[""]
[""]
[""]
[{"$f":"IF(B133<>\"\", IF(A132<>\"\",A132+1,\"\"),\"\")","v":""}]
[""]
[""]
[""]
[""]
[""]
[""]
[""]
[""]
[""]
[""]
[""]
[""]
[""]
[""]
[""]
[""]
[""]
[""]
[""]
[""]
[""]
[""]
[""]
[""]
[""]
[""]
[""]
[""]
[""]
[""]
[""]
[""]
[""]
[""]
[""]
[""]
[""]
[""]
[""]
[""]
[""]
[""]
[""]
[""]
[""]
[""]
[""]
[""]
[""]
[""]
[""]
[""]
[""]
[""]
[""]
[""]
[""]
[""]
[""]
[""]
[""]
[""]
[""]
[{"$f":"IF(B197<>\"\", IF(A196<>\"\",A196+1,\"\"),\"\")","v":""}]
[""]
[""]
[""]
[""]
[""]
[""]
[""]
[""]
[""]
[""]
[""]
[""]
[""]
[""]
[""]
[""]
[""]
[""]
[""]
[""]
[""]
[""]
[""]
[""]
[""]
[""]
[""]
[""]
[""]
[""]
[""]
[""]
[""]
[""]
[""]
[""]
[""]
[""]
[""]
[""]
[""]
[""]
[""]
[""]
[""]
[""]
[""]
[""]
[""]
[""]
[""]
[""]
[""]
[""]
[""]
[""]
[""]
[""]
[""]
[""]
[""]
[""]
[""]
[{"$f":"IF(B261<>\"\", IF(A260<>\"\",A260+1,\"\"),\"\")","v":""}]
[""]
[""]
[""]
[""]
[""]
[""]
[""]
[""]
[""]
[""]
[""]
[""]
[""]
[""]
[""]
[""]
[""]
[""]
[""]
[""]
[""]
[""]
[""]
[""]
[""]
[""]
[""]
[""]
[""]
[""]
[""]
[""]
[""]
[""]
[""]
[""]
[""]
[""]
[""]
[""]
[""]
[""]
[""]
[""]
[""]
[""]
[""]
[""]
[""]
[""]
[""]
[""]
[""]
[""]
[""]
[""]
[""]
[""]
[""]
[""]
[""]
[""]
[""]
[{"$f":"IF(B325<>\"\", IF(A324<>\"\",A324+1,\"\"),\"\")","v":""}]
[""]
[""]
[""]
[""]
[""]
[""]
[""]
[""]
[""]
[""]
[""]
[""]
[""]
[""]
[""]
[""]
[""]
[""]
[""]
[""]
[""]
[""]
[""]
[""]
[""]
[""]
[""]
[""]
[""]
[""]
[""]
[""]
[""]
[""]
[""]
[""]
[""]
[""]
[""]
[""]
[""]
[""]
[""]
[""]
[""]
[""]
[""]
[""]
[""]
[""]
[""]
[""]
[""]
[""]
[""]
[""]
[""]
[""]
[""]
[""]
[""]
[""]
[""]
[{"$f":"IF(B389<>\"\", IF(A388<>\"\",A388+1,\"\"),\"\")","v":""}]
[""]
[""]
[""]
[""]
[""]
[""]
[""]
[""]
[""]
[""]
[""]
[""]
[""]
[""]
[""]
[""]
[""]
[""]
[""]
[""]
[""]
[""]
[""]
[""]
[""]
[""]
[""]
[""]
[""]
[""]
[""]
[""]
[""]
[""]
[""]
[""]
[""]
[""]
[""]
[""]
[""]
[""]
[""]
[""]
[""]
[""]
[""]
[""]
[""]
[""]
[""]
[""]
[""]
[""]
[""]
[""]
[""]
[""]
[""]
[""]
[""]
[""]
[""]
[{"$f":"IF(B453<>\"\", IF(A452<>\"\",A452+1,\"\"),\"\")","v":""}]
[""]
[""]
[""]
[""]
[""]
[""]
[""]
[""]
[""]
[""]
[""]
[""]
[""]
[""]
[""]
[""]
[""]
[""]
[""]
[""]
[""]
[""]
[""]
[""]
[""]
[""]
[""]
[""]
[""]
[""]
[""]
[""]
[""]
[""]
[""]
[""]
[""]
[""]
[""]
[""]
[""]
[""]
[""]
[""]
[""]
[""]
[""]
[""]
[""]
[""]
[""]
[""]
[""]
[""]
[""]
[""]
[""]
[""]
[""]
[""]
[""]
[""]
[""]
[{"$f":"IF(B517<>\"\", IF(A516<>\"\",A516+1,\"\"),\"\")","v":""}]
[""]
[""]
[""]
[""]
[""]
[""]
[""]
[""]
[""]
[""]
[""]
[""]
[""]
[""]
[""]
[""]
[""]
[""]
[""]
[""]
[""]
[""]
[""]
[""]
[""]
[""]
[""]
[""]
[""]
[""]
[""]
[""]
[""]
[""]
[""]
[""]
[""]
[""]
[""]
[""]
[""]
[""]
[""]
[""]
[""]
[""]
[""]
[""]
[""]
[""]
[""]
[""]
[""]
[""]
[""]
[""]
[""]
[""]
[""]
[""]
[""]
[""]
[""]
[{"$f":"IF(B581<>\"\", IF(A580<>\"\",A580+1,\"\"),\"\")","v":""}]
[""]
[""]
[""]
[""]
[""]
[""]
[""]
[""]
[""]
[""]
[""]
[""]
[""]
[""]
[""]
[""]
[""]
[""]
[""]
[""]
[""]
[""]
[""]
[""]
[""]
[""]
[""]
[""]
[""]
[""]
[""]
[""]
[""]
[""]
[""]
[""]
[""]
[""]
[""]
[""]
[""]
[""]
[""]
[""]
[""]
[""]
[""]
[""]
[""]
[""]
[""]
[""]
[""]
[""]
[""]
[""]
[""]
[""]
[""]
[""]
[""]
[""]
[""]
[{"$f":"IF(B645<>\"\", IF(A644<>\"\",A644+1,\"\"),\"\")","v":""}]
[""]
[""]
[""]
[""]
[""]
[""]
[""]
[""]
[""]
[""]
[""]
[""]
[""]
[""]
[""]
[""]
[""]
[""]
[""]
[""]
[""]
[""]
[""]
[""]
[""]
[""]
[""]
[""]
[""]
[""]
[""]
[""]
[""]
[""]
[""]
[""]
[""]
[""]
[""]
[""]
[""]
[""]
[""]
[""]
[""]
[""]
[""]
[""]
[""]
[""]
[""]
[""]
[""]
[""]
[""]
[""]
[""]
[""]
[""]
[""]
[""]
[""]
[""]
[{"$f":"IF(B709<>\"\", IF(A708<>\"\",A708+1,\"\"),\"\")","v":""}]
[""]
[""]
[""]
[""]
[""]
[""]
[""]
[""]
[""]
[""]
[""]
[""]
[""]
[""]
[""]
[""]
[""]
[""]
[""]
[""]
[""]
[""]
[""]
[""]
[""]
[""]
[""]
[""]
[""]
[""]
[""]
[""]
[""]
[""]
[""]
[""]
[""]
[""]
[""]
[""]
[""]
[""]
[""]
[""]
[""]
[""]
[""]
[""]
[""]
[""]
[""]
[""]
[""]
[""]
[""]
[""]
[""]
[""]
[""]
[""]
[""]
[""]
[""]
[{"$f":"IF(B773<>\"\", IF(A772<>\"\",A772+1,\"\"),\"\")","v":""}]
[""]
[""]
[""]
[""]
[""]
[""]
[""]
[""]
[""]
[""]
[""]
[""]
[""]
[""]
[""]
[""]
[""]
[""]
[""]
[""]
[""]
[""]
[""]
[""]
[""]
[""]
[""]
[""]
[""]
[""]
[""]
[""]
[""]
[""]
[""]
[""]
[""]
[""]
[""]
[""]
[""]
[""]
[""]
[""]
[""]
[""]
[""]
[""]
[""]
[""]
[""]
[""]
[""]
[""]
[""]
[""]
[""]
[""]
[""]
[""]
[""]
[""]
[""]
[{"$f":"IF(B837<>\"\", IF(A836<>\"\",A836+1,\"\"),\"\")","v":""}]
[""]
[""]
[""]
[""]
[""]
[""]
[""]
[""]
[""]
[""]
[""]
[""]
[""]
[""]
[""]
[""]
[""]
[""]
[""]
[""]
[""]
[""]
[""]
[""]
[""]
[""]
[""]
[""]
[""]
[""]
[""]
[""]
[""]
[""]
[""]
[""]
[""]
[""]
[""]
[""]
[""]
[""]
[""]
[""]
[""]
[""]
[""]
[""]
[""]
[""]
[""]
[""]
[""]
[""]
[""]
[""]
[""]
[""]
[""]
[""]
[""]
[""]
[""]
[{"$f":"IF(B901<>\"\", IF(A900<>\"\",A900+1,\"\"),\"\")","v":""}]
[""]
[""]
[""]
[""]
[""]
[""]
[""]
[""]
[""]
[""]
[""]
[""]
[""]
[""]
[""]
[""]
[""]
[""]
[""]
[""]
[""]
[""]
[""]
[""]
[""]
[""]
[""]
[""]
[""]
[""]
[""]
[""]
[""]
[""]
[""]
[""]
[""]
[""]
[""]
[""]
[""]
[""]
[""]
[""]
[""]
[""]
[""]
[""]
[""]
[""]
[""]
[""]
[""]
[""]
[""]
[""]
[""]
[""]
[""]
[""]
[""]
[""]
[""]
[{"$f":"IF(B965<>\"\", IF(A964<>\"\",A964+1,\"\"),\"\")","v":""}]
[""]
[""]
[""]
[""]
[""]
[""]
[""]
[""]
[""]
[""]
[""]
[""]
[""]
[""]
[""]
[""]
[""]
[""]
[""]
[""]
[""]
[""]
[""]
[""]
[""]
[""]
[""]
[""]
[""]
[""]
[""]
[""]
[""]
[""]
[""]
[""]
[""]
[""]
[""]
[""]
[""]
[""]
[""]
[""]
[""]
[""]
[""]
[""]
[""]
[""]
[""]
[""]

{"sheet":"UnitàImmobiliari","index":3,"n_rows":1017,"n_cols":17,"rows_kept":1017,"cut":false,"hidden":true,"merged":[[0,5,0,6],[0,7,0,8],[0,9,0,10],[0,11,0,12],[0,13,0,14]]}
[null,"Elenco Unità Immobiliari",null,null,null,"Beneficiario 1",null,"Beneficiario 2",null,"Beneficiario 3",null,"Beneficiario 4",null,"Beneficiario 5"]
[null,"Foglio","Particella","Sub.","Categoria","Codice Fiscale","Titolo Possesso","Codice Fiscale","Titolo Possesso","Codice Fiscale","Titolo Possesso","Codice Fiscale","Titolo Possesso","Codice Fiscale","Titolo Possesso",null,"Elenco Committenti"]
[{"$f":"IF(B3<>\"\",1,\"\")","v":1},"12","27","1","A3",null,null,null,null,null,null,null,null,null,null,null,{"$f":"IF(Committenti!D3<>\"\",CONCATENATE(Committenti!B3,\"  \",Committenti!C3,\"  CF: \",Committenti!D3),\"\")","v":""}]
[{"$f":"IF(B4<>\"\", IF(A3<>\"\",A3+1,\"\"),\"\")","v":2},"14","27","2","A3",null,null,null,null,null,null,null,null,null,null,null,{"$f":"IF(Committenti!D4<>\"\",CONCATENATE(Committenti!B4,\"  \",Committenti!C4,\"  CF: \",Committenti!D4),\"\")","v":""}]
[{"$f":"IF(B5<>\"\", IF(A4<>\"\",A4+1,\"\"),\"\")","v":""},null,null,null,null,null,null,null,null,"",null,null,null,null,null,null,{"$f":"IF(Committenti!D5<>\"\",CONCATENATE(Committenti!B5,\"  \",Committenti!C5,\"  CF: \",Committenti!D5),\"\")","v":""}]
["",null,null,null,null,null,null,null,null,null,null,null,null,null,null,null,{"$f":"IF(Committenti!D6<>\"\",CONCATENATE(Committenti!B6,\"  \",Committenti!C6,\"  CF: \",Committenti!D6),\"\")","v":""}]
["",null,null,null,null,null,null,null,null,null,null,null,null,null,null,null,{"$f":"IF(Committenti!D7<>\"\",CONCATENATE(Committenti!B7,\"  \",Committenti!C7,\"  CF: \",Committenti!D7),\"\")","v":""}]
["",null,null,null,null,null,null,null,null,null,null,null,null,null,null,null,{"$f":"IF(Committenti!D8<>\"\",CONCATENATE(Committenti!B8,\"  \",Committenti!C8,\"  CF: \",Committenti!D8),\"\")","v":""}]
["",null,null,null,null,null,null,null,null,null,null,null,null,null,null,null,{"$f":"IF(Committenti!D9<>\"\",CONCATENATE(Committenti!B9,\"  \",Committenti!C9,\"  CF: \",Committenti!D9),\"\")","v":""}]
["",null,null,null,null,null,null,null,null,null,null,null,null,null,null,null,{"$f":"IF(Committenti!D10<>\"\",CONCATENATE(Committenti!B10,\"  \",Committenti!C10,\"  CF: \",Committenti!D10),\"\")","v":""}]
["",null,null,null,null,null,null,null,null,null,null,null,null,null,null,null,{"$f":"IF(Committenti!D11<>\"\",CONCATENATE(Committenti!B11,\"  \",Committenti!C11,\"  CF: \",Committenti!D11),\"\")","v":""}]
["",null,null,null,null,null,null,null,null,null,null,null,null,null,null,null,{"$f":"IF(Committenti!D12<>\"\",CONCATENATE(Committenti!B12,\"  \",Committenti!C12,\"  CF: \",Committenti!D12),\"\")","v":""}]
["",null,null,null,null,null,null,null,null,null,null,null,null,null,null,null,{"$f":"IF(Committenti!D13<>\"\",CONCATENATE(Committenti!B13,\"  \",Committenti!C13,\"  CF: \",Committenti!D13),\"\")","v":""}]
["",null,null,null,null,null,null,null,null,null,null,null,null,null,null,null,{"$f":"IF(Committenti!D14<>\"\",CONCATENATE(Committenti!B14,\"  \",Committenti!C14,\"  CF: \",Committenti!D14),\"\")","v":""}]
["",null,null,null,null,null,null,null,null,null,null,null,null,null,null,null,{"$f":"IF(Committenti!D15<>\"\",CONCATENATE(Committenti!B15,\"  \",Committenti!C15,\"  CF: \",Committenti!D15),\"\")","v":""}]
["",null,null,null,null,null,null,null,null,null,null,null,null,null,null,null,{"$f":"IF(Committenti!D16<>\"\",CONCATENATE(Committenti!B16,\"  \",Committenti!C16,\"  CF: \",Committenti!D16),\"\")","v":""}]
["",null,null,null,null,null,null,null,null,null,null,null,null,null,null,null,{"$f":"IF(Committenti!D17<>\"\",CONCATENATE(Committenti!B17,\"  \",Committenti!C17,\"  CF: \",Committenti!D17),\"\")","v":""}]
["",null,null,null,null,null,null,null,null,null,null,null,null,null,null,null,{"$f":"IF(Committenti!D18<>\"\",CONCATENATE(Committenti!B18,\"  \",Committenti!C18,\"  CF: \",Committenti!D18),\"\")","v":""}]
["",null,null,null,null,null,null,null,null,null,null,null,null,null,null,null,{"$f":"IF(Committenti!D19<>\"\",CONCATENATE(Committenti!B19,\"  \",Committenti!C19,\"  CF: \",Committenti!D19),\"\")","v":""}]
["",null,null,null,null,null,null,null,null,null,null,null,null,null,null,null,{"$f":"IF(Committenti!D20<>\"\",CONCATENATE(Committenti!B20,\"  \",Committenti!C20,\"  CF: \",Committenti!D20),\"\")","v":""}]
["",null,null,null,null,null,null,null,null,null,null,null,null,null,null,null,{"$f":"IF(Committenti!D21<>\"\",CONCATENATE(Committenti!B21,\"  \",Committenti!C21,\"  CF: \",Committenti!D21),\"\")","v":""}]
["",null,null,null,null,null,null,null,null,null,null,null,null,null,null,null,{"$f":"IF(Committenti!D22<>\"\",CONCATENATE(Committenti!B22,\"  \",Committenti!C22,\"  CF: \",Committenti!D22),\"\")","v":""}]
["",null,null,null,null,null,null,null,null,null,null,null,null,null,null,null,{"$f":"IF(Committenti!D23<>\"\",CONCATENATE(Committenti!B23,\"  \",Committenti!C23,\"  CF: \",Committenti!D23),\"\")","v":""}]
["",null,null,null,null,null,null,null,null,null,null,null,null,null,null,null,{"$f":"IF(Committenti!D24<>\"\",CONCATENATE(Committenti!B24,\"  \",Committenti!C24,\"  CF: \",Committenti!D24),\"\")","v":""}]
["",null,null,null,null,null,null,null,null,null,null,null,null,null,null,null,{"$f":"IF(Committenti!D25<>\"\",CONCATENATE(Committenti!B25,\"  \",Committenti!C25,\"  CF: \",Committenti!D25),\"\")","v":""}]
["",null,null,null,null,null,null,null,null,null,null,null,null,null,null,null,{"$f":"IF(Committenti!D26<>\"\",CONCATENATE(Committenti!B26,\"  \",Committenti!C26,\"  CF: \",Committenti!D26),\"\")","v":""}]
["",null,null,null,null,null,null,null,null,null,null,null,null,null,null,null,{"$f":"IF(Committenti!D27<>\"\",CONCATENATE(Committenti!B27,\"  \",Committenti!C27,\"  CF: \",Committenti!D27),\"\")","v":""}]
["",null,null,null,null,null,null,null,null,null,null,null,null,null,null,null,{"$f":"IF(Committenti!D28<>\"\",CONCATENATE(Committenti!B28,\"  \",Committenti!C28,\"  CF: \",Committenti!D28),\"\")","v":""}]
["",null,null,null,null,null,null,null,null,null,null,null,null,null,null,null,{"$f":"IF(Committenti!D29<>\"\",CONCATENATE(Committenti!B29,\"  \",Committenti!C29,\"  CF: \",Committenti!D29),\"\")","v":""}]
["",null,null,null,null,null,null,null,null,null,null,null,null,null,null,null,{"$f":"IF(Committenti!D30<>\"\",CONCATENATE(Committenti!B30,\"  \",Committenti!C30,\"  CF: \",Committenti!D30),\"\")","v":""}]
["",null,null,null,null,null,null,null,null,null,null,null,null,null,null,null,{"$f":"IF(Committenti!D31<>\"\",CONCATENATE(Committenti!B31,\"  \",Committenti!C31,\"  CF: \",Committenti!D31),\"\")","v":""}]
["",null,null,null,null,null,null,null,null,null,null,null,null,null,null,null,{"$f":"IF(Committenti!D32<>\"\",CONCATENATE(Committenti!B32,\"  \",Committenti!C32,\"  CF: \",Committenti!D32),\"\")","v":""}]
["",null,null,null,null,null,null,null,null,null,null,null,null,null,null,null,{"$f":"IF(Committenti!D33<>\"\",CONCATENATE(Committenti!B33,\"  \",Committenti!C33,\"  CF: \",Committenti!D33),\"\")","v":""}]
["",null,null,null,null,null,null,null,null,null,null,null,null,null,null,null,{"$f":"IF(Committenti!D34<>\"\",CONCATENATE(Committenti!B34,\"  \",Committenti!C34,\"  CF: \",Committenti!D34),\"\")","v":""}]
["",null,null,null,null,null,null,null,null,null,null,null,null,null,null,null,{"$f":"IF(Committenti!D35<>\"\",CONCATENATE(Committenti!B35,\"  \",Committenti!C35,\"  CF: \",Committenti!D35),\"\")","v":""}]
["",null,null,null,null,null,null,null,null,null,null,null,null,null,null,null,{"$f":"IF(Committenti!D36<>\"\",CONCATENATE(Committenti!B36,\"  \",Committenti!C36,\"  CF: \",Committenti!D36),\"\")","v":""}]
["",null,null,null,null,null,null,null,null,null,null,null,null,null,null,null,{"$f":"IF(Committenti!D37<>\"\",CONCATENATE(Committenti!B37,\"  \",Committenti!C37,\"  CF: \",Committenti!D37),\"\")","v":""}]
["",null,null,null,null,null,null,null,null,null,null,null,null,null,null,null,{"$f":"IF(Committenti!D38<>\"\",CONCATENATE(Committenti!B38,\"  \",Committenti!C38,\"  CF: \",Committenti!D38),\"\")","v":""}]
["",null,null,null,null,null,null,null,null,null,null,null,null,null,null,null,{"$f":"IF(Committenti!D39<>\"\",CONCATENATE(Committenti!B39,\"  \",Committenti!C39,\"  CF: \",Committenti!D39),\"\")","v":""}]
["",null,null,null,null,null,null,null,null,null,null,null,null,null,null,null,{"$f":"IF(Committenti!D40<>\"\",CONCATENATE(Committenti!B40,\"  \",Committenti!C40,\"  CF: \",Committenti!D40),\"\")","v":""}]
["",null,null,null,null,null,null,null,null,null,null,null,null,null,null,null,{"$f":"IF(Committenti!D41<>\"\",CONCATENATE(Committenti!B41,\"  \",Committenti!C41,\"  CF: \",Committenti!D41),\"\")","v":""}]
["",null,null,null,null,null,null,null,null,null,null,null,null,null,null,null,{"$f":"IF(Committenti!D42<>\"\",CONCATENATE(Committenti!B42,\"  \",Committenti!C42,\"  CF: \",Committenti!D42),\"\")","v":""}]
["",null,null,null,null,null,null,null,null,null,null,null,null,null,null,null,{"$f":"IF(Committenti!D43<>\"\",CONCATENATE(Committenti!B43,\"  \",Committenti!C43,\"  CF: \",Committenti!D43),\"\")","v":""}]
["",null,null,null,null,null,null,null,null,null,null,null,null,null,null,null,{"$f":"IF(Committenti!D44<>\"\",CONCATENATE(Committenti!B44,\"  \",Committenti!C44,\"  CF: \",Committenti!D44),\"\")","v":""}]
["",null,null,null,null,null,null,null,null,null,null,null,null,null,null,null,{"$f":"IF(Committenti!D45<>\"\",CONCATENATE(Committenti!B45,\"  \",Committenti!C45,\"  CF: \",Committenti!D45),\"\")","v":""}]
["",null,null,null,null,null,null,null,null,null,null,null,null,null,null,null,{"$f":"IF(Committenti!D46<>\"\",CONCATENATE(Committenti!B46,\"  \",Committenti!C46,\"  CF: \",Committenti!D46),\"\")","v":""}]
["",null,null,null,null,null,null,null,null,null,null,null,null,null,null,null,{"$f":"IF(Committenti!D47<>\"\",CONCATENATE(Committenti!B47,\"  \",Committenti!C47,\"  CF: \",Committenti!D47),\"\")","v":""}]
["",null,null,null,null,null,null,null,null,null,null,null,null,null,null,null,{"$f":"IF(Committenti!D48<>\"\",CONCATENATE(Committenti!B48,\"  \",Committenti!C48,\"  CF: \",Committenti!D48),\"\")","v":""}]
["",null,null,null,null,null,null,null,null,null,null,null,null,null,null,null,{"$f":"IF(Committenti!D49<>\"\",CONCATENATE(Committenti!B49,\"  \",Committenti!C49,\"  CF: \",Committenti!D49),\"\")","v":""}]
["",null,null,null,null,null,null,null,null,null,null,null,null,null,null,null,{"$f":"IF(Committenti!D50<>\"\",CONCATENATE(Committenti!B50,\"  \",Committenti!C50,\"  CF: \",Committenti!D50),\"\")","v":""}]
["",null,null,null,null,null,null,null,null,null,null,null,null,null,null,null,{"$f":"IF(Committenti!D51<>\"\",CONCATENATE(Committenti!B51,\"  \",Committenti!C51,\"  CF: \",Committenti!D51),\"\")","v":""}]
["",null,null,null,null,null,null,null,null,null,null,null,null,null,null,null,{"$f":"IF(Committenti!D52<>\"\",CONCATENATE(Committenti!B52,\"  \",Committenti!C52,\"  CF: \",Committenti!D52),\"\")","v":""}]
["",null,null,null,null,null,null,null,null,null,null,null,null,null,null,null,{"$f":"IF(Committenti!D53<>\"\",CONCATENATE(Committenti!B53,\"  \",Committenti!C53,\"  CF: \",Committenti!D53),\"\")","v":""}]
["",null,null,null,null,null,null,null,null,null,null,null,null,null,null,null,{"$f":"IF(Committenti!D54<>\"\",CONCATENATE(Committenti!B54,\"  \",Committenti!C54,\"  CF: \",Committenti!D54),\"\")","v":""}]
["",null,null,null,null,null,null,null,null,null,null,null,null,null,null,null,{"$f":"IF(Committenti!D55<>\"\",CONCATENATE(Committenti!B55,\"  \",Committenti!C55,\"  CF: \",Committenti!D55),\"\")","v":""}]
["",null,null,null,null,null,null,null,null,null,null,null,null,null,null,null,{"$f":"IF(Committenti!D56<>\"\",CONCATENATE(Committenti!B56,\"  \",Committenti!C56,\"  CF: \",Committenti!D56),\"\")","v":""}]
["",null,null,null,null,null,null,null,null,null,null,null,null,null,null,null,{"$f":"IF(Committenti!D57<>\"\",CONCATENATE(Committenti!B57,\"  \",Committenti!C57,\"  CF: \",Committenti!D57),\"\")","v":""}]
["",null,null,null,null,null,null,null,null,null,null,null,null,null,null,null,{"$f":"IF(Committenti!D58<>\"\",CONCATENATE(Committenti!B58,\"  \",Committenti!C58,\"  CF: \",Committenti!D58),\"\")","v":""}]
["",null,null,null,null,null,null,null,null,null,null,null,null,null,null,null,{"$f":"IF(Committenti!D59<>\"\",CONCATENATE(Committenti!B59,\"  \",Committenti!C59,\"  CF: \",Committenti!D59),\"\")","v":""}]
["",null,null,null,null,null,null,null,null,null,null,null,null,null,null,null,{"$f":"IF(Committenti!D60<>\"\",CONCATENATE(Committenti!B60,\"  \",Committenti!C60,\"  CF: \",Committenti!D60),\"\")","v":""}]
["",null,null,null,null,null,null,null,null,null,null,null,null,null,null,null,{"$f":"IF(Committenti!D61<>\"\",CONCATENATE(Committenti!B61,\"  \",Committenti!C61,\"  CF: \",Committenti!D61),\"\")","v":""}]
["",null,null,null,null,null,null,null,null,null,null,null,null,null,null,null,{"$f":"IF(Committenti!D62<>\"\",CONCATENATE(Committenti!B62,\"  \",Committenti!C62,\"  CF: \",Committenti!D62),\"\")","v":""}]
["",null,null,null,null,null,null,null,null,null,null,null,null,null,null,null,{"$f":"IF(Committenti!D63<>\"\",CONCATENATE(Committenti!B63,\"  \",Committenti!C63,\"  CF: \",Committenti!D63),\"\")","v":""}]
["",null,null,null,null,null,null,null,null,null,null,null,null,null,null,null,{"$f":"IF(Committenti!D64<>\"\",CONCATENATE(Committenti!B64,\"  \",Committenti!C64,\"  CF: \",Committenti!D64),\"\")","v":""}]
["",null,null,null,null,null,null,null,null,null,null,null,null,null,null,null,{"$f":"IF(Committenti!D65<>\"\",CONCATENATE(Committenti!B65,\"  \",Committenti!C65,\"  CF: \",Committenti!D65),\"\")","v":""}]
["",null,null,null,null,null,null,null,null,null,null,null,null,null,null,null,{"$f":"IF(Committenti!D66<>\"\",CONCATENATE(Committenti!B66,\"  \",Committenti!C66,\"  CF: \",Committenti!D66),\"\")","v":""}]
["",null,null,null,null,null,null,null,null,null,null,null,null,null,null,null,{"$f":"IF(Committenti!D67<>\"\",CONCATENATE(Committenti!B67,\"  \",Committenti!C67,\"  CF: \",Committenti!D67),\"\")","v":""}]
["",null,null,null,null,null,null,null,null,null,null,null,null,null,null,null,{"$f":"IF(Committenti!D68<>\"\",CONCATENATE(Committenti!B68,\"  \",Committenti!C68,\"  CF: \",Committenti!D68),\"\")","v":""}]
[{"$f":"IF(B69<>\"\", IF(A68<>\"\",A68+1,\"\"),\"\")","v":""},null,null,null,null,null,null,null,null,null,null,null,null,null,null,null,{"$f":"IF(Committenti!D69<>\"\",CONCATENATE(Committenti!B69,\"  \",Committenti!C69,\"  CF: \",Committenti!D69),\"\")","v":""}]
["",null,null,null,null,null,null,null,null,null,null,null,null,null,null,null,{"$f":"IF(Committenti!D70<>\"\",CONCATENATE(Committenti!B70,\"  \",Committenti!C70,\"  CF: \",Committenti!D70),\"\")","v":""}]
["",null,null,null,null,null,null,null,null,null,null,null,null,null,null,null,{"$f":"IF(Committenti!D71<>\"\",CONCATENATE(Committenti!B71,\"  \",Committenti!C71,\"  CF: \",Committenti!D71),\"\")","v":""}]
["",null,null,null,null,null,null,null,null,null,null,null,null,null,null,null,{"$f":"IF(Committenti!D72<>\"\",CONCATENATE(Committenti!B72,\"  \",Committenti!C72,\"  CF: \",Committenti!D72),\"\")","v":""}]
["",null,null,null,null,null,null,null,null,null,null,null,null,null,null,null,{"$f":"IF(Committenti!D73<>\"\",CONCATENATE(Committenti!B73,\"  \",Committenti!C73,\"  CF: \",Committenti!D73),\"\")","v":""}]
["",null,null,null,null,null,null,null,null,null,null,null,null,null,null,null,{"$f":"IF(Committenti!D74<>\"\",CONCATENATE(Committenti!B74,\"  \",Committenti!C74,\"  CF: \",Committenti!D74),\"\")","v":""}]
["",null,null,null,null,null,null,null,null,null,null,null,null,null,null,null,{"$f":"IF(Committenti!D75<>\"\",CONCATENATE(Committenti!B75,\"  \",Committenti!C75,\"  CF: \",Committenti!D75),\"\")","v":""}]
["",null,null,null,null,null,null,null,null,null,null,null,null,null,null,null,{"$f":"IF(Committenti!D76<>\"\",CONCATENATE(Committenti!B76,\"  \",Committenti!C76,\"  CF: \",Committenti!D76),\"\")","v":""}]
["",null,null,null,null,null,null,null,null,null,null,null,null,null,null,null,{"$f":"IF(Committenti!D77<>\"\",CONCATENATE(Committenti!B77,\"  \",Committenti!C77,\"  CF: \",Committenti!D77),\"\")","v":""}]
["",null,null,null,null,null,null,null,null,null,null,null,null,null,null,null,{"$f":"IF(Committenti!D78<>\"\",CONCATENATE(Committenti!B78,\"  \",Committenti!C78,\"  CF: \",Committenti!D78),\"\")","v":""}]
["",null,null,null,null,null,null,null,null,null,null,null,null,null,null,null,{"$f":"IF(Committenti!D79<>\"\",CONCATENATE(Committenti!B79,\"  \",Committenti!C79,\"  CF: \",Committenti!D79),\"\")","v":""}]
["",null,null,null,null,null,null,null,null,null,null,null,null,null,null,null,{"$f":"IF(Committenti!D80<>\"\",CONCATENATE(Committenti!B80,\"  \",Committenti!C80,\"  CF: \",Committenti!D80),\"\")","v":""}]
["",null,null,null,null,null,null,null,null,null,null,null,null,null,null,null,{"$f":"IF(Committenti!D81<>\"\",CONCATENATE(Committenti!B81,\"  \",Committenti!C81,\"  CF: \",Committenti!D81),\"\")","v":""}]
["",null,null,null,null,null,null,null,null,null,null,null,null,null,null,null,{"$f":"IF(Committenti!D82<>\"\",CONCATENATE(Committenti!B82,\"  \",Committenti!C82,\"  CF: \",Committenti!D82),\"\")","v":""}]
["",null,null,null,null,null,null,null,null,null,null,null,null,null,null,null,{"$f":"IF(Committenti!D83<>\"\",CONCATENATE(Committenti!B83,\"  \",Committenti!C83,\"  CF: \",Committenti!D83),\"\")","v":""}]
["",null,null,null,null,null,null,null,null,null,null,null,null,null,null,null,{"$f":"IF(Committenti!D84<>\"\",CONCATENATE(Committenti!B84,\"  \",Committenti!C84,\"  CF: \",Committenti!D84),\"\")","v":""}]
["",null,null,null,null,null,null,null,null,null,null,null,null,null,null,null,{"$f":"IF(Committenti!D85<>\"\",CONCATENATE(Committenti!B85,\"  \",Committenti!C85,\"  CF: \",Committenti!D85),\"\")","v":""}]
["",null,null,null,null,null,null,null,null,null,null,null,null,null,null,null,{"$f":"IF(Committenti!D86<>\"\",CONCATENATE(Committenti!B86,\"  \",Committenti!C86,\"  CF: \",Committenti!D86),\"\")","v":""}]
["",null,null,null,null,null,null,null,null,null,null,null,null,null,null,null,{"$f":"IF(Committenti!D87<>\"\",CONCATENATE(Committenti!B87,\"  \",Committenti!C87,\"  CF: \",Committenti!D87),\"\")","v":""}]
["",null,null,null,null,null,null,null,null,null,null,null,null,null,null,null,{"$f":"IF(Committenti!D88<>\"\",CONCATENATE(Committenti!B88,\"  \",Committenti!C88,\"  CF: \",Committenti!D88),\"\")","v":""}]
["",null,null,null,null,null,null,null,null,null,null,null,null,null,null,null,{"$f":"IF(Committenti!D89<>\"\",CONCATENATE(Committenti!B89,\"  \",Committenti!C89,\"  CF: \",Committenti!D89),\"\")","v":""}]
["",null,null,null,null,null,null,null,null,null,null,null,null,null,null,null,{"$f":"IF(Committenti!D90<>\"\",CONCATENATE(Committenti!B90,\"  \",Committenti!C90,\"  CF: \",Committenti!D90),\"\")","v":""}]
["",null,null,null,null,null,null,null,null,null,null,null,null,null,null,null,{"$f":"IF(Committenti!D91<>\"\",CONCATENATE(Committenti!B91,\"  \",Committenti!C91,\"  CF: \",Committenti!D91),\"\")","v":""}]
["",null,null,null,null,null,null,null,null,null,null,null,null,null,null,null,{"$f":"IF(Committenti!D92<>\"\",CONCATENATE(Committenti!B92,\"  \",Committenti!C92,\"  CF: \",Committenti!D92),\"\")","v":""}]
["",null,null,null,null,null,null,null,null,null,null,null,null,null,null,null,{"$f":"IF(Committenti!D93<>\"\",CONCATENATE(Committenti!B93,\"  \",Committenti!C93,\"  CF: \",Committenti!D93),\"\")","v":""}]
["",null,null,null,null,null,null,null,null,null,null,null,null,null,null,null,{"$f":"IF(Committenti!D94<>\"\",CONCATENATE(Committenti!B94,\"  \",Committenti!C94,\"  CF: \",Committenti!D94),\"\")","v":""}]
["",null,null,null,null,null,null,null,null,null,null,null,null,null,null,null,{"$f":"IF(Committenti!D95<>\"\",CONCATENATE(Committenti!B95,\"  \",Committenti!C95,\"  CF: \",Committenti!D95),\"\")","v":""}]
["",null,null,null,null,null,null,null,null,null,null,null,null,null,null,null,{"$f":"IF(Committenti!D96<>\"\",CONCATENATE(Committenti!B96,\"  \",Committenti!C96,\"  CF: \",Committenti!D96),\"\")","v":""}]
["",null,null,null,null,null,null,null,null,null,null,null,null,null,null,null,{"$f":"IF(Committenti!D97<>\"\",CONCATENATE(Committenti!B97,\"  \",Committenti!C97,\"  CF: \",Committenti!D97),\"\")","v":""}]
["",null,null,null,null,null,null,null,null,null,null,null,null,null,null,null,{"$f":"IF(Committenti!D98<>\"\",CONCATENATE(Committenti!B98,\"  \",Committenti!C98,\"  CF: \",Committenti!D98),\"\")","v":""}]
["",null,null,null,null,null,null,null,null,null,null,null,null,null,null,null,{"$f":"IF(Committenti!D99<>\"\",CONCATENATE(Committenti!B99,\"  \",Committenti!C99,\"  CF: \",Committenti!D99),\"\")","v":""}]
["",null,null,null,null,null,null,null,null,null,null,null,null,null,null,null,{"$f":"IF(Committenti!D100<>\"\",CONCATENATE(Committenti!B100,\"  \",Committenti!C100,\"  CF: \",Committenti!D100),\"\")","v":""}]
["",null,null,null,null,null,null,null,null,null,null,null,null,null,null,null,{"$f":"IF(Committenti!D101<>\"\",CONCATENATE(Committenti!B101,\"  \",Committenti!C101,\"  CF: \",Committenti!D101),\"\")","v":""}]
["",null,null,null,null,null,null,null,null,null,null,null,null,null,null,null,{"$f":"IF(Committenti!D102<>\"\",CONCATENATE(Committenti!B102,\"  \",Committenti!C102,\"  CF: \",Committenti!D102),\"\")","v":""}]
["",null,null,null,null,null,null,null,null,null,null,null,null,null,null,null,{"$f":"IF(Committenti!D103<>\"\",CONCATENATE(Committenti!B103,\"  \",Committenti!C103,\"  CF: \",Committenti!D103),\"\")","v":""}]
["",null,null,null,null,null,null,null,null,null,null,null,null,null,null,null,{"$f":"IF(Committenti!D104<>\"\",CONCATENATE(Committenti!B104,\"  \",Committenti!C104,\"  CF: \",Committenti!D104),\"\")","v":""}]
["",null,null,null,null,null,null,null,null,null,null,null,null,null,null,null,{"$f":"IF(Committenti!D105<>\"\",CONCATENATE(Committenti!B105,\"  \",Committenti!C105,\"  CF: \",Committenti!D105),\"\")","v":""}]
["",null,null,null,null,null,null,null,null,null,null,null,null,null,null,null,{"$f":"IF(Committenti!D106<>\"\",CONCATENATE(Committenti!B106,\"  \",Committenti!C106,\"  CF: \",Committenti!D106),\"\")","v":""}]
["",null,null,null,null,null,null,null,null,null,null,null,null,null,null,null,{"$f":"IF(Committenti!D107<>\"\",CONCATENATE(Committenti!B107,\"  \",Committenti!C107,\"  CF: \",Committenti!D107),\"\")","v":""}]
["",null,null,null,null,null,null,null,null,null,null,null,null,null,null,null,{"$f":"IF(Committenti!D108<>\"\",CONCATENATE(Committenti!B108,\"  \",Committenti!C108,\"  CF: \",Committenti!D108),\"\")","v":""}]
["",null,null,null,null,null,null,null,null,null,null,null,null,null,null,null,{"$f":"IF(Committenti!D109<>\"\",CONCATENATE(Committenti!B109,\"  \",Committenti!C109,\"  CF: \",Committenti!D109),\"\")","v":""}]
["",null,null,null,null,null,null,null,null,null,null,null,null,null,null,null,{"$f":"IF(Committenti!D110<>\"\",CONCATENATE(Committenti!B110,\"  \",Committenti!C110,\"  CF: \",Committenti!D110),\"\")","v":""}]
["",null,null,null,null,null,null,null,null,null,null,null,null,null,null,null,{"$f":"IF(Committenti!D111<>\"\",CONCATENATE(Committenti!B111,\"  \",Committenti!C111,\"  CF: \",Committenti!D111),\"\")","v":""}]
["",null,null,null,null,null,null,null,null,null,null,null,null,null,null,null,{"$f":"IF(Committenti!D112<>\"\",CONCATENATE(Committenti!B112,\"  \",Committenti!C112,\"  CF: \",Committenti!D112),\"\")","v":""}]
["",null,null,null,null,null,null,null,null,null,null,null,null,null,null,null,{"$f":"IF(Committenti!D113<>\"\",CONCATENATE(Committenti!B113,\"  \",Committenti!C113,\"  CF: \",Committenti!D113),\"\")","v":""}]
["",null,null,null,null,null,null,null,null,null,null,null,null,null,null,null,{"$f":"IF(Committenti!D114<>\"\",CONCATENATE(Committenti!B114,\"  \",Committenti!C114,\"  CF: \",Committenti!D114),\"\")","v":""}]
["",null,null,null,null,null,null,null,null,null,null,null,null,null,null,null,{"$f":"IF(Committenti!D115<>\"\",CONCATENATE(Committenti!B115,\"  \",Committenti!C115,\"  CF: \",Committenti!D115),\"\")","v":""}]
["",null,null,null,null,null,null,null,null,null,null,null,null,null,null,null,{"$f":"IF(Committenti!D116<>\"\",CONCATENATE(Committenti!B116,\"  \",Committenti!C116,\"  CF: \",Committenti!D116),\"\")","v":""}]
["",null,null,null,null,null,null,null,null,null,null,null,null,null,null,null,{"$f":"IF(Committenti!D117<>\"\",CONCATENATE(Committenti!B117,\"  \",Committenti!C117,\"  CF: \",Committenti!D117),\"\")","v":""}]
["",null,null,null,null,null,null,null,null,null,null,null,null,null,null,null,{"$f":"IF(Committenti!D118<>\"\",CONCATENATE(Committenti!B118,\"  \",Committenti!C118,\"  CF: \",Committenti!D118),\"\")","v":""}]
["",null,null,null,null,null,null,null,null,null,null,null,null,null,null,null,{"$f":"IF(Committenti!D119<>\"\",CONCATENATE(Committenti!B119,\"  \",Committenti!C119,\"  CF: \",Committenti!D119),\"\")","v":""}]
["",null,null,null,null,null,null,null,null,null,null,null,null,null,null,null,{"$f":"IF(Committenti!D120<>\"\",CONCATENATE(Committenti!B120,\"  \",Committenti!C120,\"  CF: \",Committenti!D120),\"\")","v":""}]
["",null,null,null,null,null,null,null,null,null,null,null,null,null,null,null,{"$f":"IF(Committenti!D121<>\"\",CONCATENATE(Committenti!B121,\"  \",Committenti!C121,\"  CF: \",Committenti!D121),\"\")","v":""}]
["",null,null,null,null,null,null,null,null,null,null,null,null,null,null,null,{"$f":"IF(Committenti!D122<>\"\",CONCATENATE(Committenti!B122,\"  \",Committenti!C122,\"  CF: \",Committenti!D122),\"\")","v":""}]
["",null,null,null,null,null,null,null,null,null,null,null,null,null,null,null,{"$f":"IF(Committenti!D123<>\"\",CONCATENATE(Committenti!B123,\"  \",Committenti!C123,\"  CF: \",Committenti!D123),\"\")","v":""}]
["",null,null,null,null,null,null,null,null,null,null,null,null,null,null,null,{"$f":"IF(Committenti!D124<>\"\",CONCATENATE(Committenti!B124,\"  \",Committenti!C124,\"  CF: \",Committenti!D124),\"\")","v":""}]
["",null,null,null,null,null,null,null,null,null,null,null,null,null,null,null,{"$f":"IF(Committenti!D125<>\"\",CONCATENATE(Committenti!B125,\"  \",Committenti!C125,\"  CF: \",Committenti!D125),\"\")","v":""}]
["",null,null,null,null,null,null,null,null,null,null,null,null,null,null,null,{"$f":"IF(Committenti!D126<>\"\",CONCATENATE(Committenti!B126,\"  \",Committenti!C126,\"  CF: \",Committenti!D126),\"\")","v":""}]
["",null,null,null,null,null,null,null,null,null,null,null,null,null,null,null,{"$f":"IF(Committenti!D127<>\"\",CONCATENATE(Committenti!B127,\"  \",Committenti!C127,\"  CF: \",Committenti!D127),\"\")","v":""}]
["",null,null,null,null,null,null,null,null,null,null,null,null,null,null,null,{"$f":"IF(Committenti!D128<>\"\",CONCATENATE(Committenti!B128,\"  \",Committenti!C128,\"  CF: \",Committenti!D128),\"\")","v":""}]
["",null,null,null,null,null,null,null,null,null,null,null,null,null,null,null,{"$f":"IF(Committenti!D129<>\"\",CONCATENATE(Committenti!B129,\"  \",Committenti!C129,\"  CF: \",Committenti!D129),\"\")","v":""}]
["",null,null,null,null,null,null,null,null,null,null,null,null,null,null,null,{"$f":"IF(Committenti!D130<>\"\",CONCATENATE(Committenti!B130,\"  \",Committenti!C130,\"  CF: \",Committenti!D130),\"\")","v":""}]
["",null,null,null,null,null,null,null,null,null,null,null,null,null,null,null,{"$f":"IF(Committenti!D131<>\"\",CONCATENATE(Committenti!B131,\"  \",Committenti!C131,\"  CF: \",Committenti!D131),\"\")","v":""}]
["",null,null,null,null,null,null,null,null,null,null,null,null,null,null,null,{"$f":"IF(Committenti!D132<>\"\",CONCATENATE(Committenti!B132,\"  \",Committenti!C132,\"  CF: \",Committenti!D132),\"\")","v":""}]
[{"$f":"IF(B133<>\"\", IF(A132<>\"\",A132+1,\"\"),\"\")","v":""},null,null,null,null,null,null,null,null,null,null,null,null,null,null,null,{"$f":"IF(Committenti!D133<>\"\",CONCATENATE(Committenti!B133,\"  \",Committenti!C133,\"  CF: \",Committenti!D133),\"\")","v":""}]
["",null,null,null,null,null,null,null,null,null,null,null,null,null,null,null,{"$f":"IF(Committenti!D134<>\"\",CONCATENATE(Committenti!B134,\"  \",Committenti!C134,\"  CF: \",Committenti!D134),\"\")","v":""}]
["",null,null,null,null,null,null,null,null,null,null,null,null,null,null,null,{"$f":"IF(Committenti!D135<>\"\",CONCATENATE(Committenti!B135,\"  \",Committenti!C135,\"  CF: \",Committenti!D135),\"\")","v":""}]
["",null,null,null,null,null,null,null,null,null,null,null,null,null,null,null,{"$f":"IF(Committenti!D136<>\"\",CONCATENATE(Committenti!B136,\"  \",Committenti!C136,\"  CF: \",Committenti!D136),\"\")","v":""}]
["",null,null,null,null,null,null,null,null,null,null,null,null,null,null,null,{"$f":"IF(Committenti!D137<>\"\",CONCATENATE(Committenti!B137,\"  \",Committenti!C137,\"  CF: \",Committenti!D137),\"\")","v":""}]
["",null,null,null,null,null,null,null,null,null,null,null,null,null,null,null,{"$f":"IF(Committenti!D138<>\"\",CONCATENATE(Committenti!B138,\"  \",Committenti!C138,\"  CF: \",Committenti!D138),\"\")","v":""}]
["",null,null,null,null,null,null,null,null,null,null,null,null,null,null,null,{"$f":"IF(Committenti!D139<>\"\",CONCATENATE(Committenti!B139,\"  \",Committenti!C139,\"  CF: \",Committenti!D139),\"\")","v":""}]
["",null,null,null,null,null,null,null,null,null,null,null,null,null,null,null,{"$f":"IF(Committenti!D140<>\"\",CONCATENATE(Committenti!B140,\"  \",Committenti!C140,\"  CF: \",Committenti!D140),\"\")","v":""}]
["",null,null,null,null,null,null,null,null,null,null,null,null,null,null,null,{"$f":"IF(Committenti!D141<>\"\",CONCATENATE(Committenti!B141,\"  \",Committenti!C141,\"  CF: \",Committenti!D141),\"\")","v":""}]
["",null,null,null,null,null,null,null,null,null,null,null,null,null,null,null,{"$f":"IF(Committenti!D142<>\"\",CONCATENATE(Committenti!B142,\"  \",Committenti!C142,\"  CF: \",Committenti!D142),\"\")","v":""}]
["",null,null,null,null,null,null,null,null,null,null,null,null,null,null,null,{"$f":"IF(Committenti!D143<>\"\",CONCATENATE(Committenti!B143,\"  \",Committenti!C143,\"  CF: \",Committenti!D143),\"\")","v":""}]
["",null,null,null,null,null,null,null,null,null,null,null,null,null,null,null,{"$f":"IF(Committenti!D144<>\"\",CONCATENATE(Committenti!B144,\"  \",Committenti!C144,\"  CF: \",Committenti!D144),\"\")","v":""}]
["",null,null,null,null,null,null,null,null,null,null,null,null,null,null,null,{"$f":"IF(Committenti!D145<>\"\",CONCATENATE(Committenti!B145,\"  \",Committenti!C145,\"  CF: \",Committenti!D145),\"\")","v":""}]
["",null,null,null,null,null,null,null,null,null,null,null,null,null,null,null,{"$f":"IF(Committenti!D146<>\"\",CONCATENATE(Committenti!B146,\"  \",Committenti!C146,\"  CF: \",Committenti!D146),\"\")","v":""}]
["",null,null,null,null,null,null,null,null,null,null,null,null,null,null,null,{"$f":"IF(Committenti!D147<>\"\",CONCATENATE(Committenti!B147,\"  \",Committenti!C147,\"  CF: \",Committenti!D147),\"\")","v":""}]
["",null,null,null,null,null,null,null,null,null,null,null,null,null,null,null,{"$f":"IF(Committenti!D148<>\"\",CONCATENATE(Committenti!B148,\"  \",Committenti!C148,\"  CF: \",Committenti!D148),\"\")","v":""}]
["",null,null,null,null,null,null,null,null,null,null,null,null,null,null,null,{"$f":"IF(Committenti!D149<>\"\",CONCATENATE(Committenti!B149,\"  \",Committenti!C149,\"  CF: \",Committenti!D149),\"\")","v":""}]
["",null,null,null,null,null,null,null,null,null,null,null,null,null,null,null,{"$f":"IF(Committenti!D150<>\"\",CONCATENATE(Committenti!B150,\"  \",Committenti!C150,\"  CF: \",Committenti!D150),\"\")","v":""}]
["",null,null,null,null,null,null,null,null,null,null,null,null,null,null,null,{"$f":"IF(Committenti!D151<>\"\",CONCATENATE(Committenti!B151,\"  \",Committenti!C151,\"  CF: \",Committenti!D151),\"\")","v":""}]
["",null,null,null,null,null,null,null,null,null,null,null,null,null,null,null,{"$f":"IF(Committenti!D152<>\"\",CONCATENATE(Committenti!B152,\"  \",Committenti!C152,\"  CF: \",Committenti!D152),\"\")","v":""}]
["",null,null,null,null,null,null,null,null,null,null,null,null,null,null,null,{"$f":"IF(Committenti!D153<>\"\",CONCATENATE(Committenti!B153,\"  \",Committenti!C153,\"  CF: \",Committenti!D153),\"\")","v":""}]
["",null,null,null,null,null,null,null,null,null,null,null,null,null,null,null,{"$f":"IF(Committenti!D154<>\"\",CONCATENATE(Committenti!B154,\"  \",Committenti!C154,\"  CF: \",Committenti!D154),\"\")","v":""}]
["",null,null,null,null,null,null,null,null,null,null,null,null,null,null,null,{"$f":"IF(Committenti!D155<>\"\",CONCATENATE(Committenti!B155,\"  \",Committenti!C155,\"  CF: \",Committenti!D155),\"\")","v":""}]
["",null,null,null,null,null,null,null,null,null,null,null,null,null,null,null,{"$f":"IF(Committenti!D156<>\"\",CONCATENATE(Committenti!B156,\"  \",Committenti!C156,\"  CF: \",Committenti!D156),\"\")","v":""}]
["",null,null,null,null,null,null,null,null,null,null,null,null,null,null,null,{"$f":"IF(Committenti!D157<>\"\",CONCATENATE(Committenti!B157,\"  \",Committenti!C157,\"  CF: \",Committenti!D157),\"\")","v":""}]
["",null,null,null,null,null,null,null,null,null,null,null,null,null,null,null,{"$f":"IF(Committenti!D158<>\"\",CONCATENATE(Committenti!B158,\"  \",Committenti!C158,\"  CF: \",Committenti!D158),\"\")","v":""}]
["",null,null,null,null,null,null,null,null,null,null,null,null,null,null,null,{"$f":"IF(Committenti!D159<>\"\",CONCATENATE(Committenti!B159,\"  \",Committenti!C159,\"  CF: \",Committenti!D159),\"\")","v":""}]
["",null,null,null,null,null,null,null,null,null,null,null,null,null,null,null,{"$f":"IF(Committenti!D160<>\"\",CONCATENATE(Committenti!B160,\"  \",Committenti!C160,\"  CF: \",Committenti!D160),\"\")","v":""}]
["",null,null,null,null,null,null,null,null,null,null,null,null,null,null,null,{"$f":"IF(Committenti!D161<>\"\",CONCATENATE(Committenti!B161,\"  \",Committenti!C161,\"  CF: \",Committenti!D161),\"\")","v":""}]
["",null,null,null,null,null,null,null,null,null,null,null,null,null,null,null,{"$f":"IF(Committenti!D162<>\"\",CONCATENATE(Committenti!B162,\"  \",Committenti!C162,\"  CF: \",Committenti!D162),\"\")","v":""}]
["",null,null,null,null,null,null,null,null,null,null,null,null,null,null,null,{"$f":"IF(Committenti!D163<>\"\",CONCATENATE(Committenti!B163,\"  \",Committenti!C163,\"  CF: \",Committenti!D163),\"\")","v":""}]
["",null,null,null,null,null,null,null,null,null,null,null,null,null,null,null,{"$f":"IF(Committenti!D164<>\"\",CONCATENATE(Committenti!B164,\"  \",Committenti!C164,\"  CF: \",Committenti!D164),\"\")","v":""}]
["",null,null,null,null,null,null,null,null,null,null,null,null,null,null,null,{"$f":"IF(Committenti!D165<>\"\",CONCATENATE(Committenti!B165,\"  \",Committenti!C165,\"  CF: \",Committenti!D165),\"\")","v":""}]
["",null,null,null,null,null,null,null,null,null,null,null,null,null,null,null,{"$f":"IF(Committenti!D166<>\"\",CONCATENATE(Committenti!B166,\"  \",Committenti!C166,\"  CF: \",Committenti!D166),\"\")","v":""}]
["",null,null,null,null,null,null,null,null,null,null,null,null,null,null,null,{"$f":"IF(Committenti!D167<>\"\",CONCATENATE(Committenti!B167,\"  \",Committenti!C167,\"  CF: \",Committenti!D167),\"\")","v":""}]
["",null,null,null,null,null,null,null,null,null,null,null,null,null,null,null,{"$f":"IF(Committenti!D168<>\"\",CONCATENATE(Committenti!B168,\"  \",Committenti!C168,\"  CF: \",Committenti!D168),\"\")","v":""}]
["",null,null,null,null,null,null,null,null,null,null,null,null,null,null,null,{"$f":"IF(Committenti!D169<>\"\",CONCATENATE(Committenti!B169,\"  \",Committenti!C169,\"  CF: \",Committenti!D169),\"\")","v":""}]
["",null,null,null,null,null,null,null,null,null,null,null,null,null,null,null,{"$f":"IF(Committenti!D170<>\"\",CONCATENATE(Committenti!B170,\"  \",Committenti!C170,\"  CF: \",Committenti!D170),\"\")","v":""}]
["",null,null,null,null,null,null,null,null,null,null,null,null,null,null,null,{"$f":"IF(Committenti!D171<>\"\",CONCATENATE(Committenti!B171,\"  \",Committenti!C171,\"  CF: \",Committenti!D171),\"\")","v":""}]
["",null,null,null,null,null,null,null,null,null,null,null,null,null,null,null,{"$f":"IF(Committenti!D172<>\"\",CONCATENATE(Committenti!B172,\"  \",Committenti!C172,\"  CF: \",Committenti!D172),\"\")","v":""}]
["",null,null,null,null,null,null,null,null,null,null,null,null,null,null,null,{"$f":"IF(Committenti!D173<>\"\",CONCATENATE(Committenti!B173,\"  \",Committenti!C173,\"  CF: \",Committenti!D173),\"\")","v":""}]
["",null,null,null,null,null,null,null,null,null,null,null,null,null,null,null,{"$f":"IF(Committenti!D174<>\"\",CONCATENATE(Committenti!B174,\"  \",Committenti!C174,\"  CF: \",Committenti!D174),\"\")","v":""}]
["",null,null,null,null,null,null,null,null,null,null,null,null,null,null,null,{"$f":"IF(Committenti!D175<>\"\",CONCATENATE(Committenti!B175,\"  \",Committenti!C175,\"  CF: \",Committenti!D175),\"\")","v":""}]
["",null,null,null,null,null,null,null,null,null,null,null,null,null,null,null,{"$f":"IF(Committenti!D176<>\"\",CONCATENATE(Committenti!B176,\"  \",Committenti!C176,\"  CF: \",Committenti!D176),\"\")","v":""}]
["",null,null,null,null,null,null,null,null,null,null,null,null,null,null,null,{"$f":"IF(Committenti!D177<>\"\",CONCATENATE(Committenti!B177,\"  \",Committenti!C177,\"  CF: \",Committenti!D177),\"\")","v":""}]
["",null,null,null,null,null,null,null,null,null,null,null,null,null,null,null,{"$f":"IF(Committenti!D178<>\"\",CONCATENATE(Committenti!B178,\"  \",Committenti!C178,\"  CF: \",Committenti!D178),\"\")","v":""}]
["",null,null,null,null,null,null,null,null,null,null,null,null,null,null,null,{"$f":"IF(Committenti!D179<>\"\",CONCATENATE(Committenti!B179,\"  \",Committenti!C179,\"  CF: \",Committenti!D179),\"\")","v":""}]
["",null,null,null,null,null,null,null,null,null,null,null,null,null,null,null,{"$f":"IF(Committenti!D180<>\"\",CONCATENATE(Committenti!B180,\"  \",Committenti!C180,\"  CF: \",Committenti!D180),\"\")","v":""}]
["",null,null,null,null,null,null,null,null,null,null,null,null,null,null,null,{"$f":"IF(Committenti!D181<>\"\",CONCATENATE(Committenti!B181,\"  \",Committenti!C181,\"  CF: \",Committenti!D181),\"\")","v":""}]
["",null,null,null,null,null,null,null,null,null,null,null,null,null,null,null,{"$f":"IF(Committenti!D182<>\"\",CONCATENATE(Committenti!B182,\"  \",Committenti!C182,\"  CF: \",Committenti!D182),\"\")","v":""}]
["",null,null,null,null,null,null,null,null,null,null,null,null,null,null,null,{"$f":"IF(Committenti!D183<>\"\",CONCATENATE(Committenti!B183,\"  \",Committenti!C183,\"  CF: \",Committenti!D183),\"\")","v":""}]
["",null,null,null,null,null,null,null,null,null,null,null,null,null,null,null,{"$f":"IF(Committenti!D184<>\"\",CONCATENATE(Committenti!B184,\"  \",Committenti!C184,\"  CF: \",Committenti!D184),\"\")","v":""}]
["",null,null,null,null,null,null,null,null,null,null,null,null,null,null,null,{"$f":"IF(Committenti!D185<>\"\",CONCATENATE(Committenti!B185,\"  \",Committenti!C185,\"  CF: \",Committenti!D185),\"\")","v":""}]
["",null,null,null,null,null,null,null,null,null,null,null,null,null,null,null,{"$f":"IF(Committenti!D186<>\"\",CONCATENATE(Committenti!B186,\"  \",Committenti!C186,\"  CF: \",Committenti!D186),\"\")","v":""}]
["",null,null,null,null,null,null,null,null,null,null,null,null,null,null,null,{"$f":"IF(Committenti!D187<>\"\",CONCATENATE(Committenti!B187,\"  \",Committenti!C187,\"  CF: \",Committenti!D187),\"\")","v":""}]
["",null,null,null,null,null,null,null,null,null,null,null,null,null,null,null,{"$f":"IF(Committenti!D188<>\"\",CONCATENATE(Committenti!B188,\"  \",Committenti!C188,\"  CF: \",Committenti!D188),\"\")","v":""}]
["",null,null,null,null,null,null,null,null,null,null,null,null,null,null,null,{"$f":"IF(Committenti!D189<>\"\",CONCATENATE(Committenti!B189,\"  \",Committenti!C189,\"  CF: \",Committenti!D189),\"\")","v":""}]
["",null,null,null,null,null,null,null,null,null,null,null,null,null,null,null,{"$f":"IF(Committenti!D190<>\"\",CONCATENATE(Committenti!B190,\"  \",Committenti!C190,\"  CF: \",Committenti!D190),\"\")","v":""}]
["",null,null,null,null,null,null,null,null,null,null,null,null,null,null,null,{"$f":"IF(Committenti!D191<>\"\",CONCATENATE(Committenti!B191,\"  \",Committenti!C191,\"  CF: \",Committenti!D191),\"\")","v":""}]
["",null,null,null,null,null,null,null,null,null,null,null,null,null,null,null,{"$f":"IF(Committenti!D192<>\"\",CONCATENATE(Committenti!B192,\"  \",Committenti!C192,\"  CF: \",Committenti!D192),\"\")","v":""}]
["",null,null,null,null,null,null,null,null,null,null,null,null,null,null,null,{"$f":"IF(Committenti!D193<>\"\",CONCATENATE(Committenti!B193,\"  \",Committenti!C193,\"  CF: \",Committenti!D193),\"\")","v":""}]
["",null,null,null,null,null,null,null,null,null,null,null,null,null,null,null,{"$f":"IF(Committenti!D194<>\"\",CONCATENATE(Committenti!B194,\"  \",Committenti!C194,\"  CF: \",Committenti!D194),\"\")","v":""}]
["",null,null,null,null,null,null,null,null,null,null,null,null,null,null,null,{"$f":"IF(Committenti!D195<>\"\",CONCATENATE(Committenti!B195,\"  \",Committenti!C195,\"  CF: \",Committenti!D195),\"\")","v":""}]
["",null,null,null,null,null,null,null,null,null,null,null,null,null,null,null,{"$f":"IF(Committenti!D196<>\"\",CONCATENATE(Committenti!B196,\"  \",Committenti!C196,\"  CF: \",Committenti!D196),\"\")","v":""}]
[{"$f":"IF(B197<>\"\", IF(A196<>\"\",A196+1,\"\"),\"\")","v":""},null,null,null,null,null,null,null,null,null,null,null,null,null,null,null,{"$f":"IF(Committenti!D197<>\"\",CONCATENATE(Committenti!B197,\"  \",Committenti!C197,\"  CF: \",Committenti!D197),\"\")","v":""}]
["",null,null,null,null,null,null,null,null,null,null,null,null,null,null,null,{"$f":"IF(Committenti!D198<>\"\",CONCATENATE(Committenti!B198,\"  \",Committenti!C198,\"  CF: \",Committenti!D198),\"\")","v":""}]
["",null,null,null,null,null,null,null,null,null,null,null,null,null,null,null,{"$f":"IF(Committenti!D199<>\"\",CONCATENATE(Committenti!B199,\"  \",Committenti!C199,\"  CF: \",Committenti!D199),\"\")","v":""}]
["",null,null,null,null,null,null,null,null,null,null,null,null,null,null,null,{"$f":"IF(Committenti!D200<>\"\",CONCATENATE(Committenti!B200,\"  \",Committenti!C200,\"  CF: \",Committenti!D200),\"\")","v":""}]
["",null,null,null,null,null,null,null,null,null,null,null,null,null,null,null,{"$f":"IF(Committenti!D201<>\"\",CONCATENATE(Committenti!B201,\"  \",Committenti!C201,\"  CF: \",Committenti!D201),\"\")","v":""}]
["",null,null,null,null,null,null,null,null,null,null,null,null,null,null,null,{"$f":"IF(Committenti!D202<>\"\",CONCATENATE(Committenti!B202,\"  \",Committenti!C202,\"  CF: \",Committenti!D202),\"\")","v":""}]
["",null,null,null,null,null,null,null,null,null,null,null,null,null,null,null,{"$f":"IF(Committenti!D203<>\"\",CONCATENATE(Committenti!B203,\"  \",Committenti!C203,\"  CF: \",Committenti!D203),\"\")","v":""}]
["",null,null,null,null,null,null,null,null,null,null,null,null,null,null,null,{"$f":"IF(Committenti!D204<>\"\",CONCATENATE(Committenti!B204,\"  \",Committenti!C204,\"  CF: \",Committenti!D204),\"\")","v":""}]
["",null,null,null,null,null,null,null,null,null,null,null,null,null,null,null,{"$f":"IF(Committenti!D205<>\"\",CONCATENATE(Committenti!B205,\"  \",Committenti!C205,\"  CF: \",Committenti!D205),\"\")","v":""}]
["",null,null,null,null,null,null,null,null,null,null,null,null,null,null,null,{"$f":"IF(Committenti!D206<>\"\",CONCATENATE(Committenti!B206,\"  \",Committenti!C206,\"  CF: \",Committenti!D206),\"\")","v":""}]
["",null,null,null,null,null,null,null,null,null,null,null,null,null,null,null,{"$f":"IF(Committenti!D207<>\"\",CONCATENATE(Committenti!B207,\"  \",Committenti!C207,\"  CF: \",Committenti!D207),\"\")","v":""}]
["",null,null,null,null,null,null,null,null,null,null,null,null,null,null,null,{"$f":"IF(Committenti!D208<>\"\",CONCATENATE(Committenti!B208,\"  \",Committenti!C208,\"  CF: \",Committenti!D208),\"\")","v":""}]
["",null,null,null,null,null,null,null,null,null,null,null,null,null,null,null,{"$f":"IF(Committenti!D209<>\"\",CONCATENATE(Committenti!B209,\"  \",Committenti!C209,\"  CF: \",Committenti!D209),\"\")","v":""}]
["",null,null,null,null,null,null,null,null,null,null,null,null,null,null,null,{"$f":"IF(Committenti!D210<>\"\",CONCATENATE(Committenti!B210,\"  \",Committenti!C210,\"  CF: \",Committenti!D210),\"\")","v":""}]
["",null,null,null,null,null,null,null,null,null,null,null,null,null,null,null,{"$f":"IF(Committenti!D211<>\"\",CONCATENATE(Committenti!B211,\"  \",Committenti!C211,\"  CF: \",Committenti!D211),\"\")","v":""}]
["",null,null,null,null,null,null,null,null,null,null,null,null,null,null,null,{"$f":"IF(Committenti!D212<>\"\",CONCATENATE(Committenti!B212,\"  \",Committenti!C212,\"  CF: \",Committenti!D212),\"\")","v":""}]
["",null,null,null,null,null,null,null,null,null,null,null,null,null,null,null,{"$f":"IF(Committenti!D213<>\"\",CONCATENATE(Committenti!B213,\"  \",Committenti!C213,\"  CF: \",Committenti!D213),\"\")","v":""}]
["",null,null,null,null,null,null,null,null,null,null,null,null,null,null,null,{"$f":"IF(Committenti!D214<>\"\",CONCATENATE(Committenti!B214,\"  \",Committenti!C214,\"  CF: \",Committenti!D214),\"\")","v":""}]
["",null,null,null,null,null,null,null,null,null,null,null,null,null,null,null,{"$f":"IF(Committenti!D215<>\"\",CONCATENATE(Committenti!B215,\"  \",Committenti!C215,\"  CF: \",Committenti!D215),\"\")","v":""}]
["",null,null,null,null,null,null,null,null,null,null,null,null,null,null,null,{"$f":"IF(Committenti!D216<>\"\",CONCATENATE(Committenti!B216,\"  \",Committenti!C216,\"  CF: \",Committenti!D216),\"\")","v":""}]
["",null,null,null,null,null,null,null,null,null,null,null,null,null,null,null,{"$f":"IF(Committenti!D217<>\"\",CONCATENATE(Committenti!B217,\"  \",Committenti!C217,\"  CF: \",Committenti!D217),\"\")","v":""}]
["",null,null,null,null,null,null,null,null,null,null,null,null,null,null,null,{"$f":"IF(Committenti!D218<>\"\",CONCATENATE(Committenti!B218,\"  \",Committenti!C218,\"  CF: \",Committenti!D218),\"\")","v":""}]
["",null,null,null,null,null,null,null,null,null,null,null,null,null,null,null,{"$f":"IF(Committenti!D219<>\"\",CONCATENATE(Committenti!B219,\"  \",Committenti!C219,\"  CF: \",Committenti!D219),\"\")","v":""}]
["",null,null,null,null,null,null,null,null,null,null,null,null,null,null,null,{"$f":"IF(Committenti!D220<>\"\",CONCATENATE(Committenti!B220,\"  \",Committenti!C220,\"  CF: \",Committenti!D220),\"\")","v":""}]
["",null,null,null,null,null,null,null,null,null,null,null,null,null,null,null,{"$f":"IF(Committenti!D221<>\"\",CONCATENATE(Committenti!B221,\"  \",Committenti!C221,\"  CF: \",Committenti!D221),\"\")","v":""}]
["",null,null,null,null,null,null,null,null,null,null,null,null,null,null,null,{"$f":"IF(Committenti!D222<>\"\",CONCATENATE(Committenti!B222,\"  \",Committenti!C222,\"  CF: \",Committenti!D222),\"\")","v":""}]
["",null,null,null,null,null,null,null,null,null,null,null,null,null,null,null,{"$f":"IF(Committenti!D223<>\"\",CONCATENATE(Committenti!B223,\"  \",Committenti!C223,\"  CF: \",Committenti!D223),\"\")","v":""}]
["",null,null,null,null,null,null,null,null,null,null,null,null,null,null,null,{"$f":"IF(Committenti!D224<>\"\",CONCATENATE(Committenti!B224,\"  \",Committenti!C224,\"  CF: \",Committenti!D224),\"\")","v":""}]
["",null,null,null,null,null,null,null,null,null,null,null,null,null,null,null,{"$f":"IF(Committenti!D225<>\"\",CONCATENATE(Committenti!B225,\"  \",Committenti!C225,\"  CF: \",Committenti!D225),\"\")","v":""}]
["",null,null,null,null,null,null,null,null,null,null,null,null,null,null,null,{"$f":"IF(Committenti!D226<>\"\",CONCATENATE(Committenti!B226,\"  \",Committenti!C226,\"  CF: \",Committenti!D226),\"\")","v":""}]
["",null,null,null,null,null,null,null,null,null,null,null,null,null,null,null,{"$f":"IF(Committenti!D227<>\"\",CONCATENATE(Committenti!B227,\"  \",Committenti!C227,\"  CF: \",Committenti!D227),\"\")","v":""}]
["",null,null,null,null,null,null,null,null,null,null,null,null,null,null,null,{"$f":"IF(Committenti!D228<>\"\",CONCATENATE(Committenti!B228,\"  \",Committenti!C228,\"  CF: \",Committenti!D228),\"\")","v":""}]
["",null,null,null,null,null,null,null,null,null,null,null,null,null,null,null,{"$f":"IF(Committenti!D229<>\"\",CONCATENATE(Committenti!B229,\"  \",Committenti!C229,\"  CF: \",Committenti!D229),\"\")","v":""}]
["",null,null,null,null,null,null,null,null,null,null,null,null,null,null,null,{"$f":"IF(Committenti!D230<>\"\",CONCATENATE(Committenti!B230,\"  \",Committenti!C230,\"  CF: \",Committenti!D230),\"\")","v":""}]
["",null,null,null,null,null,null,null,null,null,null,null,null,null,null,null,{"$f":"IF(Committenti!D231<>\"\",CONCATENATE(Committenti!B231,\"  \",Committenti!C231,\"  CF: \",Committenti!D231),\"\")","v":""}]
["",null,null,null,null,null,null,null,null,null,null,null,null,null,null,null,{"$f":"IF(Committenti!D232<>\"\",CONCATENATE(Committenti!B232,\"  \",Committenti!C232,\"  CF: \",Committenti!D232),\"\")","v":""}]
["",null,null,null,null,null,null,null,null,null,null,null,null,null,null,null,{"$f":"IF(Committenti!D233<>\"\",CONCATENATE(Committenti!B233,\"  \",Committenti!C233,\"  CF: \",Committenti!D233),\"\")","v":""}]
["",null,null,null,null,null,null,null,null,null,null,null,null,null,null,null,{"$f":"IF(Committenti!D234<>\"\",CONCATENATE(Committenti!B234,\"  \",Committenti!C234,\"  CF: \",Committenti!D234),\"\")","v":""}]
["",null,null,null,null,null,null,null,null,null,null,null,null,null,null,null,{"$f":"IF(Committenti!D235<>\"\",CONCATENATE(Committenti!B235,\"  \",Committenti!C235,\"  CF: \",Committenti!D235),\"\")","v":""}]
["",null,null,null,null,null,null,null,null,null,null,null,null,null,null,null,{"$f":"IF(Committenti!D236<>\"\",CONCATENATE(Committenti!B236,\"  \",Committenti!C236,\"  CF: \",Committenti!D236),\"\")","v":""}]
["",null,null,null,null,null,null,null,null,null,null,null,null,null,null,null,{"$f":"IF(Committenti!D237<>\"\",CONCATENATE(Committenti!B237,\"  \",Committenti!C237,\"  CF: \",Committenti!D237),\"\")","v":""}]
["",null,null,null,null,null,null,null,null,null,null,null,null,null,null,null,{"$f":"IF(Committenti!D238<>\"\",CONCATENATE(Committenti!B238,\"  \",Committenti!C238,\"  CF: \",Committenti!D238),\"\")","v":""}]
["",null,null,null,null,null,null,null,null,null,null,null,null,null,null,null,{"$f":"IF(Committenti!D239<>\"\",CONCATENATE(Committenti!B239,\"  \",Committenti!C239,\"  CF: \",Committenti!D239),\"\")","v":""}]
["",null,null,null,null,null,null,null,null,null,null,null,null,null,null,null,{"$f":"IF(Committenti!D240<>\"\",CONCATENATE(Committenti!B240,\"  \",Committenti!C240,\"  CF: \",Committenti!D240),\"\")","v":""}]
["",null,null,null,null,null,null,null,null,null,null,null,null,null,null,null,{"$f":"IF(Committenti!D241<>\"\",CONCATENATE(Committenti!B241,\"  \",Committenti!C241,\"  CF: \",Committenti!D241),\"\")","v":""}]
["",null,null,null,null,null,null,null,null,null,null,null,null,null,null,null,{"$f":"IF(Committenti!D242<>\"\",CONCATENATE(Committenti!B242,\"  \",Committenti!C242,\"  CF: \",Committenti!D242),\"\")","v":""}]
["",null,null,null,null,null,null,null,null,null,null,null,null,null,null,null,{"$f":"IF(Committenti!D243<>\"\",CONCATENATE(Committenti!B243,\"  \",Committenti!C243,\"  CF: \",Committenti!D243),\"\")","v":""}]
["",null,null,null,null,null,null,null,null,null,null,null,null,null,null,null,{"$f":"IF(Committenti!D244<>\"\",CONCATENATE(Committenti!B244,\"  \",Committenti!C244,\"  CF: \",Committenti!D244),\"\")","v":""}]
["",null,null,null,null,null,null,null,null,null,null,null,null,null,null,null,{"$f":"IF(Committenti!D245<>\"\",CONCATENATE(Committenti!B245,\"  \",Committenti!C245,\"  CF: \",Committenti!D245),\"\")","v":""}]
["",null,null,null,null,null,null,null,null,null,null,null,null,null,null,null,{"$f":"IF(Committenti!D246<>\"\",CONCATENATE(Committenti!B246,\"  \",Committenti!C246,\"  CF: \",Committenti!D246),\"\")","v":""}]
["",null,null,null,null,null,null,null,null,null,null,null,null,null,null,null,{"$f":"IF(Committenti!D247<>\"\",CONCATENATE(Committenti!B247,\"  \",Committenti!C247,\"  CF: \",Committenti!D247),\"\")","v":""}]
["",null,null,null,null,null,null,null,null,null,null,null,null,null,null,null,{"$f":"IF(Committenti!D248<>\"\",CONCATENATE(Committenti!B248,\"  \",Committenti!C248,\"  CF: \",Committenti!D248),\"\")","v":""}]
["",null,null,null,null,null,null,null,null,null,null,null,null,null,null,null,{"$f":"IF(Committenti!D249<>\"\",CONCATENATE(Committenti!B249,\"  \",Committenti!C249,\"  CF: \",Committenti!D249),\"\")","v":""}]
["",null,null,null,null,null,null,null,null,null,null,null,null,null,null,null,{"$f":"IF(Committenti!D250<>\"\",CONCATENATE(Committenti!B250,\"  \",Committenti!C250,\"  CF: \",Committenti!D250),\"\")","v":""}]
["",null,null,null,null,null,null,null,null,null,null,null,null,null,null,null,{"$f":"IF(Committenti!D251<>\"\",CONCATENATE(Committenti!B251,\"  \",Committenti!C251,\"  CF: \",Committenti!D251),\"\")","v":""}]
["",null,null,null,null,null,null,null,null,null,null,null,null,null,null,null,{"$f":"IF(Committenti!D252<>\"\",CONCATENATE(Committenti!B252,\"  \",Committenti!C252,\"  CF: \",Committenti!D252),\"\")","v":""}]
["",null,null,null,null,null,null,null,null,null,null,null,null,null,null,null,{"$f":"IF(Committenti!D253<>\"\",CONCATENATE(Committenti!B253,\"  \",Committenti!C253,\"  CF: \",Committenti!D253),\"\")","v":""}]
["",null,null,null,null,null,null,null,null,null,null,null,null,null,null,null,{"$f":"IF(Committenti!D254<>\"\",CONCATENATE(Committenti!B254,\"  \",Committenti!C254,\"  CF: \",Committenti!D254),\"\")","v":""}]
["",null,null,null,null,null,null,null,null,null,null,null,null,null,null,null,{"$f":"IF(Committenti!D255<>\"\",CONCATENATE(Committenti!B255,\"  \",Committenti!C255,\"  CF: \",Committenti!D255),\"\")","v":""}]
["",null,null,null,null,null,null,null,null,null,null,null,null,null,null,null,{"$f":"IF(Committenti!D256<>\"\",CONCATENATE(Committenti!B256,\"  \",Committenti!C256,\"  CF: \",Committenti!D256),\"\")","v":""}]
["",null,null,null,null,null,null,null,null,null,null,null,null,null,null,null,{"$f":"IF(Committenti!D257<>\"\",CONCATENATE(Committenti!B257,\"  \",Committenti!C257,\"  CF: \",Committenti!D257),\"\")","v":""}]
["",null,null,null,null,null,null,null,null,null,null,null,null,null,null,null,{"$f":"IF(Committenti!D258<>\"\",CONCATENATE(Committenti!B258,\"  \",Committenti!C258,\"  CF: \",Committenti!D258),\"\")","v":""}]
["",null,null,null,null,null,null,null,null,null,null,null,null,null,null,null,{"$f":"IF(Committenti!D259<>\"\",CONCATENATE(Committenti!B259,\"  \",Committenti!C259,\"  CF: \",Committenti!D259),\"\")","v":""}]
["",null,null,null,null,null,null,null,null,null,null,null,null,null,null,null,{"$f":"IF(Committenti!D260<>\"\",CONCATENATE(Committenti!B260,\"  \",Committenti!C260,\"  CF: \",Committenti!D260),\"\")","v":""}]
[{"$f":"IF(B261<>\"\", IF(A260<>\"\",A260+1,\"\"),\"\")","v":""},null,null,null,null,null,null,null,null,null,null,null,null,null,null,null,{"$f":"IF(Committenti!D261<>\"\",CONCATENATE(Committenti!B261,\"  \",Committenti!C261,\"  CF: \",Committenti!D261),\"\")","v":""}]
["",null,null,null,null,null,null,null,null,null,null,null,null,null,null,null,{"$f":"IF(Committenti!D262<>\"\",CONCATENATE(Committenti!B262,\"  \",Committenti!C262,\"  CF: \",Committenti!D262),\"\")","v":""}]
["",null,null,null,null,null,null,null,null,null,null,null,null,null,null,null,{"$f":"IF(Committenti!D263<>\"\",CONCATENATE(Committenti!B263,\"  \",Committenti!C263,\"  CF: \",Committenti!D263),\"\")","v":""}]
["",null,null,null,null,null,null,null,null,null,null,null,null,null,null,null,{"$f":"IF(Committenti!D264<>\"\",CONCATENATE(Committenti!B264,\"  \",Committenti!C264,\"  CF: \",Committenti!D264),\"\")","v":""}]
["",null,null,null,null,null,null,null,null,null,null,null,null,null,null,null,{"$f":"IF(Committenti!D265<>\"\",CONCATENATE(Committenti!B265,\"  \",Committenti!C265,\"  CF: \",Committenti!D265),\"\")","v":""}]
["",null,null,null,null,null,null,null,null,null,null,null,null,null,null,null,{"$f":"IF(Committenti!D266<>\"\",CONCATENATE(Committenti!B266,\"  \",Committenti!C266,\"  CF: \",Committenti!D266),\"\")","v":""}]
["",null,null,null,null,null,null,null,null,null,null,null,null,null,null,null,{"$f":"IF(Committenti!D267<>\"\",CONCATENATE(Committenti!B267,\"  \",Committenti!C267,\"  CF: \",Committenti!D267),\"\")","v":""}]
["",null,null,null,null,null,null,null,null,null,null,null,null,null,null,null,{"$f":"IF(Committenti!D268<>\"\",CONCATENATE(Committenti!B268,\"  \",Committenti!C268,\"  CF: \",Committenti!D268),\"\")","v":""}]
["",null,null,null,null,null,null,null,null,null,null,null,null,null,null,null,{"$f":"IF(Committenti!D269<>\"\",CONCATENATE(Committenti!B269,\"  \",Committenti!C269,\"  CF: \",Committenti!D269),\"\")","v":""}]
["",null,null,null,null,null,null,null,null,null,null,null,null,null,null,null,{"$f":"IF(Committenti!D270<>\"\",CONCATENATE(Committenti!B270,\"  \",Committenti!C270,\"  CF: \",Committenti!D270),\"\")","v":""}]
["",null,null,null,null,null,null,null,null,null,null,null,null,null,null,null,{"$f":"IF(Committenti!D271<>\"\",CONCATENATE(Committenti!B271,\"  \",Committenti!C271,\"  CF: \",Committenti!D271),\"\")","v":""}]
["",null,null,null,null,null,null,null,null,null,null,null,null,null,null,null,{"$f":"IF(Committenti!D272<>\"\",CONCATENATE(Committenti!B272,\"  \",Committenti!C272,\"  CF: \",Committenti!D272),\"\")","v":""}]
["",null,null,null,null,null,null,null,null,null,null,null,null,null,null,null,{"$f":"IF(Committenti!D273<>\"\",CONCATENATE(Committenti!B273,\"  \",Committenti!C273,\"  CF: \",Committenti!D273),\"\")","v":""}]
["",null,null,null,null,null,null,null,null,null,null,null,null,null,null,null,{"$f":"IF(Committenti!D274<>\"\",CONCATENATE(Committenti!B274,\"  \",Committenti!C274,\"  CF: \",Committenti!D274),\"\")","v":""}]
["",null,null,null,null,null,null,null,null,null,null,null,null,null,null,null,{"$f":"IF(Committenti!D275<>\"\",CONCATENATE(Committenti!B275,\"  \",Committenti!C275,\"  CF: \",Committenti!D275),\"\")","v":""}]
["",null,null,null,null,null,null,null,null,null,null,null,null,null,null,null,{"$f":"IF(Committenti!D276<>\"\",CONCATENATE(Committenti!B276,\"  \",Committenti!C276,\"  CF: \",Committenti!D276),\"\")","v":""}]
["",null,null,null,null,null,null,null,null,null,null,null,null,null,null,null,{"$f":"IF(Committenti!D277<>\"\",CONCATENATE(Committenti!B277,\"  \",Committenti!C277,\"  CF: \",Committenti!D277),\"\")","v":""}]
["",null,null,null,null,null,null,null,null,null,null,null,null,null,null,null,{"$f":"IF(Committenti!D278<>\"\",CONCATENATE(Committenti!B278,\"  \",Committenti!C278,\"  CF: \",Committenti!D278),\"\")","v":""}]
["",null,null,null,null,null,null,null,null,null,null,null,null,null,null,null,{"$f":"IF(Committenti!D279<>\"\",CONCATENATE(Committenti!B279,\"  \",Committenti!C279,\"  CF: \",Committenti!D279),\"\")","v":""}]
["",null,null,null,null,null,null,null,null,null,null,null,null,null,null,null,{"$f":"IF(Committenti!D280<>\"\",CONCATENATE(Committenti!B280,\"  \",Committenti!C280,\"  CF: \",Committenti!D280),\"\")","v":""}]
["",null,null,null,null,null,null,null,null,null,null,null,null,null,null,null,{"$f":"IF(Committenti!D281<>\"\",CONCATENATE(Committenti!B281,\"  \",Committenti!C281,\"  CF: \",Committenti!D281),\"\")","v":""}]
["",null,null,null,null,null,null,null,null,null,null,null,null,null,null,null,{"$f":"IF(Committenti!D282<>\"\",CONCATENATE(Committenti!B282,\"  \",Committenti!C282,\"  CF: \",Committenti!D282),\"\")","v":""}]
["",null,null,null,null,null,null,null,null,null,null,null,null,null,null,null,{"$f":"IF(Committenti!D283<>\"\",CONCATENATE(Committenti!B283,\"  \",Committenti!C283,\"  CF: \",Committenti!D283),\"\")","v":""}]
["",null,null,null,null,null,null,null,null,null,null,null,null,null,null,null,{"$f":"IF(Committenti!D284<>\"\",CONCATENATE(Committenti!B284,\"  \",Committenti!C284,\"  CF: \",Committenti!D284),\"\")","v":""}]
["",null,null,null,null,null,null,null,null,null,null,null,null,null,null,null,{"$f":"IF(Committenti!D285<>\"\",CONCATENATE(Committenti!B285,\"  \",Committenti!C285,\"  CF: \",Committenti!D285),\"\")","v":""}]
["",null,null,null,null,null,null,null,null,null,null,null,null,null,null,null,{"$f":"IF(Committenti!D286<>\"\",CONCATENATE(Committenti!B286,\"  \",Committenti!C286,\"  CF: \",Committenti!D286),\"\")","v":""}]
["",null,null,null,null,null,null,null,null,null,null,null,null,null,null,null,{"$f":"IF(Committenti!D287<>\"\",CONCATENATE(Committenti!B287,\"  \",Committenti!C287,\"  CF: \",Committenti!D287),\"\")","v":""}]
["",null,null,null,null,null,null,null,null,null,null,null,null,null,null,null,{"$f":"IF(Committenti!D288<>\"\",CONCATENATE(Committenti!B288,\"  \",Committenti!C288,\"  CF: \",Committenti!D288),\"\")","v":""}]
["",null,null,null,null,null,null,null,null,null,null,null,null,null,null,null,{"$f":"IF(Committenti!D289<>\"\",CONCATENATE(Committenti!B289,\"  \",Committenti!C289,\"  CF: \",Committenti!D289),\"\")","v":""}]
["",null,null,null,null,null,null,null,null,null,null,null,null,null,null,null,{"$f":"IF(Committenti!D290<>\"\",CONCATENATE(Committenti!B290,\"  \",Committenti!C290,\"  CF: \",Committenti!D290),\"\")","v":""}]
["",null,null,null,null,null,null,null,null,null,null,null,null,null,null,null,{"$f":"IF(Committenti!D291<>\"\",CONCATENATE(Committenti!B291,\"  \",Committenti!C291,\"  CF: \",Committenti!D291),\"\")","v":""}]
["",null,null,null,null,null,null,null,null,null,null,null,null,null,null,null,{"$f":"IF(Committenti!D292<>\"\",CONCATENATE(Committenti!B292,\"  \",Committenti!C292,\"  CF: \",Committenti!D292),\"\")","v":""}]
["",null,null,null,null,null,null,null,null,null,null,null,null,null,null,null,{"$f":"IF(Committenti!D293<>\"\",CONCATENATE(Committenti!B293,\"  \",Committenti!C293,\"  CF: \",Committenti!D293),\"\")","v":""}]
["",null,null,null,null,null,null,null,null,null,null,null,null,null,null,null,{"$f":"IF(Committenti!D294<>\"\",CONCATENATE(Committenti!B294,\"  \",Committenti!C294,\"  CF: \",Committenti!D294),\"\")","v":""}]
["",null,null,null,null,null,null,null,null,null,null,null,null,null,null,null,{"$f":"IF(Committenti!D295<>\"\",CONCATENATE(Committenti!B295,\"  \",Committenti!C295,\"  CF: \",Committenti!D295),\"\")","v":""}]
["",null,null,null,null,null,null,null,null,null,null,null,null,null,null,null,{"$f":"IF(Committenti!D296<>\"\",CONCATENATE(Committenti!B296,\"  \",Committenti!C296,\"  CF: \",Committenti!D296),\"\")","v":""}]
["",null,null,null,null,null,null,null,null,null,null,null,null,null,null,null,{"$f":"IF(Committenti!D297<>\"\",CONCATENATE(Committenti!B297,\"  \",Committenti!C297,\"  CF: \",Committenti!D297),\"\")","v":""}]
["",null,null,null,null,null,null,null,null,null,null,null,null,null,null,null,{"$f":"IF(Committenti!D298<>\"\",CONCATENATE(Committenti!B298,\"  \",Committenti!C298,\"  CF: \",Committenti!D298),\"\")","v":""}]
["",null,null,null,null,null,null,null,null,null,null,null,null,null,null,null,{"$f":"IF(Committenti!D299<>\"\",CONCATENATE(Committenti!B299,\"  \",Committenti!C299,\"  CF: \",Committenti!D299),\"\")","v":""}]
["",null,null,null,null,null,null,null,null,null,null,null,null,null,null,null,{"$f":"IF(Committenti!D300<>\"\",CONCATENATE(Committenti!B300,\"  \",Committenti!C300,\"  CF: \",Committenti!D300),\"\")","v":""}]
["",null,null,null,null,null,null,null,null,null,null,null,null,null,null,null,{"$f":"IF(Committenti!D301<>\"\",CONCATENATE(Committenti!B301,\"  \",Committenti!C301,\"  CF: \",Committenti!D301),\"\")","v":""}]
["",null,null,null,null,null,null,null,null,null,null,null,null,null,null,null,{"$f":"IF(Committenti!D302<>\"\",CONCATENATE(Committenti!B302,\"  \",Committenti!C302,\"  CF: \",Committenti!D302),\"\")","v":""}]
["",null,null,null,null,null,null,null,null,null,null,null,null,null,null,null,{"$f":"IF(Committenti!D303<>\"\",CONCATENATE(Committenti!B303,\"  \",Committenti!C303,\"  CF: \",Committenti!D303),\"\")","v":""}]
["",null,null,null,null,null,null,null,null,null,null,null,null,null,null,null,{"$f":"IF(Committenti!D304<>\"\",CONCATENATE(Committenti!B304,\"  \",Committenti!C304,\"  CF: \",Committenti!D304),\"\")","v":""}]
["",null,null,null,null,null,null,null,null,null,null,null,null,null,null,null,{"$f":"IF(Committenti!D305<>\"\",CONCATENATE(Committenti!B305,\"  \",Committenti!C305,\"  CF: \",Committenti!D305),\"\")","v":""}]
["",null,null,null,null,null,null,null,null,null,null,null,null,null,null,null,{"$f":"IF(Committenti!D306<>\"\",CONCATENATE(Committenti!B306,\"  \",Committenti!C306,\"  CF: \",Committenti!D306),\"\")","v":""}]
["",null,null,null,null,null,null,null,null,null,null,null,null,null,null,null,{"$f":"IF(Committenti!D307<>\"\",CONCATENATE(Committenti!B307,\"  \",Committenti!C307,\"  CF: \",Committenti!D307),\"\")","v":""}]
["",null,null,null,null,null,null,null,null,null,null,null,null,null,null,null,{"$f":"IF(Committenti!D308<>\"\",CONCATENATE(Committenti!B308,\"  \",Committenti!C308,\"  CF: \",Committenti!D308),\"\")","v":""}]
["",null,null,null,null,null,null,null,null,null,null,null,null,null,null,null,{"$f":"IF(Committenti!D309<>\"\",CONCATENATE(Committenti!B309,\"  \",Committenti!C309,\"  CF: \",Committenti!D309),\"\")","v":""}]
["",null,null,null,null,null,null,null,null,null,null,null,null,null,null,null,{"$f":"IF(Committenti!D310<>\"\",CONCATENATE(Committenti!B310,\"  \",Committenti!C310,\"  CF: \",Committenti!D310),\"\")","v":""}]
["",null,null,null,null,null,null,null,null,null,null,null,null,null,null,null,{"$f":"IF(Committenti!D311<>\"\",CONCATENATE(Committenti!B311,\"  \",Committenti!C311,\"  CF: \",Committenti!D311),\"\")","v":""}]
["",null,null,null,null,null,null,null,null,null,null,null,null,null,null,null,{"$f":"IF(Committenti!D312<>\"\",CONCATENATE(Committenti!B312,\"  \",Committenti!C312,\"  CF: \",Committenti!D312),\"\")","v":""}]
["",null,null,null,null,null,null,null,null,null,null,null,null,null,null,null,{"$f":"IF(Committenti!D313<>\"\",CONCATENATE(Committenti!B313,\"  \",Committenti!C313,\"  CF: \",Committenti!D313),\"\")","v":""}]
["",null,null,null,null,null,null,null,null,null,null,null,null,null,null,null,{"$f":"IF(Committenti!D314<>\"\",CONCATENATE(Committenti!B314,\"  \",Committenti!C314,\"  CF: \",Committenti!D314),\"\")","v":""}]
["",null,null,null,null,null,null,null,null,null,null,null,null,null,null,null,{"$f":"IF(Committenti!D315<>\"\",CONCATENATE(Committenti!B315,\"  \",Committenti!C315,\"  CF: \",Committenti!D315),\"\")","v":""}]
["",null,null,null,null,null,null,null,null,null,null,null,null,null,null,null,{"$f":"IF(Committenti!D316<>\"\",CONCATENATE(Committenti!B316,\"  \",Committenti!C316,\"  CF: \",Committenti!D316),\"\")","v":""}]
["",null,null,null,null,null,null,null,null,null,null,null,null,null,null,null,{"$f":"IF(Committenti!D317<>\"\",CONCATENATE(Committenti!B317,\"  \",Committenti!C317,\"  CF: \",Committenti!D317),\"\")","v":""}]
["",null,null,null,null,null,null,null,null,null,null,null,null,null,null,null,{"$f":"IF(Committenti!D318<>\"\",CONCATENATE(Committenti!B318,\"  \",Committenti!C318,\"  CF: \",Committenti!D318),\"\")","v":""}]
["",null,null,null,null,null,null,null,null,null,null,null,null,null,null,null,{"$f":"IF(Committenti!D319<>\"\",CONCATENATE(Committenti!B319,\"  \",Committenti!C319,\"  CF: \",Committenti!D319),\"\")","v":""}]
["",null,null,null,null,null,null,null,null,null,null,null,null,null,null,null,{"$f":"IF(Committenti!D320<>\"\",CONCATENATE(Committenti!B320,\"  \",Committenti!C320,\"  CF: \",Committenti!D320),\"\")","v":""}]
["",null,null,null,null,null,null,null,null,null,null,null,null,null,null,null,{"$f":"IF(Committenti!D321<>\"\",CONCATENATE(Committenti!B321,\"  \",Committenti!C321,\"  CF: \",Committenti!D321),\"\")","v":""}]
["",null,null,null,null,null,null,null,null,null,null,null,null,null,null,null,{"$f":"IF(Committenti!D322<>\"\",CONCATENATE(Committenti!B322,\"  \",Committenti!C322,\"  CF: \",Committenti!D322),\"\")","v":""}]
["",null,null,null,null,null,null,null,null,null,null,null,null,null,null,null,{"$f":"IF(Committenti!D323<>\"\",CONCATENATE(Committenti!B323,\"  \",Committenti!C323,\"  CF: \",Committenti!D323),\"\")","v":""}]
["",null,null,null,null,null,null,null,null,null,null,null,null,null,null,null,{"$f":"IF(Committenti!D324<>\"\",CONCATENATE(Committenti!B324,\"  \",Committenti!C324,\"  CF: \",Committenti!D324),\"\")","v":""}]
[{"$f":"IF(B325<>\"\", IF(A324<>\"\",A324+1,\"\"),\"\")","v":""},null,null,null,null,null,null,null,null,null,null,null,null,null,null,null,{"$f":"IF(Committenti!D325<>\"\",CONCATENATE(Committenti!B325,\"  \",Committenti!C325,\"  CF: \",Committenti!D325),\"\")","v":""}]
["",null,null,null,null,null,null,null,null,null,null,null,null,null,null,null,{"$f":"IF(Committenti!D326<>\"\",CONCATENATE(Committenti!B326,\"  \",Committenti!C326,\"  CF: \",Committenti!D326),\"\")","v":""}]
["",null,null,null,null,null,null,null,null,null,null,null,null,null,null,null,{"$f":"IF(Committenti!D327<>\"\",CONCATENATE(Committenti!B327,\"  \",Committenti!C327,\"  CF: \",Committenti!D327),\"\")","v":""}]
["",null,null,null,null,null,null,null,null,null,null,null,null,null,null,null,{"$f":"IF(Committenti!D328<>\"\",CONCATENATE(Committenti!B328,\"  \",Committenti!C328,\"  CF: \",Committenti!D328),\"\")","v":""}]
["",null,null,null,null,null,null,null,null,null,null,null,null,null,null,null,{"$f":"IF(Committenti!D329<>\"\",CONCATENATE(Committenti!B329,\"  \",Committenti!C329,\"  CF: \",Committenti!D329),\"\")","v":""}]
["",null,null,null,null,null,null,null,null,null,null,null,null,null,null,null,{"$f":"IF(Committenti!D330<>\"\",CONCATENATE(Committenti!B330,\"  \",Committenti!C330,\"  CF: \",Committenti!D330),\"\")","v":""}]
["",null,null,null,null,null,null,null,null,null,null,null,null,null,null,null,{"$f":"IF(Committenti!D331<>\"\",CONCATENATE(Committenti!B331,\"  \",Committenti!C331,\"  CF: \",Committenti!D331),\"\")","v":""}]
["",null,null,null,null,null,null,null,null,null,null,null,null,null,null,null,{"$f":"IF(Committenti!D332<>\"\",CONCATENATE(Committenti!B332,\"  \",Committenti!C332,\"  CF: \",Committenti!D332),\"\")","v":""}]
["",null,null,null,null,null,null,null,null,null,null,null,null,null,null,null,{"$f":"IF(Committenti!D333<>\"\",CONCATENATE(Committenti!B333,\"  \",Committenti!C333,\"  CF: \",Committenti!D333),\"\")","v":""}]
["",null,null,null,null,null,null,null,null,null,null,null,null,null,null,null,{"$f":"IF(Committenti!D334<>\"\",CONCATENATE(Committenti!B334,\"  \",Committenti!C334,\"  CF: \",Committenti!D334),\"\")","v":""}]
["",null,null,null,null,null,null,null,null,null,null,null,null,null,null,null,{"$f":"IF(Committenti!D335<>\"\",CONCATENATE(Committenti!B335,\"  \",Committenti!C335,\"  CF: \",Committenti!D335),\"\")","v":""}]
["",null,null,null,null,null,null,null,null,null,null,null,null,null,null,null,{"$f":"IF(Committenti!D336<>\"\",CONCATENATE(Committenti!B336,\"  \",Committenti!C336,\"  CF: \",Committenti!D336),\"\")","v":""}]
["",null,null,null,null,null,null,null,null,null,null,null,null,null,null,null,{"$f":"IF(Committenti!D337<>\"\",CONCATENATE(Committenti!B337,\"  \",Committenti!C337,\"  CF: \",Committenti!D337),\"\")","v":""}]
["",null,null,null,null,null,null,null,null,null,null,null,null,null,null,null,{"$f":"IF(Committenti!D338<>\"\",CONCATENATE(Committenti!B338,\"  \",Committenti!C338,\"  CF: \",Committenti!D338),\"\")","v":""}]
["",null,null,null,null,null,null,null,null,null,null,null,null,null,null,null,{"$f":"IF(Committenti!D339<>\"\",CONCATENATE(Committenti!B339,\"  \",Committenti!C339,\"  CF: \",Committenti!D339),\"\")","v":""}]
["",null,null,null,null,null,null,null,null,null,null,null,null,null,null,null,{"$f":"IF(Committenti!D340<>\"\",CONCATENATE(Committenti!B340,\"  \",Committenti!C340,\"  CF: \",Committenti!D340),\"\")","v":""}]
["",null,null,null,null,null,null,null,null,null,null,null,null,null,null,null,{"$f":"IF(Committenti!D341<>\"\",CONCATENATE(Committenti!B341,\"  \",Committenti!C341,\"  CF: \",Committenti!D341),\"\")","v":""}]
["",null,null,null,null,null,null,null,null,null,null,null,null,null,null,null,{"$f":"IF(Committenti!D342<>\"\",CONCATENATE(Committenti!B342,\"  \",Committenti!C342,\"  CF: \",Committenti!D342),\"\")","v":""}]
["",null,null,null,null,null,null,null,null,null,null,null,null,null,null,null,{"$f":"IF(Committenti!D343<>\"\",CONCATENATE(Committenti!B343,\"  \",Committenti!C343,\"  CF: \",Committenti!D343),\"\")","v":""}]
["",null,null,null,null,null,null,null,null,null,null,null,null,null,null,null,{"$f":"IF(Committenti!D344<>\"\",CONCATENATE(Committenti!B344,\"  \",Committenti!C344,\"  CF: \",Committenti!D344),\"\")","v":""}]
["",null,null,null,null,null,null,null,null,null,null,null,null,null,null,null,{"$f":"IF(Committenti!D345<>\"\",CONCATENATE(Committenti!B345,\"  \",Committenti!C345,\"  CF: \",Committenti!D345),\"\")","v":""}]
["",null,null,null,null,null,null,null,null,null,null,null,null,null,null,null,{"$f":"IF(Committenti!D346<>\"\",CONCATENATE(Committenti!B346,\"  \",Committenti!C346,\"  CF: \",Committenti!D346),\"\")","v":""}]
["",null,null,null,null,null,null,null,null,null,null,null,null,null,null,null,{"$f":"IF(Committenti!D347<>\"\",CONCATENATE(Committenti!B347,\"  \",Committenti!C347,\"  CF: \",Committenti!D347),\"\")","v":""}]
["",null,null,null,null,null,null,null,null,null,null,null,null,null,null,null,{"$f":"IF(Committenti!D348<>\"\",CONCATENATE(Committenti!B348,\"  \",Committenti!C348,\"  CF: \",Committenti!D348),\"\")","v":""}]
["",null,null,null,null,null,null,null,null,null,null,null,null,null,null,null,{"$f":"IF(Committenti!D349<>\"\",CONCATENATE(Committenti!B349,\"  \",Committenti!C349,\"  CF: \",Committenti!D349),\"\")","v":""}]
["",null,null,null,null,null,null,null,null,null,null,null,null,null,null,null,{"$f":"IF(Committenti!D350<>\"\",CONCATENATE(Committenti!B350,\"  \",Committenti!C350,\"  CF: \",Committenti!D350),\"\")","v":""}]
["",null,null,null,null,null,null,null,null,null,null,null,null,null,null,null,{"$f":"IF(Committenti!D351<>\"\",CONCATENATE(Committenti!B351,\"  \",Committenti!C351,\"  CF: \",Committenti!D351),\"\")","v":""}]
["",null,null,null,null,null,null,null,null,null,null,null,null,null,null,null,{"$f":"IF(Committenti!D352<>\"\",CONCATENATE(Committenti!B352,\"  \",Committenti!C352,\"  CF: \",Committenti!D352),\"\")","v":""}]
["",null,null,null,null,null,null,null,null,null,null,null,null,null,null,null,{"$f":"IF(Committenti!D353<>\"\",CONCATENATE(Committenti!B353,\"  \",Committenti!C353,\"  CF: \",Committenti!D353),\"\")","v":""}]
["",null,null,null,null,null,null,null,null,null,null,null,null,null,null,null,{"$f":"IF(Committenti!D354<>\"\",CONCATENATE(Committenti!B354,\"  \",Committenti!C354,\"  CF: \",Committenti!D354),\"\")","v":""}]
["",null,null,null,null,null,null,null,null,null,null,null,null,null,null,null,{"$f":"IF(Committenti!D355<>\"\",CONCATENATE(Committenti!B355,\"  \",Committenti!C355,\"  CF: \",Committenti!D355),\"\")","v":""}]
["",null,null,null,null,null,null,null,null,null,null,null,null,null,null,null,{"$f":"IF(Committenti!D356<>\"\",CONCATENATE(Committenti!B356,\"  \",Committenti!C356,\"  CF: \",Committenti!D356),\"\")","v":""}]
["",null,null,null,null,null,null,null,null,null,null,null,null,null,null,null,{"$f":"IF(Committenti!D357<>\"\",CONCATENATE(Committenti!B357,\"  \",Committenti!C357,\"  CF: \",Committenti!D357),\"\")","v":""}]
["",null,null,null,null,null,null,null,null,null,null,null,null,null,null,null,{"$f":"IF(Committenti!D358<>\"\",CONCATENATE(Committenti!B358,\"  \",Committenti!C358,\"  CF: \",Committenti!D358),\"\")","v":""}]
["",null,null,null,null,null,null,null,null,null,null,null,null,null,null,null,{"$f":"IF(Committenti!D359<>\"\",CONCATENATE(Committenti!B359,\"  \",Committenti!C359,\"  CF: \",Committenti!D359),\"\")","v":""}]
["",null,null,null,null,null,null,null,null,null,null,null,null,null,null,null,{"$f":"IF(Committenti!D360<>\"\",CONCATENATE(Committenti!B360,\"  \",Committenti!C360,\"  CF: \",Committenti!D360),\"\")","v":""}]
["",null,null,null,null,null,null,null,null,null,null,null,null,null,null,null,{"$f":"IF(Committenti!D361<>\"\",CONCATENATE(Committenti!B361,\"  \",Committenti!C361,\"  CF: \",Committenti!D361),\"\")","v":""}]
["",null,null,null,null,null,null,null,null,null,null,null,null,null,null,null,{"$f":"IF(Committenti!D362<>\"\",CONCATENATE(Committenti!B362,\"  \",Committenti!C362,\"  CF: \",Committenti!D362),\"\")","v":""}]
["",null,null,null,null,null,null,null,null,null,null,null,null,null,null,null,{"$f":"IF(Committenti!D363<>\"\",CONCATENATE(Committenti!B363,\"  \",Committenti!C363,\"  CF: \",Committenti!D363),\"\")","v":""}]
["",null,null,null,null,null,null,null,null,null,null,null,null,null,null,null,{"$f":"IF(Committenti!D364<>\"\",CONCATENATE(Committenti!B364,\"  \",Committenti!C364,\"  CF: \",Committenti!D364),\"\")","v":""}]
["",null,null,null,null,null,null,null,null,null,null,null,null,null,null,null,{"$f":"IF(Committenti!D365<>\"\",CONCATENATE(Committenti!B365,\"  \",Committenti!C365,\"  CF: \",Committenti!D365),\"\")","v":""}]
["",null,null,null,null,null,null,null,null,null,null,null,null,null,null,null,{"$f":"IF(Committenti!D366<>\"\",CONCATENATE(Committenti!B366,\"  \",Committenti!C366,\"  CF: \",Committenti!D366),\"\")","v":""}]
["",null,null,null,null,null,null,null,null,null,null,null,null,null,null,null,{"$f":"IF(Committenti!D367<>\"\",CONCATENATE(Committenti!B367,\"  \",Committenti!C367,\"  CF: \",Committenti!D367),\"\")","v":""}]
["",null,null,null,null,null,null,null,null,null,null,null,null,null,null,null,{"$f":"IF(Committenti!D368<>\"\",CONCATENATE(Committenti!B368,\"  \",Committenti!C368,\"  CF: \",Committenti!D368),\"\")","v":""}]
["",null,null,null,null,null,null,null,null,null,null,null,null,null,null,null,{"$f":"IF(Committenti!D369<>\"\",CONCATENATE(Committenti!B369,\"  \",Committenti!C369,\"  CF: \",Committenti!D369),\"\")","v":""}]
["",null,null,null,null,null,null,null,null,null,null,null,null,null,null,null,{"$f":"IF(Committenti!D370<>\"\",CONCATENATE(Committenti!B370,\"  \",Committenti!C370,\"  CF: \",Committenti!D370),\"\")","v":""}]
["",null,null,null,null,null,null,null,null,null,null,null,null,null,null,null,{"$f":"IF(Committenti!D371<>\"\",CONCATENATE(Committenti!B371,\"  \",Committenti!C371,\"  CF: \",Committenti!D371),\"\")","v":""}]
["",null,null,null,null,null,null,null,null,null,null,null,null,null,null,null,{"$f":"IF(Committenti!D372<>\"\",CONCATENATE(Committenti!B372,\"  \",Committenti!C372,\"  CF: \",Committenti!D372),\"\")","v":""}]
["",null,null,null,null,null,null,null,null,null,null,null,null,null,null,null,{"$f":"IF(Committenti!D373<>\"\",CONCATENATE(Committenti!B373,\"  \",Committenti!C373,\"  CF: \",Committenti!D373),\"\")","v":""}]
["",null,null,null,null,null,null,null,null,null,null,null,null,null,null,null,{"$f":"IF(Committenti!D374<>\"\",CONCATENATE(Committenti!B374,\"  \",Committenti!C374,\"  CF: \",Committenti!D374),\"\")","v":""}]
["",null,null,null,null,null,null,null,null,null,null,null,null,null,null,null,{"$f":"IF(Committenti!D375<>\"\",CONCATENATE(Committenti!B375,\"  \",Committenti!C375,\"  CF: \",Committenti!D375),\"\")","v":""}]
["",null,null,null,null,null,null,null,null,null,null,null,null,null,null,null,{"$f":"IF(Committenti!D376<>\"\",CONCATENATE(Committenti!B376,\"  \",Committenti!C376,\"  CF: \",Committenti!D376),\"\")","v":""}]
["",null,null,null,null,null,null,null,null,null,null,null,null,null,null,null,{"$f":"IF(Committenti!D377<>\"\",CONCATENATE(Committenti!B377,\"  \",Committenti!C377,\"  CF: \",Committenti!D377),\"\")","v":""}]
["",null,null,null,null,null,null,null,null,null,null,null,null,null,null,null,{"$f":"IF(Committenti!D378<>\"\",CONCATENATE(Committenti!B378,\"  \",Committenti!C378,\"  CF: \",Committenti!D378),\"\")","v":""}]
["",null,null,null,null,null,null,null,null,null,null,null,null,null,null,null,{"$f":"IF(Committenti!D379<>\"\",CONCATENATE(Committenti!B379,\"  \",Committenti!C379,\"  CF: \",Committenti!D379),\"\")","v":""}]
["",null,null,null,null,null,null,null,null,null,null,null,null,null,null,null,{"$f":"IF(Committenti!D380<>\"\",CONCATENATE(Committenti!B380,\"  \",Committenti!C380,\"  CF: \",Committenti!D380),\"\")","v":""}]
["",null,null,null,null,null,null,null,null,null,null,null,null,null,null,null,{"$f":"IF(Committenti!D381<>\"\",CONCATENATE(Committenti!B381,\"  \",Committenti!C381,\"  CF: \",Committenti!D381),\"\")","v":""}]
["",null,null,null,null,null,null,null,null,null,null,null,null,null,null,null,{"$f":"IF(Committenti!D382<>\"\",CONCATENATE(Committenti!B382,\"  \",Committenti!C382,\"  CF: \",Committenti!D382),\"\")","v":""}]
["",null,null,null,null,null,null,null,null,null,null,null,null,null,null,null,{"$f":"IF(Committenti!D383<>\"\",CONCATENATE(Committenti!B383,\"  \",Committenti!C383,\"  CF: \",Committenti!D383),\"\")","v":""}]
["",null,null,null,null,null,null,null,null,null,null,null,null,null,null,null,{"$f":"IF(Committenti!D384<>\"\",CONCATENATE(Committenti!B384,\"  \",Committenti!C384,\"  CF: \",Committenti!D384),\"\")","v":""}]
["",null,null,null,null,null,null,null,null,null,null,null,null,null,null,null,{"$f":"IF(Committenti!D385<>\"\",CONCATENATE(Committenti!B385,\"  \",Committenti!C385,\"  CF: \",Committenti!D385),\"\")","v":""}]
["",null,null,null,null,null,null,null,null,null,null,null,null,null,null,null,{"$f":"IF(Committenti!D386<>\"\",CONCATENATE(Committenti!B386,\"  \",Committenti!C386,\"  CF: \",Committenti!D386),\"\")","v":""}]
["",null,null,null,null,null,null,null,null,null,null,null,null,null,null,null,{"$f":"IF(Committenti!D387<>\"\",CONCATENATE(Committenti!B387,\"  \",Committenti!C387,\"  CF: \",Committenti!D387),\"\")","v":""}]
["",null,null,null,null,null,null,null,null,null,null,null,null,null,null,null,{"$f":"IF(Committenti!D388<>\"\",CONCATENATE(Committenti!B388,\"  \",Committenti!C388,\"  CF: \",Committenti!D388),\"\")","v":""}]
[{"$f":"IF(B389<>\"\", IF(A388<>\"\",A388+1,\"\"),\"\")","v":""},null,null,null,null,null,null,null,null,null,null,null,null,null,null,null,{"$f":"IF(Committenti!D389<>\"\",CONCATENATE(Committenti!B389,\"  \",Committenti!C389,\"  CF: \",Committenti!D389),\"\")","v":""}]
["",null,null,null,null,null,null,null,null,null,null,null,null,null,null,null,{"$f":"IF(Committenti!D390<>\"\",CONCATENATE(Committenti!B390,\"  \",Committenti!C390,\"  CF: \",Committenti!D390),\"\")","v":""}]
["",null,null,null,null,null,null,null,null,null,null,null,null,null,null,null,{"$f":"IF(Committenti!D391<>\"\",CONCATENATE(Committenti!B391,\"  \",Committenti!C391,\"  CF: \",Committenti!D391),\"\")","v":""}]
["",null,null,null,null,null,null,null,null,null,null,null,null,null,null,null,{"$f":"IF(Committenti!D392<>\"\",CONCATENATE(Committenti!B392,\"  \",Committenti!C392,\"  CF: \",Committenti!D392),\"\")","v":""}]
["",null,null,null,null,null,null,null,null,null,null,null,null,null,null,null,{"$f":"IF(Committenti!D393<>\"\",CONCATENATE(Committenti!B393,\"  \",Committenti!C393,\"  CF: \",Committenti!D393),\"\")","v":""}]
["",null,null,null,null,null,null,null,null,null,null,null,null,null,null,null,{"$f":"IF(Committenti!D394<>\"\",CONCATENATE(Committenti!B394,\"  \",Committenti!C394,\"  CF: \",Committenti!D394),\"\")","v":""}]
["",null,null,null,null,null,null,null,null,null,null,null,null,null,null,null,{"$f":"IF(Committenti!D395<>\"\",CONCATENATE(Committenti!B395,\"  \",Committenti!C395,\"  CF: \",Committenti!D395),\"\")","v":""}]
["",null,null,null,null,null,null,null,null,null,null,null,null,null,null,null,{"$f":"IF(Committenti!D396<>\"\",CONCATENATE(Committenti!B396,\"  \",Committenti!C396,\"  CF: \",Committenti!D396),\"\")","v":""}]
["",null,null,null,null,null,null,null,null,null,null,null,null,null,null,null,{"$f":"IF(Committenti!D397<>\"\",CONCATENATE(Committenti!B397,\"  \",Committenti!C397,\"  CF: \",Committenti!D397),\"\")","v":""}]
["",null,null,null,null,null,null,null,null,null,null,null,null,null,null,null,{"$f":"IF(Committenti!D398<>\"\",CONCATENATE(Committenti!B398,\"  \",Committenti!C398,\"  CF: \",Committenti!D398),\"\")","v":""}]
["",null,null,null,null,null,null,null,null,null,null,null,null,null,null,null,{"$f":"IF(Committenti!D399<>\"\",CONCATENATE(Committenti!B399,\"  \",Committenti!C399,\"  CF: \",Committenti!D399),\"\")","v":""}]
["",null,null,null,null,null,null,null,null,null,null,null,null,null,null,null,{"$f":"IF(Committenti!D400<>\"\",CONCATENATE(Committenti!B400,\"  \",Committenti!C400,\"  CF: \",Committenti!D400),\"\")","v":""}]
["",null,null,null,null,null,null,null,null,null,null,null,null,null,null,null,{"$f":"IF(Committenti!D401<>\"\",CONCATENATE(Committenti!B401,\"  \",Committenti!C401,\"  CF: \",Committenti!D401),\"\")","v":""}]
["",null,null,null,null,null,null,null,null,null,null,null,null,null,null,null,{"$f":"IF(Committenti!D402<>\"\",CONCATENATE(Committenti!B402,\"  \",Committenti!C402,\"  CF: \",Committenti!D402),\"\")","v":""}]
["",null,null,null,null,null,null,null,null,null,null,null,null,null,null,null,{"$f":"IF(Committenti!D403<>\"\",CONCATENATE(Committenti!B403,\"  \",Committenti!C403,\"  CF: \",Committenti!D403),\"\")","v":""}]
["",null,null,null,null,null,null,null,null,null,null,null,null,null,null,null,{"$f":"IF(Committenti!D404<>\"\",CONCATENATE(Committenti!B404,\"  \",Committenti!C404,\"  CF: \",Committenti!D404),\"\")","v":""}]
["",null,null,null,null,null,null,null,null,null,null,null,null,null,null,null,{"$f":"IF(Committenti!D405<>\"\",CONCATENATE(Committenti!B405,\"  \",Committenti!C405,\"  CF: \",Committenti!D405),\"\")","v":""}]
["",null,null,null,null,null,null,null,null,null,null,null,null,null,null,null,{"$f":"IF(Committenti!D406<>\"\",CONCATENATE(Committenti!B406,\"  \",Committenti!C406,\"  CF: \",Committenti!D406),\"\")","v":""}]
["",null,null,null,null,null,null,null,null,null,null,null,null,null,null,null,{"$f":"IF(Committenti!D407<>\"\",CONCATENATE(Committenti!B407,\"  \",Committenti!C407,\"  CF: \",Committenti!D407),\"\")","v":""}]
["",null,null,null,null,null,null,null,null,null,null,null,null,null,null,null,{"$f":"IF(Committenti!D408<>\"\",CONCATENATE(Committenti!B408,\"  \",Committenti!C408,\"  CF: \",Committenti!D408),\"\")","v":""}]
["",null,null,null,null,null,null,null,null,null,null,null,null,null,null,null,{"$f":"IF(Committenti!D409<>\"\",CONCATENATE(Committenti!B409,\"  \",Committenti!C409,\"  CF: \",Committenti!D409),\"\")","v":""}]
["",null,null,null,null,null,null,null,null,null,null,null,null,null,null,null,{"$f":"IF(Committenti!D410<>\"\",CONCATENATE(Committenti!B410,\"  \",Committenti!C410,\"  CF: \",Committenti!D410),\"\")","v":""}]
["",null,null,null,null,null,null,null,null,null,null,null,null,null,null,null,{"$f":"IF(Committenti!D411<>\"\",CONCATENATE(Committenti!B411,\"  \",Committenti!C411,\"  CF: \",Committenti!D411),\"\")","v":""}]
["",null,null,null,null,null,null,null,null,null,null,null,null,null,null,null,{"$f":"IF(Committenti!D412<>\"\",CONCATENATE(Committenti!B412,\"  \",Committenti!C412,\"  CF: \",Committenti!D412),\"\")","v":""}]
["",null,null,null,null,null,null,null,null,null,null,null,null,null,null,null,{"$f":"IF(Committenti!D413<>\"\",CONCATENATE(Committenti!B413,\"  \",Committenti!C413,\"  CF: \",Committenti!D413),\"\")","v":""}]
["",null,null,null,null,null,null,null,null,null,null,null,null,null,null,null,{"$f":"IF(Committenti!D414<>\"\",CONCATENATE(Committenti!B414,\"  \",Committenti!C414,\"  CF: \",Committenti!D414),\"\")","v":""}]
["",null,null,null,null,null,null,null,null,null,null,null,null,null,null,null,{"$f":"IF(Committenti!D415<>\"\",CONCATENATE(Committenti!B415,\"  \",Committenti!C415,\"  CF: \",Committenti!D415),\"\")","v":""}]
["",null,null,null,null,null,null,null,null,null,null,null,null,null,null,null,{"$f":"IF(Committenti!D416<>\"\",CONCATENATE(Committenti!B416,\"  \",Committenti!C416,\"  CF: \",Committenti!D416),\"\")","v":""}]
["",null,null,null,null,null,null,null,null,null,null,null,null,null,null,null,{"$f":"IF(Committenti!D417<>\"\",CONCATENATE(Committenti!B417,\"  \",Committenti!C417,\"  CF: \",Committenti!D417),\"\")","v":""}]
["",null,null,null,null,null,null,null,null,null,null,null,null,null,null,null,{"$f":"IF(Committenti!D418<>\"\",CONCATENATE(Committenti!B418,\"  \",Committenti!C418,\"  CF: \",Committenti!D418),\"\")","v":""}]
["",null,null,null,null,null,null,null,null,null,null,null,null,null,null,null,{"$f":"IF(Committenti!D419<>\"\",CONCATENATE(Committenti!B419,\"  \",Committenti!C419,\"  CF: \",Committenti!D419),\"\")","v":""}]
["",null,null,null,null,null,null,null,null,null,null,null,null,null,null,null,{"$f":"IF(Committenti!D420<>\"\",CONCATENATE(Committenti!B420,\"  \",Committenti!C420,\"  CF: \",Committenti!D420),\"\")","v":""}]
["",null,null,null,null,null,null,null,null,null,null,null,null,null,null,null,{"$f":"IF(Committenti!D421<>\"\",CONCATENATE(Committenti!B421,\"  \",Committenti!C421,\"  CF: \",Committenti!D421),\"\")","v":""}]
["",null,null,null,null,null,null,null,null,null,null,null,null,null,null,null,{"$f":"IF(Committenti!D422<>\"\",CONCATENATE(Committenti!B422,\"  \",Committenti!C422,\"  CF: \",Committenti!D422),\"\")","v":""}]
["",null,null,null,null,null,null,null,null,null,null,null,null,null,null,null,{"$f":"IF(Committenti!D423<>\"\",CONCATENATE(Committenti!B423,\"  \",Committenti!C423,\"  CF: \",Committenti!D423),\"\")","v":""}]
["",null,null,null,null,null,null,null,null,null,null,null,null,null,null,null,{"$f":"IF(Committenti!D424<>\"\",CONCATENATE(Committenti!B424,\"  \",Committenti!C424,\"  CF: \",Committenti!D424),\"\")","v":""}]
["",null,null,null,null,null,null,null,null,null,null,null,null,null,null,null,{"$f":"IF(Committenti!D425<>\"\",CONCATENATE(Committenti!B425,\"  \",Committenti!C425,\"  CF: \",Committenti!D425),\"\")","v":""}]
["",null,null,null,null,null,null,null,null,null,null,null,null,null,null,null,{"$f":"IF(Committenti!D426<>\"\",CONCATENATE(Committenti!B426,\"  \",Committenti!C426,\"  CF: \",Committenti!D426),\"\")","v":""}]
["",null,null,null,null,null,null,null,null,null,null,null,null,null,null,null,{"$f":"IF(Committenti!D427<>\"\",CONCATENATE(Committenti!B427,\"  \",Committenti!C427,\"  CF: \",Committenti!D427),\"\")","v":""}]
["",null,null,null,null,null,null,null,null,null,null,null,null,null,null,null,{"$f":"IF(Committenti!D428<>\"\",CONCATENATE(Committenti!B428,\"  \",Committenti!C428,\"  CF: \",Committenti!D428),\"\")","v":""}]
["",null,null,null,null,null,null,null,null,null,null,null,null,null,null,null,{"$f":"IF(Committenti!D429<>\"\",CONCATENATE(Committenti!B429,\"  \",Committenti!C429,\"  CF: \",Committenti!D429),\"\")","v":""}]
["",null,null,null,null,null,null,null,null,null,null,null,null,null,null,null,{"$f":"IF(Committenti!D430<>\"\",CONCATENATE(Committenti!B430,\"  \",Committenti!C430,\"  CF: \",Committenti!D430),\"\")","v":""}]
["",null,null,null,null,null,null,null,null,null,null,null,null,null,null,null,{"$f":"IF(Committenti!D431<>\"\",CONCATENATE(Committenti!B431,\"  \",Committenti!C431,\"  CF: \",Committenti!D431),\"\")","v":""}]
["",null,null,null,null,null,null,null,null,null,null,null,null,null,null,null,{"$f":"IF(Committenti!D432<>\"\",CONCATENATE(Committenti!B432,\"  \",Committenti!C432,\"  CF: \",Committenti!D432),\"\")","v":""}]
["",null,null,null,null,null,null,null,null,null,null,null,null,null,null,null,{"$f":"IF(Committenti!D433<>\"\",CONCATENATE(Committenti!B433,\"  \",Committenti!C433,\"  CF: \",Committenti!D433),\"\")","v":""}]
["",null,null,null,null,null,null,null,null,null,null,null,null,null,null,null,{"$f":"IF(Committenti!D434<>\"\",CONCATENATE(Committenti!B434,\"  \",Committenti!C434,\"  CF: \",Committenti!D434),\"\")","v":""}]
["",null,null,null,null,null,null,null,null,null,null,null,null,null,null,null,{"$f":"IF(Committenti!D435<>\"\",CONCATENATE(Committenti!B435,\"  \",Committenti!C435,\"  CF: \",Committenti!D435),\"\")","v":""}]
["",null,null,null,null,null,null,null,null,null,null,null,null,null,null,null,{"$f":"IF(Committenti!D436<>\"\",CONCATENATE(Committenti!B436,\"  \",Committenti!C436,\"  CF: \",Committenti!D436),\"\")","v":""}]
["",null,null,null,null,null,null,null,null,null,null,null,null,null,null,null,{"$f":"IF(Committenti!D437<>\"\",CONCATENATE(Committenti!B437,\"  \",Committenti!C437,\"  CF: \",Committenti!D437),\"\")","v":""}]
["",null,null,null,null,null,null,null,null,null,null,null,null,null,null,null,{"$f":"IF(Committenti!D438<>\"\",CONCATENATE(Committenti!B438,\"  \",Committenti!C438,\"  CF: \",Committenti!D438),\"\")","v":""}]
["",null,null,null,null,null,null,null,null,null,null,null,null,null,null,null,{"$f":"IF(Committenti!D439<>\"\",CONCATENATE(Committenti!B439,\"  \",Committenti!C439,\"  CF: \",Committenti!D439),\"\")","v":""}]
["",null,null,null,null,null,null,null,null,null,null,null,null,null,null,null,{"$f":"IF(Committenti!D440<>\"\",CONCATENATE(Committenti!B440,\"  \",Committenti!C440,\"  CF: \",Committenti!D440),\"\")","v":""}]
["",null,null,null,null,null,null,null,null,null,null,null,null,null,null,null,{"$f":"IF(Committenti!D441<>\"\",CONCATENATE(Committenti!B441,\"  \",Committenti!C441,\"  CF: \",Committenti!D441),\"\")","v":""}]
["",null,null,null,null,null,null,null,null,null,null,null,null,null,null,null,{"$f":"IF(Committenti!D442<>\"\",CONCATENATE(Committenti!B442,\"  \",Committenti!C442,\"  CF: \",Committenti!D442),\"\")","v":""}]
["",null,null,null,null,null,null,null,null,null,null,null,null,null,null,null,{"$f":"IF(Committenti!D443<>\"\",CONCATENATE(Committenti!B443,\"  \",Committenti!C443,\"  CF: \",Committenti!D443),\"\")","v":""}]
["",null,null,null,null,null,null,null,null,null,null,null,null,null,null,null,{"$f":"IF(Committenti!D444<>\"\",CONCATENATE(Committenti!B444,\"  \",Committenti!C444,\"  CF: \",Committenti!D444),\"\")","v":""}]
["",null,null,null,null,null,null,null,null,null,null,null,null,null,null,null,{"$f":"IF(Committenti!D445<>\"\",CONCATENATE(Committenti!B445,\"  \",Committenti!C445,\"  CF: \",Committenti!D445),\"\")","v":""}]
["",null,null,null,null,null,null,null,null,null,null,null,null,null,null,null,{"$f":"IF(Committenti!D446<>\"\",CONCATENATE(Committenti!B446,\"  \",Committenti!C446,\"  CF: \",Committenti!D446),\"\")","v":""}]
["",null,null,null,null,null,null,null,null,null,null,null,null,null,null,null,{"$f":"IF(Committenti!D447<>\"\",CONCATENATE(Committenti!B447,\"  \",Committenti!C447,\"  CF: \",Committenti!D447),\"\")","v":""}]
["",null,null,null,null,null,null,null,null,null,null,null,null,null,null,null,{"$f":"IF(Committenti!D448<>\"\",CONCATENATE(Committenti!B448,\"  \",Committenti!C448,\"  CF: \",Committenti!D448),\"\")","v":""}]
["",null,null,null,null,null,null,null,null,null,null,null,null,null,null,null,{"$f":"IF(Committenti!D449<>\"\",CONCATENATE(Committenti!B449,\"  \",Committenti!C449,\"  CF: \",Committenti!D449),\"\")","v":""}]
["",null,null,null,null,null,null,null,null,null,null,null,null,null,null,null,{"$f":"IF(Committenti!D450<>\"\",CONCATENATE(Committenti!B450,\"  \",Committenti!C450,\"  CF: \",Committenti!D450),\"\")","v":""}]
["",null,null,null,null,null,null,null,null,null,null,null,null,null,null,null,{"$f":"IF(Committenti!D451<>\"\",CONCATENATE(Committenti!B451,\"  \",Committenti!C451,\"  CF: \",Committenti!D451),\"\")","v":""}]
["",null,null,null,null,null,null,null,null,null,null,null,null,null,null,null,{"$f":"IF(Committenti!D452<>\"\",CONCATENATE(Committenti!B452,\"  \",Committenti!C452,\"  CF: \",Committenti!D452),\"\")","v":""}]
[{"$f":"IF(B453<>\"\", IF(A452<>\"\",A452+1,\"\"),\"\")","v":""},null,null,null,null,null,null,null,null,null,null,null,null,null,null,null,{"$f":"IF(Committenti!D453<>\"\",CONCATENATE(Committenti!B453,\"  \",Committenti!C453,\"  CF: \",Committenti!D453),\"\")","v":""}]
["",null,null,null,null,null,null,null,null,null,null,null,null,null,null,null,{"$f":"IF(Committenti!D454<>\"\",CONCATENATE(Committenti!B454,\"  \",Committenti!C454,\"  CF: \",Committenti!D454),\"\")","v":""}]
["",null,null,null,null,null,null,null,null,null,null,null,null,null,null,null,{"$f":"IF(Committenti!D455<>\"\",CONCATENATE(Committenti!B455,\"  \",Committenti!C455,\"  CF: \",Committenti!D455),\"\")","v":""}]
["",null,null,null,null,null,null,null,null,null,null,null,null,null,null,null,{"$f":"IF(Committenti!D456<>\"\",CONCATENATE(Committenti!B456,\"  \",Committenti!C456,\"  CF: \",Committenti!D456),\"\")","v":""}]
["",null,null,null,null,null,null,null,null,null,null,null,null,null,null,null,{"$f":"IF(Committenti!D457<>\"\",CONCATENATE(Committenti!B457,\"  \",Committenti!C457,\"  CF: \",Committenti!D457),\"\")","v":""}]
["",null,null,null,null,null,null,null,null,null,null,null,null,null,null,null,{"$f":"IF(Committenti!D458<>\"\",CONCATENATE(Committenti!B458,\"  \",Committenti!C458,\"  CF: \",Committenti!D458),\"\")","v":""}]
["",null,null,null,null,null,null,null,null,null,null,null,null,null,null,null,{"$f":"IF(Committenti!D459<>\"\",CONCATENATE(Committenti!B459,\"  \",Committenti!C459,\"  CF: \",Committenti!D459),\"\")","v":""}]
["",null,null,null,null,null,null,null,null,null,null,null,null,null,null,null,{"$f":"IF(Committenti!D460<>\"\",CONCATENATE(Committenti!B460,\"  \",Committenti!C460,\"  CF: \",Committenti!D460),\"\")","v":""}]
["",null,null,null,null,null,null,null,null,null,null,null,null,null,null,null,{"$f":"IF(Committenti!D461<>\"\",CONCATENATE(Committenti!B461,\"  \",Committenti!C461,\"  CF: \",Committenti!D461),\"\")","v":""}]
["",null,null,null,null,null,null,null,null,null,null,null,null,null,null,null,{"$f":"IF(Committenti!D462<>\"\",CONCATENATE(Committenti!B462,\"  \",Committenti!C462,\"  CF: \",Committenti!D462),\"\")","v":""}]
["",null,null,null,null,null,null,null,null,null,null,null,null,null,null,null,{"$f":"IF(Committenti!D463<>\"\",CONCATENATE(Committenti!B463,\"  \",Committenti!C463,\"  CF: \",Committenti!D463),\"\")","v":""}]
["",null,null,null,null,null,null,null,null,null,null,null,null,null,null,null,{"$f":"IF(Committenti!D464<>\"\",CONCATENATE(Committenti!B464,\"  \",Committenti!C464,\"  CF: \",Committenti!D464),\"\")","v":""}]
["",null,null,null,null,null,null,null,null,null,null,null,null,null,null,null,{"$f":"IF(Committenti!D465<>\"\",CONCATENATE(Committenti!B465,\"  \",Committenti!C465,\"  CF: \",Committenti!D465),\"\")","v":""}]
["",null,null,null,null,null,null,null,null,null,null,null,null,null,null,null,{"$f":"IF(Committenti!D466<>\"\",CONCATENATE(Committenti!B466,\"  \",Committenti!C466,\"  CF: \",Committenti!D466),\"\")","v":""}]
["",null,null,null,null,null,null,null,null,null,null,null,null,null,null,null,{"$f":"IF(Committenti!D467<>\"\",CONCATENATE(Committenti!B467,\"  \",Committenti!C467,\"  CF: \",Committenti!D467),\"\")","v":""}]
["",null,null,null,null,null,null,null,null,null,null,null,null,null,null,null,{"$f":"IF(Committenti!D468<>\"\",CONCATENATE(Committenti!B468,\"  \",Committenti!C468,\"  CF: \",Committenti!D468),\"\")","v":""}]
["",null,null,null,null,null,null,null,null,null,null,null,null,null,null,null,{"$f":"IF(Committenti!D469<>\"\",CONCATENATE(Committenti!B469,\"  \",Committenti!C469,\"  CF: \",Committenti!D469),\"\")","v":""}]
["",null,null,null,null,null,null,null,null,null,null,null,null,null,null,null,{"$f":"IF(Committenti!D470<>\"\",CONCATENATE(Committenti!B470,\"  \",Committenti!C470,\"  CF: \",Committenti!D470),\"\")","v":""}]
["",null,null,null,null,null,null,null,null,null,null,null,null,null,null,null,{"$f":"IF(Committenti!D471<>\"\",CONCATENATE(Committenti!B471,\"  \",Committenti!C471,\"  CF: \",Committenti!D471),\"\")","v":""}]
["",null,null,null,null,null,null,null,null,null,null,null,null,null,null,null,{"$f":"IF(Committenti!D472<>\"\",CONCATENATE(Committenti!B472,\"  \",Committenti!C472,\"  CF: \",Committenti!D472),\"\")","v":""}]
["",null,null,null,null,null,null,null,null,null,null,null,null,null,null,null,{"$f":"IF(Committenti!D473<>\"\",CONCATENATE(Committenti!B473,\"  \",Committenti!C473,\"  CF: \",Committenti!D473),\"\")","v":""}]
["",null,null,null,null,null,null,null,null,null,null,null,null,null,null,null,{"$f":"IF(Committenti!D474<>\"\",CONCATENATE(Committenti!B474,\"  \",Committenti!C474,\"  CF: \",Committenti!D474),\"\")","v":""}]
["",null,null,null,null,null,null,null,null,null,null,null,null,null,null,null,{"$f":"IF(Committenti!D475<>\"\",CONCATENATE(Committenti!B475,\"  \",Committenti!C475,\"  CF: \",Committenti!D475),\"\")","v":""}]
["",null,null,null,null,null,null,null,null,null,null,null,null,null,null,null,{"$f":"IF(Committenti!D476<>\"\",CONCATENATE(Committenti!B476,\"  \",Committenti!C476,\"  CF: \",Committenti!D476),\"\")","v":""}]
["",null,null,null,null,null,null,null,null,null,null,null,null,null,null,null,{"$f":"IF(Committenti!D477<>\"\",CONCATENATE(Committenti!B477,\"  \",Committenti!C477,\"  CF: \",Committenti!D477),\"\")","v":""}]
["",null,null,null,null,null,null,null,null,null,null,null,null,null,null,null,{"$f":"IF(Committenti!D478<>\"\",CONCATENATE(Committenti!B478,\"  \",Committenti!C478,\"  CF: \",Committenti!D478),\"\")","v":""}]
["",null,null,null,null,null,null,null,null,null,null,null,null,null,null,null,{"$f":"IF(Committenti!D479<>\"\",CONCATENATE(Committenti!B479,\"  \",Committenti!C479,\"  CF: \",Committenti!D479),\"\")","v":""}]
["",null,null,null,null,null,null,null,null,null,null,null,null,null,null,null,{"$f":"IF(Committenti!D480<>\"\",CONCATENATE(Committenti!B480,\"  \",Committenti!C480,\"  CF: \",Committenti!D480),\"\")","v":""}]
["",null,null,null,null,null,null,null,null,null,null,null,null,null,null,null,{"$f":"IF(Committenti!D481<>\"\",CONCATENATE(Committenti!B481,\"  \",Committenti!C481,\"  CF: \",Committenti!D481),\"\")","v":""}]
["",null,null,null,null,null,null,null,null,null,null,null,null,null,null,null,{"$f":"IF(Committenti!D482<>\"\",CONCATENATE(Committenti!B482,\"  \",Committenti!C482,\"  CF: \",Committenti!D482),\"\")","v":""}]
["",null,null,null,null,null,null,null,null,null,null,null,null,null,null,null,{"$f":"IF(Committenti!D483<>\"\",CONCATENATE(Committenti!B483,\"  \",Committenti!C483,\"  CF: \",Committenti!D483),\"\")","v":""}]
["",null,null,null,null,null,null,null,null,null,null,null,null,null,null,null,{"$f":"IF(Committenti!D484<>\"\",CONCATENATE(Committenti!B484,\"  \",Committenti!C484,\"  CF: \",Committenti!D484),\"\")","v":""}]
["",null,null,null,null,null,null,null,null,null,null,null,null,null,null,null,{"$f":"IF(Committenti!D485<>\"\",CONCATENATE(Committenti!B485,\"  \",Committenti!C485,\"  CF: \",Committenti!D485),\"\")","v":""}]
["",null,null,null,null,null,null,null,null,null,null,null,null,null,null,null,{"$f":"IF(Committenti!D486<>\"\",CONCATENATE(Committenti!B486,\"  \",Committenti!C486,\"  CF: \",Committenti!D486),\"\")","v":""}]
["",null,null,null,null,null,null,null,null,null,null,null,null,null,null,null,{"$f":"IF(Committenti!D487<>\"\",CONCATENATE(Committenti!B487,\"  \",Committenti!C487,\"  CF: \",Committenti!D487),\"\")","v":""}]
["",null,null,null,null,null,null,null,null,null,null,null,null,null,null,null,{"$f":"IF(Committenti!D488<>\"\",CONCATENATE(Committenti!B488,\"  \",Committenti!C488,\"  CF: \",Committenti!D488),\"\")","v":""}]
["",null,null,null,null,null,null,null,null,null,null,null,null,null,null,null,{"$f":"IF(Committenti!D489<>\"\",CONCATENATE(Committenti!B489,\"  \",Committenti!C489,\"  CF: \",Committenti!D489),\"\")","v":""}]
["",null,null,null,null,null,null,null,null,null,null,null,null,null,null,null,{"$f":"IF(Committenti!D490<>\"\",CONCATENATE(Committenti!B490,\"  \",Committenti!C490,\"  CF: \",Committenti!D490),\"\")","v":""}]
["",null,null,null,null,null,null,null,null,null,null,null,null,null,null,null,{"$f":"IF(Committenti!D491<>\"\",CONCATENATE(Committenti!B491,\"  \",Committenti!C491,\"  CF: \",Committenti!D491),\"\")","v":""}]
["",null,null,null,null,null,null,null,null,null,null,null,null,null,null,null,{"$f":"IF(Committenti!D492<>\"\",CONCATENATE(Committenti!B492,\"  \",Committenti!C492,\"  CF: \",Committenti!D492),\"\")","v":""}]
["",null,null,null,null,null,null,null,null,null,null,null,null,null,null,null,{"$f":"IF(Committenti!D493<>\"\",CONCATENATE(Committenti!B493,\"  \",Committenti!C493,\"  CF: \",Committenti!D493),\"\")","v":""}]
["",null,null,null,null,null,null,null,null,null,null,null,null,null,null,null,{"$f":"IF(Committenti!D494<>\"\",CONCATENATE(Committenti!B494,\"  \",Committenti!C494,\"  CF: \",Committenti!D494),\"\")","v":""}]
["",null,null,null,null,null,null,null,null,null,null,null,null,null,null,null,{"$f":"IF(Committenti!D495<>\"\",CONCATENATE(Committenti!B495,\"  \",Committenti!C495,\"  CF: \",Committenti!D495),\"\")","v":""}]
["",null,null,null,null,null,null,null,null,null,null,null,null,null,null,null,{"$f":"IF(Committenti!D496<>\"\",CONCATENATE(Committenti!B496,\"  \",Committenti!C496,\"  CF: \",Committenti!D496),\"\")","v":""}]
["",null,null,null,null,null,null,null,null,null,null,null,null,null,null,null,{"$f":"IF(Committenti!D497<>\"\",CONCATENATE(Committenti!B497,\"  \",Committenti!C497,\"  CF: \",Committenti!D497),\"\")","v":""}]
["",null,null,null,null,null,null,null,null,null,null,null,null,null,null,null,{"$f":"IF(Committenti!D498<>\"\",CONCATENATE(Committenti!B498,\"  \",Committenti!C498,\"  CF: \",Committenti!D498),\"\")","v":""}]
["",null,null,null,null,null,null,null,null,null,null,null,null,null,null,null,{"$f":"IF(Committenti!D499<>\"\",CONCATENATE(Committenti!B499,\"  \",Committenti!C499,\"  CF: \",Committenti!D499),\"\")","v":""}]
["",null,null,null,null,null,null,null,null,null,null,null,null,null,null,null,{"$f":"IF(Committenti!D500<>\"\",CONCATENATE(Committenti!B500,\"  \",Committenti!C500,\"  CF: \",Committenti!D500),\"\")","v":""}]
["",null,null,null,null,null,null,null,null,null,null,null,null,null,null,null,{"$f":"IF(Committenti!D501<>\"\",CONCATENATE(Committenti!B501,\"  \",Committenti!C501,\"  CF: \",Committenti!D501),\"\")","v":""}]
["",null,null,null,null,null,null,null,null,null,null,null,null,null,null,null,{"$f":"IF(Committenti!D502<>\"\",CONCATENATE(Committenti!B502,\"  \",Committenti!C502,\"  CF: \",Committenti!D502),\"\")","v":""}]
["",null,null,null,null,null,null,null,null,null,null,null,null,null,null,null,{"$f":"IF(Committenti!D503<>\"\",CONCATENATE(Committenti!B503,\"  \",Committenti!C503,\"  CF: \",Committenti!D503),\"\")","v":""}]
["",null,null,null,null,null,null,null,null,null,null,null,null,null,null,null,{"$f":"IF(Committenti!D504<>\"\",CONCATENATE(Committenti!B504,\"  \",Committenti!C504,\"  CF: \",Committenti!D504),\"\")","v":""}]
["",null,null,null,null,null,null,null,null,null,null,null,null,null,null,null,{"$f":"IF(Committenti!D505<>\"\",CONCATENATE(Committenti!B505,\"  \",Committenti!C505,\"  CF: \",Committenti!D505),\"\")","v":""}]
["",null,null,null,null,null,null,null,null,null,null,null,null,null,null,null,{"$f":"IF(Committenti!D506<>\"\",CONCATENATE(Committenti!B506,\"  \",Committenti!C506,\"  CF: \",Committenti!D506),\"\")","v":""}]
["",null,null,null,null,null,null,null,null,null,null,null,null,null,null,null,{"$f":"IF(Committenti!D507<>\"\",CONCATENATE(Committenti!B507,\"  \",Committenti!C507,\"  CF: \",Committenti!D507),\"\")","v":""}]
["",null,null,null,null,null,null,null,null,null,null,null,null,null,null,null,{"$f":"IF(Committenti!D508<>\"\",CONCATENATE(Committenti!B508,\"  \",Committenti!C508,\"  CF: \",Committenti!D508),\"\")","v":""}]
["",null,null,null,null,null,null,null,null,null,null,null,null,null,null,null,{"$f":"IF(Committenti!D509<>\"\",CONCATENATE(Committenti!B509,\"  \",Committenti!C509,\"  CF: \",Committenti!D509),\"\")","v":""}]
["",null,null,null,null,null,null,null,null,null,null,null,null,null,null,null,{"$f":"IF(Committenti!D510<>\"\",CONCATENATE(Committenti!B510,\"  \",Committenti!C510,\"  CF: \",Committenti!D510),\"\")","v":""}]
["",null,null,null,null,null,null,null,null,null,null,null,null,null,null,null,{"$f":"IF(Committenti!D511<>\"\",CONCATENATE(Committenti!B511,\"  \",Committenti!C511,\"  CF: \",Committenti!D511),\"\")","v":""}]
["",null,null,null,null,null,null,null,null,null,null,null,null,null,null,null,{"$f":"IF(Committenti!D512<>\"\",CONCATENATE(Committenti!B512,\"  \",Committenti!C512,\"  CF: \",Committenti!D512),\"\")","v":""}]
["",null,null,null,null,null,null,null,null,null,null,null,null,null,null,null,{"$f":"IF(Committenti!D513<>\"\",CONCATENATE(Committenti!B513,\"  \",Committenti!C513,\"  CF: \",Committenti!D513),\"\")","v":""}]
["",null,null,null,null,null,null,null,null,null,null,null,null,null,null,null,{"$f":"IF(Committenti!D514<>\"\",CONCATENATE(Committenti!B514,\"  \",Committenti!C514,\"  CF: \",Committenti!D514),\"\")","v":""}]
["",null,null,null,null,null,null,null,null,null,null,null,null,null,null,null,{"$f":"IF(Committenti!D515<>\"\",CONCATENATE(Committenti!B515,\"  \",Committenti!C515,\"  CF: \",Committenti!D515),\"\")","v":""}]
["",null,null,null,null,null,null,null,null,null,null,null,null,null,null,null,{"$f":"IF(Committenti!D516<>\"\",CONCATENATE(Committenti!B516,\"  \",Committenti!C516,\"  CF: \",Committenti!D516),\"\")","v":""}]
[{"$f":"IF(B517<>\"\", IF(A516<>\"\",A516+1,\"\"),\"\")","v":""},null,null,null,null,null,null,null,null,null,null,null,null,null,null,null,{"$f":"IF(Committenti!D517<>\"\",CONCATENATE(Committenti!B517,\"  \",Committenti!C517,\"  CF: \",Committenti!D517),\"\")","v":""}]
["",null,null,null,null,null,null,null,null,null,null,null,null,null,null,null,{"$f":"IF(Committenti!D518<>\"\",CONCATENATE(Committenti!B518,\"  \",Committenti!C518,\"  CF: \",Committenti!D518),\"\")","v":""}]
["",null,null,null,null,null,null,null,null,null,null,null,null,null,null,null,{"$f":"IF(Committenti!D519<>\"\",CONCATENATE(Committenti!B519,\"  \",Committenti!C519,\"  CF: \",Committenti!D519),\"\")","v":""}]
["",null,null,null,null,null,null,null,null,null,null,null,null,null,null,null,{"$f":"IF(Committenti!D520<>\"\",CONCATENATE(Committenti!B520,\"  \",Committenti!C520,\"  CF: \",Committenti!D520),\"\")","v":""}]
["",null,null,null,null,null,null,null,null,null,null,null,null,null,null,null,{"$f":"IF(Committenti!D521<>\"\",CONCATENATE(Committenti!B521,\"  \",Committenti!C521,\"  CF: \",Committenti!D521),\"\")","v":""}]
["",null,null,null,null,null,null,null,null,null,null,null,null,null,null,null,{"$f":"IF(Committenti!D522<>\"\",CONCATENATE(Committenti!B522,\"  \",Committenti!C522,\"  CF: \",Committenti!D522),\"\")","v":""}]
["",null,null,null,null,null,null,null,null,null,null,null,null,null,null,null,{"$f":"IF(Committenti!D523<>\"\",CONCATENATE(Committenti!B523,\"  \",Committenti!C523,\"  CF: \",Committenti!D523),\"\")","v":""}]
["",null,null,null,null,null,null,null,null,null,null,null,null,null,null,null,{"$f":"IF(Committenti!D524<>\"\",CONCATENATE(Committenti!B524,\"  \",Committenti!C524,\"  CF: \",Committenti!D524),\"\")","v":""}]
["",null,null,null,null,null,null,null,null,null,null,null,null,null,null,null,{"$f":"IF(Committenti!D525<>\"\",CONCATENATE(Committenti!B525,\"  \",Committenti!C525,\"  CF: \",Committenti!D525),\"\")","v":""}]
["",null,null,null,null,null,null,null,null,null,null,null,null,null,null,null,{"$f":"IF(Committenti!D526<>\"\",CONCATENATE(Committenti!B526,\"  \",Committenti!C526,\"  CF: \",Committenti!D526),\"\")","v":""}]
["",null,null,null,null,null,null,null,null,null,null,null,null,null,null,null,{"$f":"IF(Committenti!D527<>\"\",CONCATENATE(Committenti!B527,\"  \",Committenti!C527,\"  CF: \",Committenti!D527),\"\")","v":""}]
["",null,null,null,null,null,null,null,null,null,null,null,null,null,null,null,{"$f":"IF(Committenti!D528<>\"\",CONCATENATE(Committenti!B528,\"  \",Committenti!C528,\"  CF: \",Committenti!D528),\"\")","v":""}]
["",null,null,null,null,null,null,null,null,null,null,null,null,null,null,null,{"$f":"IF(Committenti!D529<>\"\",CONCATENATE(Committenti!B529,\"  \",Committenti!C529,\"  CF: \",Committenti!D529),\"\")","v":""}]
["",null,null,null,null,null,null,null,null,null,null,null,null,null,null,null,{"$f":"IF(Committenti!D530<>\"\",CONCATENATE(Committenti!B530,\"  \",Committenti!C530,\"  CF: \",Committenti!D530),\"\")","v":""}]
["",null,null,null,null,null,null,null,null,null,null,null,null,null,null,null,{"$f":"IF(Committenti!D531<>\"\",CONCATENATE(Committenti!B531,\"  \",Committenti!C531,\"  CF: \",Committenti!D531),\"\")","v":""}]
["",null,null,null,null,null,null,null,null,null,null,null,null,null,null,null,{"$f":"IF(Committenti!D532<>\"\",CONCATENATE(Committenti!B532,\"  \",Committenti!C532,\"  CF: \",Committenti!D532),\"\")","v":""}]
["",null,null,null,null,null,null,null,null,null,null,null,null,null,null,null,{"$f":"IF(Committenti!D533<>\"\",CONCATENATE(Committenti!B533,\"  \",Committenti!C533,\"  CF: \",Committenti!D533),\"\")","v":""}]
["",null,null,null,null,null,null,null,null,null,null,null,null,null,null,null,{"$f":"IF(Committenti!D534<>\"\",CONCATENATE(Committenti!B534,\"  \",Committenti!C534,\"  CF: \",Committenti!D534),\"\")","v":""}]
["",null,null,null,null,null,null,null,null,null,null,null,null,null,null,null,{"$f":"IF(Committenti!D535<>\"\",CONCATENATE(Committenti!B535,\"  \",Committenti!C535,\"  CF: \",Committenti!D535),\"\")","v":""}]
["",null,null,null,null,null,null,null,null,null,null,null,null,null,null,null,{"$f":"IF(Committenti!D536<>\"\",CONCATENATE(Committenti!B536,\"  \",Committenti!C536,\"  CF: \",Committenti!D536),\"\")","v":""}]
["",null,null,null,null,null,null,null,null,null,null,null,null,null,null,null,{"$f":"IF(Committenti!D537<>\"\",CONCATENATE(Committenti!B537,\"  \",Committenti!C537,\"  CF: \",Committenti!D537),\"\")","v":""}]
["",null,null,null,null,null,null,null,null,null,null,null,null,null,null,null,{"$f":"IF(Committenti!D538<>\"\",CONCATENATE(Committenti!B538,\"  \",Committenti!C538,\"  CF: \",Committenti!D538),\"\")","v":""}]
["",null,null,null,null,null,null,null,null,null,null,null,null,null,null,null,{"$f":"IF(Committenti!D539<>\"\",CONCATENATE(Committenti!B539,\"  \",Committenti!C539,\"  CF: \",Committenti!D539),\"\")","v":""}]
["",null,null,null,null,null,null,null,null,null,null,null,null,null,null,null,{"$f":"IF(Committenti!D540<>\"\",CONCATENATE(Committenti!B540,\"  \",Committenti!C540,\"  CF: \",Committenti!D540),\"\")","v":""}]
["",null,null,null,null,null,null,null,null,null,null,null,null,null,null,null,{"$f":"IF(Committenti!D541<>\"\",CONCATENATE(Committenti!B541,\"  \",Committenti!C541,\"  CF: \",Committenti!D541),\"\")","v":""}]
["",null,null,null,null,null,null,null,null,null,null,null,null,null,null,null,{"$f":"IF(Committenti!D542<>\"\",CONCATENATE(Committenti!B542,\"  \",Committenti!C542,\"  CF: \",Committenti!D542),\"\")","v":""}]
["",null,null,null,null,null,null,null,null,null,null,null,null,null,null,null,{"$f":"IF(Committenti!D543<>\"\",CONCATENATE(Committenti!B543,\"  \",Committenti!C543,\"  CF: \",Committenti!D543),\"\")","v":""}]
["",null,null,null,null,null,null,null,null,null,null,null,null,null,null,null,{"$f":"IF(Committenti!D544<>\"\",CONCATENATE(Committenti!B544,\"  \",Committenti!C544,\"  CF: \",Committenti!D544),\"\")","v":""}]
["",null,null,null,null,null,null,null,null,null,null,null,null,null,null,null,{"$f":"IF(Committenti!D545<>\"\",CONCATENATE(Committenti!B545,\"  \",Committenti!C545,\"  CF: \",Committenti!D545),\"\")","v":""}]
["",null,null,null,null,null,null,null,null,null,null,null,null,null,null,null,{"$f":"IF(Committenti!D546<>\"\",CONCATENATE(Committenti!B546,\"  \",Committenti!C546,\"  CF: \",Committenti!D546),\"\")","v":""}]
["",null,null,null,null,null,null,null,null,null,null,null,null,null,null,null,{"$f":"IF(Committenti!D547<>\"\",CONCATENATE(Committenti!B547,\"  \",Committenti!C547,\"  CF: \",Committenti!D547),\"\")","v":""}]
["",null,null,null,null,null,null,null,null,null,null,null,null,null,null,null,{"$f":"IF(Committenti!D548<>\"\",CONCATENATE(Committenti!B548,\"  \",Committenti!C548,\"  CF: \",Committenti!D548),\"\")","v":""}]
["",null,null,null,null,null,null,null,null,null,null,null,null,null,null,null,{"$f":"IF(Committenti!D549<>\"\",CONCATENATE(Committenti!B549,\"  \",Committenti!C549,\"  CF: \",Committenti!D549),\"\")","v":""}]
["",null,null,null,null,null,null,null,null,null,null,null,null,null,null,null,{"$f":"IF(Committenti!D550<>\"\",CONCATENATE(Committenti!B550,\"  \",Committenti!C550,\"  CF: \",Committenti!D550),\"\")","v":""}]
["",null,null,null,null,null,null,null,null,null,null,null,null,null,null,null,{"$f":"IF(Committenti!D551<>\"\",CONCATENATE(Committenti!B551,\"  \",Committenti!C551,\"  CF: \",Committenti!D551),\"\")","v":""}]
["",null,null,null,null,null,null,null,null,null,null,null,null,null,null,null,{"$f":"IF(Committenti!D552<>\"\",CONCATENATE(Committenti!B552,\"  \",Committenti!C552,\"  CF: \",Committenti!D552),\"\")","v":""}]
["",null,null,null,null,null,null,null,null,null,null,null,null,null,null,null,{"$f":"IF(Committenti!D553<>\"\",CONCATENATE(Committenti!B553,\"  \",Committenti!C553,\"  CF: \",Committenti!D553),\"\")","v":""}]
["",null,null,null,null,null,null,null,null,null,null,null,null,null,null,null,{"$f":"IF(Committenti!D554<>\"\",CONCATENATE(Committenti!B554,\"  \",Committenti!C554,\"  CF: \",Committenti!D554),\"\")","v":""}]
["",null,null,null,null,null,null,null,null,null,null,null,null,null,null,null,{"$f":"IF(Committenti!D555<>\"\",CONCATENATE(Committenti!B555,\"  \",Committenti!C555,\"  CF: \",Committenti!D555),\"\")","v":""}]
["",null,null,null,null,null,null,null,null,null,null,null,null,null,null,null,{"$f":"IF(Committenti!D556<>\"\",CONCATENATE(Committenti!B556,\"  \",Committenti!C556,\"  CF: \",Committenti!D556),\"\")","v":""}]
["",null,null,null,null,null,null,null,null,null,null,null,null,null,null,null,{"$f":"IF(Committenti!D557<>\"\",CONCATENATE(Committenti!B557,\"  \",Committenti!C557,\"  CF: \",Committenti!D557),\"\")","v":""}]
["",null,null,null,null,null,null,null,null,null,null,null,null,null,null,null,{"$f":"IF(Committenti!D558<>\"\",CONCATENATE(Committenti!B558,\"  \",Committenti!C558,\"  CF: \",Committenti!D558),\"\")","v":""}]
["",null,null,null,null,null,null,null,null,null,null,null,null,null,null,null,{"$f":"IF(Committenti!D559<>\"\",CONCATENATE(Committenti!B559,\"  \",Committenti!C559,\"  CF: \",Committenti!D559),\"\")","v":""}]
["",null,null,null,null,null,null,null,null,null,null,null,null,null,null,null,{"$f":"IF(Committenti!D560<>\"\",CONCATENATE(Committenti!B560,\"  \",Committenti!C560,\"  CF: \",Committenti!D560),\"\")","v":""}]
["",null,null,null,null,null,null,null,null,null,null,null,null,null,null,null,{"$f":"IF(Committenti!D561<>\"\",CONCATENATE(Committenti!B561,\"  \",Committenti!C561,\"  CF: \",Committenti!D561),\"\")","v":""}]
["",null,null,null,null,null,null,null,null,null,null,null,null,null,null,null,{"$f":"IF(Committenti!D562<>\"\",CONCATENATE(Committenti!B562,\"  \",Committenti!C562,\"  CF: \",Committenti!D562),\"\")","v":""}]
["",null,null,null,null,null,null,null,null,null,null,null,null,null,null,null,{"$f":"IF(Committenti!D563<>\"\",CONCATENATE(Committenti!B563,\"  \",Committenti!C563,\"  CF: \",Committenti!D563),\"\")","v":""}]
["",null,null,null,null,null,null,null,null,null,null,null,null,null,null,null,{"$f":"IF(Committenti!D564<>\"\",CONCATENATE(Committenti!B564,\"  \",Committenti!C564,\"  CF: \",Committenti!D564),\"\")","v":""}]
["",null,null,null,null,null,null,null,null,null,null,null,null,null,null,null,{"$f":"IF(Committenti!D565<>\"\",CONCATENATE(Committenti!B565,\"  \",Committenti!C565,\"  CF: \",Committenti!D565),\"\")","v":""}]
["",null,null,null,null,null,null,null,null,null,null,null,null,null,null,null,{"$f":"IF(Committenti!D566<>\"\",CONCATENATE(Committenti!B566,\"  \",Committenti!C566,\"  CF: \",Committenti!D566),\"\")","v":""}]
["",null,null,null,null,null,null,null,null,null,null,null,null,null,null,null,{"$f":"IF(Committenti!D567<>\"\",CONCATENATE(Committenti!B567,\"  \",Committenti!C567,\"  CF: \",Committenti!D567),\"\")","v":""}]
["",null,null,null,null,null,null,null,null,null,null,null,null,null,null,null,{"$f":"IF(Committenti!D568<>\"\",CONCATENATE(Committenti!B568,\"  \",Committenti!C568,\"  CF: \",Committenti!D568),\"\")","v":""}]
["",null,null,null,null,null,null,null,null,null,null,null,null,null,null,null,{"$f":"IF(Committenti!D569<>\"\",CONCATENATE(Committenti!B569,\"  \",Committenti!C569,\"  CF: \",Committenti!D569),\"\")","v":""}]
["",null,null,null,null,null,null,null,null,null,null,null,null,null,null,null,{"$f":"IF(Committenti!D570<>\"\",CONCATENATE(Committenti!B570,\"  \",Committenti!C570,\"  CF: \",Committenti!D570),\"\")","v":""}]
["",null,null,null,null,null,null,null,null,null,null,null,null,null,null,null,{"$f":"IF(Committenti!D571<>\"\",CONCATENATE(Committenti!B571,\"  \",Committenti!C571,\"  CF: \",Committenti!D571),\"\")","v":""}]
["",null,null,null,null,null,null,null,null,null,null,null,null,null,null,null,{"$f":"IF(Committenti!D572<>\"\",CONCATENATE(Committenti!B572,\"  \",Committenti!C572,\"  CF: \",Committenti!D572),\"\")","v":""}]
["",null,null,null,null,null,null,null,null,null,null,null,null,null,null,null,{"$f":"IF(Committenti!D573<>\"\",CONCATENATE(Committenti!B573,\"  \",Committenti!C573,\"  CF: \",Committenti!D573),\"\")","v":""}]
["",null,null,null,null,null,null,null,null,null,null,null,null,null,null,null,{"$f":"IF(Committenti!D574<>\"\",CONCATENATE(Committenti!B574,\"  \",Committenti!C574,\"  CF: \",Committenti!D574),\"\")","v":""}]
["",null,null,null,null,null,null,null,null,null,null,null,null,null,null,null,{"$f":"IF(Committenti!D575<>\"\",CONCATENATE(Committenti!B575,\"  \",Committenti!C575,\"  CF: \",Committenti!D575),\"\")","v":""}]
["",null,null,null,null,null,null,null,null,null,null,null,null,null,null,null,{"$f":"IF(Committenti!D576<>\"\",CONCATENATE(Committenti!B576,\"  \",Committenti!C576,\"  CF: \",Committenti!D576),\"\")","v":""}]
["",null,null,null,null,null,null,null,null,null,null,null,null,null,null,null,{"$f":"IF(Committenti!D577<>\"\",CONCATENATE(Committenti!B577,\"  \",Committenti!C577,\"  CF: \",Committenti!D577),\"\")","v":""}]
["",null,null,null,null,null,null,null,null,null,null,null,null,null,null,null,{"$f":"IF(Committenti!D578<>\"\",CONCATENATE(Committenti!B578,\"  \",Committenti!C578,\"  CF: \",Committenti!D578),\"\")","v":""}]
["",null,null,null,null,null,null,null,null,null,null,null,null,null,null,null,{"$f":"IF(Committenti!D579<>\"\",CONCATENATE(Committenti!B579,\"  \",Committenti!C579,\"  CF: \",Committenti!D579),\"\")","v":""}]
["",null,null,null,null,null,null,null,null,null,null,null,null,null,null,null,{"$f":"IF(Committenti!D580<>\"\",CONCATENATE(Committenti!B580,\"  \",Committenti!C580,\"  CF: \",Committenti!D580),\"\")","v":""}]
[{"$f":"IF(B581<>\"\", IF(A580<>\"\",A580+1,\"\"),\"\")","v":""},null,null,null,null,null,null,null,null,null,null,null,null,null,null,null,{"$f":"IF(Committenti!D581<>\"\",CONCATENATE(Committenti!B581,\"  \",Committenti!C581,\"  CF: \",Committenti!D581),\"\")","v":""}]
["",null,null,null,null,null,null,null,null,null,null,null,null,null,null,null,{"$f":"IF(Committenti!D582<>\"\",CONCATENATE(Committenti!B582,\"  \",Committenti!C582,\"  CF: \",Committenti!D582),\"\")","v":""}]
["",null,null,null,null,null,null,null,null,null,null,null,null,null,null,null,{"$f":"IF(Committenti!D583<>\"\",CONCATENATE(Committenti!B583,\"  \",Committenti!C583,\"  CF: \",Committenti!D583),\"\")","v":""}]
["",null,null,null,null,null,null,null,null,null,null,null,null,null,null,null,{"$f":"IF(Committenti!D584<>\"\",CONCATENATE(Committenti!B584,\"  \",Committenti!C584,\"  CF: \",Committenti!D584),\"\")","v":""}]
["",null,null,null,null,null,null,null,null,null,null,null,null,null,null,null,{"$f":"IF(Committenti!D585<>\"\",CONCATENATE(Committenti!B585,\"  \",Committenti!C585,\"  CF: \",Committenti!D585),\"\")","v":""}]
["",null,null,null,null,null,null,null,null,null,null,null,null,null,null,null,{"$f":"IF(Committenti!D586<>\"\",CONCATENATE(Committenti!B586,\"  \",Committenti!C586,\"  CF: \",Committenti!D586),\"\")","v":""}]
["",null,null,null,null,null,null,null,null,null,null,null,null,null,null,null,{"$f":"IF(Committenti!D587<>\"\",CONCATENATE(Committenti!B587,\"  \",Committenti!C587,\"  CF: \",Committenti!D587),\"\")","v":""}]
["",null,null,null,null,null,null,null,null,null,null,null,null,null,null,null,{"$f":"IF(Committenti!D588<>\"\",CONCATENATE(Committenti!B588,\"  \",Committenti!C588,\"  CF: \",Committenti!D588),\"\")","v":""}]
["",null,null,null,null,null,null,null,null,null,null,null,null,null,null,null,{"$f":"IF(Committenti!D589<>\"\",CONCATENATE(Committenti!B589,\"  \",Committenti!C589,\"  CF: \",Committenti!D589),\"\")","v":""}]
["",null,null,null,null,null,null,null,null,null,null,null,null,null,null,null,{"$f":"IF(Committenti!D590<>\"\",CONCATENATE(Committenti!B590,\"  \",Committenti!C590,\"  CF: \",Committenti!D590),\"\")","v":""}]
["",null,null,null,null,null,null,null,null,null,null,null,null,null,null,null,{"$f":"IF(Committenti!D591<>\"\",CONCATENATE(Committenti!B591,\"  \",Committenti!C591,\"  CF: \",Committenti!D591),\"\")","v":""}]
["",null,null,null,null,null,null,null,null,null,null,null,null,null,null,null,{"$f":"IF(Committenti!D592<>\"\",CONCATENATE(Committenti!B592,\"  \",Committenti!C592,\"  CF: \",Committenti!D592),\"\")","v":""}]
["",null,null,null,null,null,null,null,null,null,null,null,null,null,null,null,{"$f":"IF(Committenti!D593<>\"\",CONCATENATE(Committenti!B593,\"  \",Committenti!C593,\"  CF: \",Committenti!D593),\"\")","v":""}]
["",null,null,null,null,null,null,null,null,null,null,null,null,null,null,null,{"$f":"IF(Committenti!D594<>\"\",CONCATENATE(Committenti!B594,\"  \",Committenti!C594,\"  CF: \",Committenti!D594),\"\")","v":""}]
["",null,null,null,null,null,null,null,null,null,null,null,null,null,null,null,{"$f":"IF(Committenti!D595<>\"\",CONCATENATE(Committenti!B595,\"  \",Committenti!C595,\"  CF: \",Committenti!D595),\"\")","v":""}]
["",null,null,null,null,null,null,null,null,null,null,null,null,null,null,null,{"$f":"IF(Committenti!D596<>\"\",CONCATENATE(Committenti!B596,\"  \",Committenti!C596,\"  CF: \",Committenti!D596),\"\")","v":""}]
["",null,null,null,null,null,null,null,null,null,null,null,null,null,null,null,{"$f":"IF(Committenti!D597<>\"\",CONCATENATE(Committenti!B597,\"  \",Committenti!C597,\"  CF: \",Committenti!D597),\"\")","v":""}]
["",null,null,null,null,null,null,null,null,null,null,null,null,null,null,null,{"$f":"IF(Committenti!D598<>\"\",CONCATENATE(Committenti!B598,\"  \",Committenti!C598,\"  CF: \",Committenti!D598),\"\")","v":""}]
["",null,null,null,null,null,null,null,null,null,null,null,null,null,null,null,{"$f":"IF(Committenti!D599<>\"\",CONCATENATE(Committenti!B599,\"  \",Committenti!C599,\"  CF: \",Committenti!D599),\"\")","v":""}]
["",null,null,null,null,null,null,null,null,null,null,null,null,null,null,null,{"$f":"IF(Committenti!D600<>\"\",CONCATENATE(Committenti!B600,\"  \",Committenti!C600,\"  CF: \",Committenti!D600),\"\")","v":""}]
["",null,null,null,null,null,null,null,null,null,null,null,null,null,null,null,{"$f":"IF(Committenti!D601<>\"\",CONCATENATE(Committenti!B601,\"  \",Committenti!C601,\"  CF: \",Committenti!D601),\"\")","v":""}]
["",null,null,null,null,null,null,null,null,null,null,null,null,null,null,null,{"$f":"IF(Committenti!D602<>\"\",CONCATENATE(Committenti!B602,\"  \",Committenti!C602,\"  CF: \",Committenti!D602),\"\")","v":""}]
["",null,null,null,null,null,null,null,null,null,null,null,null,null,null,null,{"$f":"IF(Committenti!D603<>\"\",CONCATENATE(Committenti!B603,\"  \",Committenti!C603,\"  CF: \",Committenti!D603),\"\")","v":""}]
["",null,null,null,null,null,null,null,null,null,null,null,null,null,null,null,{"$f":"IF(Committenti!D604<>\"\",CONCATENATE(Committenti!B604,\"  \",Committenti!C604,\"  CF: \",Committenti!D604),\"\")","v":""}]
["",null,null,null,null,null,null,null,null,null,null,null,null,null,null,null,{"$f":"IF(Committenti!D605<>\"\",CONCATENATE(Committenti!B605,\"  \",Committenti!C605,\"  CF: \",Committenti!D605),\"\")","v":""}]
["",null,null,null,null,null,null,null,null,null,null,null,null,null,null,null,{"$f":"IF(Committenti!D606<>\"\",CONCATENATE(Committenti!B606,\"  \",Committenti!C606,\"  CF: \",Committenti!D606),\"\")","v":""}]
["",null,null,null,null,null,null,null,null,null,null,null,null,null,null,null,{"$f":"IF(Committenti!D607<>\"\",CONCATENATE(Committenti!B607,\"  \",Committenti!C607,\"  CF: \",Committenti!D607),\"\")","v":""}]
["",null,null,null,null,null,null,null,null,null,null,null,null,null,null,null,{"$f":"IF(Committenti!D608<>\"\",CONCATENATE(Committenti!B608,\"  \",Committenti!C608,\"  CF: \",Committenti!D608),\"\")","v":""}]
["",null,null,null,null,null,null,null,null,null,null,null,null,null,null,null,{"$f":"IF(Committenti!D609<>\"\",CONCATENATE(Committenti!B609,\"  \",Committenti!C609,\"  CF: \",Committenti!D609),\"\")","v":""}]
["",null,null,null,null,null,null,null,null,null,null,null,null,null,null,null,{"$f":"IF(Committenti!D610<>\"\",CONCATENATE(Committenti!B610,\"  \",Committenti!C610,\"  CF: \",Committenti!D610),\"\")","v":""}]
["",null,null,null,null,null,null,null,null,null,null,null,null,null,null,null,{"$f":"IF(Committenti!D611<>\"\",CONCATENATE(Committenti!B611,\"  \",Committenti!C611,\"  CF: \",Committenti!D611),\"\")","v":""}]
["",null,null,null,null,null,null,null,null,null,null,null,null,null,null,null,{"$f":"IF(Committenti!D612<>\"\",CONCATENATE(Committenti!B612,\"  \",Committenti!C612,\"  CF: \",Committenti!D612),\"\")","v":""}]
["",null,null,null,null,null,null,null,null,null,null,null,null,null,null,null,{"$f":"IF(Committenti!D613<>\"\",CONCATENATE(Committenti!B613,\"  \",Committenti!C613,\"  CF: \",Committenti!D613),\"\")","v":""}]
["",null,null,null,null,null,null,null,null,null,null,null,null,null,null,null,{"$f":"IF(Committenti!D614<>\"\",CONCATENATE(Committenti!B614,\"  \",Committenti!C614,\"  CF: \",Committenti!D614),\"\")","v":""}]
["",null,null,null,null,null,null,null,null,null,null,null,null,null,null,null,{"$f":"IF(Committenti!D615<>\"\",CONCATENATE(Committenti!B615,\"  \",Committenti!C615,\"  CF: \",Committenti!D615),\"\")","v":""}]
["",null,null,null,null,null,null,null,null,null,null,null,null,null,null,null,{"$f":"IF(Committenti!D616<>\"\",CONCATENATE(Committenti!B616,\"  \",Committenti!C616,\"  CF: \",Committenti!D616),\"\")","v":""}]
["",null,null,null,null,null,null,null,null,null,null,null,null,null,null,null,{"$f":"IF(Committenti!D617<>\"\",CONCATENATE(Committenti!B617,\"  \",Committenti!C617,\"  CF: \",Committenti!D617),\"\")","v":""}]
["",null,null,null,null,null,null,null,null,null,null,null,null,null,null,null,{"$f":"IF(Committenti!D618<>\"\",CONCATENATE(Committenti!B618,\"  \",Committenti!C618,\"  CF: \",Committenti!D618),\"\")","v":""}]
["",null,null,null,null,null,null,null,null,null,null,null,null,null,null,null,{"$f":"IF(Committenti!D619<>\"\",CONCATENATE(Committenti!B619,\"  \",Committenti!C619,\"  CF: \",Committenti!D619),\"\")","v":""}]
["",null,null,null,null,null,null,null,null,null,null,null,null,null,null,null,{"$f":"IF(Committenti!D620<>\"\",CONCATENATE(Committenti!B620,\"  \",Committenti!C620,\"  CF: \",Committenti!D620),\"\")","v":""}]
["",null,null,null,null,null,null,null,null,null,null,null,null,null,null,null,{"$f":"IF(Committenti!D621<>\"\",CONCATENATE(Committenti!B621,\"  \",Committenti!C621,\"  CF: \",Committenti!D621),\"\")","v":""}]
["",null,null,null,null,null,null,null,null,null,null,null,null,null,null,null,{"$f":"IF(Committenti!D622<>\"\",CONCATENATE(Committenti!B622,\"  \",Committenti!C622,\"  CF: \",Committenti!D622),\"\")","v":""}]
["",null,null,null,null,null,null,null,null,null,null,null,null,null,null,null,{"$f":"IF(Committenti!D623<>\"\",CONCATENATE(Committenti!B623,\"  \",Committenti!C623,\"  CF: \",Committenti!D623),\"\")","v":""}]
["",null,null,null,null,null,null,null,null,null,null,null,null,null,null,null,{"$f":"IF(Committenti!D624<>\"\",CONCATENATE(Committenti!B624,\"  \",Committenti!C624,\"  CF: \",Committenti!D624),\"\")","v":""}]
["",null,null,null,null,null,null,null,null,null,null,null,null,null,null,null,{"$f":"IF(Committenti!D625<>\"\",CONCATENATE(Committenti!B625,\"  \",Committenti!C625,\"  CF: \",Committenti!D625),\"\")","v":""}]
["",null,null,null,null,null,null,null,null,null,null,null,null,null,null,null,{"$f":"IF(Committenti!D626<>\"\",CONCATENATE(Committenti!B626,\"  \",Committenti!C626,\"  CF: \",Committenti!D626),\"\")","v":""}]
["",null,null,null,null,null,null,null,null,null,null,null,null,null,null,null,{"$f":"IF(Committenti!D627<>\"\",CONCATENATE(Committenti!B627,\"  \",Committenti!C627,\"  CF: \",Committenti!D627),\"\")","v":""}]
["",null,null,null,null,null,null,null,null,null,null,null,null,null,null,null,{"$f":"IF(Committenti!D628<>\"\",CONCATENATE(Committenti!B628,\"  \",Committenti!C628,\"  CF: \",Committenti!D628),\"\")","v":""}]
["",null,null,null,null,null,null,null,null,null,null,null,null,null,null,null,{"$f":"IF(Committenti!D629<>\"\",CONCATENATE(Committenti!B629,\"  \",Committenti!C629,\"  CF: \",Committenti!D629),\"\")","v":""}]
["",null,null,null,null,null,null,null,null,null,null,null,null,null,null,null,{"$f":"IF(Committenti!D630<>\"\",CONCATENATE(Committenti!B630,\"  \",Committenti!C630,\"  CF: \",Committenti!D630),\"\")","v":""}]
["",null,null,null,null,null,null,null,null,null,null,null,null,null,null,null,{"$f":"IF(Committenti!D631<>\"\",CONCATENATE(Committenti!B631,\"  \",Committenti!C631,\"  CF: \",Committenti!D631),\"\")","v":""}]
["",null,null,null,null,null,null,null,null,null,null,null,null,null,null,null,{"$f":"IF(Committenti!D632<>\"\",CONCATENATE(Committenti!B632,\"  \",Committenti!C632,\"  CF: \",Committenti!D632),\"\")","v":""}]
["",null,null,null,null,null,null,null,null,null,null,null,null,null,null,null,{"$f":"IF(Committenti!D633<>\"\",CONCATENATE(Committenti!B633,\"  \",Committenti!C633,\"  CF: \",Committenti!D633),\"\")","v":""}]
["",null,null,null,null,null,null,null,null,null,null,null,null,null,null,null,{"$f":"IF(Committenti!D634<>\"\",CONCATENATE(Committenti!B634,\"  \",Committenti!C634,\"  CF: \",Committenti!D634),\"\")","v":""}]
["",null,null,null,null,null,null,null,null,null,null,null,null,null,null,null,{"$f":"IF(Committenti!D635<>\"\",CONCATENATE(Committenti!B635,\"  \",Committenti!C635,\"  CF: \",Committenti!D635),\"\")","v":""}]
["",null,null,null,null,null,null,null,null,null,null,null,null,null,null,null,{"$f":"IF(Committenti!D636<>\"\",CONCATENATE(Committenti!B636,\"  \",Committenti!C636,\"  CF: \",Committenti!D636),\"\")","v":""}]
["",null,null,null,null,null,null,null,null,null,null,null,null,null,null,null,{"$f":"IF(Committenti!D637<>\"\",CONCATENATE(Committenti!B637,\"  \",Committenti!C637,\"  CF: \",Committenti!D637),\"\")","v":""}]
["",null,null,null,null,null,null,null,null,null,null,null,null,null,null,null,{"$f":"IF(Committenti!D638<>\"\",CONCATENATE(Committenti!B638,\"  \",Committenti!C638,\"  CF: \",Committenti!D638),\"\")","v":""}]
["",null,null,null,null,null,null,null,null,null,null,null,null,null,null,null,{"$f":"IF(Committenti!D639<>\"\",CONCATENATE(Committenti!B639,\"  \",Committenti!C639,\"  CF: \",Committenti!D639),\"\")","v":""}]
["",null,null,null,null,null,null,null,null,null,null,null,null,null,null,null,{"$f":"IF(Committenti!D640<>\"\",CONCATENATE(Committenti!B640,\"  \",Committenti!C640,\"  CF: \",Committenti!D640),\"\")","v":""}]
["",null,null,null,null,null,null,null,null,null,null,null,null,null,null,null,{"$f":"IF(Committenti!D641<>\"\",CONCATENATE(Committenti!B641,\"  \",Committenti!C641,\"  CF: \",Committenti!D641),\"\")","v":""}]
["",null,null,null,null,null,null,null,null,null,null,null,null,null,null,null,{"$f":"IF(Committenti!D642<>\"\",CONCATENATE(Committenti!B642,\"  \",Committenti!C642,\"  CF: \",Committenti!D642),\"\")","v":""}]
["",null,null,null,null,null,null,null,null,null,null,null,null,null,null,null,{"$f":"IF(Committenti!D643<>\"\",CONCATENATE(Committenti!B643,\"  \",Committenti!C643,\"  CF: \",Committenti!D643),\"\")","v":""}]
["",null,null,null,null,null,null,null,null,null,null,null,null,null,null,null,{"$f":"IF(Committenti!D644<>\"\",CONCATENATE(Committenti!B644,\"  \",Committenti!C644,\"  CF: \",Committenti!D644),\"\")","v":""}]
[{"$f":"IF(B645<>\"\", IF(A644<>\"\",A644+1,\"\"),\"\")","v":""},null,null,null,null,null,null,null,null,null,null,null,null,null,null,null,{"$f":"IF(Committenti!D645<>\"\",CONCATENATE(Committenti!B645,\"  \",Committenti!C645,\"  CF: \",Committenti!D645),\"\")","v":""}]
["",null,null,null,null,null,null,null,null,null,null,null,null,null,null,null,{"$f":"IF(Committenti!D646<>\"\",CONCATENATE(Committenti!B646,\"  \",Committenti!C646,\"  CF: \",Committenti!D646),\"\")","v":""}]
["",null,null,null,null,null,null,null,null,null,null,null,null,null,null,null,{"$f":"IF(Committenti!D647<>\"\",CONCATENATE(Committenti!B647,\"  \",Committenti!C647,\"  CF: \",Committenti!D647),\"\")","v":""}]
["",null,null,null,null,null,null,null,null,null,null,null,null,null,null,null,{"$f":"IF(Committenti!D648<>\"\",CONCATENATE(Committenti!B648,\"  \",Committenti!C648,\"  CF: \",Committenti!D648),\"\")","v":""}]
["",null,null,null,null,null,null,null,null,null,null,null,null,null,null,null,{"$f":"IF(Committenti!D649<>\"\",CONCATENATE(Committenti!B649,\"  \",Committenti!C649,\"  CF: \",Committenti!D649),\"\")","v":""}]
["",null,null,null,null,null,null,null,null,null,null,null,null,null,null,null,{"$f":"IF(Committenti!D650<>\"\",CONCATENATE(Committenti!B650,\"  \",Committenti!C650,\"  CF: \",Committenti!D650),\"\")","v":""}]
["",null,null,null,null,null,null,null,null,null,null,null,null,null,null,null,{"$f":"IF(Committenti!D651<>\"\",CONCATENATE(Committenti!B651,\"  \",Committenti!C651,\"  CF: \",Committenti!D651),\"\")","v":""}]
["",null,null,null,null,null,null,null,null,null,null,null,null,null,null,null,{"$f":"IF(Committenti!D652<>\"\",CONCATENATE(Committenti!B652,\"  \",Committenti!C652,\"  CF: \",Committenti!D652),\"\")","v":""}]
["",null,null,null,null,null,null,null,null,null,null,null,null,null,null,null,{"$f":"IF(Committenti!D653<>\"\",CONCATENATE(Committenti!B653,\"  \",Committenti!C653,\"  CF: \",Committenti!D653),\"\")","v":""}]
["",null,null,null,null,null,null,null,null,null,null,null,null,null,null,null,{"$f":"IF(Committenti!D654<>\"\",CONCATENATE(Committenti!B654,\"  \",Committenti!C654,\"  CF: \",Committenti!D654),\"\")","v":""}]
["",null,null,null,null,null,null,null,null,null,null,null,null,null,null,null,{"$f":"IF(Committenti!D655<>\"\",CONCATENATE(Committenti!B655,\"  \",Committenti!C655,\"  CF: \",Committenti!D655),\"\")","v":""}]
["",null,null,null,null,null,null,null,null,null,null,null,null,null,null,null,{"$f":"IF(Committenti!D656<>\"\",CONCATENATE(Committenti!B656,\"  \",Committenti!C656,\"  CF: \",Committenti!D656),\"\")","v":""}]
["",null,null,null,null,null,null,null,null,null,null,null,null,null,null,null,{"$f":"IF(Committenti!D657<>\"\",CONCATENATE(Committenti!B657,\"  \",Committenti!C657,\"  CF: \",Committenti!D657),\"\")","v":""}]
["",null,null,null,null,null,null,null,null,null,null,null,null,null,null,null,{"$f":"IF(Committenti!D658<>\"\",CONCATENATE(Committenti!B658,\"  \",Committenti!C658,\"  CF: \",Committenti!D658),\"\")","v":""}]
["",null,null,null,null,null,null,null,null,null,null,null,null,null,null,null,{"$f":"IF(Committenti!D659<>\"\",CONCATENATE(Committenti!B659,\"  \",Committenti!C659,\"  CF: \",Committenti!D659),\"\")","v":""}]
["",null,null,null,null,null,null,null,null,null,null,null,null,null,null,null,{"$f":"IF(Committenti!D660<>\"\",CONCATENATE(Committenti!B660,\"  \",Committenti!C660,\"  CF: \",Committenti!D660),\"\")","v":""}]
["",null,null,null,null,null,null,null,null,null,null,null,null,null,null,null,{"$f":"IF(Committenti!D661<>\"\",CONCATENATE(Committenti!B661,\"  \",Committenti!C661,\"  CF: \",Committenti!D661),\"\")","v":""}]
["",null,null,null,null,null,null,null,null,null,null,null,null,null,null,null,{"$f":"IF(Committenti!D662<>\"\",CONCATENATE(Committenti!B662,\"  \",Committenti!C662,\"  CF: \",Committenti!D662),\"\")","v":""}]
["",null,null,null,null,null,null,null,null,null,null,null,null,null,null,null,{"$f":"IF(Committenti!D663<>\"\",CONCATENATE(Committenti!B663,\"  \",Committenti!C663,\"  CF: \",Committenti!D663),\"\")","v":""}]
["",null,null,null,null,null,null,null,null,null,null,null,null,null,null,null,{"$f":"IF(Committenti!D664<>\"\",CONCATENATE(Committenti!B664,\"  \",Committenti!C664,\"  CF: \",Committenti!D664),\"\")","v":""}]
["",null,null,null,null,null,null,null,null,null,null,null,null,null,null,null,{"$f":"IF(Committenti!D665<>\"\",CONCATENATE(Committenti!B665,\"  \",Committenti!C665,\"  CF: \",Committenti!D665),\"\")","v":""}]
["",null,null,null,null,null,null,null,null,null,null,null,null,null,null,null,{"$f":"IF(Committenti!D666<>\"\",CONCATENATE(Committenti!B666,\"  \",Committenti!C666,\"  CF: \",Committenti!D666),\"\")","v":""}]
["",null,null,null,null,null,null,null,null,null,null,null,null,null,null,null,{"$f":"IF(Committenti!D667<>\"\",CONCATENATE(Committenti!B667,\"  \",Committenti!C667,\"  CF: \",Committenti!D667),\"\")","v":""}]
["",null,null,null,null,null,null,null,null,null,null,null,null,null,null,null,{"$f":"IF(Committenti!D668<>\"\",CONCATENATE(Committenti!B668,\"  \",Committenti!C668,\"  CF: \",Committenti!D668),\"\")","v":""}]
["",null,null,null,null,null,null,null,null,null,null,null,null,null,null,null,{"$f":"IF(Committenti!D669<>\"\",CONCATENATE(Committenti!B669,\"  \",Committenti!C669,\"  CF: \",Committenti!D669),\"\")","v":""}]
["",null,null,null,null,null,null,null,null,null,null,null,null,null,null,null,{"$f":"IF(Committenti!D670<>\"\",CONCATENATE(Committenti!B670,\"  \",Committenti!C670,\"  CF: \",Committenti!D670),\"\")","v":""}]
["",null,null,null,null,null,null,null,null,null,null,null,null,null,null,null,{"$f":"IF(Committenti!D671<>\"\",CONCATENATE(Committenti!B671,\"  \",Committenti!C671,\"  CF: \",Committenti!D671),\"\")","v":""}]
["",null,null,null,null,null,null,null,null,null,null,null,null,null,null,null,{"$f":"IF(Committenti!D672<>\"\",CONCATENATE(Committenti!B672,\"  \",Committenti!C672,\"  CF: \",Committenti!D672),\"\")","v":""}]
["",null,null,null,null,null,null,null,null,null,null,null,null,null,null,null,{"$f":"IF(Committenti!D673<>\"\",CONCATENATE(Committenti!B673,\"  \",Committenti!C673,\"  CF: \",Committenti!D673),\"\")","v":""}]
["",null,null,null,null,null,null,null,null,null,null,null,null,null,null,null,{"$f":"IF(Committenti!D674<>\"\",CONCATENATE(Committenti!B674,\"  \",Committenti!C674,\"  CF: \",Committenti!D674),\"\")","v":""}]
["",null,null,null,null,null,null,null,null,null,null,null,null,null,null,null,{"$f":"IF(Committenti!D675<>\"\",CONCATENATE(Committenti!B675,\"  \",Committenti!C675,\"  CF: \",Committenti!D675),\"\")","v":""}]
["",null,null,null,null,null,null,null,null,null,null,null,null,null,null,null,{"$f":"IF(Committenti!D676<>\"\",CONCATENATE(Committenti!B676,\"  \",Committenti!C676,\"  CF: \",Committenti!D676),\"\")","v":""}]
["",null,null,null,null,null,null,null,null,null,null,null,null,null,null,null,{"$f":"IF(Committenti!D677<>\"\",CONCATENATE(Committenti!B677,\"  \",Committenti!C677,\"  CF: \",Committenti!D677),\"\")","v":""}]
["",null,null,null,null,null,null,null,null,null,null,null,null,null,null,null,{"$f":"IF(Committenti!D678<>\"\",CONCATENATE(Committenti!B678,\"  \",Committenti!C678,\"  CF: \",Committenti!D678),\"\")","v":""}]
["",null,null,null,null,null,null,null,null,null,null,null,null,null,null,null,{"$f":"IF(Committenti!D679<>\"\",CONCATENATE(Committenti!B679,\"  \",Committenti!C679,\"  CF: \",Committenti!D679),\"\")","v":""}]
["",null,null,null,null,null,null,null,null,null,null,null,null,null,null,null,{"$f":"IF(Committenti!D680<>\"\",CONCATENATE(Committenti!B680,\"  \",Committenti!C680,\"  CF: \",Committenti!D680),\"\")","v":""}]
["",null,null,null,null,null,null,null,null,null,null,null,null,null,null,null,{"$f":"IF(Committenti!D681<>\"\",CONCATENATE(Committenti!B681,\"  \",Committenti!C681,\"  CF: \",Committenti!D681),\"\")","v":""}]
["",null,null,null,null,null,null,null,null,null,null,null,null,null,null,null,{"$f":"IF(Committenti!D682<>\"\",CONCATENATE(Committenti!B682,\"  \",Committenti!C682,\"  CF: \",Committenti!D682),\"\")","v":""}]
["",null,null,null,null,null,null,null,null,null,null,null,null,null,null,null,{"$f":"IF(Committenti!D683<>\"\",CONCATENATE(Committenti!B683,\"  \",Committenti!C683,\"  CF: \",Committenti!D683),\"\")","v":""}]
["",null,null,null,null,null,null,null,null,null,null,null,null,null,null,null,{"$f":"IF(Committenti!D684<>\"\",CONCATENATE(Committenti!B684,\"  \",Committenti!C684,\"  CF: \",Committenti!D684),\"\")","v":""}]
["",null,null,null,null,null,null,null,null,null,null,null,null,null,null,null,{"$f":"IF(Committenti!D685<>\"\",CONCATENATE(Committenti!B685,\"  \",Committenti!C685,\"  CF: \",Committenti!D685),\"\")","v":""}]
["",null,null,null,null,null,null,null,null,null,null,null,null,null,null,null,{"$f":"IF(Committenti!D686<>\"\",CONCATENATE(Committenti!B686,\"  \",Committenti!C686,\"  CF: \",Committenti!D686),\"\")","v":""}]
["",null,null,null,null,null,null,null,null,null,null,null,null,null,null,null,{"$f":"IF(Committenti!D687<>\"\",CONCATENATE(Committenti!B687,\"  \",Committenti!C687,\"  CF: \",Committenti!D687),\"\")","v":""}]
["",null,null,null,null,null,null,null,null,null,null,null,null,null,null,null,{"$f":"IF(Committenti!D688<>\"\",CONCATENATE(Committenti!B688,\"  \",Committenti!C688,\"  CF: \",Committenti!D688),\"\")","v":""}]
["",null,null,null,null,null,null,null,null,null,null,null,null,null,null,null,{"$f":"IF(Committenti!D689<>\"\",CONCATENATE(Committenti!B689,\"  \",Committenti!C689,\"  CF: \",Committenti!D689),\"\")","v":""}]
["",null,null,null,null,null,null,null,null,null,null,null,null,null,null,null,{"$f":"IF(Committenti!D690<>\"\",CONCATENATE(Committenti!B690,\"  \",Committenti!C690,\"  CF: \",Committenti!D690),\"\")","v":""}]
["",null,null,null,null,null,null,null,null,null,null,null,null,null,null,null,{"$f":"IF(Committenti!D691<>\"\",CONCATENATE(Committenti!B691,\"  \",Committenti!C691,\"  CF: \",Committenti!D691),\"\")","v":""}]
["",null,null,null,null,null,null,null,null,null,null,null,null,null,null,null,{"$f":"IF(Committenti!D692<>\"\",CONCATENATE(Committenti!B692,\"  \",Committenti!C692,\"  CF: \",Committenti!D692),\"\")","v":""}]
["",null,null,null,null,null,null,null,null,null,null,null,null,null,null,null,{"$f":"IF(Committenti!D693<>\"\",CONCATENATE(Committenti!B693,\"  \",Committenti!C693,\"  CF: \",Committenti!D693),\"\")","v":""}]
["",null,null,null,null,null,null,null,null,null,null,null,null,null,null,null,{"$f":"IF(Committenti!D694<>\"\",CONCATENATE(Committenti!B694,\"  \",Committenti!C694,\"  CF: \",Committenti!D694),\"\")","v":""}]
["",null,null,null,null,null,null,null,null,null,null,null,null,null,null,null,{"$f":"IF(Committenti!D695<>\"\",CONCATENATE(Committenti!B695,\"  \",Committenti!C695,\"  CF: \",Committenti!D695),\"\")","v":""}]
["",null,null,null,null,null,null,null,null,null,null,null,null,null,null,null,{"$f":"IF(Committenti!D696<>\"\",CONCATENATE(Committenti!B696,\"  \",Committenti!C696,\"  CF: \",Committenti!D696),\"\")","v":""}]
["",null,null,null,null,null,null,null,null,null,null,null,null,null,null,null,{"$f":"IF(Committenti!D697<>\"\",CONCATENATE(Committenti!B697,\"  \",Committenti!C697,\"  CF: \",Committenti!D697),\"\")","v":""}]
["",null,null,null,null,null,null,null,null,null,null,null,null,null,null,null,{"$f":"IF(Committenti!D698<>\"\",CONCATENATE(Committenti!B698,\"  \",Committenti!C698,\"  CF: \",Committenti!D698),\"\")","v":""}]
["",null,null,null,null,null,null,null,null,null,null,null,null,null,null,null,{"$f":"IF(Committenti!D699<>\"\",CONCATENATE(Committenti!B699,\"  \",Committenti!C699,\"  CF: \",Committenti!D699),\"\")","v":""}]
["",null,null,null,null,null,null,null,null,null,null,null,null,null,null,null,{"$f":"IF(Committenti!D700<>\"\",CONCATENATE(Committenti!B700,\"  \",Committenti!C700,\"  CF: \",Committenti!D700),\"\")","v":""}]
["",null,null,null,null,null,null,null,null,null,null,null,null,null,null,null,{"$f":"IF(Committenti!D701<>\"\",CONCATENATE(Committenti!B701,\"  \",Committenti!C701,\"  CF: \",Committenti!D701),\"\")","v":""}]
["",null,null,null,null,null,null,null,null,null,null,null,null,null,null,null,{"$f":"IF(Committenti!D702<>\"\",CONCATENATE(Committenti!B702,\"  \",Committenti!C702,\"  CF: \",Committenti!D702),\"\")","v":""}]
["",null,null,null,null,null,null,null,null,null,null,null,null,null,null,null,{"$f":"IF(Committenti!D703<>\"\",CONCATENATE(Committenti!B703,\"  \",Committenti!C703,\"  CF: \",Committenti!D703),\"\")","v":""}]
["",null,null,null,null,null,null,null,null,null,null,null,null,null,null,null,{"$f":"IF(Committenti!D704<>\"\",CONCATENATE(Committenti!B704,\"  \",Committenti!C704,\"  CF: \",Committenti!D704),\"\")","v":""}]
["",null,null,null,null,null,null,null,null,null,null,null,null,null,null,null,{"$f":"IF(Committenti!D705<>\"\",CONCATENATE(Committenti!B705,\"  \",Committenti!C705,\"  CF: \",Committenti!D705),\"\")","v":""}]
["",null,null,null,null,null,null,null,null,null,null,null,null,null,null,null,{"$f":"IF(Committenti!D706<>\"\",CONCATENATE(Committenti!B706,\"  \",Committenti!C706,\"  CF: \",Committenti!D706),\"\")","v":""}]
["",null,null,null,null,null,null,null,null,null,null,null,null,null,null,null,{"$f":"IF(Committenti!D707<>\"\",CONCATENATE(Committenti!B707,\"  \",Committenti!C707,\"  CF: \",Committenti!D707),\"\")","v":""}]
["",null,null,null,null,null,null,null,null,null,null,null,null,null,null,null,{"$f":"IF(Committenti!D708<>\"\",CONCATENATE(Committenti!B708,\"  \",Committenti!C708,\"  CF: \",Committenti!D708),\"\")","v":""}]
[{"$f":"IF(B709<>\"\", IF(A708<>\"\",A708+1,\"\"),\"\")","v":""},null,null,null,null,null,null,null,null,null,null,null,null,null,null,null,{"$f":"IF(Committenti!D709<>\"\",CONCATENATE(Committenti!B709,\"  \",Committenti!C709,\"  CF: \",Committenti!D709),\"\")","v":""}]
["",null,null,null,null,null,null,null,null,null,null,null,null,null,null,null,{"$f":"IF(Committenti!D710<>\"\",CONCATENATE(Committenti!B710,\"  \",Committenti!C710,\"  CF: \",Committenti!D710),\"\")","v":""}]
["",null,null,null,null,null,null,null,null,null,null,null,null,null,null,null,{"$f":"IF(Committenti!D711<>\"\",CONCATENATE(Committenti!B711,\"  \",Committenti!C711,\"  CF: \",Committenti!D711),\"\")","v":""}]
["",null,null,null,null,null,null,null,null,null,null,null,null,null,null,null,{"$f":"IF(Committenti!D712<>\"\",CONCATENATE(Committenti!B712,\"  \",Committenti!C712,\"  CF: \",Committenti!D712),\"\")","v":""}]
["",null,null,null,null,null,null,null,null,null,null,null,null,null,null,null,{"$f":"IF(Committenti!D713<>\"\",CONCATENATE(Committenti!B713,\"  \",Committenti!C713,\"  CF: \",Committenti!D713),\"\")","v":""}]
["",null,null,null,null,null,null,null,null,null,null,null,null,null,null,null,{"$f":"IF(Committenti!D714<>\"\",CONCATENATE(Committenti!B714,\"  \",Committenti!C714,\"  CF: \",Committenti!D714),\"\")","v":""}]
["",null,null,null,null,null,null,null,null,null,null,null,null,null,null,null,{"$f":"IF(Committenti!D715<>\"\",CONCATENATE(Committenti!B715,\"  \",Committenti!C715,\"  CF: \",Committenti!D715),\"\")","v":""}]
["",null,null,null,null,null,null,null,null,null,null,null,null,null,null,null,{"$f":"IF(Committenti!D716<>\"\",CONCATENATE(Committenti!B716,\"  \",Committenti!C716,\"  CF: \",Committenti!D716),\"\")","v":""}]
["",null,null,null,null,null,null,null,null,null,null,null,null,null,null,null,{"$f":"IF(Committenti!D717<>\"\",CONCATENATE(Committenti!B717,\"  \",Committenti!C717,\"  CF: \",Committenti!D717),\"\")","v":""}]
["",null,null,null,null,null,null,null,null,null,null,null,null,null,null,null,{"$f":"IF(Committenti!D718<>\"\",CONCATENATE(Committenti!B718,\"  \",Committenti!C718,\"  CF: \",Committenti!D718),\"\")","v":""}]
["",null,null,null,null,null,null,null,null,null,null,null,null,null,null,null,{"$f":"IF(Committenti!D719<>\"\",CONCATENATE(Committenti!B719,\"  \",Committenti!C719,\"  CF: \",Committenti!D719),\"\")","v":""}]
["",null,null,null,null,null,null,null,null,null,null,null,null,null,null,null,{"$f":"IF(Committenti!D720<>\"\",CONCATENATE(Committenti!B720,\"  \",Committenti!C720,\"  CF: \",Committenti!D720),\"\")","v":""}]
["",null,null,null,null,null,null,null,null,null,null,null,null,null,null,null,{"$f":"IF(Committenti!D721<>\"\",CONCATENATE(Committenti!B721,\"  \",Committenti!C721,\"  CF: \",Committenti!D721),\"\")","v":""}]
["",null,null,null,null,null,null,null,null,null,null,null,null,null,null,null,{"$f":"IF(Committenti!D722<>\"\",CONCATENATE(Committenti!B722,\"  \",Committenti!C722,\"  CF: \",Committenti!D722),\"\")","v":""}]
["",null,null,null,null,null,null,null,null,null,null,null,null,null,null,null,{"$f":"IF(Committenti!D723<>\"\",CONCATENATE(Committenti!B723,\"  \",Committenti!C723,\"  CF: \",Committenti!D723),\"\")","v":""}]
["",null,null,null,null,null,null,null,null,null,null,null,null,null,null,null,{"$f":"IF(Committenti!D724<>\"\",CONCATENATE(Committenti!B724,\"  \",Committenti!C724,\"  CF: \",Committenti!D724),\"\")","v":""}]
["",null,null,null,null,null,null,null,null,null,null,null,null,null,null,null,{"$f":"IF(Committenti!D725<>\"\",CONCATENATE(Committenti!B725,\"  \",Committenti!C725,\"  CF: \",Committenti!D725),\"\")","v":""}]
["",null,null,null,null,null,null,null,null,null,null,null,null,null,null,null,{"$f":"IF(Committenti!D726<>\"\",CONCATENATE(Committenti!B726,\"  \",Committenti!C726,\"  CF: \",Committenti!D726),\"\")","v":""}]
["",null,null,null,null,null,null,null,null,null,null,null,null,null,null,null,{"$f":"IF(Committenti!D727<>\"\",CONCATENATE(Committenti!B727,\"  \",Committenti!C727,\"  CF: \",Committenti!D727),\"\")","v":""}]
["",null,null,null,null,null,null,null,null,null,null,null,null,null,null,null,{"$f":"IF(Committenti!D728<>\"\",CONCATENATE(Committenti!B728,\"  \",Committenti!C728,\"  CF: \",Committenti!D728),\"\")","v":""}]
["",null,null,null,null,null,null,null,null,null,null,null,null,null,null,null,{"$f":"IF(Committenti!D729<>\"\",CONCATENATE(Committenti!B729,\"  \",Committenti!C729,\"  CF: \",Committenti!D729),\"\")","v":""}]
["",null,null,null,null,null,null,null,null,null,null,null,null,null,null,null,{"$f":"IF(Committenti!D730<>\"\",CONCATENATE(Committenti!B730,\"  \",Committenti!C730,\"  CF: \",Committenti!D730),\"\")","v":""}]
["",null,null,null,null,null,null,null,null,null,null,null,null,null,null,null,{"$f":"IF(Committenti!D731<>\"\",CONCATENATE(Committenti!B731,\"  \",Committenti!C731,\"  CF: \",Committenti!D731),\"\")","v":""}]
["",null,null,null,null,null,null,null,null,null,null,null,null,null,null,null,{"$f":"IF(Committenti!D732<>\"\",CONCATENATE(Committenti!B732,\"  \",Committenti!C732,\"  CF: \",Committenti!D732),\"\")","v":""}]
["",null,null,null,null,null,null,null,null,null,null,null,null,null,null,null,{"$f":"IF(Committenti!D733<>\"\",CONCATENATE(Committenti!B733,\"  \",Committenti!C733,\"  CF: \",Committenti!D733),\"\")","v":""}]
["",null,null,null,null,null,null,null,null,null,null,null,null,null,null,null,{"$f":"IF(Committenti!D734<>\"\",CONCATENATE(Committenti!B734,\"  \",Committenti!C734,\"  CF: \",Committenti!D734),\"\")","v":""}]
["",null,null,null,null,null,null,null,null,null,null,null,null,null,null,null,{"$f":"IF(Committenti!D735<>\"\",CONCATENATE(Committenti!B735,\"  \",Committenti!C735,\"  CF: \",Committenti!D735),\"\")","v":""}]
["",null,null,null,null,null,null,null,null,null,null,null,null,null,null,null,{"$f":"IF(Committenti!D736<>\"\",CONCATENATE(Committenti!B736,\"  \",Committenti!C736,\"  CF: \",Committenti!D736),\"\")","v":""}]
["",null,null,null,null,null,null,null,null,null,null,null,null,null,null,null,{"$f":"IF(Committenti!D737<>\"\",CONCATENATE(Committenti!B737,\"  \",Committenti!C737,\"  CF: \",Committenti!D737),\"\")","v":""}]
["",null,null,null,null,null,null,null,null,null,null,null,null,null,null,null,{"$f":"IF(Committenti!D738<>\"\",CONCATENATE(Committenti!B738,\"  \",Committenti!C738,\"  CF: \",Committenti!D738),\"\")","v":""}]
["",null,null,null,null,null,null,null,null,null,null,null,null,null,null,null,{"$f":"IF(Committenti!D739<>\"\",CONCATENATE(Committenti!B739,\"  \",Committenti!C739,\"  CF: \",Committenti!D739),\"\")","v":""}]
["",null,null,null,null,null,null,null,null,null,null,null,null,null,null,null,{"$f":"IF(Committenti!D740<>\"\",CONCATENATE(Committenti!B740,\"  \",Committenti!C740,\"  CF: \",Committenti!D740),\"\")","v":""}]
["",null,null,null,null,null,null,null,null,null,null,null,null,null,null,null,{"$f":"IF(Committenti!D741<>\"\",CONCATENATE(Committenti!B741,\"  \",Committenti!C741,\"  CF: \",Committenti!D741),\"\")","v":""}]
["",null,null,null,null,null,null,null,null,null,null,null,null,null,null,null,{"$f":"IF(Committenti!D742<>\"\",CONCATENATE(Committenti!B742,\"  \",Committenti!C742,\"  CF: \",Committenti!D742),\"\")","v":""}]
["",null,null,null,null,null,null,null,null,null,null,null,null,null,null,null,{"$f":"IF(Committenti!D743<>\"\",CONCATENATE(Committenti!B743,\"  \",Committenti!C743,\"  CF: \",Committenti!D743),\"\")","v":""}]
["",null,null,null,null,null,null,null,null,null,null,null,null,null,null,null,{"$f":"IF(Committenti!D744<>\"\",CONCATENATE(Committenti!B744,\"  \",Committenti!C744,\"  CF: \",Committenti!D744),\"\")","v":""}]
["",null,null,null,null,null,null,null,null,null,null,null,null,null,null,null,{"$f":"IF(Committenti!D745<>\"\",CONCATENATE(Committenti!B745,\"  \",Committenti!C745,\"  CF: \",Committenti!D745),\"\")","v":""}]
["",null,null,null,null,null,null,null,null,null,null,null,null,null,null,null,{"$f":"IF(Committenti!D746<>\"\",CONCATENATE(Committenti!B746,\"  \",Committenti!C746,\"  CF: \",Committenti!D746),\"\")","v":""}]
["",null,null,null,null,null,null,null,null,null,null,null,null,null,null,null,{"$f":"IF(Committenti!D747<>\"\",CONCATENATE(Committenti!B747,\"  \",Committenti!C747,\"  CF: \",Committenti!D747),\"\")","v":""}]
["",null,null,null,null,null,null,null,null,null,null,null,null,null,null,null,{"$f":"IF(Committenti!D748<>\"\",CONCATENATE(Committenti!B748,\"  \",Committenti!C748,\"  CF: \",Committenti!D748),\"\")","v":""}]
["",null,null,null,null,null,null,null,null,null,null,null,null,null,null,null,{"$f":"IF(Committenti!D749<>\"\",CONCATENATE(Committenti!B749,\"  \",Committenti!C749,\"  CF: \",Committenti!D749),\"\")","v":""}]
["",null,null,null,null,null,null,null,null,null,null,null,null,null,null,null,{"$f":"IF(Committenti!D750<>\"\",CONCATENATE(Committenti!B750,\"  \",Committenti!C750,\"  CF: \",Committenti!D750),\"\")","v":""}]
["",null,null,null,null,null,null,null,null,null,null,null,null,null,null,null,{"$f":"IF(Committenti!D751<>\"\",CONCATENATE(Committenti!B751,\"  \",Committenti!C751,\"  CF: \",Committenti!D751),\"\")","v":""}]
["",null,null,null,null,null,null,null,null,null,null,null,null,null,null,null,{"$f":"IF(Committenti!D752<>\"\",CONCATENATE(Committenti!B752,\"  \",Committenti!C752,\"  CF: \",Committenti!D752),\"\")","v":""}]
["",null,null,null,null,null,null,null,null,null,null,null,null,null,null,null,{"$f":"IF(Committenti!D753<>\"\",CONCATENATE(Committenti!B753,\"  \",Committenti!C753,\"  CF: \",Committenti!D753),\"\")","v":""}]
["",null,null,null,null,null,null,null,null,null,null,null,null,null,null,null,{"$f":"IF(Committenti!D754<>\"\",CONCATENATE(Committenti!B754,\"  \",Committenti!C754,\"  CF: \",Committenti!D754),\"\")","v":""}]
["",null,null,null,null,null,null,null,null,null,null,null,null,null,null,null,{"$f":"IF(Committenti!D755<>\"\",CONCATENATE(Committenti!B755,\"  \",Committenti!C755,\"  CF: \",Committenti!D755),\"\")","v":""}]
["",null,null,null,null,null,null,null,null,null,null,null,null,null,null,null,{"$f":"IF(Committenti!D756<>\"\",CONCATENATE(Committenti!B756,\"  \",Committenti!C756,\"  CF: \",Committenti!D756),\"\")","v":""}]
["",null,null,null,null,null,null,null,null,null,null,null,null,null,null,null,{"$f":"IF(Committenti!D757<>\"\",CONCATENATE(Committenti!B757,\"  \",Committenti!C757,\"  CF: \",Committenti!D757),\"\")","v":""}]
["",null,null,null,null,null,null,null,null,null,null,null,null,null,null,null,{"$f":"IF(Committenti!D758<>\"\",CONCATENATE(Committenti!B758,\"  \",Committenti!C758,\"  CF: \",Committenti!D758),\"\")","v":""}]
["",null,null,null,null,null,null,null,null,null,null,null,null,null,null,null,{"$f":"IF(Committenti!D759<>\"\",CONCATENATE(Committenti!B759,\"  \",Committenti!C759,\"  CF: \",Committenti!D759),\"\")","v":""}]
["",null,null,null,null,null,null,null,null,null,null,null,null,null,null,null,{"$f":"IF(Committenti!D760<>\"\",CONCATENATE(Committenti!B760,\"  \",Committenti!C760,\"  CF: \",Committenti!D760),\"\")","v":""}]
["",null,null,null,null,null,null,null,null,null,null,null,null,null,null,null,{"$f":"IF(Committenti!D761<>\"\",CONCATENATE(Committenti!B761,\"  \",Committenti!C761,\"  CF: \",Committenti!D761),\"\")","v":""}]
["",null,null,null,null,null,null,null,null,null,null,null,null,null,null,null,{"$f":"IF(Committenti!D762<>\"\",CONCATENATE(Committenti!B762,\"  \",Committenti!C762,\"  CF: \",Committenti!D762),\"\")","v":""}]
["",null,null,null,null,null,null,null,null,null,null,null,null,null,null,null,{"$f":"IF(Committenti!D763<>\"\",CONCATENATE(Committenti!B763,\"  \",Committenti!C763,\"  CF: \",Committenti!D763),\"\")","v":""}]
["",null,null,null,null,null,null,null,null,null,null,null,null,null,null,null,{"$f":"IF(Committenti!D764<>\"\",CONCATENATE(Committenti!B764,\"  \",Committenti!C764,\"  CF: \",Committenti!D764),\"\")","v":""}]
["",null,null,null,null,null,null,null,null,null,null,null,null,null,null,null,{"$f":"IF(Committenti!D765<>\"\",CONCATENATE(Committenti!B765,\"  \",Committenti!C765,\"  CF: \",Committenti!D765),\"\")","v":""}]
["",null,null,null,null,null,null,null,null,null,null,null,null,null,null,null,{"$f":"IF(Committenti!D766<>\"\",CONCATENATE(Committenti!B766,\"  \",Committenti!C766,\"  CF: \",Committenti!D766),\"\")","v":""}]
["",null,null,null,null,null,null,null,null,null,null,null,null,null,null,null,{"$f":"IF(Committenti!D767<>\"\",CONCATENATE(Committenti!B767,\"  \",Committenti!C767,\"  CF: \",Committenti!D767),\"\")","v":""}]
["",null,null,null,null,null,null,null,null,null,null,null,null,null,null,null,{"$f":"IF(Committenti!D768<>\"\",CONCATENATE(Committenti!B768,\"  \",Committenti!C768,\"  CF: \",Committenti!D768),\"\")","v":""}]
["",null,null,null,null,null,null,null,null,null,null,null,null,null,null,null,{"$f":"IF(Committenti!D769<>\"\",CONCATENATE(Committenti!B769,\"  \",Committenti!C769,\"  CF: \",Committenti!D769),\"\")","v":""}]
["",null,null,null,null,null,null,null,null,null,null,null,null,null,null,null,{"$f":"IF(Committenti!D770<>\"\",CONCATENATE(Committenti!B770,\"  \",Committenti!C770,\"  CF: \",Committenti!D770),\"\")","v":""}]
["",null,null,null,null,null,null,null,null,null,null,null,null,null,null,null,{"$f":"IF(Committenti!D771<>\"\",CONCATENATE(Committenti!B771,\"  \",Committenti!C771,\"  CF: \",Committenti!D771),\"\")","v":""}]
["",null,null,null,null,null,null,null,null,null,null,null,null,null,null,null,{"$f":"IF(Committenti!D772<>\"\",CONCATENATE(Committenti!B772,\"  \",Committenti!C772,\"  CF: \",Committenti!D772),\"\")","v":""}]
[{"$f":"IF(B773<>\"\", IF(A772<>\"\",A772+1,\"\"),\"\")","v":""},null,null,null,null,null,null,null,null,null,null,null,null,null,null,null,{"$f":"IF(Committenti!D773<>\"\",CONCATENATE(Committenti!B773,\"  \",Committenti!C773,\"  CF: \",Committenti!D773),\"\")","v":""}]
["",null,null,null,null,null,null,null,null,null,null,null,null,null,null,null,{"$f":"IF(Committenti!D774<>\"\",CONCATENATE(Committenti!B774,\"  \",Committenti!C774,\"  CF: \",Committenti!D774),\"\")","v":""}]
["",null,null,null,null,null,null,null,null,null,null,null,null,null,null,null,{"$f":"IF(Committenti!D775<>\"\",CONCATENATE(Committenti!B775,\"  \",Committenti!C775,\"  CF: \",Committenti!D775),\"\")","v":""}]
["",null,null,null,null,null,null,null,null,null,null,null,null,null,null,null,{"$f":"IF(Committenti!D776<>\"\",CONCATENATE(Committenti!B776,\"  \",Committenti!C776,\"  CF: \",Committenti!D776),\"\")","v":""}]
["",null,null,null,null,null,null,null,null,null,null,null,null,null,null,null,{"$f":"IF(Committenti!D777<>\"\",CONCATENATE(Committenti!B777,\"  \",Committenti!C777,\"  CF: \",Committenti!D777),\"\")","v":""}]
["",null,null,null,null,null,null,null,null,null,null,null,null,null,null,null,{"$f":"IF(Committenti!D778<>\"\",CONCATENATE(Committenti!B778,\"  \",Committenti!C778,\"  CF: \",Committenti!D778),\"\")","v":""}]
["",null,null,null,null,null,null,null,null,null,null,null,null,null,null,null,{"$f":"IF(Committenti!D779<>\"\",CONCATENATE(Committenti!B779,\"  \",Committenti!C779,\"  CF: \",Committenti!D779),\"\")","v":""}]
["",null,null,null,null,null,null,null,null,null,null,null,null,null,null,null,{"$f":"IF(Committenti!D780<>\"\",CONCATENATE(Committenti!B780,\"  \",Committenti!C780,\"  CF: \",Committenti!D780),\"\")","v":""}]
["",null,null,null,null,null,null,null,null,null,null,null,null,null,null,null,{"$f":"IF(Committenti!D781<>\"\",CONCATENATE(Committenti!B781,\"  \",Committenti!C781,\"  CF: \",Committenti!D781),\"\")","v":""}]
["",null,null,null,null,null,null,null,null,null,null,null,null,null,null,null,{"$f":"IF(Committenti!D782<>\"\",CONCATENATE(Committenti!B782,\"  \",Committenti!C782,\"  CF: \",Committenti!D782),\"\")","v":""}]
["",null,null,null,null,null,null,null,null,null,null,null,null,null,null,null,{"$f":"IF(Committenti!D783<>\"\",CONCATENATE(Committenti!B783,\"  \",Committenti!C783,\"  CF: \",Committenti!D783),\"\")","v":""}]
["",null,null,null,null,null,null,null,null,null,null,null,null,null,null,null,{"$f":"IF(Committenti!D784<>\"\",CONCATENATE(Committenti!B784,\"  \",Committenti!C784,\"  CF: \",Committenti!D784),\"\")","v":""}]
["",null,null,null,null,null,null,null,null,null,null,null,null,null,null,null,{"$f":"IF(Committenti!D785<>\"\",CONCATENATE(Committenti!B785,\"  \",Committenti!C785,\"  CF: \",Committenti!D785),\"\")","v":""}]
["",null,null,null,null,null,null,null,null,null,null,null,null,null,null,null,{"$f":"IF(Committenti!D786<>\"\",CONCATENATE(Committenti!B786,\"  \",Committenti!C786,\"  CF: \",Committenti!D786),\"\")","v":""}]
["",null,null,null,null,null,null,null,null,null,null,null,null,null,null,null,{"$f":"IF(Committenti!D787<>\"\",CONCATENATE(Committenti!B787,\"  \",Committenti!C787,\"  CF: \",Committenti!D787),\"\")","v":""}]
["",null,null,null,null,null,null,null,null,null,null,null,null,null,null,null,{"$f":"IF(Committenti!D788<>\"\",CONCATENATE(Committenti!B788,\"  \",Committenti!C788,\"  CF: \",Committenti!D788),\"\")","v":""}]
["",null,null,null,null,null,null,null,null,null,null,null,null,null,null,null,{"$f":"IF(Committenti!D789<>\"\",CONCATENATE(Committenti!B789,\"  \",Committenti!C789,\"  CF: \",Committenti!D789),\"\")","v":""}]
["",null,null,null,null,null,null,null,null,null,null,null,null,null,null,null,{"$f":"IF(Committenti!D790<>\"\",CONCATENATE(Committenti!B790,\"  \",Committenti!C790,\"  CF: \",Committenti!D790),\"\")","v":""}]
["",null,null,null,null,null,null,null,null,null,null,null,null,null,null,null,{"$f":"IF(Committenti!D791<>\"\",CONCATENATE(Committenti!B791,\"  \",Committenti!C791,\"  CF: \",Committenti!D791),\"\")","v":""}]
["",null,null,null,null,null,null,null,null,null,null,null,null,null,null,null,{"$f":"IF(Committenti!D792<>\"\",CONCATENATE(Committenti!B792,\"  \",Committenti!C792,\"  CF: \",Committenti!D792),\"\")","v":""}]
["",null,null,null,null,null,null,null,null,null,null,null,null,null,null,null,{"$f":"IF(Committenti!D793<>\"\",CONCATENATE(Committenti!B793,\"  \",Committenti!C793,\"  CF: \",Committenti!D793),\"\")","v":""}]
["",null,null,null,null,null,null,null,null,null,null,null,null,null,null,null,{"$f":"IF(Committenti!D794<>\"\",CONCATENATE(Committenti!B794,\"  \",Committenti!C794,\"  CF: \",Committenti!D794),\"\")","v":""}]
["",null,null,null,null,null,null,null,null,null,null,null,null,null,null,null,{"$f":"IF(Committenti!D795<>\"\",CONCATENATE(Committenti!B795,\"  \",Committenti!C795,\"  CF: \",Committenti!D795),\"\")","v":""}]
["",null,null,null,null,null,null,null,null,null,null,null,null,null,null,null,{"$f":"IF(Committenti!D796<>\"\",CONCATENATE(Committenti!B796,\"  \",Committenti!C796,\"  CF: \",Committenti!D796),\"\")","v":""}]
["",null,null,null,null,null,null,null,null,null,null,null,null,null,null,null,{"$f":"IF(Committenti!D797<>\"\",CONCATENATE(Committenti!B797,\"  \",Committenti!C797,\"  CF: \",Committenti!D797),\"\")","v":""}]
["",null,null,null,null,null,null,null,null,null,null,null,null,null,null,null,{"$f":"IF(Committenti!D798<>\"\",CONCATENATE(Committenti!B798,\"  \",Committenti!C798,\"  CF: \",Committenti!D798),\"\")","v":""}]
["",null,null,null,null,null,null,null,null,null,null,null,null,null,null,null,{"$f":"IF(Committenti!D799<>\"\",CONCATENATE(Committenti!B799,\"  \",Committenti!C799,\"  CF: \",Committenti!D799),\"\")","v":""}]
["",null,null,null,null,null,null,null,null,null,null,null,null,null,null,null,{"$f":"IF(Committenti!D800<>\"\",CONCATENATE(Committenti!B800,\"  \",Committenti!C800,\"  CF: \",Committenti!D800),\"\")","v":""}]
["",null,null,null,null,null,null,null,null,null,null,null,null,null,null,null,{"$f":"IF(Committenti!D801<>\"\",CONCATENATE(Committenti!B801,\"  \",Committenti!C801,\"  CF: \",Committenti!D801),\"\")","v":""}]
["",null,null,null,null,null,null,null,null,null,null,null,null,null,null,null,{"$f":"IF(Committenti!D802<>\"\",CONCATENATE(Committenti!B802,\"  \",Committenti!C802,\"  CF: \",Committenti!D802),\"\")","v":""}]
["",null,null,null,null,null,null,null,null,null,null,null,null,null,null,null,{"$f":"IF(Committenti!D803<>\"\",CONCATENATE(Committenti!B803,\"  \",Committenti!C803,\"  CF: \",Committenti!D803),\"\")","v":""}]
["",null,null,null,null,null,null,null,null,null,null,null,null,null,null,null,{"$f":"IF(Committenti!D804<>\"\",CONCATENATE(Committenti!B804,\"  \",Committenti!C804,\"  CF: \",Committenti!D804),\"\")","v":""}]
["",null,null,null,null,null,null,null,null,null,null,null,null,null,null,null,{"$f":"IF(Committenti!D805<>\"\",CONCATENATE(Committenti!B805,\"  \",Committenti!C805,\"  CF: \",Committenti!D805),\"\")","v":""}]
["",null,null,null,null,null,null,null,null,null,null,null,null,null,null,null,{"$f":"IF(Committenti!D806<>\"\",CONCATENATE(Committenti!B806,\"  \",Committenti!C806,\"  CF: \",Committenti!D806),\"\")","v":""}]
["",null,null,null,null,null,null,null,null,null,null,null,null,null,null,null,{"$f":"IF(Committenti!D807<>\"\",CONCATENATE(Committenti!B807,\"  \",Committenti!C807,\"  CF: \",Committenti!D807),\"\")","v":""}]
["",null,null,null,null,null,null,null,null,null,null,null,null,null,null,null,{"$f":"IF(Committenti!D808<>\"\",CONCATENATE(Committenti!B808,\"  \",Committenti!C808,\"  CF: \",Committenti!D808),\"\")","v":""}]
["",null,null,null,null,null,null,null,null,null,null,null,null,null,null,null,{"$f":"IF(Committenti!D809<>\"\",CONCATENATE(Committenti!B809,\"  \",Committenti!C809,\"  CF: \",Committenti!D809),\"\")","v":""}]
["",null,null,null,null,null,null,null,null,null,null,null,null,null,null,null,{"$f":"IF(Committenti!D810<>\"\",CONCATENATE(Committenti!B810,\"  \",Committenti!C810,\"  CF: \",Committenti!D810),\"\")","v":""}]
["",null,null,null,null,null,null,null,null,null,null,null,null,null,null,null,{"$f":"IF(Committenti!D811<>\"\",CONCATENATE(Committenti!B811,\"  \",Committenti!C811,\"  CF: \",Committenti!D811),\"\")","v":""}]
["",null,null,null,null,null,null,null,null,null,null,null,null,null,null,null,{"$f":"IF(Committenti!D812<>\"\",CONCATENATE(Committenti!B812,\"  \",Committenti!C812,\"  CF: \",Committenti!D812),\"\")","v":""}]
["",null,null,null,null,null,null,null,null,null,null,null,null,null,null,null,{"$f":"IF(Committenti!D813<>\"\",CONCATENATE(Committenti!B813,\"  \",Committenti!C813,\"  CF: \",Committenti!D813),\"\")","v":""}]
["",null,null,null,null,null,null,null,null,null,null,null,null,null,null,null,{"$f":"IF(Committenti!D814<>\"\",CONCATENATE(Committenti!B814,\"  \",Committenti!C814,\"  CF: \",Committenti!D814),\"\")","v":""}]
["",null,null,null,null,null,null,null,null,null,null,null,null,null,null,null,{"$f":"IF(Committenti!D815<>\"\",CONCATENATE(Committenti!B815,\"  \",Committenti!C815,\"  CF: \",Committenti!D815),\"\")","v":""}]
["",null,null,null,null,null,null,null,null,null,null,null,null,null,null,null,{"$f":"IF(Committenti!D816<>\"\",CONCATENATE(Committenti!B816,\"  \",Committenti!C816,\"  CF: \",Committenti!D816),\"\")","v":""}]
["",null,null,null,null,null,null,null,null,null,null,null,null,null,null,null,{"$f":"IF(Committenti!D817<>\"\",CONCATENATE(Committenti!B817,\"  \",Committenti!C817,\"  CF: \",Committenti!D817),\"\")","v":""}]
["",null,null,null,null,null,null,null,null,null,null,null,null,null,null,null,{"$f":"IF(Committenti!D818<>\"\",CONCATENATE(Committenti!B818,\"  \",Committenti!C818,\"  CF: \",Committenti!D818),\"\")","v":""}]
["",null,null,null,null,null,null,null,null,null,null,null,null,null,null,null,{"$f":"IF(Committenti!D819<>\"\",CONCATENATE(Committenti!B819,\"  \",Committenti!C819,\"  CF: \",Committenti!D819),\"\")","v":""}]
["",null,null,null,null,null,null,null,null,null,null,null,null,null,null,null,{"$f":"IF(Committenti!D820<>\"\",CONCATENATE(Committenti!B820,\"  \",Committenti!C820,\"  CF: \",Committenti!D820),\"\")","v":""}]
["",null,null,null,null,null,null,null,null,null,null,null,null,null,null,null,{"$f":"IF(Committenti!D821<>\"\",CONCATENATE(Committenti!B821,\"  \",Committenti!C821,\"  CF: \",Committenti!D821),\"\")","v":""}]
["",null,null,null,null,null,null,null,null,null,null,null,null,null,null,null,{"$f":"IF(Committenti!D822<>\"\",CONCATENATE(Committenti!B822,\"  \",Committenti!C822,\"  CF: \",Committenti!D822),\"\")","v":""}]
["",null,null,null,null,null,null,null,null,null,null,null,null,null,null,null,{"$f":"IF(Committenti!D823<>\"\",CONCATENATE(Committenti!B823,\"  \",Committenti!C823,\"  CF: \",Committenti!D823),\"\")","v":""}]
["",null,null,null,null,null,null,null,null,null,null,null,null,null,null,null,{"$f":"IF(Committenti!D824<>\"\",CONCATENATE(Committenti!B824,\"  \",Committenti!C824,\"  CF: \",Committenti!D824),\"\")","v":""}]
["",null,null,null,null,null,null,null,null,null,null,null,null,null,null,null,{"$f":"IF(Committenti!D825<>\"\",CONCATENATE(Committenti!B825,\"  \",Committenti!C825,\"  CF: \",Committenti!D825),\"\")","v":""}]
["",null,null,null,null,null,null,null,null,null,null,null,null,null,null,null,{"$f":"IF(Committenti!D826<>\"\",CONCATENATE(Committenti!B826,\"  \",Committenti!C826,\"  CF: \",Committenti!D826),\"\")","v":""}]
["",null,null,null,null,null,null,null,null,null,null,null,null,null,null,null,{"$f":"IF(Committenti!D827<>\"\",CONCATENATE(Committenti!B827,\"  \",Committenti!C827,\"  CF: \",Committenti!D827),\"\")","v":""}]
["",null,null,null,null,null,null,null,null,null,null,null,null,null,null,null,{"$f":"IF(Committenti!D828<>\"\",CONCATENATE(Committenti!B828,\"  \",Committenti!C828,\"  CF: \",Committenti!D828),\"\")","v":""}]
["",null,null,null,null,null,null,null,null,null,null,null,null,null,null,null,{"$f":"IF(Committenti!D829<>\"\",CONCATENATE(Committenti!B829,\"  \",Committenti!C829,\"  CF: \",Committenti!D829),\"\")","v":""}]
["",null,null,null,null,null,null,null,null,null,null,null,null,null,null,null,{"$f":"IF(Committenti!D830<>\"\",CONCATENATE(Committenti!B830,\"  \",Committenti!C830,\"  CF: \",Committenti!D830),\"\")","v":""}]
["",null,null,null,null,null,null,null,null,null,null,null,null,null,null,null,{"$f":"IF(Committenti!D831<>\"\",CONCATENATE(Committenti!B831,\"  \",Committenti!C831,\"  CF: \",Committenti!D831),\"\")","v":""}]
["",null,null,null,null,null,null,null,null,null,null,null,null,null,null,null,{"$f":"IF(Committenti!D832<>\"\",CONCATENATE(Committenti!B832,\"  \",Committenti!C832,\"  CF: \",Committenti!D832),\"\")","v":""}]
["",null,null,null,null,null,null,null,null,null,null,null,null,null,null,null,{"$f":"IF(Committenti!D833<>\"\",CONCATENATE(Committenti!B833,\"  \",Committenti!C833,\"  CF: \",Committenti!D833),\"\")","v":""}]
["",null,null,null,null,null,null,null,null,null,null,null,null,null,null,null,{"$f":"IF(Committenti!D834<>\"\",CONCATENATE(Committenti!B834,\"  \",Committenti!C834,\"  CF: \",Committenti!D834),\"\")","v":""}]
["",null,null,null,null,null,null,null,null,null,null,null,null,null,null,null,{"$f":"IF(Committenti!D835<>\"\",CONCATENATE(Committenti!B835,\"  \",Committenti!C835,\"  CF: \",Committenti!D835),\"\")","v":""}]
["",null,null,null,null,null,null,null,null,null,null,null,null,null,null,null,{"$f":"IF(Committenti!D836<>\"\",CONCATENATE(Committenti!B836,\"  \",Committenti!C836,\"  CF: \",Committenti!D836),\"\")","v":""}]
[{"$f":"IF(B837<>\"\", IF(A836<>\"\",A836+1,\"\"),\"\")","v":""},null,null,null,null,null,null,null,null,null,null,null,null,null,null,null,{"$f":"IF(Committenti!D837<>\"\",CONCATENATE(Committenti!B837,\"  \",Committenti!C837,\"  CF: \",Committenti!D837),\"\")","v":""}]
["",null,null,null,null,null,null,null,null,null,null,null,null,null,null,null,{"$f":"IF(Committenti!D838<>\"\",CONCATENATE(Committenti!B838,\"  \",Committenti!C838,\"  CF: \",Committenti!D838),\"\")","v":""}]
["",null,null,null,null,null,null,null,null,null,null,null,null,null,null,null,{"$f":"IF(Committenti!D839<>\"\",CONCATENATE(Committenti!B839,\"  \",Committenti!C839,\"  CF: \",Committenti!D839),\"\")","v":""}]
["",null,null,null,null,null,null,null,null,null,null,null,null,null,null,null,{"$f":"IF(Committenti!D840<>\"\",CONCATENATE(Committenti!B840,\"  \",Committenti!C840,\"  CF: \",Committenti!D840),\"\")","v":""}]
["",null,null,null,null,null,null,null,null,null,null,null,null,null,null,null,{"$f":"IF(Committenti!D841<>\"\",CONCATENATE(Committenti!B841,\"  \",Committenti!C841,\"  CF: \",Committenti!D841),\"\")","v":""}]
["",null,null,null,null,null,null,null,null,null,null,null,null,null,null,null,{"$f":"IF(Committenti!D842<>\"\",CONCATENATE(Committenti!B842,\"  \",Committenti!C842,\"  CF: \",Committenti!D842),\"\")","v":""}]
["",null,null,null,null,null,null,null,null,null,null,null,null,null,null,null,{"$f":"IF(Committenti!D843<>\"\",CONCATENATE(Committenti!B843,\"  \",Committenti!C843,\"  CF: \",Committenti!D843),\"\")","v":""}]
["",null,null,null,null,null,null,null,null,null,null,null,null,null,null,null,{"$f":"IF(Committenti!D844<>\"\",CONCATENATE(Committenti!B844,\"  \",Committenti!C844,\"  CF: \",Committenti!D844),\"\")","v":""}]
["",null,null,null,null,null,null,null,null,null,null,null,null,null,null,null,{"$f":"IF(Committenti!D845<>\"\",CONCATENATE(Committenti!B845,\"  \",Committenti!C845,\"  CF: \",Committenti!D845),\"\")","v":""}]
["",null,null,null,null,null,null,null,null,null,null,null,null,null,null,null,{"$f":"IF(Committenti!D846<>\"\",CONCATENATE(Committenti!B846,\"  \",Committenti!C846,\"  CF: \",Committenti!D846),\"\")","v":""}]
["",null,null,null,null,null,null,null,null,null,null,null,null,null,null,null,{"$f":"IF(Committenti!D847<>\"\",CONCATENATE(Committenti!B847,\"  \",Committenti!C847,\"  CF: \",Committenti!D847),\"\")","v":""}]
["",null,null,null,null,null,null,null,null,null,null,null,null,null,null,null,{"$f":"IF(Committenti!D848<>\"\",CONCATENATE(Committenti!B848,\"  \",Committenti!C848,\"  CF: \",Committenti!D848),\"\")","v":""}]
["",null,null,null,null,null,null,null,null,null,null,null,null,null,null,null,{"$f":"IF(Committenti!D849<>\"\",CONCATENATE(Committenti!B849,\"  \",Committenti!C849,\"  CF: \",Committenti!D849),\"\")","v":""}]
["",null,null,null,null,null,null,null,null,null,null,null,null,null,null,null,{"$f":"IF(Committenti!D850<>\"\",CONCATENATE(Committenti!B850,\"  \",Committenti!C850,\"  CF: \",Committenti!D850),\"\")","v":""}]
["",null,null,null,null,null,null,null,null,null,null,null,null,null,null,null,{"$f":"IF(Committenti!D851<>\"\",CONCATENATE(Committenti!B851,\"  \",Committenti!C851,\"  CF: \",Committenti!D851),\"\")","v":""}]
["",null,null,null,null,null,null,null,null,null,null,null,null,null,null,null,{"$f":"IF(Committenti!D852<>\"\",CONCATENATE(Committenti!B852,\"  \",Committenti!C852,\"  CF: \",Committenti!D852),\"\")","v":""}]
["",null,null,null,null,null,null,null,null,null,null,null,null,null,null,null,{"$f":"IF(Committenti!D853<>\"\",CONCATENATE(Committenti!B853,\"  \",Committenti!C853,\"  CF: \",Committenti!D853),\"\")","v":""}]
["",null,null,null,null,null,null,null,null,null,null,null,null,null,null,null,{"$f":"IF(Committenti!D854<>\"\",CONCATENATE(Committenti!B854,\"  \",Committenti!C854,\"  CF: \",Committenti!D854),\"\")","v":""}]
["",null,null,null,null,null,null,null,null,null,null,null,null,null,null,null,{"$f":"IF(Committenti!D855<>\"\",CONCATENATE(Committenti!B855,\"  \",Committenti!C855,\"  CF: \",Committenti!D855),\"\")","v":""}]
["",null,null,null,null,null,null,null,null,null,null,null,null,null,null,null,{"$f":"IF(Committenti!D856<>\"\",CONCATENATE(Committenti!B856,\"  \",Committenti!C856,\"  CF: \",Committenti!D856),\"\")","v":""}]
["",null,null,null,null,null,null,null,null,null,null,null,null,null,null,null,{"$f":"IF(Committenti!D857<>\"\",CONCATENATE(Committenti!B857,\"  \",Committenti!C857,\"  CF: \",Committenti!D857),\"\")","v":""}]
["",null,null,null,null,null,null,null,null,null,null,null,null,null,null,null,{"$f":"IF(Committenti!D858<>\"\",CONCATENATE(Committenti!B858,\"  \",Committenti!C858,\"  CF: \",Committenti!D858),\"\")","v":""}]
["",null,null,null,null,null,null,null,null,null,null,null,null,null,null,null,{"$f":"IF(Committenti!D859<>\"\",CONCATENATE(Committenti!B859,\"  \",Committenti!C859,\"  CF: \",Committenti!D859),\"\")","v":""}]
["",null,null,null,null,null,null,null,null,null,null,null,null,null,null,null,{"$f":"IF(Committenti!D860<>\"\",CONCATENATE(Committenti!B860,\"  \",Committenti!C860,\"  CF: \",Committenti!D860),\"\")","v":""}]
["",null,null,null,null,null,null,null,null,null,null,null,null,null,null,null,{"$f":"IF(Committenti!D861<>\"\",CONCATENATE(Committenti!B861,\"  \",Committenti!C861,\"  CF: \",Committenti!D861),\"\")","v":""}]
["",null,null,null,null,null,null,null,null,null,null,null,null,null,null,null,{"$f":"IF(Committenti!D862<>\"\",CONCATENATE(Committenti!B862,\"  \",Committenti!C862,\"  CF: \",Committenti!D862),\"\")","v":""}]
["",null,null,null,null,null,null,null,null,null,null,null,null,null,null,null,{"$f":"IF(Committenti!D863<>\"\",CONCATENATE(Committenti!B863,\"  \",Committenti!C863,\"  CF: \",Committenti!D863),\"\")","v":""}]
["",null,null,null,null,null,null,null,null,null,null,null,null,null,null,null,{"$f":"IF(Committenti!D864<>\"\",CONCATENATE(Committenti!B864,\"  \",Committenti!C864,\"  CF: \",Committenti!D864),\"\")","v":""}]
["",null,null,null,null,null,null,null,null,null,null,null,null,null,null,null,{"$f":"IF(Committenti!D865<>\"\",CONCATENATE(Committenti!B865,\"  \",Committenti!C865,\"  CF: \",Committenti!D865),\"\")","v":""}]
["",null,null,null,null,null,null,null,null,null,null,null,null,null,null,null,{"$f":"IF(Committenti!D866<>\"\",CONCATENATE(Committenti!B866,\"  \",Committenti!C866,\"  CF: \",Committenti!D866),\"\")","v":""}]
["",null,null,null,null,null,null,null,null,null,null,null,null,null,null,null,{"$f":"IF(Committenti!D867<>\"\",CONCATENATE(Committenti!B867,\"  \",Committenti!C867,\"  CF: \",Committenti!D867),\"\")","v":""}]
["",null,null,null,null,null,null,null,null,null,null,null,null,null,null,null,{"$f":"IF(Committenti!D868<>\"\",CONCATENATE(Committenti!B868,\"  \",Committenti!C868,\"  CF: \",Committenti!D868),\"\")","v":""}]
["",null,null,null,null,null,null,null,null,null,null,null,null,null,null,null,{"$f":"IF(Committenti!D869<>\"\",CONCATENATE(Committenti!B869,\"  \",Committenti!C869,\"  CF: \",Committenti!D869),\"\")","v":""}]
["",null,null,null,null,null,null,null,null,null,null,null,null,null,null,null,{"$f":"IF(Committenti!D870<>\"\",CONCATENATE(Committenti!B870,\"  \",Committenti!C870,\"  CF: \",Committenti!D870),\"\")","v":""}]
["",null,null,null,null,null,null,null,null,null,null,null,null,null,null,null,{"$f":"IF(Committenti!D871<>\"\",CONCATENATE(Committenti!B871,\"  \",Committenti!C871,\"  CF: \",Committenti!D871),\"\")","v":""}]
["",null,null,null,null,null,null,null,null,null,null,null,null,null,null,null,{"$f":"IF(Committenti!D872<>\"\",CONCATENATE(Committenti!B872,\"  \",Committenti!C872,\"  CF: \",Committenti!D872),\"\")","v":""}]
["",null,null,null,null,null,null,null,null,null,null,null,null,null,null,null,{"$f":"IF(Committenti!D873<>\"\",CONCATENATE(Committenti!B873,\"  \",Committenti!C873,\"  CF: \",Committenti!D873),\"\")","v":""}]
["",null,null,null,null,null,null,null,null,null,null,null,null,null,null,null,{"$f":"IF(Committenti!D874<>\"\",CONCATENATE(Committenti!B874,\"  \",Committenti!C874,\"  CF: \",Committenti!D874),\"\")","v":""}]
["",null,null,null,null,null,null,null,null,null,null,null,null,null,null,null,{"$f":"IF(Committenti!D875<>\"\",CONCATENATE(Committenti!B875,\"  \",Committenti!C875,\"  CF: \",Committenti!D875),\"\")","v":""}]
["",null,null,null,null,null,null,null,null,null,null,null,null,null,null,null,{"$f":"IF(Committenti!D876<>\"\",CONCATENATE(Committenti!B876,\"  \",Committenti!C876,\"  CF: \",Committenti!D876),\"\")","v":""}]
["",null,null,null,null,null,null,null,null,null,null,null,null,null,null,null,{"$f":"IF(Committenti!D877<>\"\",CONCATENATE(Committenti!B877,\"  \",Committenti!C877,\"  CF: \",Committenti!D877),\"\")","v":""}]
["",null,null,null,null,null,null,null,null,null,null,null,null,null,null,null,{"$f":"IF(Committenti!D878<>\"\",CONCATENATE(Committenti!B878,\"  \",Committenti!C878,\"  CF: \",Committenti!D878),\"\")","v":""}]
["",null,null,null,null,null,null,null,null,null,null,null,null,null,null,null,{"$f":"IF(Committenti!D879<>\"\",CONCATENATE(Committenti!B879,\"  \",Committenti!C879,\"  CF: \",Committenti!D879),\"\")","v":""}]
["",null,null,null,null,null,null,null,null,null,null,null,null,null,null,null,{"$f":"IF(Committenti!D880<>\"\",CONCATENATE(Committenti!B880,\"  \",Committenti!C880,\"  CF: \",Committenti!D880),\"\")","v":""}]
["",null,null,null,null,null,null,null,null,null,null,null,null,null,null,null,{"$f":"IF(Committenti!D881<>\"\",CONCATENATE(Committenti!B881,\"  \",Committenti!C881,\"  CF: \",Committenti!D881),\"\")","v":""}]
["",null,null,null,null,null,null,null,null,null,null,null,null,null,null,null,{"$f":"IF(Committenti!D882<>\"\",CONCATENATE(Committenti!B882,\"  \",Committenti!C882,\"  CF: \",Committenti!D882),\"\")","v":""}]
["",null,null,null,null,null,null,null,null,null,null,null,null,null,null,null,{"$f":"IF(Committenti!D883<>\"\",CONCATENATE(Committenti!B883,\"  \",Committenti!C883,\"  CF: \",Committenti!D883),\"\")","v":""}]
["",null,null,null,null,null,null,null,null,null,null,null,null,null,null,null,{"$f":"IF(Committenti!D884<>\"\",CONCATENATE(Committenti!B884,\"  \",Committenti!C884,\"  CF: \",Committenti!D884),\"\")","v":""}]
["",null,null,null,null,null,null,null,null,null,null,null,null,null,null,null,{"$f":"IF(Committenti!D885<>\"\",CONCATENATE(Committenti!B885,\"  \",Committenti!C885,\"  CF: \",Committenti!D885),\"\")","v":""}]
["",null,null,null,null,null,null,null,null,null,null,null,null,null,null,null,{"$f":"IF(Committenti!D886<>\"\",CONCATENATE(Committenti!B886,\"  \",Committenti!C886,\"  CF: \",Committenti!D886),\"\")","v":""}]
["",null,null,null,null,null,null,null,null,null,null,null,null,null,null,null,{"$f":"IF(Committenti!D887<>\"\",CONCATENATE(Committenti!B887,\"  \",Committenti!C887,\"  CF: \",Committenti!D887),\"\")","v":""}]
["",null,null,null,null,null,null,null,null,null,null,null,null,null,null,null,{"$f":"IF(Committenti!D888<>\"\",CONCATENATE(Committenti!B888,\"  \",Committenti!C888,\"  CF: \",Committenti!D888),\"\")","v":""}]
["",null,null,null,null,null,null,null,null,null,null,null,null,null,null,null,{"$f":"IF(Committenti!D889<>\"\",CONCATENATE(Committenti!B889,\"  \",Committenti!C889,\"  CF: \",Committenti!D889),\"\")","v":""}]
["",null,null,null,null,null,null,null,null,null,null,null,null,null,null,null,{"$f":"IF(Committenti!D890<>\"\",CONCATENATE(Committenti!B890,\"  \",Committenti!C890,\"  CF: \",Committenti!D890),\"\")","v":""}]
["",null,null,null,null,null,null,null,null,null,null,null,null,null,null,null,{"$f":"IF(Committenti!D891<>\"\",CONCATENATE(Committenti!B891,\"  \",Committenti!C891,\"  CF: \",Committenti!D891),\"\")","v":""}]
["",null,null,null,null,null,null,null,null,null,null,null,null,null,null,null,{"$f":"IF(Committenti!D892<>\"\",CONCATENATE(Committenti!B892,\"  \",Committenti!C892,\"  CF: \",Committenti!D892),\"\")","v":""}]
["",null,null,null,null,null,null,null,null,null,null,null,null,null,null,null,{"$f":"IF(Committenti!D893<>\"\",CONCATENATE(Committenti!B893,\"  \",Committenti!C893,\"  CF: \",Committenti!D893),\"\")","v":""}]
["",null,null,null,null,null,null,null,null,null,null,null,null,null,null,null,{"$f":"IF(Committenti!D894<>\"\",CONCATENATE(Committenti!B894,\"  \",Committenti!C894,\"  CF: \",Committenti!D894),\"\")","v":""}]
["",null,null,null,null,null,null,null,null,null,null,null,null,null,null,null,{"$f":"IF(Committenti!D895<>\"\",CONCATENATE(Committenti!B895,\"  \",Committenti!C895,\"  CF: \",Committenti!D895),\"\")","v":""}]
["",null,null,null,null,null,null,null,null,null,null,null,null,null,null,null,{"$f":"IF(Committenti!D896<>\"\",CONCATENATE(Committenti!B896,\"  \",Committenti!C896,\"  CF: \",Committenti!D896),\"\")","v":""}]
["",null,null,null,null,null,null,null,null,null,null,null,null,null,null,null,{"$f":"IF(Committenti!D897<>\"\",CONCATENATE(Committenti!B897,\"  \",Committenti!C897,\"  CF: \",Committenti!D897),\"\")","v":""}]
["",null,null,null,null,null,null,null,null,null,null,null,null,null,null,null,{"$f":"IF(Committenti!D898<>\"\",CONCATENATE(Committenti!B898,\"  \",Committenti!C898,\"  CF: \",Committenti!D898),\"\")","v":""}]
["",null,null,null,null,null,null,null,null,null,null,null,null,null,null,null,{"$f":"IF(Committenti!D899<>\"\",CONCATENATE(Committenti!B899,\"  \",Committenti!C899,\"  CF: \",Committenti!D899),\"\")","v":""}]
["",null,null,null,null,null,null,null,null,null,null,null,null,null,null,null,{"$f":"IF(Committenti!D900<>\"\",CONCATENATE(Committenti!B900,\"  \",Committenti!C900,\"  CF: \",Committenti!D900),\"\")","v":""}]
[{"$f":"IF(B901<>\"\", IF(A900<>\"\",A900+1,\"\"),\"\")","v":""},null,null,null,null,null,null,null,null,null,null,null,null,null,null,null,{"$f":"IF(Committenti!D901<>\"\",CONCATENATE(Committenti!B901,\"  \",Committenti!C901,\"  CF: \",Committenti!D901),\"\")","v":""}]
["",null,null,null,null,null,null,null,null,null,null,null,null,null,null,null,{"$f":"IF(Committenti!D902<>\"\",CONCATENATE(Committenti!B902,\"  \",Committenti!C902,\"  CF: \",Committenti!D902),\"\")","v":""}]
["",null,null,null,null,null,null,null,null,null,null,null,null,null,null,null,{"$f":"IF(Committenti!D903<>\"\",CONCATENATE(Committenti!B903,\"  \",Committenti!C903,\"  CF: \",Committenti!D903),\"\")","v":""}]
["",null,null,null,null,null,null,null,null,null,null,null,null,null,null,null,{"$f":"IF(Committenti!D904<>\"\",CONCATENATE(Committenti!B904,\"  \",Committenti!C904,\"  CF: \",Committenti!D904),\"\")","v":""}]
["",null,null,null,null,null,null,null,null,null,null,null,null,null,null,null,{"$f":"IF(Committenti!D905<>\"\",CONCATENATE(Committenti!B905,\"  \",Committenti!C905,\"  CF: \",Committenti!D905),\"\")","v":""}]
["",null,null,null,null,null,null,null,null,null,null,null,null,null,null,null,{"$f":"IF(Committenti!D906<>\"\",CONCATENATE(Committenti!B906,\"  \",Committenti!C906,\"  CF: \",Committenti!D906),\"\")","v":""}]
["",null,null,null,null,null,null,null,null,null,null,null,null,null,null,null,{"$f":"IF(Committenti!D907<>\"\",CONCATENATE(Committenti!B907,\"  \",Committenti!C907,\"  CF: \",Committenti!D907),\"\")","v":""}]
["",null,null,null,null,null,null,null,null,null,null,null,null,null,null,null,{"$f":"IF(Committenti!D908<>\"\",CONCATENATE(Committenti!B908,\"  \",Committenti!C908,\"  CF: \",Committenti!D908),\"\")","v":""}]
["",null,null,null,null,null,null,null,null,null,null,null,null,null,null,null,{"$f":"IF(Committenti!D909<>\"\",CONCATENATE(Committenti!B909,\"  \",Committenti!C909,\"  CF: \",Committenti!D909),\"\")","v":""}]
["",null,null,null,null,null,null,null,null,null,null,null,null,null,null,null,{"$f":"IF(Committenti!D910<>\"\",CONCATENATE(Committenti!B910,\"  \",Committenti!C910,\"  CF: \",Committenti!D910),\"\")","v":""}]
["",null,null,null,null,null,null,null,null,null,null,null,null,null,null,null,{"$f":"IF(Committenti!D911<>\"\",CONCATENATE(Committenti!B911,\"  \",Committenti!C911,\"  CF: \",Committenti!D911),\"\")","v":""}]
["",null,null,null,null,null,null,null,null,null,null,null,null,null,null,null,{"$f":"IF(Committenti!D912<>\"\",CONCATENATE(Committenti!B912,\"  \",Committenti!C912,\"  CF: \",Committenti!D912),\"\")","v":""}]
["",null,null,null,null,null,null,null,null,null,null,null,null,null,null,null,{"$f":"IF(Committenti!D913<>\"\",CONCATENATE(Committenti!B913,\"  \",Committenti!C913,\"  CF: \",Committenti!D913),\"\")","v":""}]
["",null,null,null,null,null,null,null,null,null,null,null,null,null,null,null,{"$f":"IF(Committenti!D914<>\"\",CONCATENATE(Committenti!B914,\"  \",Committenti!C914,\"  CF: \",Committenti!D914),\"\")","v":""}]
["",null,null,null,null,null,null,null,null,null,null,null,null,null,null,null,{"$f":"IF(Committenti!D915<>\"\",CONCATENATE(Committenti!B915,\"  \",Committenti!C915,\"  CF: \",Committenti!D915),\"\")","v":""}]
["",null,null,null,null,null,null,null,null,null,null,null,null,null,null,null,{"$f":"IF(Committenti!D916<>\"\",CONCATENATE(Committenti!B916,\"  \",Committenti!C916,\"  CF: \",Committenti!D916),\"\")","v":""}]
["",null,null,null,null,null,null,null,null,null,null,null,null,null,null,null,{"$f":"IF(Committenti!D917<>\"\",CONCATENATE(Committenti!B917,\"  \",Committenti!C917,\"  CF: \",Committenti!D917),\"\")","v":""}]
["",null,null,null,null,null,null,null,null,null,null,null,null,null,null,null,{"$f":"IF(Committenti!D918<>\"\",CONCATENATE(Committenti!B918,\"  \",Committenti!C918,\"  CF: \",Committenti!D918),\"\")","v":""}]
["",null,null,null,null,null,null,null,null,null,null,null,null,null,null,null,{"$f":"IF(Committenti!D919<>\"\",CONCATENATE(Committenti!B919,\"  \",Committenti!C919,\"  CF: \",Committenti!D919),\"\")","v":""}]
["",null,null,null,null,null,null,null,null,null,null,null,null,null,null,null,{"$f":"IF(Committenti!D920<>\"\",CONCATENATE(Committenti!B920,\"  \",Committenti!C920,\"  CF: \",Committenti!D920),\"\")","v":""}]
["",null,null,null,null,null,null,null,null,null,null,null,null,null,null,null,{"$f":"IF(Committenti!D921<>\"\",CONCATENATE(Committenti!B921,\"  \",Committenti!C921,\"  CF: \",Committenti!D921),\"\")","v":""}]
["",null,null,null,null,null,null,null,null,null,null,null,null,null,null,null,{"$f":"IF(Committenti!D922<>\"\",CONCATENATE(Committenti!B922,\"  \",Committenti!C922,\"  CF: \",Committenti!D922),\"\")","v":""}]
["",null,null,null,null,null,null,null,null,null,null,null,null,null,null,null,{"$f":"IF(Committenti!D923<>\"\",CONCATENATE(Committenti!B923,\"  \",Committenti!C923,\"  CF: \",Committenti!D923),\"\")","v":""}]
["",null,null,null,null,null,null,null,null,null,null,null,null,null,null,null,{"$f":"IF(Committenti!D924<>\"\",CONCATENATE(Committenti!B924,\"  \",Committenti!C924,\"  CF: \",Committenti!D924),\"\")","v":""}]
["",null,null,null,null,null,null,null,null,null,null,null,null,null,null,null,{"$f":"IF(Committenti!D925<>\"\",CONCATENATE(Committenti!B925,\"  \",Committenti!C925,\"  CF: \",Committenti!D925),\"\")","v":""}]
["",null,null,null,null,null,null,null,null,null,null,null,null,null,null,null,{"$f":"IF(Committenti!D926<>\"\",CONCATENATE(Committenti!B926,\"  \",Committenti!C926,\"  CF: \",Committenti!D926),\"\")","v":""}]
["",null,null,null,null,null,null,null,null,null,null,null,null,null,null,null,{"$f":"IF(Committenti!D927<>\"\",CONCATENATE(Committenti!B927,\"  \",Committenti!C927,\"  CF: \",Committenti!D927),\"\")","v":""}]
["",null,null,null,null,null,null,null,null,null,null,null,null,null,null,null,{"$f":"IF(Committenti!D928<>\"\",CONCATENATE(Committenti!B928,\"  \",Committenti!C928,\"  CF: \",Committenti!D928),\"\")","v":""}]
["",null,null,null,null,null,null,null,null,null,null,null,null,null,null,null,{"$f":"IF(Committenti!D929<>\"\",CONCATENATE(Committenti!B929,\"  \",Committenti!C929,\"  CF: \",Committenti!D929),\"\")","v":""}]
["",null,null,null,null,null,null,null,null,null,null,null,null,null,null,null,{"$f":"IF(Committenti!D930<>\"\",CONCATENATE(Committenti!B930,\"  \",Committenti!C930,\"  CF: \",Committenti!D930),\"\")","v":""}]
["",null,null,null,null,null,null,null,null,null,null,null,null,null,null,null,{"$f":"IF(Committenti!D931<>\"\",CONCATENATE(Committenti!B931,\"  \",Committenti!C931,\"  CF: \",Committenti!D931),\"\")","v":""}]
["",null,null,null,null,null,null,null,null,null,null,null,null,null,null,null,{"$f":"IF(Committenti!D932<>\"\",CONCATENATE(Committenti!B932,\"  \",Committenti!C932,\"  CF: \",Committenti!D932),\"\")","v":""}]
["",null,null,null,null,null,null,null,null,null,null,null,null,null,null,null,{"$f":"IF(Committenti!D933<>\"\",CONCATENATE(Committenti!B933,\"  \",Committenti!C933,\"  CF: \",Committenti!D933),\"\")","v":""}]
["",null,null,null,null,null,null,null,null,null,null,null,null,null,null,null,{"$f":"IF(Committenti!D934<>\"\",CONCATENATE(Committenti!B934,\"  \",Committenti!C934,\"  CF: \",Committenti!D934),\"\")","v":""}]
["",null,null,null,null,null,null,null,null,null,null,null,null,null,null,null,{"$f":"IF(Committenti!D935<>\"\",CONCATENATE(Committenti!B935,\"  \",Committenti!C935,\"  CF: \",Committenti!D935),\"\")","v":""}]
["",null,null,null,null,null,null,null,null,null,null,null,null,null,null,null,{"$f":"IF(Committenti!D936<>\"\",CONCATENATE(Committenti!B936,\"  \",Committenti!C936,\"  CF: \",Committenti!D936),\"\")","v":""}]
["",null,null,null,null,null,null,null,null,null,null,null,null,null,null,null,{"$f":"IF(Committenti!D937<>\"\",CONCATENATE(Committenti!B937,\"  \",Committenti!C937,\"  CF: \",Committenti!D937),\"\")","v":""}]
["",null,null,null,null,null,null,null,null,null,null,null,null,null,null,null,{"$f":"IF(Committenti!D938<>\"\",CONCATENATE(Committenti!B938,\"  \",Committenti!C938,\"  CF: \",Committenti!D938),\"\")","v":""}]
["",null,null,null,null,null,null,null,null,null,null,null,null,null,null,null,{"$f":"IF(Committenti!D939<>\"\",CONCATENATE(Committenti!B939,\"  \",Committenti!C939,\"  CF: \",Committenti!D939),\"\")","v":""}]
["",null,null,null,null,null,null,null,null,null,null,null,null,null,null,null,{"$f":"IF(Committenti!D940<>\"\",CONCATENATE(Committenti!B940,\"  \",Committenti!C940,\"  CF: \",Committenti!D940),\"\")","v":""}]
["",null,null,null,null,null,null,null,null,null,null,null,null,null,null,null,{"$f":"IF(Committenti!D941<>\"\",CONCATENATE(Committenti!B941,\"  \",Committenti!C941,\"  CF: \",Committenti!D941),\"\")","v":""}]
["",null,null,null,null,null,null,null,null,null,null,null,null,null,null,null,{"$f":"IF(Committenti!D942<>\"\",CONCATENATE(Committenti!B942,\"  \",Committenti!C942,\"  CF: \",Committenti!D942),\"\")","v":""}]
["",null,null,null,null,null,null,null,null,null,null,null,null,null,null,null,{"$f":"IF(Committenti!D943<>\"\",CONCATENATE(Committenti!B943,\"  \",Committenti!C943,\"  CF: \",Committenti!D943),\"\")","v":""}]
["",null,null,null,null,null,null,null,null,null,null,null,null,null,null,null,{"$f":"IF(Committenti!D944<>\"\",CONCATENATE(Committenti!B944,\"  \",Committenti!C944,\"  CF: \",Committenti!D944),\"\")","v":""}]
["",null,null,null,null,null,null,null,null,null,null,null,null,null,null,null,{"$f":"IF(Committenti!D945<>\"\",CONCATENATE(Committenti!B945,\"  \",Committenti!C945,\"  CF: \",Committenti!D945),\"\")","v":""}]
["",null,null,null,null,null,null,null,null,null,null,null,null,null,null,null,{"$f":"IF(Committenti!D946<>\"\",CONCATENATE(Committenti!B946,\"  \",Committenti!C946,\"  CF: \",Committenti!D946),\"\")","v":""}]
["",null,null,null,null,null,null,null,null,null,null,null,null,null,null,null,{"$f":"IF(Committenti!D947<>\"\",CONCATENATE(Committenti!B947,\"  \",Committenti!C947,\"  CF: \",Committenti!D947),\"\")","v":""}]
["",null,null,null,null,null,null,null,null,null,null,null,null,null,null,null,{"$f":"IF(Committenti!D948<>\"\",CONCATENATE(Committenti!B948,\"  \",Committenti!C948,\"  CF: \",Committenti!D948),\"\")","v":""}]
["",null,null,null,null,null,null,null,null,null,null,null,null,null,null,null,{"$f":"IF(Committenti!D949<>\"\",CONCATENATE(Committenti!B949,\"  \",Committenti!C949,\"  CF: \",Committenti!D949),\"\")","v":""}]
["",null,null,null,null,null,null,null,null,null,null,null,null,null,null,null,{"$f":"IF(Committenti!D950<>\"\",CONCATENATE(Committenti!B950,\"  \",Committenti!C950,\"  CF: \",Committenti!D950),\"\")","v":""}]
["",null,null,null,null,null,null,null,null,null,null,null,null,null,null,null,{"$f":"IF(Committenti!D951<>\"\",CONCATENATE(Committenti!B951,\"  \",Committenti!C951,\"  CF: \",Committenti!D951),\"\")","v":""}]
["",null,null,null,null,null,null,null,null,null,null,null,null,null,null,null,{"$f":"IF(Committenti!D952<>\"\",CONCATENATE(Committenti!B952,\"  \",Committenti!C952,\"  CF: \",Committenti!D952),\"\")","v":""}]
["",null,null,null,null,null,null,null,null,null,null,null,null,null,null,null,{"$f":"IF(Committenti!D953<>\"\",CONCATENATE(Committenti!B953,\"  \",Committenti!C953,\"  CF: \",Committenti!D953),\"\")","v":""}]
["",null,null,null,null,null,null,null,null,null,null,null,null,null,null,null,{"$f":"IF(Committenti!D954<>\"\",CONCATENATE(Committenti!B954,\"  \",Committenti!C954,\"  CF: \",Committenti!D954),\"\")","v":""}]
["",null,null,null,null,null,null,null,null,null,null,null,null,null,null,null,{"$f":"IF(Committenti!D955<>\"\",CONCATENATE(Committenti!B955,\"  \",Committenti!C955,\"  CF: \",Committenti!D955),\"\")","v":""}]
["",null,null,null,null,null,null,null,null,null,null,null,null,null,null,null,{"$f":"IF(Committenti!D956<>\"\",CONCATENATE(Committenti!B956,\"  \",Committenti!C956,\"  CF: \",Committenti!D956),\"\")","v":""}]
["",null,null,null,null,null,null,null,null,null,null,null,null,null,null,null,{"$f":"IF(Committenti!D957<>\"\",CONCATENATE(Committenti!B957,\"  \",Committenti!C957,\"  CF: \",Committenti!D957),\"\")","v":""}]
["",null,null,null,null,null,null,null,null,null,null,null,null,null,null,null,{"$f":"IF(Committenti!D958<>\"\",CONCATENATE(Committenti!B958,\"  \",Committenti!C958,\"  CF: \",Committenti!D958),\"\")","v":""}]
["",null,null,null,null,null,null,null,null,null,null,null,null,null,null,null,{"$f":"IF(Committenti!D959<>\"\",CONCATENATE(Committenti!B959,\"  \",Committenti!C959,\"  CF: \",Committenti!D959),\"\")","v":""}]
["",null,null,null,null,null,null,null,null,null,null,null,null,null,null,null,{"$f":"IF(Committenti!D960<>\"\",CONCATENATE(Committenti!B960,\"  \",Committenti!C960,\"  CF: \",Committenti!D960),\"\")","v":""}]
["",null,null,null,null,null,null,null,null,null,null,null,null,null,null,null,{"$f":"IF(Committenti!D961<>\"\",CONCATENATE(Committenti!B961,\"  \",Committenti!C961,\"  CF: \",Committenti!D961),\"\")","v":""}]
["",null,null,null,null,null,null,null,null,null,null,null,null,null,null,null,{"$f":"IF(Committenti!D962<>\"\",CONCATENATE(Committenti!B962,\"  \",Committenti!C962,\"  CF: \",Committenti!D962),\"\")","v":""}]
["",null,null,null,null,null,null,null,null,null,null,null,null,null,null,null,{"$f":"IF(Committenti!D963<>\"\",CONCATENATE(Committenti!B963,\"  \",Committenti!C963,\"  CF: \",Committenti!D963),\"\")","v":""}]
["",null,null,null,null,null,null,null,null,null,null,null,null,null,null,null,{"$f":"IF(Committenti!D964<>\"\",CONCATENATE(Committenti!B964,\"  \",Committenti!C964,\"  CF: \",Committenti!D964),\"\")","v":""}]
[{"$f":"IF(B965<>\"\", IF(A964<>\"\",A964+1,\"\"),\"\")","v":""},null,null,null,null,null,null,null,null,null,null,null,null,null,null,null,{"$f":"IF(Committenti!D965<>\"\",CONCATENATE(Committenti!B965,\"  \",Committenti!C965,\"  CF: \",Committenti!D965),\"\")","v":""}]
["",null,null,null,null,null,null,null,null,null,null,null,null,null,null,null,{"$f":"IF(Committenti!D966<>\"\",CONCATENATE(Committenti!B966,\"  \",Committenti!C966,\"  CF: \",Committenti!D966),\"\")","v":""}]
["",null,null,null,null,null,null,null,null,null,null,null,null,null,null,null,{"$f":"IF(Committenti!D967<>\"\",CONCATENATE(Committenti!B967,\"  \",Committenti!C967,\"  CF: \",Committenti!D967),\"\")","v":""}]
["",null,null,null,null,null,null,null,null,null,null,null,null,null,null,null,{"$f":"IF(Committenti!D968<>\"\",CONCATENATE(Committenti!B968,\"  \",Committenti!C968,\"  CF: \",Committenti!D968),\"\")","v":""}]
["",null,null,null,null,null,null,null,null,null,null,null,null,null,null,null,{"$f":"IF(Committenti!D969<>\"\",CONCATENATE(Committenti!B969,\"  \",Committenti!C969,\"  CF: \",Committenti!D969),\"\")","v":""}]
["",null,null,null,null,null,null,null,null,null,null,null,null,null,null,null,{"$f":"IF(Committenti!D970<>\"\",CONCATENATE(Committenti!B970,\"  \",Committenti!C970,\"  CF: \",Committenti!D970),\"\")","v":""}]
["",null,null,null,null,null,null,null,null,null,null,null,null,null,null,null,{"$f":"IF(Committenti!D971<>\"\",CONCATENATE(Committenti!B971,\"  \",Committenti!C971,\"  CF: \",Committenti!D971),\"\")","v":""}]
["",null,null,null,null,null,null,null,null,null,null,null,null,null,null,null,{"$f":"IF(Committenti!D972<>\"\",CONCATENATE(Committenti!B972,\"  \",Committenti!C972,\"  CF: \",Committenti!D972),\"\")","v":""}]
["",null,null,null,null,null,null,null,null,null,null,null,null,null,null,null,{"$f":"IF(Committenti!D973<>\"\",CONCATENATE(Committenti!B973,\"  \",Committenti!C973,\"  CF: \",Committenti!D973),\"\")","v":""}]
["",null,null,null,null,null,null,null,null,null,null,null,null,null,null,null,{"$f":"IF(Committenti!D974<>\"\",CONCATENATE(Committenti!B974,\"  \",Committenti!C974,\"  CF: \",Committenti!D974),\"\")","v":""}]
["",null,null,null,null,null,null,null,null,null,null,null,null,null,null,null,{"$f":"IF(Committenti!D975<>\"\",CONCATENATE(Committenti!B975,\"  \",Committenti!C975,\"  CF: \",Committenti!D975),\"\")","v":""}]
["",null,null,null,null,null,null,null,null,null,null,null,null,null,null,null,{"$f":"IF(Committenti!D976<>\"\",CONCATENATE(Committenti!B976,\"  \",Committenti!C976,\"  CF: \",Committenti!D976),\"\")","v":""}]
["",null,null,null,null,null,null,null,null,null,null,null,null,null,null,null,{"$f":"IF(Committenti!D977<>\"\",CONCATENATE(Committenti!B977,\"  \",Committenti!C977,\"  CF: \",Committenti!D977),\"\")","v":""}]
["",null,null,null,null,null,null,null,null,null,null,null,null,null,null,null,{"$f":"IF(Committenti!D978<>\"\",CONCATENATE(Committenti!B978,\"  \",Committenti!C978,\"  CF: \",Committenti!D978),\"\")","v":""}]
["",null,null,null,null,null,null,null,null,null,null,null,null,null,null,null,{"$f":"IF(Committenti!D979<>\"\",CONCATENATE(Committenti!B979,\"  \",Committenti!C979,\"  CF: \",Committenti!D979),\"\")","v":""}]
["",null,null,null,null,null,null,null,null,null,null,null,null,null,null,null,{"$f":"IF(Committenti!D980<>\"\",CONCATENATE(Committenti!B980,\"  \",Committenti!C980,\"  CF: \",Committenti!D980),\"\")","v":""}]
["",null,null,null,null,null,null,null,null,null,null,null,null,null,null,null,{"$f":"IF(Committenti!D981<>\"\",CONCATENATE(Committenti!B981,\"  \",Committenti!C981,\"  CF: \",Committenti!D981),\"\")","v":""}]
["",null,null,null,null,null,null,null,null,null,null,null,null,null,null,null,{"$f":"IF(Committenti!D982<>\"\",CONCATENATE(Committenti!B982,\"  \",Committenti!C982,\"  CF: \",Committenti!D982),\"\")","v":""}]
["",null,null,null,null,null,null,null,null,null,null,null,null,null,null,null,{"$f":"IF(Committenti!D983<>\"\",CONCATENATE(Committenti!B983,\"  \",Committenti!C983,\"  CF: \",Committenti!D983),\"\")","v":""}]
["",null,null,null,null,null,null,null,null,null,null,null,null,null,null,null,{"$f":"IF(Committenti!D984<>\"\",CONCATENATE(Committenti!B984,\"  \",Committenti!C984,\"  CF: \",Committenti!D984),\"\")","v":""}]
["",null,null,null,null,null,null,null,null,null,null,null,null,null,null,null,{"$f":"IF(Committenti!D985<>\"\",CONCATENATE(Committenti!B985,\"  \",Committenti!C985,\"  CF: \",Committenti!D985),\"\")","v":""}]
["",null,null,null,null,null,null,null,null,null,null,null,null,null,null,null,{"$f":"IF(Committenti!D986<>\"\",CONCATENATE(Committenti!B986,\"  \",Committenti!C986,\"  CF: \",Committenti!D986),\"\")","v":""}]
["",null,null,null,null,null,null,null,null,null,null,null,null,null,null,null,{"$f":"IF(Committenti!D987<>\"\",CONCATENATE(Committenti!B987,\"  \",Committenti!C987,\"  CF: \",Committenti!D987),\"\")","v":""}]
["",null,null,null,null,null,null,null,null,null,null,null,null,null,null,null,{"$f":"IF(Committenti!D988<>\"\",CONCATENATE(Committenti!B988,\"  \",Committenti!C988,\"  CF: \",Committenti!D988),\"\")","v":""}]
["",null,null,null,null,null,null,null,null,null,null,null,null,null,null,null,{"$f":"IF(Committenti!D989<>\"\",CONCATENATE(Committenti!B989,\"  \",Committenti!C989,\"  CF: \",Committenti!D989),\"\")","v":""}]
["",null,null,null,null,null,null,null,null,null,null,null,null,null,null,null,{"$f":"IF(Committenti!D990<>\"\",CONCATENATE(Committenti!B990,\"  \",Committenti!C990,\"  CF: \",Committenti!D990),\"\")","v":""}]
["",null,null,null,null,null,null,null,null,null,null,null,null,null,null,null,{"$f":"IF(Committenti!D991<>\"\",CONCATENATE(Committenti!B991,\"  \",Committenti!C991,\"  CF: \",Committenti!D991),\"\")","v":""}]
["",null,null,null,null,null,null,null,null,null,null,null,null,null,null,null,{"$f":"IF(Committenti!D992<>\"\",CONCATENATE(Committenti!B992,\"  \",Committenti!C992,\"  CF: \",Committenti!D992),\"\")","v":""}]
["",null,null,null,null,null,null,null,null,null,null,null,null,null,null,null,{"$f":"IF(Committenti!D993<>\"\",CONCATENATE(Committenti!B993,\"  \",Committenti!C993,\"  CF: \",Committenti!D993),\"\")","v":""}]
["",null,null,null,null,null,null,null,null,null,null,null,null,null,null,null,{"$f":"IF(Committenti!D994<>\"\",CONCATENATE(Committenti!B994,\"  \",Committenti!C994,\"  CF: \",Committenti!D994),\"\")","v":""}]
["",null,null,null,null,null,null,null,null,null,null,null,null,null,null,null,{"$f":"IF(Committenti!D995<>\"\",CONCATENATE(Committenti!B995,\"  \",Committenti!C995,\"  CF: \",Committenti!D995),\"\")","v":""}]
["",null,null,null,null,null,null,null,null,null,null,null,null,null,null,null,{"$f":"IF(Committenti!D996<>\"\",CONCATENATE(Committenti!B996,\"  \",Committenti!C996,\"  CF: \",Committenti!D996),\"\")","v":""}]
["",null,null,null,null,null,null,null,null,null,null,null,null,null,null,null,{"$f":"IF(Committenti!D997<>\"\",CONCATENATE(Committenti!B997,\"  \",Committenti!C997,\"  CF: \",Committenti!D997),\"\")","v":""}]
["",null,null,null,null,null,null,null,null,null,null,null,null,null,null,null,{"$f":"IF(Committenti!D998<>\"\",CONCATENATE(Committenti!B998,\"  \",Committenti!C998,\"  CF: \",Committenti!D998),\"\")","v":""}]
["",null,null,null,null,null,null,null,null,null,null,null,null,null,null,null,{"$f":"IF(Committenti!D999<>\"\",CONCATENATE(Committenti!B999,\"  \",Committenti!C999,\"  CF: \",Committenti!D999),\"\")","v":""}]
["",null,null,null,null,null,null,null,null,null,null,null,null,null,null,null,{"$f":"IF(Committenti!D1000<>\"\",CONCATENATE(Committenti!B1000,\"  \",Committenti!C1000,\"  CF: \",Committenti!D1000),\"\")","v":""}]
["",null,null,null,null,null,null,null,null,null,null,null,null,null,null,null,{"$f":"IF(Committenti!D1001<>\"\",CONCATENATE(Committenti!B1001,\"  \",Committenti!C1001,\"  CF: \",Committenti!D1001),\"\")","v":""}]
["",null,null,null,null,null,null,null,null,null,null,null,null,null,null,null,{"$f":"IF(Committenti!D1002<>\"\",CONCATENATE(Committenti!B1002,\"  \",Committenti!C1002,\"  CF: \",Committenti!D1002),\"\")","v":""}]
["",null,null,null,null,null,null,null,null,null,null,null,null,null,null,null,{"$f":"IF(Committenti!D1003<>\"\",CONCATENATE(Committenti!B1003,\"  \",Committenti!C1003,\"  CF: \",Committenti!D1003),\"\")","v":""}]
["",null,null,null,null,null,null,null,null,null,null,null,null,null,null,null,{"$f":"IF(Committenti!D1004<>\"\",CONCATENATE(Committenti!B1004,\"  \",Committenti!C1004,\"  CF: \",Committenti!D1004),\"\")","v":""}]
["",null,null,null,null,null,null,null,null,null,null,null,null,null,null,null,{"$f":"IF(Committenti!D1005<>\"\",CONCATENATE(Committenti!B1005,\"  \",Committenti!C1005,\"  CF: \",Committenti!D1005),\"\")","v":""}]
["",null,null,null,null,null,null,null,null,null,null,null,null,null,null,null,{"$f":"IF(Committenti!D1006<>\"\",CONCATENATE(Committenti!B1006,\"  \",Committenti!C1006,\"  CF: \",Committenti!D1006),\"\")","v":""}]
["",null,null,null,null,null,null,null,null,null,null,null,null,null,null,null,{"$f":"IF(Committenti!D1007<>\"\",CONCATENATE(Committenti!B1007,\"  \",Committenti!C1007,\"  CF: \",Committenti!D1007),\"\")","v":""}]
["",null,null,null,null,null,null,null,null,null,null,null,null,null,null,null,{"$f":"IF(Committenti!D1008<>\"\",CONCATENATE(Committenti!B1008,\"  \",Committenti!C1008,\"  CF: \",Committenti!D1008),\"\")","v":""}]
["",null,null,null,null,null,null,null,null,null,null,null,null,null,null,null,{"$f":"IF(Committenti!D1009<>\"\",CONCATENATE(Committenti!B1009,\"  \",Committenti!C1009,\"  CF: \",Committenti!D1009),\"\")","v":""}]
["",null,null,null,null,null,null,null,null,null,null,null,null,null,null,null,{"$f":"IF(Committenti!D1010<>\"\",CONCATENATE(Committenti!B1010,\"  \",Committenti!C1010,\"  CF: \",Committenti!D1010),\"\")","v":""}]
["",null,null,null,null,null,null,null,null,null,null,null,null,null,null,null,{"$f":"IF(Committenti!D1011<>\"\",CONCATENATE(Committenti!B1011,\"  \",Committenti!C1011,\"  CF: \",Committenti!D1011),\"\")","v":""}]
["",null,null,null,null,null,null,null,null,null,null,null,null,null,null,null,{"$f":"IF(Committenti!D1012<>\"\",CONCATENATE(Committenti!B1012,\"  \",Committenti!C1012,\"  CF: \",Committenti!D1012),\"\")","v":""}]
["",null,null,null,null,null,null,null,null,null,null,null,null,null,null,null,{"$f":"IF(Committenti!D1013<>\"\",CONCATENATE(Committenti!B1013,\"  \",Committenti!C1013,\"  CF: \",Committenti!D1013),\"\")","v":""}]
["",null,null,null,null,null,null,null,null,null,null,null,null,null,null,null,{"$f":"IF(Committenti!D1014<>\"\",CONCATENATE(Committenti!B1014,\"  \",Committenti!C1014,\"  CF: \",Committenti!D1014),\"\")","v":""}]
["",null,null,null,null,null,null,null,null,null,null,null,null,null,null,null,{"$f":"IF(Committenti!D1015<>\"\",CONCATENATE(Committenti!B1015,\"  \",Committenti!C1015,\"  CF: \",Committenti!D1015),\"\")","v":""}]
["",null,null,null,null,null,null,null,null,null,null,null,null,null,null,null,{"$f":"IF(Committenti!D1016<>\"\",CONCATENATE(Committenti!B1016,\"  \",Committenti!C1016,\"  CF: \",Committenti!D1016),\"\")","v":""}]
["",null,null,null,null,null,null,null,null,null,null,null,null,null,null,null,{"$f":"IF(Committenti!D1017<>\"\",CONCATENATE(Committenti!B1017,\"  \",Committenti!C1017,\"  CF: \",Committenti!D1017),\"\")","v":""}]

{"sheet":"Computo-Massimali","index":4,"n_rows":106,"n_cols":33,"rows_kept":106,"cut":false,"hidden":false,"merged":[[86,29,86,32],[51,26,51,27],[80,20,80,21],[53,22,53,23],[54,22,54,23],[55,22,55,23],[53,24,53,25],[53,26,53,27],[54,26,54,27],[56,26,56,27],[80,24,80,25],[55,26,55,27],[56,24,56,25],[51,24,51,25],[52,26,52,27],[54,24,54,25],[55,24,55,25],[99,24,99,25],[99,26,99,27],[90,18,90,19],[90,22,90,23],[90,24,90,25],[90,26,90,27],[92,17,92,19],[92,26,92,27],[92,24,92,25],[92,22,92,23],[99,20,99,21],[90,20,90,21],[98,24,98,27],[91,26,91,27],[89,26,89,27],[89,22,89,23],[87,22,87,23],[88,22,88,23],[89,24,89,25],[88,26,88,27],[87,18,87,19],[79,16,80,19],[50,18,50,19],[50,22,50,23],[51,20,51,21],[51,22,51,23],[57,22,57,23],[56,20,56,21],[50,26,50,27],[50,24,50,25],[87,24,87,27],[57,24,57,25],[57,26,57,27],[80,26,80,27],[5,29,5,32],[6,29,6,32],[17,16,17,27],[17,29,17,32],[39,29,39,32],[39,16,39,27],[16,29,16,32],[38,29,38,32],[19,22,22,23],[13,18,13,19],[18,18,18,19],[18,22,18,23],[18,24,18,27],[7,24,7,27],[23,26,23,27],[23,24,23,25],[8,24,11,25],[8,18,8,19],[32,24,32,25],[34,26,34,27],[35,26,35,27],[19,26,22,27],[19,24,22,25],[30,18,30,19],[98,2,99,4],[92,2,92,3],[90,2,90,3],[91,20,91,21],[98,20,98,21],[98,22,98,23],[98,16,99,19],[87,20,87,21],[99,22,99,23],[87,2,87,3],[86,2,86,12],[79,2,80,4],[80,22,80,23],[54,2,54,3],[79,20,79,21],[77,2,77,3],[54,20,54,21],[55,20,55,21],[56,18,56,19],[57,20,57,21],[79,22,79,23],[86,16,86,27],[31,22,31,23],[32,18,32,19],[52,2,52,3],[50,20,50,21],[51,18,51,19],[57,2,57,3],[55,2,55,3],[56,2,56,3],[53,2,53,3],[53,18,53,19],[54,18,54,19],[55,18,55,19],[52,20,52,21],[53,20,53,21],[57,16,57,19],[50,2,50,3],[51,2,51,3],[52,18,52,19],[45,2,45,3],[49,18,49,19],[49,20,49,21],[31,26,31,27],[29,24,29,25],[29,18,29,19],[36,2,36,3],[32,2,32,3],[31,2,31,3],[32,26,32,27],[33,26,33,27],[36,26,36,27],[31,18,31,19],[33,2,33,3],[34,22,34,23],[35,22,35,23],[31,24,31,25],[30,24,30,25],[30,26,30,27],[30,2,30,3],[36,20,36,21],[29,20,29,21],[31,20,31,21],[32,20,32,21],[33,20,33,21],[34,20,34,21],[32,22,32,23],[33,24,33,25],[35,18,35,19],[36,22,36,23],[35,2,35,3],[36,16,36,19],[35,24,35,25],[34,24,34,25],[35,20,35,21],[34,18,34,19],[33,18,33,19],[34,2,34,3],[33,22,33,23],[100,26,100,27],[40,2,40,4],[100,24,100,25],[100,17,100,19],[100,22,100,23],[92,20,92,21],[88,18,88,19],[88,2,88,3],[88,24,88,25],[91,24,91,25],[91,2,91,3],[91,18,91,19],[91,22,91,23],[88,20,88,21],[89,2,89,3],[89,18,89,19],[89,20,89,21],[47,2,47,3],[47,18,47,19],[45,26,45,27],[44,18,44,19],[45,18,45,19],[40,22,40,23],[40,18,40,19],[29,26,29,27],[13,26,13,27],[14,26,14,27],[12,26,12,27],[45,22,45,23],[49,2,49,3],[40,20,40,21],[46,2,46,3],[41,22,44,23],[43,2,43,3],[44,2,44,3],[41,2,41,3],[41,18,41,19],[41,20,44,21],[42,2,42,3],[43,18,43,19],[46,18,46,19],[42,18,42,19],[46,20,48,27],[45,20,45,21],[48,2,48,3],[48,18,48,19],[45,24,45,25],[29,22,29,23],[41,24,44,25],[41,26,44,27],[52,22,52,23],[52,24,52,25],[49,24,49,25],[40,24,40,27],[36,24,36,25],[56,22,56,23],[79,24,79,27],[49,22,49,23],[49,26,49,27],[15,2,15,3],[15,24,15,25],[39,2,39,12],[27,2,27,3],[27,18,27,19],[29,2,29,3],[21,18,21,19],[23,22,23,23],[10,18,10,19],[14,18,14,19],[15,16,15,19],[24,2,24,3],[22,2,22,3],[23,2,23,3],[15,20,15,21],[18,20,18,21],[22,18,22,19],[23,18,23,19],[19,20,22,21],[23,20,23,21],[15,22,15,23],[12,22,12,23],[30,22,30,23],[30,20,30,21],[7,18,7,19],[7,22,7,23],[6,16,6,27],[13,22,13,23],[15,26,15,27],[13,24,13,25],[28,2,28,3],[25,2,25,3],[25,18,25,19],[19,2,19,3],[19,18,19,19],[20,2,20,3],[20,18,20,19],[17,2,17,12],[18,2,18,4],[11,18,11,19],[8,20,11,21],[24,18,24,19],[8,2,8,3],[26,2,26,3],[26,18,26,19],[28,18,28,19],[14,22,14,23],[24,20,28,27],[2,5,2,8],[3,5,3,8],[12,2,12,3],[12,24,12,25],[21,2,21,3],[8,26,11,27],[11,2,11,3],[9,2,9,3],[7,2,7,4],[5,11,5,12],[14,2,14,3],[14,24,14,25],[10,2,10,3],[5,6,5,7],[5,2,5,4],[13,2,13,3],[6,2,6,12],[9,18,9,19],[7,20,7,21],[12,20,12,21],[13,20,13,21],[5,8,5,9],[14,20,14,21],[12,18,12,19]]}
[null,null,null,null,null,null,null,null,null,null,null,null,null,null,null,{"$f":"MATCH(\"SimMZ\",C:C,0)","v":78}]
[null,null,null,null,null,null,null,null,null,null,null,null,null,null,null,null,"Edificio Unifamiliare"]
[null,null,"Verifica Massimali Superbonus",null,null,{"$f":"CONCATENATE(IF('Dati Gen'!E9<>\"\",'Dati Gen'!E9,\"\"),IF('Dati Gen'!E8<>\"\",CONCATENATE(\" - \",'Dati Gen'!E8),\"\"))","v":""},null,null,null,null,null,null,{"$f":"'Dati Gen'!K2","v":"Pratica.110plus"},null,null,null,1]
[null,null,{"$f":"IF(TipoEdif=1,'Dati Gen'!Q5,'Dati Gen'!Q6)","v":"Edificio Unifamiliare"},{"$f":"IF('Dati Gen'!G5>1,CONCATENATE('Dati Gen'!G5,\" U.Imm\"),\"\")","v":""},null,{"$f":"IF(TipoEdif=2,IF('Dati Gen'!K5<>\"\",'Dati Gen'!K5,\"\"),IF(Committenti!B3<>\"\",CONCATENATE(Committenti!B3,\" \",Committenti!C3),\"\"))","v":"Tizio Caio"},null,null,null,null,null,null,{"$f":"'Dati Gen'!K4","v":"©2021 SIM srl - www.madosoft.it"},null,null,null,{"$f":"IF(Titolare!$B$16=\"Versione Demo\",\"Versione Demo\",\"\")","v":"Versione Demo"}]
[]
[null,null,{"$f":"IF(ABS(F100-'Dati Gen'!G20)>0.01,\"Importo Lavori al Netto della Sicurezza =\",IF(ABS(G100-'Dati Gen'!G19)>0.01,\"Importo Sicurezza da Progetto =\",IF(ABS(H100-'Dati Gen'!G18)>0.01,\"Importo Lavori da Progetto =\",IF(ABS('Dati Gen'!M21-K100)>0.01,\"Importo Spese Tecniche da Progetto =\",IF(ABS(L100-'Dati Gen'!M22)<=0.01,\"\",\"Importo Complessivo Progetto =\")))))","v":"Importo Lavori al Netto della Sicurezza ="},null,null,{"$f":"IF(ABS(F100-'Dati Gen'!G20)>0.01,'Dati Gen'!G20,IF(ABS(G100-'Dati Gen'!G19)>0.01,'Dati Gen'!G19,IF(ABS(H100-'Dati Gen'!G18)>0.01,'Dati Gen'!G18,IF(ABS('Dati Gen'!M21-K100)>0.01,'Dati Gen'!M21,IF(ABS(L100-'Dati Gen'!M22)<=0.01,\"\",'Dati Gen'!M22)))))","v":10000},{"$f":"IF(C6<>\"\",\"DIVERSO da\",\"\")","v":"DIVERSO da"},null,{"$f":"IF(ABS(F100-'Dati Gen'!G20)>0.01,\"Sommatoria Importo Lavori =\",IF(ABS(G100-'Dati Gen'!G19)>0.01,\"Sommatoria Incidenza Sicurezza =\",IF(ABS(H100-'Dati Gen'!G18)>0.01,\"Sommatoria Imponibili =\",IF(ABS('Dati Gen'!M21-K100)>0.01,\"Sommatoria Spese Tecniche =\",IF(ABS(L100-'Dati Gen'!M22)<=0.01,\"\",\"Totale Interventi =\")))))","v":"Sommatoria Importo Lavori ="},null,{"$f":"IF(ABS(F100-'Dati Gen'!G20)>0.01,F100,IF(ABS(G100-'Dati Gen'!G19)>0.01,G100,IF(ABS(H100-'Dati Gen'!G18)>0.01,H100,IF(ABS('Dati Gen'!M21-K100)>0.01,K100,IF(ABS(L100-'Dati Gen'!M22)<=0.01,\"\",L100)))))","v":-2},{"$f":"IF(C6<>\"\",\"Completare Tabella Interventi\",\"\")","v":"Completare Tabella Interventi"},null,null,null,null,null,null,null,null,null,null,null,null,null,null,null,null,null,"Se Dichiarazione Fornitore"]
[null,null,"INTERVENTI TRAINANTI",null,null,null,null,null,null,null,null,null,null,null,null,null,{"$f":"CONCATENATE(\"Verifica Massimali di Spesa \",C7)","v":"Verifica Massimali di Spesa INTERVENTI TRAINANTI"},null,null,null,null,null,null,null,null,null,null,null,null,"Verifica Massimali di Costo INTERVENTI TRAINANTI"]
[null,null,"  Interventi",null,null,"Importo Lavori","Incidenza Sicurezza","Imponibile","Iva","Importo c.iva","Spese tecniche","Totale","Credito Spettante  110% Spesa Ammessa",null,null,null,null,"Massimale  spesa","Verifica Max",null,"Spesa Ammessa",null,"Quota Eccedente Massimale Spesa ",null,"Cessione Credito",null,null,null,null,"Sup. Interv.","Costo Unitario","Massimale costo","Verifica Costo Un."]
[null,null,"PV) Isolamento pareti perimetrali",null,"Esterno",1000,0,{"$f":"SUM(F9:G9)","v":1000},{"$f":"F9*'Dati Gen'!$J$20+G9*'Dati Gen'!$J$19","v":100},{"$f":"H9+I9","v":1100},0,{"$f":"SUM(J9:K9)","v":1100},{"$f":"IF(L9<=R9,L9*1.1,R9*1.1)","v":1210},null,null,null,{"$f":"C9","v":"PV) Isolamento pareti perimetrali"},{"$f":"IF(TipoEdif=1,50000,IF(N_Uimm>8,40000*8+30000*(N_Uimm-8),40000*N_Uimm))","v":50000},{"$f":"IF(L9>M9,\"KO Tot.>Detr.\",IF(L9>R9,\"ok< Tot.>Max.\",\"ok\"))","v":"ok"},null,null,null,null,null,"Quota Impresa",null,"Quota Tecnici",null,null,150,{"$f":"IF(ISNUMBER(AD9)=TRUE,IF(AD9<>0,F9/AD9,0),0)","v":6.666666666666667},{"$f":"IF(E9=\"Parete Ventilata\",200,IF(E9=\"Interno\",80,150))","v":150},{"$f":"IF(AF9<>0,IF(AE9>AF9,\"KO\",\"ok\"),\"ok\")","v":"ok"}]
[null,null,"PO) Isolamento coperture",null,"Esterno",0,0,{"$f":"SUM(F10:G10)","v":0},{"$f":"F10*'Dati Gen'!$J$20+G10*'Dati Gen'!$J$19","v":0},{"$f":"H10+I10","v":0},0,{"$f":"SUM(J10:K10)","v":0},0,null,null,null,{"$f":"C10","v":"PO) Isolamento coperture"},{"$f":"IF(TipoEdif=1,50000,IF(N_Uimm>8,40000*8+30000*(N_Uimm-8),40000*N_Uimm))","v":50000},"ok",null,null,null,null,null,null,null,null,null,null,null,{"$f":"IF(ISNUMBER(AD10)=TRUE,IF(AD10<>0,F10/AD10,0),0)","v":0},{"$f":"IF(E10=\"Copertura Ventilata\",250,IF(E10=\"Interno\",100,230))","v":230},{"$f":"IF(AF10<>0,IF(AE10>AF10,\"KO\",\"ok\"),\"ok\")","v":"ok"}]
[null,null,"POND) Isol. coperture non disperdenti",null,"Esterno",0,0,{"$f":"SUM(F11:G11)","v":0},{"$f":"F11*'Dati Gen'!$J$20+G11*'Dati Gen'!$J$19","v":0},{"$f":"H11+I11","v":0},0,{"$f":"SUM(J11:K11)","v":0},{"$f":"IF(L11<=R11,L11*1.1,R11*1.1)","v":0},null,null,null,{"$f":"C11","v":"POND) Isol. coperture non disperdenti"},{"$f":"IF(TipoEdif=1,50000,IF(N_Uimm>8,40000*8+30000*(N_Uimm-8),40000*N_Uimm))","v":50000},{"$f":"IF(L11>M11,\"KO Tot.>Detr.\",IF(L11>R11,\"ok< Tot.>Max.\",\"ok\"))","v":"ok"},null,null,null,null,null,null,null,null,null,null,null,{"$f":"IF(ISNUMBER(AD11)=TRUE,IF(AD11<>0,F11/AD11,0),0)","v":0},{"$f":"IF(E11=\"Copertura Ventilata\",250,IF(E11=\"Interno\",100,230))","v":230},{"$f":"IF(AF11<>0,IF(AE11>AF11,\"KO\",\"ok\"),\"ok\")","v":"ok"}]
[null,null,"PS) Isolamento Pavimenti",null,"Esterno",0,0,{"$f":"SUM(F12:G12)","v":0},{"$f":"F12*'Dati Gen'!$J$20+G12*'Dati Gen'!$J$19","v":0},{"$f":"H12+I12","v":0},0,{"$f":"SUM(J12:K12)","v":0},0,null,null,null,{"$f":"C12","v":"PS) Isolamento Pavimenti"},{"$f":"IF(TipoEdif=1,50000,IF(N_Uimm>8,40000*8+30000*(N_Uimm-8),40000*N_Uimm))","v":50000},"ok",null,null,null,null,null,null,null,null,null,null,null,{"$f":"IF(ISNUMBER(AD12)=TRUE,IF(AD12<>0,F12/AD12,0),0)","v":0},{"$f":"IF(E12=\"Interno/terreno\",150,120)","v":120},{"$f":"IF(AF12<>0,IF(AE12>AF12,\"KO\",\"ok\"),\"ok\")","v":"ok"}]
[null,null,"TOT.Isolamento sup.verticali/orizzontali",null,null,{"$f":"SUM(F9:F12)","v":1000},{"$f":"SUM(G9:G12)","v":0},1000,100,1100,0,1100,1210,null,null,null,"Isolamento PV) PO) PS) ",{"$f":"IF(TipoEdif=1,50000,IF(N_Uimm>8,40000*8+30000*(N_Uimm-8),40000*N_Uimm))","v":50000},"ok",null,{"$f":"IF(L13<R13,L13,R13)","v":1100},null,{"$f":"IF(L13>R13,L13-R13,0)","v":0},null,{"$f":"IF(M13<>0,J13*M13/L13,0)","v":1210},null,{"$f":"IF(M13<>0,K13*M13/L13,0)","v":0}]
[null,null,"Impianti climatizzazione e ACS",null,null,0,0,{"$f":"SUM(F14:G14)","v":0},{"$f":"F14*'Dati Gen'!$J$20+G14*'Dati Gen'!$J$19","v":0},{"$f":"H14+I14","v":0},0,{"$f":"SUM(J14:K14)","v":0},0,null,null,null,{"$f":"C14","v":"Impianti climatizzazione e ACS"},{"$f":"IF(TipoEdif=1,30000,IF(N_Uimm>8,20000*8+15000*(N_Uimm-8),20000*N_Uimm))","v":30000},"ok",null,{"$f":"IF(L14<R14,L14,R14)","v":0},null,{"$f":"IF(L14>R14,L14-R14,0)","v":0},null,{"$f":"IF(M14<>0,J14*M14/L14,0)","v":0},null,{"$f":"IF(M14<>0,K14*M14/L14,0)","v":0},null,null,null,{"$f":"IF(ISNUMBER(AD14)=TRUE,IF(AD14<>0,F14/AD14,0),0)","v":0},"vedi All.I",{"$f":"IF(AF14<>0,IF(AE14>AF14,\"KO\",\"ok\"),\"ok\")","v":"ok"}]
[null,null,"SismaBonus",null,null,0,0,{"$f":"SUM(F15:G15)","v":0},{"$f":"F15*'Dati Gen'!$J$20+G15*'Dati Gen'!$J$19","v":0},{"$f":"H15+I15","v":0},0,{"$f":"SUM(J15:K15)","v":0},0,null,null,null,{"$f":"C15","v":"SismaBonus"},{"$f":"105600*N_Uimm/1.1","v":95999.999999999985},"ok",null,{"$f":"IF(L15<R15,L15,R15)","v":0},null,{"$f":"IF(L15>R15,L15-R15,0)","v":0},null,{"$f":"IF(M15<>0,J15*M15/L15,0)","v":0},null,{"$f":"IF(M15<>0,K15*M15/L15,0)","v":0},null,null,null,{"$f":"IF(ISNUMBER(AD15)=TRUE,IF(AD15<>0,F15/AD15,0),0)","v":0},"vedi All.I",{"$f":"IF(AF15<>0,IF(AE15>AF15,\"KO\",\"ok\"),\"ok\")","v":"ok"}]
[null,null,"Totale interventi Trainanti  : ",null,null,{"$f":"IF(Titolare!$B$16=\"Versione Demo\",-1,SUM(F13:F15))","v":-1},{"$f":"SUM(G13:G15)","v":0},{"$f":"SUM(H13:H15)","v":1000},{"$f":"SUM(I13:I15)","v":100},{"$f":"IF(Titolare!$B$16=\"Versione Demo\",-1,SUM(J13:J15))","v":-1},{"$f":"SUM(K13:K15)","v":0},{"$f":"IF(Titolare!$B$16=\"Versione Demo\",0,SUM(L13:L15))","v":0},{"$f":"SUM(M13:M15)","v":1210},null,null,null,{"$f":"C16","v":"Totale interventi Trainanti  : "},null,null,null,{"$f":"SUM(U13:V15)","v":1100},null,{"$f":"SUM(W13:X15)","v":0},null,{"$f":"SUM(Y13:Z15)","v":1210},null,{"$f":"SUM(AA13:AB15)","v":0}]
[null,null,null,null,null,null,null,null,null,null,null,null,null,null,null,null,null,null,null,null,null,null,null,null,null,null,null,null,null,"Se Dichiarazione Fornitore"]
[null,null,"INTERVENTI TRAINATI PARTI COMUNI CONDOMINIALI",null,null,null,null,null,null,null,null,null,null,null,null,null,{"$f":"CONCATENATE(\"Verifica Massimali di Spesa \",C18)","v":"Verifica Massimali di Spesa INTERVENTI TRAINATI PARTI COMUNI CONDOMINIALI"},null,null,null,null,null,null,null,null,null,null,null,null,{"$f":"C18","v":"INTERVENTI TRAINATI PARTI COMUNI CONDOMINIALI"}]
[null,null,"  Interventi",null,null,"Importo Lavori","Incidenza Sicurezza","Imponibile","Iva","Importo c.iva","Spese tecniche","Totale","Credito Spettante  110% Spesa Ammessa",null,null,null,null,"Massimale  spesa","Verifica Max",null,"Spesa Ammessa",null,"Quota Eccedente Massimale Spesa ",null,"Cessione Credito",null,null,null,null,"Sup. Interv.","Costo Unitario","Massimale costo","Verifica Costo Un."]
[null,null,"PV) Isolamento pareti perimetrali",null,"Esterno",0,0,{"$f":"SUM(F20:G20)","v":0},{"$f":"F20*'Dati Gen'!$J$20+G20*'Dati Gen'!$J$19","v":0},{"$f":"H20+I20","v":0},0,{"$f":"SUM(J20:K20)","v":0},{"$f":"IF(L20<=R20,L20*1.1,R20*1.1)","v":0},null,null,null,{"$f":"C20","v":"PV) Isolamento pareti perimetrali"},{"$f":"IF(TipoEdif=1,50000,IF(N_Uimm>8,40000*8+30000*(N_Uimm-8),40000*N_Uimm))","v":50000},{"$f":"IF(L20>M20,\"KO Tot.>Detr.\",IF(L20>R20,\"ok< Tot.>Max.\",\"ok\"))","v":"ok"},null,null,null,null,null,"Quota Impresa",null,"Quota Tecnici",null,null,null,{"$f":"IF(ISNUMBER(AD20)=TRUE,IF(AD20<>0,F20/AD20,0),0)","v":0},{"$f":"IF(E20=\"Parete Ventilata\",200,IF(E20=\"Interno\",80,150))","v":150},{"$f":"IF(AF20<>0,IF(AE20>AF20,\"KO\",\"ok\"),\"ok\")","v":"ok"}]
[null,null,"PO) Isolamento coperture",null,"Esterno",0,0,{"$f":"SUM(F21:G21)","v":0},{"$f":"F21*'Dati Gen'!$J$20+G21*'Dati Gen'!$J$19","v":0},{"$f":"H21+I21","v":0},0,{"$f":"SUM(J21:K21)","v":0},{"$f":"IF(L21<=R21,L21*1.1,R21*1.1)","v":0},null,null,null,{"$f":"C21","v":"PO) Isolamento coperture"},{"$f":"IF(TipoEdif=1,50000,IF(N_Uimm>8,40000*8+30000*(N_Uimm-8),40000*N_Uimm))","v":50000},{"$f":"IF(L21>M21,\"KO Tot.>Detr.\",IF(L21>R21,\"ok< Tot.>Max.\",\"ok\"))","v":"ok"},null,null,null,null,null,null,null,null,null,null,null,{"$f":"IF(ISNUMBER(AD21)=TRUE,IF(AD21<>0,F21/AD21,0),0)","v":0},{"$f":"IF(E21=\"Copertura Ventilata\",250,IF(E21=\"Interno\",100,230))","v":230},{"$f":"IF(AF21<>0,IF(AE21>AF21,\"KO\",\"ok\"),\"ok\")","v":"ok"}]
[null,null,"PS) Isolamento Pavimenti",null,"Esterno",0,0,{"$f":"SUM(F22:G22)","v":0},{"$f":"F22*'Dati Gen'!$J$20+G22*'Dati Gen'!$J$19","v":0},{"$f":"H22+I22","v":0},0,{"$f":"SUM(J22:K22)","v":0},{"$f":"IF(L22<=R22,L22*1.1,R22*1.1)","v":0},null,null,null,{"$f":"C22","v":"PS) Isolamento Pavimenti"},{"$f":"IF(TipoEdif=1,50000,IF(N_Uimm>8,40000*8+30000*(N_Uimm-8),40000*N_Uimm))","v":50000},{"$f":"IF(L22>M22,\"KO Tot.>Detr.\",IF(L22>R22,\"ok< Tot.>Max.\",\"ok\"))","v":"ok"},null,null,null,null,null,null,null,null,null,null,null,{"$f":"IF(ISNUMBER(AD22)=TRUE,IF(AD22<>0,F22/AD22,0),0)","v":0},{"$f":"IF(E22=\"Interno/terreno\",150,120)","v":120},{"$f":"IF(AF22<>0,IF(AE22>AF22,\"KO\",\"ok\"),\"ok\")","v":"ok"}]
[null,null,"IN) Serramenti con chiusure oscuranti",null,"Zone D, E ed F",0,0,{"$f":"SUM(F23:G23)","v":0},{"$f":"F23*'Dati Gen'!$J$20+G23*'Dati Gen'!$J$19","v":0},{"$f":"H23+I23","v":0},0,{"$f":"SUM(J23:K23)","v":0},{"$f":"IF(L23<=R23,L23*1.1,R23*1.1)","v":0},null,null,null,{"$f":"C23","v":"IN) Serramenti con chiusure oscuranti"},{"$f":"INT(60000/1.1)*N_Uimm","v":54545},{"$f":"IF(L23>M23,\"KO Tot.>Detr.\",IF(L23>R23,\"ok< Tot.>Max.\",\"ok\"))","v":"ok"},null,null,null,null,null,null,null,null,null,null,null,{"$f":"IF(ISNUMBER(AD23)=TRUE,IF(AD23<>0,F23/AD23,0),0)","v":0},{"$f":"IF(C23=\"IN) Serramenti\",IF(E23=\"Zone A, B e C\",550,650),IF(E23=\"Zone A, B e C\",650,750))","v":750},{"$f":"IF(AF23<>0,IF(AE23>AF23,\"KO\",\"ok\"),\"ok\")","v":"ok"}]
[null,null,"Totali Isolamenti e Serramenti ",null,null,{"$f":"SUM(F20:F23)","v":0},0,0,0,0,0,0,0,null,null,null,"Isolamento PV) PO) PS) e Infissi",{"$f":"INT(60000/1.1)*N_Uimm","v":54545},"ok",null,{"$f":"IF(L24<R24,L24,R24)","v":0},null,{"$f":"IF(L24>R24,L24-R24,0)","v":0},null,{"$f":"IF(M24<>0,J24*M24/L24,0)","v":0},null,{"$f":"IF(M24<>0,K24*M24/L24,0)","v":0}]
[null,null,"SS) Schermature solari e chiusure oscur.",null,null,0,0,{"$f":"SUM(F25:G25)","v":0},{"$f":"F25*'Dati Gen'!$J$20+G25*'Dati Gen'!$J$19","v":0},{"$f":"H25+I25","v":0},0,{"$f":"SUM(J25:K25)","v":0},0,null,null,null,{"$f":"C25","v":"SS) Schermature solari e chiusure oscur."},{"$f":"INT(60000/1.1)*N_Uimm","v":54545},"ok",null,null,null,null,null,null,null,null,null,null,null,{"$f":"IF(ISNUMBER(AD25)=TRUE,IF(AD25<>0,F25/AD25,0),0)","v":0},230,{"$f":"IF(AF25<>0,IF(AE25>AF25,\"KO\",\"ok\"),\"ok\")","v":"ok"}]
[null,null,"Impianti climatizzazione con CC) PC) PCA) o SI)",null,null,0,0,{"$f":"SUM(F26:G26)","v":0},{"$f":"F26*'Dati Gen'!$J$20+G26*'Dati Gen'!$J$19","v":0},{"$f":"H26+I26","v":0},0,{"$f":"SUM(J26:K26)","v":0},0,null,null,null,{"$f":"C26","v":"Impianti climatizzazione con CC) PC) PCA) o SI)"},{"$f":"INT(30000/1.1)*N_Uimm","v":27272},"ok",null,null,null,null,null,null,null,null,null,null,null,{"$f":"IF(ISNUMBER(AD26)=TRUE,IF(AD26<>0,F26/AD26,0),0)","v":0},"vedi All.I",{"$f":"IF(AF26<>0,IF(AE26>AF26,\"KO\",\"ok\"),\"ok\")","v":"ok"}]
[null,null,"GA) Generatori aria calda Condensazione",null,null,0,0,{"$f":"SUM(F27:G27)","v":0},{"$f":"F27*'Dati Gen'!$J$20+G27*'Dati Gen'!$J$19","v":0},{"$f":"H27+I27","v":0},0,{"$f":"SUM(J27:K27)","v":0},0,null,null,null,{"$f":"C27","v":"GA) Generatori aria calda Condensazione"},{"$f":"INT(30000/1.1)*N_Uimm","v":27272},"ok",null,null,null,null,null,null,null,null,null,null,null,{"$f":"IF(ISNUMBER(AD27)=TRUE,IF(AD27<>0,F27/AD27,0),0)","v":0},"vedi All.I",{"$f":"IF(AF27<>0,IF(AE27>AF27,\"KO\",\"ok\"),\"ok\")","v":"ok"}]
[null,null,"IB) Impianti Biomassa",null,null,0,0,{"$f":"SUM(F28:G28)","v":0},{"$f":"F28*'Dati Gen'!$J$20+G28*'Dati Gen'!$J$19","v":0},{"$f":"H28+I28","v":0},0,{"$f":"SUM(J28:K28)","v":0},{"$f":"IF(L28<=R28,L28*1.1,R28*1.1)","v":0},null,null,null,{"$f":"C28","v":"IB) Impianti Biomassa"},{"$f":"INT(30000/1.1)*N_Uimm","v":27272},{"$f":"IF(L28>M28,\"KO Tot.>Detr.\",IF(L28>R28,\"ok< Tot.>Max.\",\"ok\"))","v":"ok"},null,null,null,null,null,null,null,null,null,null,null,{"$f":"IF(ISNUMBER(AD28)=TRUE,IF(AD28<>0,F28/AD28,0),0)","v":0},"vedi All.I",{"$f":"IF(AF28<>0,IF(AE28>AF28,\"KO\",\"ok\"),\"ok\")","v":"ok"}]
[null,null,"SA) Scaldacqua a pompa di calore",null,null,0,0,{"$f":"SUM(F29:G29)","v":0},{"$f":"F29*'Dati Gen'!$J$20+G29*'Dati Gen'!$J$19","v":0},{"$f":"H29+I29","v":0},0,{"$f":"SUM(J29:K29)","v":0},0,null,null,null,{"$f":"C29","v":"SA) Scaldacqua a pompa di calore"},{"$f":"INT(30000/1.1)*N_Uimm","v":27272},"ok",null,null,null,null,null,null,null,null,null,null,null,{"$f":"IF(ISNUMBER(AD29)=TRUE,IF(AD29<>0,F29/AD29,0),0)","v":0},"vedi All.I",{"$f":"IF(AF29<>0,IF(AE29>AF29,\"KO\",\"ok\"),\"ok\")","v":"ok"}]
[null,null,"Totali GA)  IB)  SA)",null,null,{"$f":"SUM(F27:F29)","v":0},{"$f":"SUM(G27:G29)","v":0},{"$f":"SUM(H27:H29)","v":0},0,0,0,0,0,null,null,null,"Generatori Condens., Biomassa, Scaldacqua ",{"$f":"INT(30000/1.1)*N_Uimm","v":27272},{"$f":"IF(L30>M30,\"KO Tot.>Detr.\",IF(L30>R30,\"ok< Tot.>Max.\",\"ok\"))","v":"ok"},null,{"$f":"IF(L30<R30,L30,R30)","v":0},null,{"$f":"IF(L30>R30,L30-R30,0)","v":0},null,{"$f":"IF(M30<>0,J30*M30/L30,0)","v":0},null,{"$f":"IF(M30<>0,K30*M30/L30,0)","v":0}]
[null,null,"CO) Sistemi di Microgenerazione",null,null,0,0,{"$f":"SUM(F31:G31)","v":0},{"$f":"F31*'Dati Gen'!$J$20+G31*'Dati Gen'!$J$19","v":0},{"$f":"H31+I31","v":0},0,{"$f":"SUM(J31:K31)","v":0},{"$f":"IF(L31<=R31,L31*1.1,R31*1.1)","v":0},null,null,null,{"$f":"C31","v":"CO) Sistemi di Microgenerazione"},{"$f":"INT(100000/1.1)*N_Uimm","v":90909},{"$f":"IF(L31>M31,\"KO Tot.>Detr.\",IF(L31>R31,\"ok< Tot.>Max.\",\"ok\"))","v":"ok"},null,0,null,0,null,0,null,0,null,null,null,{"$f":"IF(ISNUMBER(AD31)=TRUE,IF(AD31<>0,F31/AD31,0),0)","v":0},"vedi All.I",{"$f":"IF(AF31<>0,IF(AE31>AF31,\"KO\",\"ok\"),\"ok\")","v":"ok"}]
[null,null,"ST) Collettori Solari",null,"Piani Vetrati",0,0,0,{"$f":"F32*'Dati Gen'!$J$20+G32*'Dati Gen'!$J$19","v":0},0,0,0,0,null,null,null,"ST) Collettori Solari",{"$f":"INT(60000/1.1)*N_Uimm","v":54545},{"$f":"IF(L32>M32,\"KO Tot.>Detr.\",IF(L32>R32,\"ok< Tot.>Max.\",\"ok\"))","v":"ok"},null,0,null,0,null,0,null,0,null,null,null,0,{"$f":"IF(E32=\"Scoperti\",750,IF(E32=\"Piani vetrati\",1000,1250))","v":1000},"ok"]
[null,null,"FV) Solare Fotovoltaico ristr.         kWp",null,6,0,0,0,{"$f":"F33*'Dati Gen'!$J$20+G33*'Dati Gen'!$J$19","v":0},0,0,0,0,null,null,null,{"$f":"LEFT(C33,30)","v":"FV) Solare Fotovoltaico ristr."},{"$f":"IF(C33=\"FV) Solare Fotovoltaico                    kWp\",IF(E33*2400<48000*N_Uimm,E33*2400,48000*N_Uimm),IF(E33*1600<48000*N_Uimm,E33*1600,48000*N_Uimm))","v":9600},{"$f":"IF(L33>M33,\"KO Tot.>Detr.\",IF(L33>R33,\"ok< Tot.>Max.\",\"ok\"))","v":"ok"},null,0,null,0,null,0,null,0,null,null,null,0,"vedi All.I","ok"]
[null,null,"AC) Sistema di Accumulo                kWh",null,10,0,0,0,{"$f":"F34*'Dati Gen'!$J$20+G34*'Dati Gen'!$J$19","v":0},0,0,0,0,null,null,null,{"$f":"LEFT(C34,30)","v":"AC) Sistema di Accumulo       "},{"$f":"IF(E34*1000<48000*N_Uimm,E34*1000,48000*N_Uimm)","v":10000},{"$f":"IF(L34>M34,\"KO Tot.>Detr.\",IF(L34>R34,\"ok< Tot.>Max.\",\"ok\"))","v":"ok"},null,0,null,0,null,0,null,0,null,null,null,0,"vedi All.I","ok"]
[null,null,"CR) Colonnine di Ricarica                   N.",null,1,0,0,0,{"$f":"F35*'Dati Gen'!$J$20+G35*'Dati Gen'!$J$19","v":0},0,0,0,0,null,null,null,{"$f":"LEFT(C35,30)","v":"CR) Colonnine di Ricarica     "},{"$f":"IF(E35>8,1500*8+1200*(E35-8),1500*E35)","v":1500},"ok",null,0,null,0,null,0,null,0,null,null,null,0,"vedi All.I","ok"]
[null,null,"EBA) Eliminazione Barriere architettoniche",null,null,0,0,0,{"$f":"F36*'Dati Gen'!$J$20+G36*'Dati Gen'!$J$19","v":0},0,0,0,0,null,null,null,"EBA) Eliminazione Barriere architettoniche",{"$f":"IF(F36>0,IF(96000*N_Uimm > F15,96000*N_Uimm - F15,0),96000*N_Uimm )","v":96000},"ok",null,0,null,0,null,0,null,0,null,null,null,0,"vedi All.I","ok"]
[null,null,"Totale Interventi Trainati Parti Comuni: ",null,null,{"$f":"SUM(F24:F26)+SUM(F30:F36)","v":0},{"$f":"SUM(G24:G26)+SUM(G30:G36)","v":0},0,0,0,0,0,0,null,null,null,{"$f":"C37","v":"Totale Interventi Trainati Parti Comuni: "},null,null,null,{"$f":"SUM(U24:V36)","v":0},null,{"$f":"SUM(W24:X36)","v":0},null,{"$f":"SUM(Y24:Z36)","v":0},null,{"$f":"SUM(AA24:AB36)","v":0}]
[]
[null,null,null,null,null,null,null,null,null,null,null,null,null,null,null,null,null,null,null,null,null,null,null,null,null,null,null,null,null,"Se Dichiarazione Fornitore"]
[null,null,"INTERVENTI TRAINATI",null,null,null,null,null,null,null,null,null,null,null,null,null,{"$f":"CONCATENATE(\"Verifica Massimali di Spesa \",C40)","v":"Verifica Massimali di Spesa INTERVENTI TRAINATI"},null,null,null,null,null,null,null,null,null,null,null,null,"Verifica Massimali di Costo INTERVENTI TRAINATI"]
[null,null,"  Interventi",null,null,"Importo Lavori","Incidenza Sicurezza","Imponibile","Iva","Importo c.iva","Spese tecniche","Totale","Credito Spettante  110% Spesa Ammessa",null,null,null,null,"Massimale  spesa","Verifica Max",null,"Spesa Ammessa",null,"Quota Eccedente Massimale Spesa ",null,"Cessione Credito",null,null,null,null,"Sup. Interv.","Costo Unitario","Massimale costo","Verifica Costo Un."]
[null,null,"PV) Isolamento pareti perimetrali",null,"Esterno",0,0,{"$f":"SUM(F42:G42)","v":0},{"$f":"F42*'Dati Gen'!$J$20+G42*'Dati Gen'!$J$19","v":0},{"$f":"H42+I42","v":0},0,{"$f":"SUM(J42:K42)","v":0},{"$f":"IF(L42<=R42,L42*1.1,R42*1.1)","v":0},null,null,null,{"$f":"C42","v":"PV) Isolamento pareti perimetrali"},{"$f":"INT(60000/1.1)","v":54545},{"$f":"IF(L42>M42,\"KO Tot.>Detr.\",IF(L42>R42,\"ok< Tot.>Max.\",\"ok\"))","v":"ok"},null,null,null,null,null,"Quota Impresa",null,"Quota Tecnici",null,null,null,{"$f":"IF(ISNUMBER(AD42)=TRUE,IF(AD42<>0,F43/AD42,0),0)","v":0},{"$f":"IF(E43=\"Parete Ventilata\",200,IF(E43=\"Interno\",80,150))","v":150},{"$f":"IF(AF42<>0,IF(AE42>AF42,\"KO\",\"ok\"),\"ok\")","v":"ok"}]
[null,null,"PO) Isolamento coperture",null,"Esterno",0,0,{"$f":"SUM(F43:G43)","v":0},{"$f":"F43*'Dati Gen'!$J$20+G43*'Dati Gen'!$J$19","v":0},{"$f":"H43+I43","v":0},0,{"$f":"SUM(J43:K43)","v":0},{"$f":"IF(L43<=R43,L43*1.1,R43*1.1)","v":0},null,null,null,{"$f":"C43","v":"PO) Isolamento coperture"},54545,"ok",null,null,null,null,null,null,null,null,null,null,null,{"$f":"IF(ISNUMBER(AD43)=TRUE,IF(AD43<>0,F44/AD43,0),0)","v":0},{"$f":"IF(E44=\"Copertura Ventilata\",250,IF(E44=\"Interno\",100,230))","v":230},{"$f":"IF(AF43<>0,IF(AE43>AF43,\"KO\",\"ok\"),\"ok\")","v":"ok"}]
[null,null,"PS) Isolamento Pavimenti",null,"Esterno",0,0,{"$f":"SUM(F44:G44)","v":0},{"$f":"F44*'Dati Gen'!$J$20+G44*'Dati Gen'!$J$19","v":0},{"$f":"H44+I44","v":0},0,{"$f":"SUM(J44:K44)","v":0},{"$f":"IF(L44<=R44,L44*1.1,R44*1.1)","v":0},null,null,null,{"$f":"C44","v":"PS) Isolamento Pavimenti"},54545,"ok",null,null,null,null,null,null,null,null,null,null,null,{"$f":"IF(ISNUMBER(AD44)=TRUE,IF(AD44<>0,F45/AD44,0),0)","v":0},{"$f":"IF(E45=\"Interno/terreno\",150,120)","v":120},{"$f":"IF(AF44<>0,IF(AE44>AF44,\"KO\",\"ok\"),\"ok\")","v":"ok"}]
[null,null,"IN) Serramenti con chiusure oscuranti",null,"Zone D, E ed F",0,0,{"$f":"SUM(F45:G45)","v":0},{"$f":"F45*'Dati Gen'!$J$20+G45*'Dati Gen'!$J$19","v":0},{"$f":"H45+I45","v":0},0,{"$f":"SUM(J45:K45)","v":0},{"$f":"IF(L45<=R45,L45*1.1,R45*1.1)","v":0},null,null,null,{"$f":"C45","v":"IN) Serramenti con chiusure oscuranti"},54545,"ok",null,null,null,null,null,null,null,null,null,null,null,{"$f":"IF(ISNUMBER(AD45)=TRUE,IF(AD45<>0,F46/AD45,0),0)","v":0},{"$f":"IF(C45=\"IN) Serramenti\",IF(E45=\"Zone A, B e C\",550,650),IF(E45=\"Zone A, B e C\",650,750))","v":750},{"$f":"IF(AF45<>0,IF(AE45>AF45,\"KO\",\"ok\"),\"ok\")","v":"ok"}]
[null,null,"Totali Isolamenti e Serramenti ",null,null,{"$f":"SUM(F42:F45)","v":0},0,0,0,0,0,0,0,null,null,null,null,54545,"ok",null,{"$f":"IF(L46<R46,L46,R46)","v":0},null,{"$f":"IF(L46>R46,L46-R46,0)","v":0},null,{"$f":"IF(M46<>0,J46*M46/L46,0)","v":0},null,{"$f":"IF(M46<>0,K46*M46/L46,0)","v":0}]
[null,null,"SS) Schermature solari e chiusure oscur.",null,null,0,0,{"$f":"SUM(F47:G47)","v":0},{"$f":"F47*'Dati Gen'!$J$20+G47*'Dati Gen'!$J$19","v":0},{"$f":"H47+I47","v":0},0,{"$f":"SUM(J47:K47)","v":0},{"$f":"IF(L47<=R47,L47*1.1,R47*1.1)","v":0},null,null,null,{"$f":"C47","v":"SS) Schermature solari e chiusure oscur."},54545,"ok",null,null,null,null,null,null,null,null,null,null,null,{"$f":"IF(ISNUMBER(AD47)=TRUE,IF(AD47<>0,F48/AD47,0),0)","v":0},230,{"$f":"IF(AF47<>0,IF(AE47>AF47,\"KO\",\"ok\"),\"ok\")","v":"ok"}]
[null,null,"Impianti climatizzazione e ACS",null,null,0,0,{"$f":"SUM(F48:G48)","v":0},{"$f":"F48*'Dati Gen'!$J$20+G48*'Dati Gen'!$J$19","v":0},{"$f":"H48+I48","v":0},0,{"$f":"SUM(J48:K48)","v":0},{"$f":"IF(L48<=R48,L48*1.1,R48*1.1)","v":0},null,null,null,{"$f":"C48","v":"Impianti climatizzazione e ACS"},{"$f":"INT(30000/1.1)","v":27272},"ok",null,null,null,null,null,null,null,null,null,null,null,{"$f":"IF(ISNUMBER(AD48)=TRUE,IF(AD48<>0,F49/AD48,0),0)","v":0},"vedi All.I",{"$f":"IF(AF48<>0,IF(AE48>AF48,\"KO\",\"ok\"),\"ok\")","v":"ok"}]
[null,null,"SA) Scaldacqua a pompa di calore",null,null,0,0,{"$f":"SUM(F49:G49)","v":0},{"$f":"F49*'Dati Gen'!$J$20+G49*'Dati Gen'!$J$19","v":0},{"$f":"H49+I49","v":0},0,{"$f":"SUM(J49:K49)","v":0},{"$f":"IF(L49<=R49,L49*1.1,R49*1.1)","v":0},null,null,null,{"$f":"C49","v":"SA) Scaldacqua a pompa di calore"},{"$f":"INT(30000/1.1)","v":27272},"ok",null,null,null,null,null,null,null,null,null,null,null,{"$f":"IF(ISNUMBER(AD49)=TRUE,IF(AD49<>0,F50/AD49,0),0)","v":0},"vedi All.I",{"$f":"IF(AF49<>0,IF(AE49>AF49,\"KO\",\"ok\"),\"ok\")","v":"ok"}]
[null,null,"Totali Impianti ed  SA)",null,null,{"$f":"SUM(F48:F49)","v":0},{"$f":"SUM(G48:G49)","v":0},0,0,0,0,0,0,null,null,null,null,{"$f":"INT(30000/1.1)","v":27272},"ok",null,{"$f":"IF(L50<R50,L50,R50)","v":0},null,{"$f":"IF(L50>R50,L50-R50,0)","v":0},null,{"$f":"IF(M50<>0,J50*M50/L50,0)","v":0},null,{"$f":"IF(M50<>0,K50*M50/L50,0)","v":0}]
[null,null,"CO) Sistemi di Microgenerazione",null,null,0,0,{"$f":"SUM(F51:G51)","v":0},{"$f":"F51*'Dati Gen'!$J$20+G51*'Dati Gen'!$J$19","v":0},{"$f":"H51+I51","v":0},0,{"$f":"SUM(J51:K51)","v":0},{"$f":"IF(L51<=R51,L51*1.1,R51*1.1)","v":0},null,null,null,{"$f":"C51","v":"CO) Sistemi di Microgenerazione"},{"$f":"INT(100000/1.1)","v":90909},"ok",null,0,null,0,null,0,null,0,null,null,null,{"$f":"IF(ISNUMBER(AD51)=TRUE,IF(AD51<>0,F52/AD51,0),0)","v":0},"vedi All.I",{"$f":"IF(AF51<>0,IF(AE51>AF51,\"KO\",\"ok\"),\"ok\")","v":"ok"}]
[null,null,"IB) Generatori a Biomassa",null,null,0,0,0,{"$f":"F52*'Dati Gen'!$J$20+G52*'Dati Gen'!$J$19","v":0},0,0,0,0,null,null,null,"IB) Generatori a Biomassa",{"$f":"INT(30000/1.1)","v":27272},"ok",null,0,null,0,null,0,null,0,null,null,null,0,"vedi All.I","ok"]
[null,null,"BA) Building Automation",null,null,0,0,0,{"$f":"F53*'Dati Gen'!$J$20+G53*'Dati Gen'!$J$19","v":0},0,0,0,0,null,null,null,"BA) Building Automation",{"$f":"15000/1.1","v":13636.363636363636},"ok",null,0,null,0,null,0,null,0,null,null,null,0,50,"ok"]
[null,null,"ST) Collettori Solari",null,"Piani Vetrati",0,0,0,{"$f":"F54*'Dati Gen'!$J$20+G54*'Dati Gen'!$J$19","v":0},0,0,0,0,null,null,null,"ST) Collettori Solari",{"$f":"INT(60000/1.1)","v":54545},"ok",null,0,null,0,null,0,null,0,null,null,null,0,{"$f":"IF(E55=\"Scoperti\",750,IF(E55=\"Piani vetrati\",1000,1250))","v":1250},"ok"]
[null,null,"FV) Solare Fotovoltaico                    kWp",null,6,0,0,0,{"$f":"F55*'Dati Gen'!$J$20+G55*'Dati Gen'!$J$19","v":0},0,0,0,0,null,null,null,{"$f":"LEFT(C55,30)","v":"FV) Solare Fotovoltaico       "},{"$f":"IF(C55=\"FV) Solare Fotovoltaico                    kWp\",IF(E55*2400<48000*N_Uimm,E55*2400,48000*N_Uimm),IF(E55*1600<48000*N_Uimm,E55*1600,48000*N_Uimm))","v":14400},"ok",null,0,null,0,null,0,null,0,null,null,null,0,"vedi All.I","ok"]
[null,null,"AC) Sistema di Accumulo                  kWh",null,10,0,0,0,{"$f":"F56*'Dati Gen'!$J$20+G56*'Dati Gen'!$J$19","v":0},0,0,0,0,null,null,null,{"$f":"LEFT(C56,30)","v":"AC) Sistema di Accumulo       "},{"$f":"IF(E56*1000<48000*N_Uimm,E56*1000,48000*N_Uimm)","v":10000},"ok",null,0,null,0,null,0,null,0,null,null,null,0,"vedi All.I","ok"]
[null,null,"CR) Colonnine di Ricarica",null,null,0,0,0,{"$f":"F57*'Dati Gen'!$J$20+G57*'Dati Gen'!$J$19","v":0},0,0,0,0,null,null,null,"CR) Colonnine di Ricarica",1500,"ok",null,0,null,0,null,0,null,0,null,null,null,0,"vedi All.I","ok"]
[null,null,"Totale Interventi trainati",null,null,{"$f":"IF(Titolare!B16=\"Versione Demo\",-1,F46+F47+SUM(F50:F57))","v":-1},{"$f":"G46+G47+SUM(G50:G57)","v":0},0,0,{"$f":"IF(Titolare!B16=\"Versione Demo\",-1,J46+J47+SUM(J50:J57))","v":-1},{"$f":"K46+K47+SUM(K50:K57)","v":0},{"$f":"IF(Titolare!B16=\"Versione Demo\",0,L46+L47+SUM(L50:L57))","v":0},0,null,null,null,{"$f":"C58","v":"Totale Interventi trainati"},null,null,null,{"$f":"SUM(U46:V57)","v":0},null,{"$f":"SUM(W46:X57)","v":0},null,{"$f":"SUM(Y46:Z57)","v":0},null,{"$f":"SUM(AA46:AB57)","v":0}]
[]
[]
[]
[]
[]
[]
[]
[]
[]
[]
[]
[]
[]
[]
[]
[]
[]
[]
[]
[null,null,"SimMZ"]
[]
[null,null,"TOTALE INTERVENTI 110 ",null,null,"Importo Lavori","Incidenza Sicurezza","Imponibile","Iva","Importo c.iva","Spese tecniche","Totale","Credito Spettante  110% Spesa Ammessa",null,null,null,{"$f":"C80","v":"TOTALE INTERVENTI 110 "},null,null,null,"Spesa Ammessa",null,"Quota Eccedente Massimale Spesa ",null,"Cessione Credito                       Quota Impresa | Quota Tecnici"]
[null,null,null,null,null,{"$f":"F16+F58","v":-2},0,1000,100,-2,0,0,1210,null,null,null,null,null,null,null,{"$f":"U16+U37+U58","v":1100},null,{"$f":"T16+T58","v":0},null,{"$f":"V16+V58","v":0},null,{"$f":"X16+X58","v":0}]
[]
[]
[]
[]
[]
[null,null,"ALTRI INTERVENTI",null,null,null,null,null,null,null,null,null,null,null,null,null,{"$f":"CONCATENATE(\"Verifica Massimali di Spesa \",C87)","v":"Verifica Massimali di Spesa ALTRI INTERVENTI"},null,null,null,null,null,null,null,null,null,null,null,null,"Se Dichiarazione Fornitore"]
[null,null,"  Interventi",null,"x% Credito ceduto","Importo Lavori","Incidenza Sicurezza","Imponibile","Iva","Importo c.iva","Spese tecniche","Totale","Credito Spettante  x% Spesa Ammessa",null,null,null,null,"Massimale  spesa","Verifica Max",null,"Spesa Ammessa",null,"Quota Eccedente Massimale Spesa ",null,"Cessione Credito                       Quota Impresa | Quota Tecnici",null,null,null,null,"Sup. Interv.","Costo Unitario","Massimale costo","Verifica Costo Un."]
[null,null,"Lavori Ristrutturazione",null,0.5,0,0,{"$f":"SUM(F89:G89)","v":0},{"$f":"F89*'Dati Gen'!$J$20+G89*'Dati Gen'!$J$19","v":0},{"$f":"H89+I89","v":0},0,{"$f":"SUM(J89:K89)","v":0},{"$f":"IF(L89<=R89,L89*E89,R89*E89)","v":0},null,null,null,{"$f":"IF(C89<>\"\",C89,\"\")","v":"Lavori Ristrutturazione"},{"$f":"96000*N_Uimm","v":96000},{"$f":"IF(R89<>0,IF(L89>R89,\"KO\",\"ok\"),\"ok\")","v":"ok"},null,{"$f":"IF(L89<R89,L89,R89)","v":0},null,{"$f":"IF(L89>R89,L89-R89,0)","v":0},null,{"$f":"IF(M89<>0,J89*M89/L89,0)","v":0},null,{"$f":"IF(M89<>0,K89*M89/L89,0)","v":0},null,null,null,{"$f":"IF(ISNUMBER(AD89)=TRUE,IF(AD89<>0,F89/AD89,0),0)","v":0},0,{"$f":"IF(AF89<>0,IF(AE89>AF89,\"KO\",\"ok\"),\"ok\")","v":"ok"}]
[null,null,"Ecobonus",null,0.65,0,0,{"$f":"SUM(F90:G90)","v":0},{"$f":"F90*'Dati Gen'!$J$20+G90*'Dati Gen'!$J$19","v":0},{"$f":"H90+I90","v":0},0,{"$f":"SUM(J90:K90)","v":0},{"$f":"IF(L90<=R90,L90*E90,R90*E90)","v":0},null,null,null,{"$f":"IF(C90<>\"\",C90,\"\")","v":"Ecobonus"},{"$f":"96000*N_Uimm","v":96000},{"$f":"IF(R90<>0,IF(L90>R90,\"KO\",\"ok\"),\"ok\")","v":"ok"},null,{"$f":"IF(L90<R90,L90,R90)","v":0},null,{"$f":"IF(L90>R90,L90-R90,0)","v":0},null,{"$f":"IF(M90<>0,J90*M90/L90,0)","v":0},null,{"$f":"IF(M90<>0,K90*M90/L90,0)","v":0},null,null,null,{"$f":"IF(ISNUMBER(AD90)=TRUE,IF(AD90<>0,F90/AD90,0),0)","v":0},0,{"$f":"IF(AF90<>0,IF(AE90>AF90,\"KO\",\"ok\"),\"ok\")","v":"ok"}]
[null,null,"Bonus Facciata",null,0.9,0,0,{"$f":"SUM(F91:G91)","v":0},{"$f":"F91*'Dati Gen'!$J$20+G91*'Dati Gen'!$J$19","v":0},{"$f":"H91+I91","v":0},0,{"$f":"SUM(J91:K91)","v":0},{"$f":"IF(L91<=R91,L91*E91,R91*E91)","v":0},null,null,null,{"$f":"IF(C91<>\"\",C91,\"\")","v":"Bonus Facciata"},1000000,{"$f":"IF(R91<>0,IF(L91>R91,\"KO\",\"ok\"),\"ok\")","v":"ok"},null,{"$f":"IF(L91<R91,L91,R91)","v":0},null,{"$f":"IF(L91>R91,L91-R91,0)","v":0},null,{"$f":"IF(M91<>0,J91*M91/L91,0)","v":0},null,{"$f":"IF(M91<>0,K91*M91/L91,0)","v":0},null,null,null,{"$f":"IF(ISNUMBER(AD91)=TRUE,IF(AD91<>0,F91/AD91,0),0)","v":0},0,{"$f":"IF(AF91<>0,IF(AE91>AF91,\"KO\",\"ok\"),\"ok\")","v":"ok"}]
[null,null,null,null,null,0,0,0,0,0,0,0,0,null,null,null,{"$f":"IF(C92<>\"\",C92,\"\")","v":""},{"$f":"96000*N_Uimm","v":96000},{"$f":"IF(R92<>0,IF(L92>R92,\"KO\",\"ok\"),\"ok\")","v":"ok"},null,{"$f":"IF(L92<R92,L92,R92)","v":0},null,{"$f":"IF(L92>R92,L92-R92,0)","v":0},null,{"$f":"IF(M92<>0,J92*M92/L92,0)","v":0},null,{"$f":"IF(M92<>0,K92*M92/L92,0)","v":0},null,null,null,{"$f":"IF(ISNUMBER(AD92)=TRUE,IF(AD92<>0,F92/AD92,0),0)","v":0},0,{"$f":"IF(AF92<>0,IF(AE92>AF92,\"KO\",\"ok\"),\"ok\")","v":"ok"}]
[null,null,"Totale Altri Interventi  : ",null,null,{"$f":"SUM(F89:F92)","v":0},0,0,0,0,0,0,0,null,null,null,null,{"$f":"C93","v":"Totale Altri Interventi  : "},null,null,{"$f":"SUM(U89:V92)","v":0},null,{"$f":"SUM(W89:X92)","v":0},null,{"$f":"SUM(Y89:Z92)","v":0},null,{"$f":"SUM(AA89:AB92)","v":0}]
[]
[]
[]
[]
[]
[null,null,"TOTALI PROGETTO",null,null,"Importo Lavori","Incidenza Sicurezza","Imponibile","Iva","Importo c.iva","Spese tecniche","Totale","Credito Spettante",null,null,null,{"$f":"C99","v":"TOTALI PROGETTO"},null,null,null,"Spesa Ammessa",null,"Quota Eccedente Massimale Spesa ",null,"Cessione Credito                       Quota Impresa | Quota Tecnici"]
[null,null,null,null,null,{"$f":"F81+F93","v":-2},0,1000,100,{"$f":"J81+J93","v":-2},0,0,1210,null,null,null,null,null,null,null,{"$f":"U81+U93","v":1100},null,{"$f":"W81+W93","v":0},null,{"$f":"Y81+Y93","v":0},null,{"$f":"AA81+AA93","v":0}]
[]
[]
[null,null,null,null,null,null,"Quota % effettiva per cessione credito a Banca o Impresa Interventi 110:",{"$f":"102/110","v":0.92727272727272725},{"$f":"H103*110","v":102}]
[null,null,null,null,null,null,"Quota % effettiva per cessione credito a Banca o Impresa Interventi NO 110:",0.875,{"$f":"H104*100","v":87.5},"Quota Impresa","Quota Tecnici"]
[null,null,null,null,null,null,"Netto a seguito Cessione Credito a Banca/Impresa :",{"$f":"H103*M81+H104*M93","v":1122},null,{"$f":"Y100*H105/M100","v":0},{"$f":"AA100*H105/M100","v":0}]
[null,null,null,null,null,null,"Quota a carico cliente :",{"$f":"L100-H105","v":-1122},null,{"$f":"H106*Y100/M100","v":0},{"$f":"H106*AA100/M100","v":0}]

{"sheet":"SAL.30%","index":5,"n_rows":142,"n_cols":41,"rows_kept":142,"cut":false,"hidden":false,"merged":[[77,2,77,3],[79,22,79,23],[79,20,79,21],[87,22,87,23],[82,2,82,13],[140,18,140,19],[140,20,140,21],[140,22,140,23],[134,18,134,19],[134,22,134,23],[99,2,99,4],[100,2,100,5],[95,22,95,23],[95,16,96,19],[95,20,95,21],[96,20,96,21],[96,22,96,23],[91,2,91,3],[91,18,91,19],[91,22,91,23],[131,18,131,19],[131,22,131,23],[126,20,126,21],[126,22,126,23],[134,26,134,27],[135,18,135,19],[135,22,135,23],[135,26,135,27],[136,18,136,19],[136,22,136,23],[136,26,136,27],[131,26,131,27],[132,18,132,19],[132,22,132,23],[132,26,132,27],[133,18,133,19],[133,22,133,23],[133,26,133,27],[140,26,140,27],[146,22,146,23],[137,18,137,19],[137,22,137,23],[137,26,137,27],[138,18,138,19],[138,22,138,23],[138,26,138,27],[139,18,139,19],[139,22,139,23],[139,26,139,27],[115,28,116,28],[129,16,129,27],[129,28,130,28],[130,18,130,19],[130,20,130,21],[130,22,130,23],[130,24,130,25],[130,26,130,27],[117,26,117,27],[118,26,118,27],[119,26,119,27],[120,26,120,27],[121,26,121,27],[122,26,122,27],[123,26,123,27],[124,26,124,27],[125,26,125,27],[126,18,126,19],[116,22,116,23],[124,18,124,19],[125,18,125,19],[117,22,117,23],[118,22,118,23],[119,22,119,23],[126,26,126,27],[95,24,95,27],[96,26,96,27],[91,24,91,25],[116,26,116,27],[115,16,115,27],[120,22,120,23],[121,22,121,23],[122,22,122,23],[125,22,125,23],[117,18,117,19],[118,18,118,19],[119,18,119,19],[120,18,120,19],[121,18,121,19],[122,18,122,19],[123,18,123,19],[116,20,116,21],[116,18,116,19],[123,22,123,23],[124,22,124,23],[116,24,116,25],[91,20,91,21],[92,20,92,21],[87,24,87,27],[88,2,88,3],[88,18,88,19],[88,22,88,23],[88,24,88,25],[88,26,88,27],[86,16,86,27],[87,20,87,21],[88,20,88,21],[87,2,87,3],[86,2,86,13],[87,18,87,19],[95,2,96,4],[57,22,57,23],[57,24,57,25],[57,26,57,27],[57,20,57,21],[79,2,80,4],[96,24,96,25],[89,2,89,3],[89,18,89,19],[89,22,89,23],[89,24,89,25],[89,26,89,27],[90,2,90,3],[90,18,90,19],[90,22,90,23],[90,24,90,25],[90,26,90,27],[89,20,89,21],[90,20,90,21],[91,26,91,27],[92,2,92,3],[92,17,92,19],[92,22,92,23],[92,24,92,25],[92,26,92,27],[55,20,55,21],[56,20,56,21],[53,18,53,19],[53,22,53,23],[53,24,53,25],[53,26,53,27],[79,24,79,27],[80,22,80,23],[80,24,80,25],[80,26,80,27],[80,20,80,21],[79,16,80,19],[54,22,54,23],[54,24,54,25],[54,26,54,27],[55,18,55,19],[55,22,55,23],[55,24,55,25],[55,26,55,27],[56,18,56,19],[56,22,56,23],[56,24,56,25],[56,26,56,27],[57,17,57,19],[52,20,52,21],[53,20,53,21],[54,20,54,21],[54,18,54,19],[51,18,51,19],[51,22,51,23],[51,24,51,25],[51,26,51,27],[51,20,51,21],[52,18,52,19],[52,22,52,23],[52,24,52,25],[52,26,52,27],[49,18,49,19],[49,22,49,23],[49,24,49,25],[49,26,49,27],[50,22,50,23],[50,24,50,25],[50,26,50,27],[45,18,45,19],[45,22,45,23],[45,24,45,25],[45,26,45,27],[46,26,46,27],[49,20,49,21],[50,20,50,21],[50,18,50,19],[46,2,46,3],[46,18,46,19],[47,18,47,19],[48,18,48,19],[48,2,48,3],[45,20,45,21],[46,20,46,21],[46,22,46,23],[46,24,46,25],[47,20,47,21],[48,20,48,21],[40,18,40,19],[40,22,40,23],[40,24,40,27],[41,18,41,19],[41,22,44,23],[41,24,44,25],[41,26,44,27],[42,18,42,19],[43,18,43,19],[44,18,44,19],[40,20,40,21],[41,20,41,21],[42,20,42,21],[43,20,43,21],[44,20,44,21],[35,18,35,19],[35,22,35,23],[35,24,35,25],[35,26,35,27],[36,17,36,19],[36,22,36,23],[36,24,36,25],[36,26,36,27],[39,16,39,27],[35,20,35,21],[36,20,36,21],[33,18,33,19],[33,22,33,23],[33,24,33,25],[33,26,33,27],[34,18,34,19],[34,22,34,23],[34,24,34,25],[34,26,34,27],[32,20,32,21],[33,20,33,21],[34,20,34,21],[32,18,32,19],[32,22,32,23],[32,24,32,25],[32,26,32,27],[23,18,23,19],[23,22,23,23],[23,24,23,25],[23,26,23,27],[31,18,31,19],[31,22,31,23],[31,24,31,25],[31,26,31,27],[29,20,29,21],[30,20,30,21],[31,20,31,21],[26,20,26,21],[26,22,29,23],[26,24,29,25],[26,26,29,27],[28,18,28,19],[29,18,29,19],[30,18,30,19],[30,22,30,23],[30,24,30,25],[30,26,30,27],[27,20,27,21],[28,20,28,21],[27,18,27,19],[12,18,12,19],[12,22,12,23],[12,24,12,25],[12,26,12,27],[13,2,13,3],[13,18,13,19],[13,22,13,23],[13,24,13,25],[13,26,13,27],[12,2,12,3],[12,20,12,21],[13,20,13,21],[14,18,14,19],[14,22,14,23],[14,24,14,25],[14,26,14,27],[15,17,15,19],[15,22,15,23],[15,24,15,25],[15,26,15,27],[14,2,14,3],[14,20,14,21],[15,20,15,21],[15,2,15,3],[24,20,24,21],[25,20,25,21],[24,22,24,23],[24,24,24,25],[24,26,24,27],[25,24,25,25],[25,26,25,27],[25,22,25,23],[18,18,18,19],[18,22,18,23],[18,24,18,27],[19,18,19,19],[19,22,22,23],[19,24,22,25],[19,26,22,27],[20,18,20,19],[21,18,21,19],[22,18,22,19],[18,20,18,21],[19,20,19,21],[20,20,20,21],[21,20,21,21],[22,20,22,21],[23,20,23,21],[11,18,11,19],[8,2,8,3],[9,2,9,3],[7,20,7,21],[8,20,8,21],[9,20,9,21],[10,20,10,21],[11,20,11,21],[2,16,2,27],[17,16,17,27],[24,18,24,19],[25,18,25,19],[26,18,26,19],[1,13,5,13],[2,2,2,4],[3,2,3,4],[4,2,5,2],[4,3,5,4],[4,10,5,11],[4,12,5,12],[6,2,6,13],[6,16,6,27],[7,2,7,4],[7,18,7,19],[7,22,7,23],[7,24,7,27],[8,18,8,19],[8,24,11,25],[8,26,11,27],[9,18,9,19],[10,2,10,3],[10,18,10,19],[11,2,11,3],[31,2,31,3],[22,2,22,3],[18,2,18,4],[34,2,34,3],[27,2,27,3],[25,2,25,3],[26,2,26,3],[19,2,19,3],[20,2,20,3],[21,2,21,3],[23,2,23,3],[28,2,28,3],[24,2,24,3],[17,2,17,13],[54,2,54,3],[55,2,55,3],[50,2,50,3],[51,2,51,3],[52,2,52,3],[56,2,56,3],[57,2,57,3],[53,2,53,3],[33,2,33,3],[39,2,39,13],[35,2,35,3],[36,2,36,3],[40,2,40,4],[44,2,44,3],[41,2,41,3],[42,2,42,3],[43,2,43,3],[45,2,45,3],[49,2,49,3],[47,2,47,3],[32,2,32,3],[29,2,29,3],[30,2,30,3]]}
[null,null,null,null,null,null,null,null,null,null,null,null,null,null,null,{"$f":"MATCH(\"SimMZ\",C:C,0)","v":78}]
[null,null,null,null,null,"DATI DI PROGETTO : ","IMPONIBILE","IVA","IMPORTO",null,"IMPONIBILE","IVA","IMPORTO",{"$f":"CONCATENATE('Dati Gen'!K2,\"   SIM.srl\")","v":"Pratica.110plus   SIM.srl"}]
[null,null,"STATO AVANZAMENTO LAVORI N.1",null,null,"Importo Lavori ",{"$f":"'Dati Gen'!G18","v":10000},{"$f":"'Dati Gen'!K18","v":1000},{"$f":"'Dati Gen'!M18","v":11000},"Importo Netto",{"$f":"'Dati Gen'!G20","v":10000},{"$f":"'Dati Gen'!K20","v":1000},{"$f":"'Dati Gen'!M20","v":11000},null,null,null,{"$f":"IF('Computo-Massimali'!C6<>\"\",\"Attenzione! Tabella Computo-Massimali non completa. Si consiglia di completare, prima di registrare Voci di SAL\",\"\")","v":"Attenzione! Tabella Computo-Massimali non completa. Si consiglia di completare, prima di registrare Voci di SAL"}]
[null,null,"24/04/2021",null,null,"Oneri Sicurezza ",{"$f":"'Dati Gen'!G19","v":0},{"$f":"'Dati Gen'!K19","v":0},{"$f":"'Dati Gen'!M19","v":0},"Spese Tecniche",{"$f":"'Dati Gen'!G21","v":266.45},{"$f":"'Dati Gen'!K21","v":0},{"$f":"'Dati Gen'!M21","v":266.45}]
[null,null,"Oneri/Lavori x Sicurezza ",0,null,null,null,null,null,null,{"$f":"'Dati Gen'!G22","v":"Importo Complessivo Progetto : "},null,{"$f":"'Dati Gen'!M22","v":11266.45}]
[]
[null,null,"INTERVENTI TRAINANTI",null,null,null,null,null,null,null,null,null,null,null,null,null,{"$f":"CONCATENATE(\"Verifica Massimali di Spesa \",C7)","v":"Verifica Massimali di Spesa INTERVENTI TRAINANTI"}]
[null,null,"  Interventi",null,null,"Importo Lavori","Incidenza Sicurezza","Imponibile","Iva","Importo c.iva","Spese tecniche","Totale","Detrazione Spettante","%SAL",null,null,null,"Massimale  spesa","Verifica Max",null,"Spesa Ammessa",null,"Quota Eccedente Massimale Spesa ",null,"Cessione Credito"]
[null,null,{"$f":"'Computo-Massimali'!C9","v":"PV) Isolamento pareti perimetrali"},null,{"$f":"'Computo-Massimali'!E9","v":"Esterno"},1000,{"$f":"IF('Computo-Massimali'!F9<>0,'Computo-Massimali'!G9*F9/'Computo-Massimali'!F9,0)","v":0},{"$f":"SUM(F9:G9)","v":1000},{"$f":"F9*'Dati Gen'!$J$20+G9*'Dati Gen'!$J$19","v":100},{"$f":"H9+I9","v":1100},{"$f":"IF('Computo-Massimali'!F9<>0,'Computo-Massimali'!K9*F9/'Computo-Massimali'!F9,0)","v":0},{"$f":"SUM(J9:K9)","v":1100},{"$f":"IF(L9<=R9,L9*1.1,R9*1.1)","v":1210},{"$f":"IF('Computo-Massimali'!L9>0,L9/'Computo-Massimali'!L9,0)","v":1},null,null,{"$f":"C9","v":"PV) Isolamento pareti perimetrali"},{"$f":"'Computo-Massimali'!R9","v":50000},{"$f":"IF(L9>M9,\"KO Tot.>Detr.\",IF(L9>R9,\"ok< Tot.>Max.\",\"ok\"))","v":"ok"},null,{"$f":"IF($L$13<>0,(L9/$L$13)*$U$13,0)","v":1100},null,null,null,"Quota Impresa",null,"Quota Tecnici"]
[null,null,{"$f":"'Computo-Massimali'!C10","v":"PO) Isolamento coperture"},null,{"$f":"'Computo-Massimali'!E10","v":"Esterno"},0,{"$f":"IF('Computo-Massimali'!F10<>0,'Computo-Massimali'!G10*F10/'Computo-Massimali'!F10,0)","v":0},{"$f":"SUM(F10:G10)","v":0},{"$f":"F10*'Dati Gen'!$J$20+G10*'Dati Gen'!$J$19","v":0},{"$f":"H10+I10","v":0},{"$f":"IF('Computo-Massimali'!F10<>0,'Computo-Massimali'!K10*F10/'Computo-Massimali'!F10,0)","v":0},{"$f":"SUM(J10:K10)","v":0},0,{"$f":"IF('Computo-Massimali'!L10>0,L10/'Computo-Massimali'!L10,0)","v":0},null,null,"PO) Isolamento coperture",{"$f":"'Computo-Massimali'!R10","v":50000},{"$f":"IF(L10>M10,\"KO Tot.>Detr.\",IF(L10>R10,\"ok< Tot.>Max.\",\"ok\"))","v":"ok"},null,{"$f":"IF($L$13<>0,(L10/$L$13)*$U$13,0)","v":0}]
[null,null,{"$f":"'Computo-Massimali'!C11","v":"POND) Isol. coperture non disperdenti"},null,{"$f":"'Computo-Massimali'!E11","v":"Esterno"},0,{"$f":"IF('Computo-Massimali'!F11<>0,'Computo-Massimali'!G11*F11/'Computo-Massimali'!F11,0)","v":0},{"$f":"SUM(F11:G11)","v":0},{"$f":"F11*'Dati Gen'!$J$20+G11*'Dati Gen'!$J$19","v":0},{"$f":"H11+I11","v":0},{"$f":"IF('Computo-Massimali'!F11<>0,'Computo-Massimali'!K11*F11/'Computo-Massimali'!F11,0)","v":0},{"$f":"SUM(J11:K11)","v":0},0,{"$f":"IF('Computo-Massimali'!L11>0,L11/'Computo-Massimali'!L11,0)","v":0},null,null,"POND) Isol. coperture non disperdenti",{"$f":"'Computo-Massimali'!R11","v":50000},"ok",null,{"$f":"IF($L$13<>0,(L11/$L$13)*$U$13,0)","v":0}]
[null,null,{"$f":"'Computo-Massimali'!C12","v":"PS) Isolamento Pavimenti"},null,{"$f":"'Computo-Massimali'!E12","v":"Esterno"},0,{"$f":"IF('Computo-Massimali'!F12<>0,'Computo-Massimali'!G12*F12/'Computo-Massimali'!F12,0)","v":0},{"$f":"SUM(F12:G12)","v":0},{"$f":"F12*'Dati Gen'!$J$20+G12*'Dati Gen'!$J$19","v":0},{"$f":"H12+I12","v":0},{"$f":"IF('Computo-Massimali'!F12<>0,'Computo-Massimali'!K12*F12/'Computo-Massimali'!F12,0)","v":0},{"$f":"SUM(J12:K12)","v":0},0,{"$f":"IF('Computo-Massimali'!L12>0,L12/'Computo-Massimali'!L12,0)","v":0},null,null,"PS) Isolamento Pavimenti",{"$f":"'Computo-Massimali'!R12","v":50000},{"$f":"IF(L12>M12,\"KO Tot.>Detr.\",IF(L12>R12,\"ok< Tot.>Max.\",\"ok\"))","v":"ok"},null,{"$f":"IF($L$13<>0,(L12/$L$13)*$U$13,0)","v":0}]
[null,null,{"$f":"'Computo-Massimali'!C13","v":"TOT.Isolamento sup.verticali/orizzontali"},null,null,{"$f":"SUM(F9:F12)","v":1000},0,1000,1,1100,0,1100,1210,{"$f":"IF('Computo-Massimali'!L13>0,L13/'Computo-Massimali'!L13,0)","v":1},null,null,501,{"$f":"'Computo-Massimali'!R13","v":50000},0,null,{"$f":"IF(L13<R13,L13,R13)","v":1100},null,{"$f":"IF(L13>R13,L13-R13,0)","v":0},null,{"$f":"IF(M13<>0,J13*M13/L13,0)","v":1210},null,{"$f":"IF(M13<>0,K13*M13/L13,0)","v":0}]
[null,null,{"$f":"'Computo-Massimali'!C14","v":"Impianti climatizzazione e ACS"},null,null,0,{"$f":"IF('Computo-Massimali'!F14<>0,'Computo-Massimali'!G14*F14/'Computo-Massimali'!F14,0)","v":0},{"$f":"SUM(F14:G14)","v":0},{"$f":"F14*'Dati Gen'!$J$20+G14*'Dati Gen'!$J$19","v":0},{"$f":"H14+I14","v":0},{"$f":"IF('Computo-Massimali'!F14<>0,'Computo-Massimali'!K14*F14/'Computo-Massimali'!F14,0)","v":0},{"$f":"SUM(J14:K14)","v":0},0,{"$f":"IF('Computo-Massimali'!L14>0,L14/'Computo-Massimali'!L14,0)","v":0},null,null,"Impianti climatizzazione e ACS",{"$f":"'Computo-Massimali'!R14","v":30000},"ok",null,{"$f":"IF(L14<R14,L14,R14)","v":0},null,{"$f":"IF(L14>R14,L14-R14,0)","v":0},null,{"$f":"IF(M14<>0,J14*M14/L14,0)","v":0},null,{"$f":"IF(M14<>0,K14*M14/L14,0)","v":0}]
[null,null,{"$f":"'Computo-Massimali'!C15","v":"SismaBonus"},null,null,0,{"$f":"IF('Computo-Massimali'!F15<>0,'Computo-Massimali'!G15*F15/'Computo-Massimali'!F15,0)","v":0},{"$f":"SUM(F15:G15)","v":0},{"$f":"F15*'Dati Gen'!$J$20+G15*'Dati Gen'!$J$19","v":0},{"$f":"H15+I15","v":0},{"$f":"IF('Computo-Massimali'!F15<>0,'Computo-Massimali'!K15*F15/'Computo-Massimali'!F15,0)","v":0},{"$f":"SUM(J15:K15)","v":0},0,{"$f":"IF('Computo-Massimali'!L15>0,L15/'Computo-Massimali'!L15,0)","v":0},null,null,"SismaBonus",{"$f":"'Computo-Massimali'!R15","v":95999.999999999985},"ok",null,{"$f":"IF(L15<R15,L15,R15)","v":0},null,{"$f":"IF(L15>R15,L15-R15,0)","v":0},null,{"$f":"IF(M15<>0,J15*M15/L15,0)","v":0},null,{"$f":"IF(M15<>0,K15*M15/L15,0)","v":0}]
[null,null,{"$f":"'Computo-Massimali'!C16","v":"Totale interventi Trainanti  : "},null,null,{"$f":"SUM(F13:F15)","v":1000},{"$f":"SUM(G13:G15)","v":0},1000,1,1100,0,1100,1210,{"$f":"IF('Computo-Massimali'!L16>0,L16/'Computo-Massimali'!L16,0)","v":0},null,null,null,{"$f":"C16","v":"Totale interventi Trainanti  : "},null,null,{"$f":"SUM(U13:V15)","v":1100},null,{"$f":"SUM(W13:X15)","v":0},null,{"$f":"SUM(Y13:Z15)","v":1210},null,{"$f":"SUM(AA13:AB15)","v":0}]
[]
[null,null,"INTERVENTI TRAINATI PARTI COMUNI CONDOMINIALI",null,null,null,null,null,null,null,null,null,null,null,null,null,{"$f":"CONCATENATE(\"Verifica Massimali di Spesa \",C18)","v":"Verifica Massimali di Spesa INTERVENTI TRAINATI PARTI COMUNI CONDOMINIALI"}]
[null,null,"  Interventi",null,null,"Importo Lavori","Incidenza Sicurezza","Imponibile","Iva","Importo c.iva","Spese tecniche","Totale","Detrazione Spettante","%SAL",null,null,null,"Massimale  spesa","Verifica Max",null,"Spesa Ammessa",null,"Quota Eccedente Massimale Spesa ",null,"Cessione Credito"]
[null,null,{"$f":"'Computo-Massimali'!C20","v":"PV) Isolamento pareti perimetrali"},null,{"$f":"'Computo-Massimali'!E20","v":"Esterno"},0,{"$f":"IF('Computo-Massimali'!F20<>0,'Computo-Massimali'!G20*F20/'Computo-Massimali'!F20,0)","v":0},{"$f":"SUM(F20:G20)","v":0},{"$f":"F20*'Dati Gen'!$J$20+G20*'Dati Gen'!$J$19","v":0},{"$f":"H20+I20","v":0},{"$f":"IF('Computo-Massimali'!F20<>0,'Computo-Massimali'!K20*F20/'Computo-Massimali'!F20,0)","v":0},{"$f":"SUM(J20:K20)","v":0},{"$f":"IF(L20<=R20,L20*1.1,R20*1.1)","v":0},{"$f":"IF('Computo-Massimali'!L20>0,L20/'Computo-Massimali'!L20,0)","v":0},null,null,{"$f":"C20","v":"PV) Isolamento pareti perimetrali"},{"$f":"'Computo-Massimali'!R20","v":50000},{"$f":"IF(L20>M20,\"KO Tot.>Detr.\",IF(L20>R20,\"ok< Tot.>Max.\",\"ok\"))","v":"ok"},null,{"$f":"IF($L$24<>0,(L20/$L$24)*$U$24,0)","v":0},null,null,null,"Quota Impresa",null,"Quota Tecnici"]
[null,null,{"$f":"'Computo-Massimali'!C21","v":"PO) Isolamento coperture"},null,{"$f":"'Computo-Massimali'!E21","v":"Esterno"},0,{"$f":"IF('Computo-Massimali'!F21<>0,'Computo-Massimali'!G21*F21/'Computo-Massimali'!F21,0)","v":0},{"$f":"SUM(F21:G21)","v":0},{"$f":"F21*'Dati Gen'!$J$20+G21*'Dati Gen'!$J$19","v":0},{"$f":"H21+I21","v":0},{"$f":"IF('Computo-Massimali'!F21<>0,'Computo-Massimali'!K21*F21/'Computo-Massimali'!F21,0)","v":0},{"$f":"SUM(J21:K21)","v":0},{"$f":"IF(L21<=R21,L21*1.1,R21*1.1)","v":0},{"$f":"IF('Computo-Massimali'!L21>0,L21/'Computo-Massimali'!L21,0)","v":0},null,null,"PO) Isolamento coperture",{"$f":"'Computo-Massimali'!R21","v":50000},"ok",null,{"$f":"IF($L$24<>0,(L21/$L$24)*$U$24,0)","v":0}]
[null,null,{"$f":"'Computo-Massimali'!C22","v":"PS) Isolamento Pavimenti"},null,{"$f":"'Computo-Massimali'!E22","v":"Esterno"},0,{"$f":"IF('Computo-Massimali'!F22<>0,'Computo-Massimali'!G22*F22/'Computo-Massimali'!F22,0)","v":0},{"$f":"SUM(F22:G22)","v":0},{"$f":"F22*'Dati Gen'!$J$20+G22*'Dati Gen'!$J$19","v":0},{"$f":"H22+I22","v":0},{"$f":"IF('Computo-Massimali'!F22<>0,'Computo-Massimali'!K22*F22/'Computo-Massimali'!F22,0)","v":0},{"$f":"SUM(J22:K22)","v":0},{"$f":"IF(L22<=R22,L22*1.1,R22*1.1)","v":0},{"$f":"IF('Computo-Massimali'!L22>0,L22/'Computo-Massimali'!L22,0)","v":0},null,null,"PS) Isolamento Pavimenti",{"$f":"'Computo-Massimali'!R22","v":50000},"ok",null,{"$f":"IF($L$24<>0,(L22/$L$24)*$U$24,0)","v":0}]
[null,null,{"$f":"'Computo-Massimali'!C23","v":"IN) Serramenti con chiusure oscuranti"},null,{"$f":"'Computo-Massimali'!E23","v":"Zone D, E ed F"},0,{"$f":"IF('Computo-Massimali'!F23<>0,'Computo-Massimali'!G23*F23/'Computo-Massimali'!F23,0)","v":0},{"$f":"SUM(F23:G23)","v":0},{"$f":"F23*'Dati Gen'!$J$20+G23*'Dati Gen'!$J$19","v":0},{"$f":"H23+I23","v":0},{"$f":"IF('Computo-Massimali'!F23<>0,'Computo-Massimali'!K23*F23/'Computo-Massimali'!F23,0)","v":0},{"$f":"SUM(J23:K23)","v":0},{"$f":"IF(L23<=R23,L23*1.1,R23*1.1)","v":0},{"$f":"IF('Computo-Massimali'!L23>0,L23/'Computo-Massimali'!L23,0)","v":0},null,null,"IN) Serramenti con chiusure oscuranti",{"$f":"'Computo-Massimali'!R23","v":54545},"ok",null,{"$f":"IF($L$24<>0,(L23/$L$24)*$U$24,0)","v":0}]
[null,null,{"$f":"'Computo-Massimali'!C24","v":"Totali Isolamenti e Serramenti "},null,null,{"$f":"SUM(F20:F23)","v":0},{"$f":"SUM(G20:G23)","v":0},0,0,0,{"$f":"SUM(K20:K23)","v":0},0,0,{"$f":"IF('Computo-Massimali'!L24>0,L24/'Computo-Massimali'!L24,0)","v":0},null,null,"Totali Isolamenti e Serramenti ",{"$f":"'Computo-Massimali'!R24","v":54545},"ok",null,{"$f":"IF(L24<R24,L24,R24)","v":0},null,{"$f":"IF(L24>R24,L24-R24,0)","v":0},null,{"$f":"IF(M24<>0,J24*M24/L24,0)","v":0},null,{"$f":"IF(M24<>0,K24*M24/L24,0)","v":0}]
[null,null,{"$f":"'Computo-Massimali'!C25","v":"SS) Schermature solari e chiusure oscur."},null,null,0,{"$f":"IF('Computo-Massimali'!F25<>0,'Computo-Massimali'!G25*F25/'Computo-Massimali'!F25,0)","v":0},{"$f":"SUM(F25:G25)","v":0},{"$f":"F25*'Dati Gen'!$J$20+G25*'Dati Gen'!$J$19","v":0},0,{"$f":"IF('Computo-Massimali'!F25<>0,'Computo-Massimali'!K25*F25/'Computo-Massimali'!F25,0)","v":0},{"$f":"SUM(J25:K25)","v":0},{"$f":"IF(L25<=R25,L25*1.1,R25*1.1)","v":0},{"$f":"IF('Computo-Massimali'!L25>0,L25/'Computo-Massimali'!L25,0)","v":0},null,null,"SS) Schermature solari e chiusure oscur.",{"$f":"'Computo-Massimali'!R25","v":54545},"ok",null,{"$f":"IF(L25<R25,L25,R25)","v":0},null,{"$f":"IF(L25>R25,L25-R25,0)","v":0},null,{"$f":"IF(M25<>0,J25*M25/L25,0)","v":0},null,{"$f":"IF(M25<>0,K25*M25/L25,0)","v":0}]
[null,null,{"$f":"'Computo-Massimali'!C26","v":"Impianti climatizzazione con CC) PC) PCA) o SI)"},null,null,0,{"$f":"IF('Computo-Massimali'!F26<>0,'Computo-Massimali'!G26*F26/'Computo-Massimali'!F26,0)","v":0},{"$f":"SUM(F26:G26)","v":0},{"$f":"F26*'Dati Gen'!$J$20+G26*'Dati Gen'!$J$19","v":0},0,{"$f":"IF('Computo-Massimali'!F26<>0,'Computo-Massimali'!K26*F26/'Computo-Massimali'!F26,0)","v":0},0,{"$f":"IF(L26<=R26,L26*1.1,R26*1.1)","v":0},{"$f":"IF('Computo-Massimali'!L26>0,L26/'Computo-Massimali'!L26,0)","v":0},null,null,"Impianti climatizzazione con CC) PC) PCA) o SI)",{"$f":"'Computo-Massimali'!R26","v":27272},"ok",null,{"$f":"IF(L26<R26,L26,R26)","v":0},null,{"$f":"IF(L26>R26,L26-R26,0)","v":0},null,{"$f":"IF(M26<>0,J26*M26/L26,0)","v":0},null,{"$f":"IF(M26<>0,K26*M26/L26,0)","v":0}]
[null,null,{"$f":"'Computo-Massimali'!C27","v":"GA) Generatori aria calda Condensazione"},null,null,0,{"$f":"IF('Computo-Massimali'!F27<>0,'Computo-Massimali'!G27*F27/'Computo-Massimali'!F27,0)","v":0},{"$f":"SUM(F27:G27)","v":0},{"$f":"F27*'Dati Gen'!$J$20+G27*'Dati Gen'!$J$19","v":0},0,{"$f":"IF('Computo-Massimali'!F27<>0,'Computo-Massimali'!K27*F27/'Computo-Massimali'!F27,0)","v":0},0,{"$f":"IF(L27<=R27,L27*1.1,R27*1.1)","v":0},{"$f":"IF('Computo-Massimali'!L27>0,L27/'Computo-Massimali'!L27,0)","v":0},null,null,"GA) Generatori aria calda Condensazione",{"$f":"'Computo-Massimali'!R27","v":27272},"ok",null,{"$f":"IF($L$30<>0,(L27/$L$30)*$U$30,0)","v":0},null,null,null,"Quota Impresa",null,"Quota Tecnici"]
[null,null,{"$f":"'Computo-Massimali'!C28","v":"IB) Impianti Biomassa"},null,null,0,{"$f":"IF('Computo-Massimali'!F28<>0,'Computo-Massimali'!G28*F28/'Computo-Massimali'!F28,0)","v":0},{"$f":"SUM(F28:G28)","v":0},{"$f":"F28*'Dati Gen'!$J$20+G28*'Dati Gen'!$J$19","v":0},0,{"$f":"IF('Computo-Massimali'!F28<>0,'Computo-Massimali'!K28*F28/'Computo-Massimali'!F28,0)","v":0},0,{"$f":"IF(L28<=R28,L28*1.1,R28*1.1)","v":0},{"$f":"IF('Computo-Massimali'!L28>0,L28/'Computo-Massimali'!L28,0)","v":0},null,null,"IB) Impianti Biomassa",{"$f":"'Computo-Massimali'!R28","v":27272},"ok",null,{"$f":"IF($L$30<>0,(L28/$L$30)*$U$30,0)","v":0}]
[null,null,{"$f":"'Computo-Massimali'!C29","v":"SA) Scaldacqua a pompa di calore"},null,null,0,{"$f":"IF('Computo-Massimali'!F29<>0,'Computo-Massimali'!G29*F29/'Computo-Massimali'!F29,0)","v":0},{"$f":"SUM(F29:G29)","v":0},{"$f":"F29*'Dati Gen'!$J$20+G29*'Dati Gen'!$J$19","v":0},0,{"$f":"IF('Computo-Massimali'!F29<>0,'Computo-Massimali'!K29*F29/'Computo-Massimali'!F29,0)","v":0},0,{"$f":"IF(L29<=R29,L29*1.1,R29*1.1)","v":0},{"$f":"IF('Computo-Massimali'!L29>0,L29/'Computo-Massimali'!L29,0)","v":0},null,null,"SA) Scaldacqua a pompa di calore",{"$f":"'Computo-Massimali'!R29","v":27272},"ok",null,{"$f":"IF($L$30<>0,(L29/$L$30)*$U$30,0)","v":0}]
[null,null,{"$f":"'Computo-Massimali'!C30","v":"Totali GA)  IB)  SA)"},null,null,{"$f":"SUM(F27:F29)","v":0},{"$f":"SUM(G27:G29)","v":0},{"$f":"SUM(H27:H29)","v":0},0,0,{"$f":"SUM(K27:K29)","v":0},0,0,{"$f":"IF('Computo-Massimali'!L30>0,L30/'Computo-Massimali'!L30,0)","v":0},null,null,"Totali GA)  IB)  SA)",{"$f":"'Computo-Massimali'!R30","v":27272},"ok",null,{"$f":"IF(L30<R30,L30,R30)","v":0}]
[null,null,{"$f":"'Computo-Massimali'!C31","v":"CO) Sistemi di Microgenerazione"},null,null,0,{"$f":"IF('Computo-Massimali'!F31<>0,'Computo-Massimali'!G31*F31/'Computo-Massimali'!F31,0)","v":0},{"$f":"SUM(F31:G31)","v":0},{"$f":"F31*'Dati Gen'!$J$20+G31*'Dati Gen'!$J$19","v":0},{"$f":"H31+I31","v":0},{"$f":"IF('Computo-Massimali'!F31<>0,'Computo-Massimali'!K31*F31/'Computo-Massimali'!F31,0)","v":0},{"$f":"SUM(J31:K31)","v":0},{"$f":"IF(L31<=R31,L31*1.1,R31*1.1)","v":0},{"$f":"IF('Computo-Massimali'!L31>0,L31/'Computo-Massimali'!L31,0)","v":0},null,null,{"$f":"C31","v":"CO) Sistemi di Microgenerazione"},{"$f":"'Computo-Massimali'!R31","v":90909},"ok",null,0,null,{"$f":"IF(L31>R31,L31-R31,0)","v":0},null,{"$f":"IF(M31<>0,J31*M31/L31,0)","v":0},null,{"$f":"IF(M31<>0,K31*M31/L31,0)","v":0}]
[null,null,{"$f":"'Computo-Massimali'!C32","v":"ST) Collettori Solari"},null,{"$f":"'Computo-Massimali'!E32","v":"Piani Vetrati"},0,{"$f":"IF('Computo-Massimali'!F32<>0,'Computo-Massimali'!G32*F32/'Computo-Massimali'!F32,0)","v":0},0,{"$f":"F32*'Dati Gen'!$J$20+G32*'Dati Gen'!$J$19","v":0},{"$f":"H32+I32","v":0},{"$f":"IF('Computo-Massimali'!F32<>0,'Computo-Massimali'!K32*F32/'Computo-Massimali'!F32,0)","v":0},{"$f":"SUM(J32:K32)","v":0},0,{"$f":"IF('Computo-Massimali'!L32>0,L32/'Computo-Massimali'!L32,0)","v":0},null,null,"ST) Collettori Solari",{"$f":"'Computo-Massimali'!R32","v":54545},"ok",null,0,null,0,null,0,null,0]
[null,null,{"$f":"'Computo-Massimali'!C33","v":"FV) Solare Fotovoltaico ristr.         kWp"},null,{"$f":"'Computo-Massimali'!E33","v":6},0,{"$f":"IF('Computo-Massimali'!F33<>0,'Computo-Massimali'!G33*F33/'Computo-Massimali'!F33,0)","v":0},0,{"$f":"F33*'Dati Gen'!$J$20+G33*'Dati Gen'!$J$19","v":0},{"$f":"H33+I33","v":0},{"$f":"IF('Computo-Massimali'!F33<>0,'Computo-Massimali'!K33*F33/'Computo-Massimali'!F33,0)","v":0},{"$f":"SUM(J33:K33)","v":0},0,{"$f":"IF('Computo-Massimali'!L33>0,L33/'Computo-Massimali'!L33,0)","v":0},null,null,"FV) Solare Fotovoltaico ristr.         kWp",{"$f":"'Computo-Massimali'!R33","v":9600},"ok",null,0,null,0,null,0,null,0]
[null,null,{"$f":"'Computo-Massimali'!C34","v":"AC) Sistema di Accumulo                kWh"},null,{"$f":"'Computo-Massimali'!E34","v":10},0,{"$f":"IF('Computo-Massimali'!F34<>0,'Computo-Massimali'!G34*F34/'Computo-Massimali'!F34,0)","v":0},0,{"$f":"F34*'Dati Gen'!$J$20+G34*'Dati Gen'!$J$19","v":0},{"$f":"H34+I34","v":0},{"$f":"IF('Computo-Massimali'!F34<>0,'Computo-Massimali'!K34*F34/'Computo-Massimali'!F34,0)","v":0},{"$f":"SUM(J34:K34)","v":0},0,{"$f":"IF('Computo-Massimali'!L34>0,L34/'Computo-Massimali'!L34,0)","v":0},null,null,"AC) Sistema di Accumulo                kWh",{"$f":"'Computo-Massimali'!R34","v":10000},"ok",null,0,null,0,null,0,null,0]
[null,null,{"$f":"'Computo-Massimali'!C35","v":"CR) Colonnine di Ricarica                   N."},null,null,0,{"$f":"IF('Computo-Massimali'!F35<>0,'Computo-Massimali'!G35*F35/'Computo-Massimali'!F35,0)","v":0},0,{"$f":"F35*'Dati Gen'!$J$20+G35*'Dati Gen'!$J$19","v":0},0,{"$f":"IF('Computo-Massimali'!F35<>0,'Computo-Massimali'!K35*F35/'Computo-Massimali'!F35,0)","v":0},0,0,{"$f":"IF('Computo-Massimali'!L35>0,L35/'Computo-Massimali'!L35,0)","v":0},null,null,"CR) Colonnine di Ricarica                   N.",{"$f":"'Computo-Massimali'!R35","v":1500},"ok",null,0,null,0,null,0,null,0]
[null,null,{"$f":"'Computo-Massimali'!C36","v":"EBA) Eliminazione Barriere architettoniche"},null,null,0,{"$f":"IF('Computo-Massimali'!F36<>0,'Computo-Massimali'!G36*F36/'Computo-Massimali'!F36,0)","v":0},0,{"$f":"F36*'Dati Gen'!$J$20+G36*'Dati Gen'!$J$19","v":0},0,{"$f":"IF('Computo-Massimali'!F36<>0,'Computo-Massimali'!K36*F36/'Computo-Massimali'!F36,0)","v":0},0,0,{"$f":"IF('Computo-Massimali'!L36>0,L36/'Computo-Massimali'!L36,0)","v":0},null,null,"EBA) Eliminazione Barriere architettoniche",{"$f":"'Computo-Massimali'!R36","v":96000},"ok",null,0,null,0,null,0,null,0]
[null,null,{"$f":"'Computo-Massimali'!C37","v":"Totale Interventi Trainati Parti Comuni: "},null,null,{"$f":"SUM(F24:F26)+SUM(F30:F36)","v":0},{"$f":"SUM(G24:G26)+SUM(G30:G36)","v":0},{"$f":"SUM(H24:H26)+SUM(H30:H36)","v":0},0,0,0,0,0,{"$f":"IF('Computo-Massimali'!L37>0,L37/'Computo-Massimali'!L37,0)","v":0},null,null,null,{"$f":"C37","v":"Totale Interventi Trainati Parti Comuni: "},null,null,{"$f":"SUM(U24:V36)","v":0},null,{"$f":"SUM(W24:X36)","v":0},null,{"$f":"SUM(Y23:Z36)","v":0},null,{"$f":"SUM(AA24:AB36)","v":0}]
[]
[]
[null,null,"INTERVENTI TRAINATI",null,null,null,null,null,null,null,null,null,null,null,null,null,{"$f":"CONCATENATE(\"Verifica Massimali di Spesa \",C40)","v":"Verifica Massimali di Spesa INTERVENTI TRAINATI"}]
[null,null,"  Interventi",null,null,"Importo Lavori","Incidenza Sicurezza","Imponibile","Iva","Importo c.iva","Spese tecniche","Totale","Detrazione Spettante","%SAL",null,null,null,"Massimale  spesa","Verifica Max",null,"Spesa Ammessa",null,"Quota Eccedente Massimale Spesa ",null,"Cessione Credito"]
[null,null,{"$f":"'Computo-Massimali'!C42:D42","v":"PV) Isolamento pareti perimetrali"},null,{"$f":"'Computo-Massimali'!E42","v":"Esterno"},0,{"$f":"IF('Computo-Massimali'!F42<>0,'Computo-Massimali'!G42*F42/'Computo-Massimali'!F42,0)","v":0},{"$f":"SUM(F42:G42)","v":0},{"$f":"F42*'Dati Gen'!$J$20+G42*'Dati Gen'!$J$19","v":0},{"$f":"H42+I42","v":0},{"$f":"IF('Computo-Massimali'!F42<>0,'Computo-Massimali'!K42*F42/'Computo-Massimali'!F42,0)","v":0},{"$f":"SUM(J42:K42)","v":0},{"$f":"IF(L42<=R42,L42*1.1,R42*1.1)","v":0},{"$f":"IF('Computo-Massimali'!L42>0,L42/'Computo-Massimali'!L42,0)","v":0},null,null,{"$f":"C42","v":"PV) Isolamento pareti perimetrali"},{"$f":"'Computo-Massimali'!R42","v":54545},{"$f":"IF(L42>M42,\"KO Tot.>Detr.\",IF(L42>R42,\"ok< Tot.>Max.\",\"ok\"))","v":"ok"},null,{"$f":"IF($L$46<>0,(L42/$L$46)*$U$46,0)","v":0},null,null,null,"Quota Impresa",null,"Quota Tecnici"]
[null,null,{"$f":"'Computo-Massimali'!C43:D43","v":"PO) Isolamento coperture"},null,"Esterno",0,{"$f":"IF('Computo-Massimali'!F43<>0,'Computo-Massimali'!G43*F43/'Computo-Massimali'!F43,0)","v":0},{"$f":"SUM(F43:G43)","v":0},{"$f":"F43*'Dati Gen'!$J$20+G43*'Dati Gen'!$J$19","v":0},{"$f":"H43+I43","v":0},{"$f":"IF('Computo-Massimali'!F43<>0,'Computo-Massimali'!K43*F43/'Computo-Massimali'!F43,0)","v":0},{"$f":"SUM(J43:K43)","v":0},{"$f":"IF(L43<=R43,L43*1.1,R43*1.1)","v":0},{"$f":"IF('Computo-Massimali'!L43>0,L43/'Computo-Massimali'!L43,0)","v":0},null,null,"PO) Isolamento coperture",{"$f":"'Computo-Massimali'!R43","v":54545},"ok",null,{"$f":"IF($L$46<>0,(L43/$L$46)*$U$46,0)","v":0}]
[null,null,{"$f":"'Computo-Massimali'!C44:D44","v":"PS) Isolamento Pavimenti"},null,"Esterno",0,{"$f":"IF('Computo-Massimali'!F44<>0,'Computo-Massimali'!G44*F44/'Computo-Massimali'!F44,0)","v":0},{"$f":"SUM(F44:G44)","v":0},{"$f":"F44*'Dati Gen'!$J$20+G44*'Dati Gen'!$J$19","v":0},{"$f":"H44+I44","v":0},{"$f":"IF('Computo-Massimali'!F44<>0,'Computo-Massimali'!K44*F44/'Computo-Massimali'!F44,0)","v":0},{"$f":"SUM(J44:K44)","v":0},{"$f":"IF(L44<=R44,L44*1.1,R44*1.1)","v":0},{"$f":"IF('Computo-Massimali'!L44>0,L44/'Computo-Massimali'!L44,0)","v":0},null,null,"PS) Isolamento Pavimenti",{"$f":"'Computo-Massimali'!R44","v":54545},"ok",null,{"$f":"IF($L$46<>0,(L44/$L$46)*$U$46,0)","v":0}]
[null,null,{"$f":"'Computo-Massimali'!C45:D45","v":"IN) Serramenti con chiusure oscuranti"},null,"Zone D, E ed F",0,{"$f":"IF('Computo-Massimali'!F45<>0,'Computo-Massimali'!G45*F45/'Computo-Massimali'!F45,0)","v":0},{"$f":"SUM(F45:G45)","v":0},{"$f":"F45*'Dati Gen'!$J$20+G45*'Dati Gen'!$J$19","v":0},{"$f":"H45+I45","v":0},{"$f":"IF('Computo-Massimali'!F45<>0,'Computo-Massimali'!K45*F45/'Computo-Massimali'!F45,0)","v":0},{"$f":"SUM(J45:K45)","v":0},{"$f":"IF(L45<=R45,L45*1.1,R45*1.1)","v":0},{"$f":"IF('Computo-Massimali'!L45>0,L45/'Computo-Massimali'!L45,0)","v":0},null,null,"IN) Serramenti con chiusure oscuranti",{"$f":"'Computo-Massimali'!R45","v":54545},"ok",null,{"$f":"IF($L$46<>0,(L45/$L$46)*$U$46,0)","v":0}]
[null,null,{"$f":"'Computo-Massimali'!C46:D46","v":"Totali Isolamenti e Serramenti "},null,null,{"$f":"SUM(F42:F45)","v":0},{"$f":"SUM(G42:G45)","v":0},{"$f":"SUM(H42:H45)","v":0},0,0,0,0,0,{"$f":"IF('Computo-Massimali'!L46>0,L46/'Computo-Massimali'!L46,0)","v":0},null,null,"Totali Isolamenti e Serramenti ",{"$f":"'Computo-Massimali'!R46","v":54545},"ok",null,{"$f":"IF(L46<R46,L46,R46)","v":0},null,{"$f":"IF(L46>R46,L46-R46,0)","v":0},null,{"$f":"IF(M46<>0,J46*M46/L46,0)","v":0},null,{"$f":"IF(M46<>0,K46*M46/L46,0)","v":0}]
[null,null,{"$f":"'Computo-Massimali'!C47:D47","v":"SS) Schermature solari e chiusure oscur."},null,null,0,{"$f":"IF('Computo-Massimali'!F47<>0,'Computo-Massimali'!G47*F47/'Computo-Massimali'!F47,0)","v":0},{"$f":"SUM(F47:G47)","v":0},{"$f":"F47*'Dati Gen'!$J$20+G47*'Dati Gen'!$J$19","v":0},{"$f":"H47+I47","v":0},{"$f":"IF('Computo-Massimali'!F47<>0,'Computo-Massimali'!K47*F47/'Computo-Massimali'!F47,0)","v":0},{"$f":"SUM(J47:K47)","v":0},{"$f":"IF(L47<=R47,L47*1.1,R47*1.1)","v":0},{"$f":"IF('Computo-Massimali'!L47>0,L47/'Computo-Massimali'!L47,0)","v":0},null,null,"SS) Schermature solari e chiusure oscur.",{"$f":"'Computo-Massimali'!R47","v":54545},"ok",null,{"$f":"IF(L47<R47,L47,R47)","v":0},null,{"$f":"IF(L47>R47,L47-R47,0)","v":0},null,{"$f":"IF(M47<>0,J47*M47/L47,0)","v":0},null,{"$f":"IF(M47<>0,K47*M47/L47,0)","v":0}]
[null,null,{"$f":"'Computo-Massimali'!C48:D48","v":"Impianti climatizzazione e ACS"},null,null,0,{"$f":"IF('Computo-Massimali'!F48<>0,'Computo-Massimali'!G48*F48/'Computo-Massimali'!F48,0)","v":0},{"$f":"SUM(F48:G48)","v":0},{"$f":"F48*'Dati Gen'!$J$20+G48*'Dati Gen'!$J$19","v":0},{"$f":"H48+I48","v":0},{"$f":"IF('Computo-Massimali'!F48<>0,'Computo-Massimali'!K48*F48/'Computo-Massimali'!F48,0)","v":0},{"$f":"SUM(J48:K48)","v":0},{"$f":"IF(L48<=R48,L48*1.1,R48*1.1)","v":0},{"$f":"IF('Computo-Massimali'!L48>0,L48/'Computo-Massimali'!L48,0)","v":0},null,null,"Impianti climatizzazione e ACS",{"$f":"'Computo-Massimali'!R48","v":27272},"ok",null,{"$f":"IF($L$50<>0,(L48/$L$50)*$U$50,0)","v":0}]
[null,null,{"$f":"'Computo-Massimali'!C49:D49","v":"SA) Scaldacqua a pompa di calore"},null,null,0,{"$f":"IF('Computo-Massimali'!F49<>0,'Computo-Massimali'!G49*F49/'Computo-Massimali'!F49,0)","v":0},{"$f":"SUM(F49:G49)","v":0},{"$f":"F49*'Dati Gen'!$J$20+G49*'Dati Gen'!$J$19","v":0},{"$f":"H49+I49","v":0},{"$f":"IF('Computo-Massimali'!F49<>0,'Computo-Massimali'!K49*F49/'Computo-Massimali'!F49,0)","v":0},{"$f":"SUM(J49:K49)","v":0},{"$f":"IF(L49<=R49,L49*1.1,R49*1.1)","v":0},{"$f":"IF('Computo-Massimali'!L49>0,L49/'Computo-Massimali'!L49,0)","v":0},null,null,"SA) Scaldacqua a pompa di calore",{"$f":"'Computo-Massimali'!R49","v":27272},"ok",null,{"$f":"IF($L$50<>0,(L49/$L$50)*$U$50,0)","v":0}]
[null,null,{"$f":"'Computo-Massimali'!C50:D50","v":"Totali Impianti ed  SA)"},null,null,{"$f":"SUM(F48:F49)","v":0},{"$f":"SUM(G48:G49)","v":0},{"$f":"SUM(H48:H49)","v":0},0,0,0,0,0,{"$f":"IF('Computo-Massimali'!L50>0,L50/'Computo-Massimali'!L50,0)","v":0},null,null,"Totali Impianti ed  SA)",{"$f":"'Computo-Massimali'!R50","v":27272},"ok",null,{"$f":"IF(L50<R50,L50,R50)","v":0},null,{"$f":"IF(L50>R50,L50-R50,0)","v":0},null,{"$f":"IF(M50<>0,J50*M50/L50,0)","v":0},null,{"$f":"IF(M50<>0,K50*M50/L50,0)","v":0}]
[null,null,{"$f":"'Computo-Massimali'!C51:D51","v":"CO) Sistemi di Microgenerazione"},null,null,0,{"$f":"IF('Computo-Massimali'!F51<>0,'Computo-Massimali'!G51*F51/'Computo-Massimali'!F51,0)","v":0},{"$f":"SUM(F51:G51)","v":0},{"$f":"F51*'Dati Gen'!$J$20+G51*'Dati Gen'!$J$19","v":0},{"$f":"H51+I51","v":0},{"$f":"IF('Computo-Massimali'!F51<>0,'Computo-Massimali'!K51*F51/'Computo-Massimali'!F51,0)","v":0},{"$f":"SUM(J51:K51)","v":0},{"$f":"IF(L51<=R51,L51*1.1,R51*1.1)","v":0},{"$f":"IF('Computo-Massimali'!L51>0,L51/'Computo-Massimali'!L51,0)","v":0},null,null,{"$f":"C51","v":"CO) Sistemi di Microgenerazione"},{"$f":"'Computo-Massimali'!R51","v":90909},"ok",null,0,null,0,null,0,null,0]
[null,null,{"$f":"'Computo-Massimali'!C52:D52","v":"IB) Generatori a Biomassa"},null,null,0,{"$f":"IF('Computo-Massimali'!F52<>0,'Computo-Massimali'!G52*F52/'Computo-Massimali'!F52,0)","v":0},0,{"$f":"F52*'Dati Gen'!$J$20+G52*'Dati Gen'!$J$19","v":0},0,{"$f":"IF('Computo-Massimali'!F52<>0,'Computo-Massimali'!K52*F52/'Computo-Massimali'!F52,0)","v":0},0,0,{"$f":"IF('Computo-Massimali'!L52>0,L52/'Computo-Massimali'!L52,0)","v":0},null,null,"IB) Generatori a Biomassa",{"$f":"'Computo-Massimali'!R52","v":27272},"ok",null,0,null,0,null,0,null,0]
[null,null,{"$f":"'Computo-Massimali'!C53:D53","v":"BA) Building Automation"},null,null,0,{"$f":"IF('Computo-Massimali'!F53<>0,'Computo-Massimali'!G53*F53/'Computo-Massimali'!F53,0)","v":0},0,{"$f":"F53*'Dati Gen'!$J$20+G53*'Dati Gen'!$J$19","v":0},0,{"$f":"IF('Computo-Massimali'!F53<>0,'Computo-Massimali'!K53*F53/'Computo-Massimali'!F53,0)","v":0},0,0,{"$f":"IF('Computo-Massimali'!L53>0,L53/'Computo-Massimali'!L53,0)","v":0},null,null,"BA) Building Automation",{"$f":"'Computo-Massimali'!R53","v":13636.363636363636},"ok",null,0,null,0,null,0,null,0]
[null,null,{"$f":"'Computo-Massimali'!C54:D54","v":"ST) Collettori Solari"},null,"Piani Vetrati",0,{"$f":"IF('Computo-Massimali'!F54<>0,'Computo-Massimali'!G54*F54/'Computo-Massimali'!F54,0)","v":0},0,{"$f":"F54*'Dati Gen'!$J$20+G54*'Dati Gen'!$J$19","v":0},0,{"$f":"IF('Computo-Massimali'!F54<>0,'Computo-Massimali'!K54*F54/'Computo-Massimali'!F54,0)","v":0},0,0,{"$f":"IF('Computo-Massimali'!L54>0,L54/'Computo-Massimali'!L54,0)","v":0},null,null,"ST) Collettori Solari",{"$f":"'Computo-Massimali'!R54","v":54545},"ok",null,0,null,0,null,0,null,0]
[null,null,{"$f":"'Computo-Massimali'!C55:D55","v":"FV) Solare Fotovoltaico                    kWp"},null,6,0,{"$f":"IF('Computo-Massimali'!F55<>0,'Computo-Massimali'!G55*F55/'Computo-Massimali'!F55,0)","v":0},0,{"$f":"F55*'Dati Gen'!$J$20+G55*'Dati Gen'!$J$19","v":0},0,{"$f":"IF('Computo-Massimali'!F55<>0,'Computo-Massimali'!K55*F55/'Computo-Massimali'!F55,0)","v":0},0,0,{"$f":"IF('Computo-Massimali'!L55>0,L55/'Computo-Massimali'!L55,0)","v":0},null,null,"FV) Solare Fotovoltaico                    kWp",{"$f":"'Computo-Massimali'!R55","v":14400},"ok",null,0,null,0,null,0,null,0]
[null,null,{"$f":"'Computo-Massimali'!C56:D56","v":"AC) Sistema di Accumulo                  kWh"},null,10,0,{"$f":"IF('Computo-Massimali'!F56<>0,'Computo-Massimali'!G56*F56/'Computo-Massimali'!F56,0)","v":0},0,{"$f":"F56*'Dati Gen'!$J$20+G56*'Dati Gen'!$J$19","v":0},0,{"$f":"IF('Computo-Massimali'!F56<>0,'Computo-Massimali'!K56*F56/'Computo-Massimali'!F56,0)","v":0},0,0,{"$f":"IF('Computo-Massimali'!L56>0,L56/'Computo-Massimali'!L56,0)","v":0},null,null,"AC) Sistema di Accumulo                  kWh",{"$f":"'Computo-Massimali'!R56","v":10000},"ok",null,0,null,0,null,0,null,0]
[null,null,{"$f":"'Computo-Massimali'!C57:D57","v":"CR) Colonnine di Ricarica"},null,null,0,{"$f":"IF('Computo-Massimali'!F57<>0,'Computo-Massimali'!G57*F57/'Computo-Massimali'!F57,0)","v":0},0,{"$f":"F57*'Dati Gen'!$J$20+G57*'Dati Gen'!$J$19","v":0},0,{"$f":"IF('Computo-Massimali'!F57<>0,'Computo-Massimali'!K57*F57/'Computo-Massimali'!F57,0)","v":0},0,0,{"$f":"IF('Computo-Massimali'!L57>0,L57/'Computo-Massimali'!L57,0)","v":0},null,null,"CR) Colonnine di Ricarica",{"$f":"'Computo-Massimali'!R57","v":1500},"ok",null,0,null,0,null,0,null,0]
[null,null,"Totale Interventi trainati",null,null,{"$f":"F46+F47+SUM(F50:F57)","v":0},{"$f":"G46+G47+SUM(G50:G57)","v":0},{"$f":"H46+H47+SUM(H50:H57)","v":0},0,0,0,0,0,{"$f":"IF('Computo-Massimali'!L58>0,L58/'Computo-Massimali'!L58,0)","v":0},null,null,null,{"$f":"C58","v":"Totale Interventi trainati"},null,null,{"$f":"SUM(U46:V57)","v":0},null,{"$f":"SUM(W46:X57)","v":0},null,{"$f":"SUM(Y46:Z57)","v":0},null,{"$f":"SUM(AA46:AB57)","v":0}]
[]
[]
[]
[]
[]
[]
[]
[]
[]
[]
[]
[]
[]
[]
[]
[]
[]
[]
[]
[null,null,"SimMZ"]
[]
[null,null,"TOTALI SAL N.1 - INTERVENTI 110 ",null,null,"Importo Lavori","Incidenza Sicurezza","Imponibile","Iva","Importo c.iva","Spese tecniche","Totale","Credito Spettante  110% Spesa Ammessa","%SAL",null,null,{"$f":"C80","v":"TOTALI SAL N.1 - INTERVENTI 110 "},null,null,null,"Spesa Ammessa",null,"Quota Eccedente Massimale Spesa ",null,"Cessione Credito                               Quota Impresa         | Quota Tecnici"]
[null,null,null,null,null,{"$f":"F16+F58","v":1000},0,1000,1,1100,0,1100,1210,{"$f":"IF('Computo-Massimali'!L81>0,L81/'Computo-Massimali'!L81,0)","v":0},null,null,null,null,null,null,{"$f":"U16+U37+U58","v":1100},null,{"$f":"T16+T58","v":0},null,{"$f":"V16+V58","v":0},null,{"$f":"X16+X58","v":0}]
[]
[null,null,{"$f":"IF(N81>=29.999%,\"\",\"Attenzione!    SAL Superbonus 110 inferiore 30%\")","v":"Attenzione!    SAL Superbonus 110 inferiore 30%"}]
[]
[]
[]
[null,null,"ALTRI INTERVENTI",null,null,null,null,null,null,null,null,null,null,null,null,null,{"$f":"CONCATENATE(\"Verifica Massimali di Spesa \",C87)","v":"Verifica Massimali di Spesa ALTRI INTERVENTI"}]
[null,null,"  Interventi",null,"x% Credito ceduto","Importo Lavori","Incidenza Sicurezza","Imponibile","Iva","Importo c.iva","Spese tecniche","Totale","Credito Spettante  x% Spesa Ammessa","%SAL",null,null,null,"Massimale  spesa","Verifica Max",null,"Spesa Ammessa",null,"Quota Eccedente Massimale Spesa ",null,"Cessione Credito                               Quota Impresa         | Quota Tecnici"]
[null,null,{"$f":"IF('Computo-Massimali'!C89<>\"\",'Computo-Massimali'!C89,\"\")","v":"Lavori Ristrutturazione"},null,{"$f":"IF('Computo-Massimali'!E89<>0,'Computo-Massimali'!E89,\"\")","v":0.5},0,{"$f":"IF('Computo-Massimali'!F89<>0,'Computo-Massimali'!G89*F89/'Computo-Massimali'!F89,0)","v":0},{"$f":"SUM(F89:G89)","v":0},{"$f":"F89*'Dati Gen'!$J$20+G89*'Dati Gen'!$J$19","v":0},{"$f":"H89+I89","v":0},{"$f":"IF('Computo-Massimali'!F89<>0,'Computo-Massimali'!K89*F89/'Computo-Massimali'!F89,0)","v":0},{"$f":"SUM(J89:K89)","v":0},{"$f":"IF(L89<=R89,L89*E89,R89*E89)","v":0},{"$f":"IF('Computo-Massimali'!L89>0,L89/'Computo-Massimali'!L89,0)","v":0},null,null,{"$f":"IF(C89<>\"\",C89,\"\")","v":"Lavori Ristrutturazione"},{"$f":"96000*N_Uimm","v":96000},{"$f":"IF(R89<>0,IF(L89>R89,\"KO\",\"ok\"),\"ok\")","v":"ok"},null,{"$f":"IF(L89<R89,L89,R89)","v":0},null,{"$f":"IF(L89>R89,L89-R89,0)","v":0},null,{"$f":"IF(M89<>0,J89*M89/L89,0)","v":0},null,{"$f":"IF(M89<>0,K89*M89/L89,0)","v":0}]
[null,null,{"$f":"IF('Computo-Massimali'!C90<>\"\",'Computo-Massimali'!C90,\"\")","v":"Ecobonus"},null,{"$f":"IF('Computo-Massimali'!E90<>0,'Computo-Massimali'!E90,\"\")","v":0.65},0,{"$f":"IF('Computo-Massimali'!F90<>0,'Computo-Massimali'!G90*F90/'Computo-Massimali'!F90,0)","v":0},{"$f":"SUM(F90:G90)","v":0},{"$f":"F90*'Dati Gen'!$J$20+G90*'Dati Gen'!$J$19","v":0},{"$f":"H90+I90","v":0},{"$f":"IF('Computo-Massimali'!F90<>0,'Computo-Massimali'!K90*F90/'Computo-Massimali'!F90,0)","v":0},0,{"$f":"IF(L90<=R90,L90*E90,R90*E90)","v":0},{"$f":"IF('Computo-Massimali'!L90>0,L90/'Computo-Massimali'!L90,0)","v":0},null,null,{"$f":"IF(C90<>\"\",C90,\"\")","v":"Ecobonus"},{"$f":"96000*N_Uimm","v":96000},{"$f":"IF(R90<>0,IF(L90>R90,\"KO\",\"ok\"),\"ok\")","v":"ok"},null,{"$f":"IF(L90<R90,L90,R90)","v":0},null,{"$f":"IF(L90>R90,L90-R90,0)","v":0},null,{"$f":"IF(M90<>0,J90*M90/L90,0)","v":0},null,{"$f":"IF(M90<>0,K90*M90/L90,0)","v":0}]
[null,null,{"$f":"IF('Computo-Massimali'!C91<>\"\",'Computo-Massimali'!C91,\"\")","v":"Bonus Facciata"},null,{"$f":"IF('Computo-Massimali'!E91<>0,'Computo-Massimali'!E91,\"\")","v":0.9},0,{"$f":"IF('Computo-Massimali'!F91<>0,'Computo-Massimali'!G91*F91/'Computo-Massimali'!F91,0)","v":0},{"$f":"SUM(F91:G91)","v":0},{"$f":"F91*'Dati Gen'!$J$20+G91*'Dati Gen'!$J$19","v":0},{"$f":"H91+I91","v":0},{"$f":"IF('Computo-Massimali'!F91<>0,'Computo-Massimali'!K91*F91/'Computo-Massimali'!F91,0)","v":0},0,{"$f":"IF(L91<=R91,L91*E91,R91*E91)","v":0},{"$f":"IF('Computo-Massimali'!L91>0,L91/'Computo-Massimali'!L91,0)","v":0},null,null,{"$f":"IF(C91<>\"\",C91,\"\")","v":"Bonus Facciata"},{"$f":"96000*N_Uimm","v":96000},{"$f":"IF(R91<>0,IF(L91>R91,\"KO\",\"ok\"),\"ok\")","v":"ok"},null,{"$f":"IF(L91<R91,L91,R91)","v":0},null,{"$f":"IF(L91>R91,L91-R91,0)","v":0},null,{"$f":"IF(M91<>0,J91*M91/L91,0)","v":0},null,{"$f":"IF(M91<>0,K91*M91/L91,0)","v":0}]
[null,null,{"$f":"IF('Computo-Massimali'!C92<>\"\",'Computo-Massimali'!C92,\"\")","v":""},null,{"$f":"IF('Computo-Massimali'!E92<>0,'Computo-Massimali'!E92,\"\")","v":""},0,{"$f":"IF('Computo-Massimali'!F92<>0,'Computo-Massimali'!G92*F92/'Computo-Massimali'!F92,0)","v":0},0,0,0,{"$f":"IF('Computo-Massimali'!F92<>0,'Computo-Massimali'!K92*F92/'Computo-Massimali'!F92,0)","v":0},0,0,{"$f":"IF('Computo-Massimali'!L92>0,L92/'Computo-Massimali'!L92,0)","v":0},null,null,{"$f":"IF(C92<>\"\",C92,\"\")","v":""},{"$f":"96000*N_Uimm","v":96000},{"$f":"IF(R92<>0,IF(L92>R92,\"KO\",\"ok\"),\"ok\")","v":"ok"},null,{"$f":"IF(L92<R92,L92,R92)","v":0},null,{"$f":"IF(L92>R92,L92-R92,0)","v":0},null,{"$f":"IF(M92<>0,J92*M92/L92,0)","v":0},null,{"$f":"IF(M92<>0,K92*M92/L92,0)","v":0}]
[null,null,"TotalI SAL N.1 - Altri Interventi  : ",null,null,{"$f":"SUM(F89:F92)","v":0},0,0,0,0,0,0,0,{"$f":"IF('Computo-Massimali'!L93>0,L93/'Computo-Massimali'!L93,0)","v":0},null,null,null,{"$f":"C93","v":"TotalI SAL N.1 - Altri Interventi  : "},null,null,{"$f":"SUM(U89:V92)","v":0},null,{"$f":"SUM(W89:X92)","v":0},null,{"$f":"SUM(Y89:Z92)","v":0},null,{"$f":"SUM(AA89:AB92)","v":0}]
[]
[]
[null,null,"TOTALI SAL N.1",null,null,"Importo Lavori Eseguiti","Incidenza Sicurezza","Imponibile","Iva","Importo c.iva","Spese tecniche","Totale","Credito Spettante","%SAL",null,null,{"$f":"C96","v":"TOTALI SAL N.1"},null,null,null,"Spesa Ammessa",null,"Quota Eccedente Massimale Spesa ",null,"Cessione Credito                               Quota Impresa         | Quota Tecnici"]
[null,null,null,null,null,{"$f":"F81+F93","v":1000},0,1000,1,1100,0,1100,1210,{"$f":"IF('Computo-Massimali'!L100>0,L97/'Computo-Massimali'!L100,0)","v":0},null,null,null,null,null,null,{"$f":"U81+U93","v":1100},null,{"$f":"W81+W93","v":0},null,{"$f":"Y81+Y93","v":0},null,{"$f":"AA81+AA93","v":0}]
[]
[]
[null,null,{"$f":"IF(ABS(D5-G97)>0.01,\"Importo Effettivo Lavori Eseguiti\",\"\")","v":""},null,null,{"$f":"IF($C$100<>\"\",F97,\"\")","v":""},{"$f":"IF($C$100<>\"\",D5,\"\")","v":""},{"$f":"IF($C$100<>\"\",F100+G100,\"\")","v":""},{"$f":"IF($C$100<>\"\",H100*AliqIva,\"\")","v":""},{"$f":"IF($C$100<>\"\",H100+I100,\"\")","v":""},{"$f":"IF($C$100<>\"\",K97,\"\")","v":""},{"$f":"IF($C$100<>\"\",J100+K100,\"\")","v":""},{"$f":"IF($C$100<>\"\",L100*1.1,\"\")","v":""},{"$f":"IF($C$100<>\"\",L100/'Computo-Massimali'!L100,\"\")","v":""}]
[null,null,{"$f":"IF($C$100<>\"\",\"Oneri/Lavori Sicurezza non imputabili al SAL, per lavori non eseguiti\",\"\")","v":""},null,null,null,{"$f":"IF($C$101<>\"\",D5-G97,\"\")","v":""}]
[]
[]
[]
[]
[]
[]
[]
[]
[]
[]
[]
[]
[]
[]
[null,null,null,null,null,null,null,null,null,null,null,null,null,null,null,null,"Ripartizione Spese Tecniche SAL. N.1 - INTERVENTI 110",null,null,null,null,null,null,null,null,null,null,null,"Applica Sconto in Fattura"]
[null,null,null,null,null,null,null,null,null,null,null,null,null,null,null,null,"Lavoro","Tecnico","Onorario",null,"C.Cassa",null,"Imponibile",null,"IVA",null,"Totale",null,null,null,null,{"$f":"'Dati Gen'!B44","v":"Ingegnere 1"},{"$f":"'Dati Gen'!B45","v":"Dott. Igor"},{"$f":"'Dati Gen'!B46","v":0},{"$f":"'Dati Gen'!B47","v":0},{"$f":"'Dati Gen'!B48","v":0},{"$f":"'Dati Gen'!B49","v":0},{"$f":"'Dati Gen'!B50","v":0},{"$f":"'Dati Gen'!B51","v":0}]
[null,null,null,null,null,null,null,null,null,null,null,null,null,null,null,null,{"$f":"IF('Dati Gen'!B25<>\"\",'Dati Gen'!B25,\"\")","v":"Incarico 1"},{"$f":"IF('Dati Gen'!C25<>\"\",'Dati Gen'!C25,\"\")","v":"Ingegnere 1"},{"$f":"W118/(1+U118)","v":0},null,{"$f":"'Dati Gen'!G25","v":0.04},{"$f":"S118*U118","v":0},{"$f":"AA118/(1+Y118)","v":0},null,0.22,{"$f":"Y118*(S118+V118)","v":0},{"$f":"IF('Dati Gen'!$M$36<>\"\",$AA$127*'Dati Gen'!M25/'Dati Gen'!$M$36,0)","v":0},null,{"$f":"IF(R118<>\"\",VLOOKUP('SAL.30%'!R118,'Dati Gen'!$B$44:$D$51,3,0),\"\")","v":"SI"},null,null,{"$f":"IF($R118=AF$117,$AA118,0)","v":0},{"$f":"IF($R118=AG$117,$AA118,0)","v":0},0,0,0,0,0,0,0]
[null,null,null,null,null,null,null,null,null,null,null,null,null,null,null,null,{"$f":"IF('Dati Gen'!B26<>\"\",'Dati Gen'!B26,\"\")","v":"Calcoli e Deposito G.C."},{"$f":"IF('Dati Gen'!C26<>\"\",'Dati Gen'!C26,\"\")","v":"Ingegnere 1"},{"$f":"W119/(1+U119)","v":0},null,{"$f":"'Dati Gen'!G26","v":0.04},0,{"$f":"AA119/(1+Y119)","v":0},null,0.22,{"$f":"(S119+V119)*Y119","v":0},{"$f":"IF('Dati Gen'!$M$36<>\"\",$AA$127*'Dati Gen'!M26/'Dati Gen'!$M$36,0)","v":0},null,{"$f":"IF(R119<>\"\",VLOOKUP('SAL.30%'!R119,'Dati Gen'!$B$44:$D$51,3,0),\"\")","v":"SI"},null,null,{"$f":"IF($R119=AF$117,$AA119,0)","v":0},0,0,0,0,0,0,0,0]
[null,null,null,null,null,null,null,null,null,null,null,null,null,null,null,null,{"$f":"IF('Dati Gen'!B27<>\"\",'Dati Gen'!B27,\"\")","v":"Congruità"},{"$f":"IF('Dati Gen'!C27<>\"\",'Dati Gen'!C27,\"\")","v":"Ingegnere 1"},0,null,{"$f":"'Dati Gen'!G27","v":0.04},0,0,null,0.22,{"$f":"(S120+V120)*Y120","v":0},{"$f":"IF('Dati Gen'!$M$36<>\"\",$AA$127*'Dati Gen'!M27/'Dati Gen'!$M$36,0)","v":0},null,{"$f":"IF(R120<>\"\",VLOOKUP('SAL.30%'!R120,'Dati Gen'!$B$44:$D$51,3,0),\"\")","v":"SI"},null,null,0,0,0,0,0,0,0,0,0]
[null,null,null,null,null,null,null,null,null,null,null,null,null,null,null,null,{"$f":"IF('Dati Gen'!B28<>\"\",'Dati Gen'!B28,\"\")","v":""},{"$f":"IF('Dati Gen'!C28<>\"\",'Dati Gen'!C28,\"\")","v":""},0,null,{"$f":"'Dati Gen'!G28","v":0.04},0,0,null,0.22,{"$f":"(S121+V121)*Y121","v":0},{"$f":"IF('Dati Gen'!$M$36<>\"\",$AA$127*'Dati Gen'!M28/'Dati Gen'!$M$36,0)","v":0},null,{"$f":"IF(R121<>\"\",VLOOKUP('SAL.30%'!R121,'Dati Gen'!$B$44:$D$51,3,0),\"\")","v":""},null,null,0,0,0,0,0,0,0,0,0]
[null,null,null,null,null,null,null,null,null,null,null,null,null,null,null,null,{"$f":"IF('Dati Gen'!B29<>\"\",'Dati Gen'!B29,\"\")","v":""},{"$f":"IF('Dati Gen'!C29<>\"\",'Dati Gen'!C29,\"\")","v":""},{"$f":"W122/(1+U122)","v":0},null,{"$f":"'Dati Gen'!G29","v":0.04},0,0,null,0.22,{"$f":"(T122+V122)*Y122","v":0},{"$f":"IF('Dati Gen'!$M$36<>\"\",$AA$127*'Dati Gen'!M29/'Dati Gen'!$M$36,0)","v":0},null,{"$f":"IF(R122<>\"\",VLOOKUP('SAL.30%'!R122,'Dati Gen'!$B$44:$D$51,3,0),\"\")","v":""},null,null,0,0,0,0,0,0,0,0,0]
[null,null,null,null,null,null,null,null,null,null,null,null,null,null,null,null,{"$f":"IF('Dati Gen'!B30<>\"\",'Dati Gen'!B30,\"\")","v":""},{"$f":"IF('Dati Gen'!C30<>\"\",'Dati Gen'!C30,\"\")","v":""},{"$f":"W123/(1+U123)","v":0},null,{"$f":"'Dati Gen'!G30","v":0.04},0,0,null,0.22,{"$f":"(T123+V123)*Y123","v":0},{"$f":"IF('Dati Gen'!$M$36<>\"\",$AA$127*'Dati Gen'!M30/'Dati Gen'!$M$36,0)","v":0},null,{"$f":"IF(R123<>\"\",VLOOKUP('SAL.30%'!R123,'Dati Gen'!$B$44:$D$51,3,0),\"\")","v":""},null,null,0,0,0,0,0,0,0,0,0]
[null,null,null,null,null,null,null,null,null,null,null,null,null,null,null,null,{"$f":"IF('Dati Gen'!B31<>\"\",'Dati Gen'!B31,\"\")","v":""},{"$f":"IF('Dati Gen'!C31<>\"\",'Dati Gen'!C31,\"\")","v":""},0,null,{"$f":"'Dati Gen'!G31","v":0.04},0,0,null,0.22,{"$f":"(T124+V124)*Y124","v":0},{"$f":"IF('Dati Gen'!$M$36<>\"\",$AA$127*'Dati Gen'!M31/'Dati Gen'!$M$36,0)","v":0},null,{"$f":"IF(R124<>\"\",VLOOKUP('SAL.30%'!R124,'Dati Gen'!$B$44:$D$51,3,0),\"\")","v":""},null,null,0,0,0,0,0,0,0,0,0]
[null,null,null,null,null,null,null,null,null,null,null,null,null,null,null,null,{"$f":"IF('Dati Gen'!B32<>\"\",'Dati Gen'!B32,\"\")","v":""},{"$f":"IF('Dati Gen'!C32<>\"\",'Dati Gen'!C32,\"\")","v":""},0,null,{"$f":"'Dati Gen'!G32","v":0.04},0,0,null,0.22,{"$f":"(T125+V125)*Y125","v":0},{"$f":"IF('Dati Gen'!$M$36<>\"\",$AA$127*'Dati Gen'!M32/'Dati Gen'!$M$36,0)","v":0},null,{"$f":"IF(R125<>\"\",VLOOKUP('SAL.30%'!R125,'Dati Gen'!$B$44:$D$51,3,0),\"\")","v":""},null,null,0,0,0,0,0,0,0,0,0]
[null,null,null,null,null,null,null,null,null,null,null,null,null,null,null,null,{"$f":"IF('Dati Gen'!B35<>\"\",'Dati Gen'!B35,\"\")","v":"Visto Conformità"},{"$f":"IF('Dati Gen'!C35<>\"\",'Dati Gen'!C35,\"\")","v":"Dott. Igor"},0,null,{"$f":"'Dati Gen'!G35","v":0.04},0,0,null,0.22,{"$f":"(S126+V126)*Y126","v":0},{"$f":"IF('Dati Gen'!$M$36<>\"\",$AA$127*'Dati Gen'!M35/'Dati Gen'!$M$36,0)","v":0},null,{"$f":"IF(R126<>\"\",VLOOKUP('SAL.30%'!R126,'Dati Gen'!$B$44:$D$51,3,0),\"\")","v":"NO"},null,null,0,0,0,0,0,0,0,0,0]
[null,null,null,null,null,null,null,null,null,null,null,null,null,null,null,null,null,null,{"$f":"SUM(S118:T126)","v":0},null,{"$f":"SUM(V118:V126)","v":0},null,{"$f":"SUM(W118:X126)","v":0},null,null,{"$f":"SUM(Z118:Z126)","v":0},{"$f":"SpeseTec30","v":0},null,null,null,null,{"$f":"SUM(AF118:AF126)","v":0},{"$f":"SUM(AG118:AG126)","v":0},0,0,0,0,0,0,0,{"$f":"SUM(AF127:AN127)","v":0}]
[null,null,null,null,null,null,null,null,null,null,null,null,null,null,null,null,null,null,null,null,null,null,null,null,null,null,null,null,null,null,null,{"$f":"IF($AO$127<>0,AF127/$AO$127,0)","v":0},{"$f":"IF($AO$127<>0,AG127/$AO$127,0)","v":0},0,0,0,0,0,0,0]
[]
[null,null,null,null,null,null,null,null,null,null,null,null,null,null,null,null,"Ripartizione Spese Tecniche SAL. N.1 - ALTRI INTERVENTI",null,null,null,null,null,null,null,null,null,null,null,"Applica Sconto in Fattura"]
[null,null,null,null,null,null,null,null,null,null,null,null,null,null,null,null,"Lavoro","Tecnico","Onorario",null,"C.Cassa",null,"Imponibile",null,"IVA",null,"Totale",null,null,null,null,{"$f":"AF117","v":"Ingegnere 1"},{"$f":"AG117","v":"Dott. Igor"},0,0,0,0,0,0]
[null,null,null,null,null,null,null,null,null,null,null,null,null,null,null,null,{"$f":"IF('Dati Gen'!B25<>\"\",'Dati Gen'!B25,\"\")","v":"Incarico 1"},{"$f":"IF('Dati Gen'!C25<>\"\",'Dati Gen'!C25,\"\")","v":"Ingegnere 1"},{"$f":"W132/(1+U132)","v":0},null,{"$f":"'Dati Gen'!G25","v":0.04},{"$f":"S132*U132","v":0},{"$f":"AA132/(1+Y132)","v":0},null,0.22,{"$f":"Y132*(S132+V132)","v":0},{"$f":"IF('Dati Gen'!$M$36<>\"\",$AA$141*'Dati Gen'!M25/'Dati Gen'!$M$36,0)","v":0},null,{"$f":"IF(R132<>\"\",VLOOKUP('SAL.30%'!R132,'Dati Gen'!$B$44:$D$51,3,0),\"\")","v":"SI"},null,null,{"$f":"IF($R132=AF$117,$AA132,0)","v":0},{"$f":"IF($R132=AG$117,$AA132,0)","v":0},0,0,0,0,0,0,0]
[null,null,null,null,null,null,null,null,null,null,null,null,null,null,null,null,{"$f":"IF('Dati Gen'!B26<>\"\",'Dati Gen'!B26,\"\")","v":"Calcoli e Deposito G.C."},{"$f":"IF('Dati Gen'!C26<>\"\",'Dati Gen'!C26,\"\")","v":"Ingegnere 1"},{"$f":"W133/(1+U133)","v":0},null,{"$f":"'Dati Gen'!G26","v":0.04},0,{"$f":"AA133/(1+Y133)","v":0},null,0.22,{"$f":"(S133+V133)*Y133","v":0},{"$f":"IF('Dati Gen'!$M$36<>\"\",$AA$141*'Dati Gen'!M26/'Dati Gen'!$M$36,0)","v":0},null,{"$f":"IF(R133<>\"\",VLOOKUP('SAL.30%'!R133,'Dati Gen'!$B$44:$D$51,3,0),\"\")","v":"SI"},null,null,{"$f":"IF($R133=AF$117,$AA133,0)","v":0},0,0,0,0,0,0,0,0]
[null,null,null,null,null,null,null,null,null,null,null,null,null,null,null,null,{"$f":"IF('Dati Gen'!B27<>\"\",'Dati Gen'!B27,\"\")","v":"Congruità"},{"$f":"IF('Dati Gen'!C27<>\"\",'Dati Gen'!C27,\"\")","v":"Ingegnere 1"},0,null,{"$f":"'Dati Gen'!G27","v":0.04},0,0,null,0.22,{"$f":"(S134+V134)*Y134","v":0},{"$f":"IF('Dati Gen'!$M$36<>\"\",$AA$141*'Dati Gen'!M27/'Dati Gen'!$M$36,0)","v":0},null,{"$f":"IF(R134<>\"\",VLOOKUP('SAL.30%'!R134,'Dati Gen'!$B$44:$D$51,3,0),\"\")","v":"SI"},null,null,0,0,0,0,0,0,0,0,0]
[null,null,null,null,null,null,null,null,null,null,null,null,null,null,null,null,{"$f":"IF('Dati Gen'!B28<>\"\",'Dati Gen'!B28,\"\")","v":""},{"$f":"IF('Dati Gen'!C28<>\"\",'Dati Gen'!C28,\"\")","v":""},0,null,{"$f":"'Dati Gen'!G28","v":0.04},0,0,null,0.22,{"$f":"(S135+V135)*Y135","v":0},{"$f":"IF('Dati Gen'!$M$36<>\"\",$AA$141*'Dati Gen'!M28/'Dati Gen'!$M$36,0)","v":0},null,{"$f":"IF(R135<>\"\",VLOOKUP('SAL.30%'!R135,'Dati Gen'!$B$44:$D$51,3,0),\"\")","v":""},null,null,0,0,0,0,0,0,0,0,0]
[null,null,null,null,null,null,null,null,null,null,null,null,null,null,null,null,{"$f":"IF('Dati Gen'!B29<>\"\",'Dati Gen'!B29,\"\")","v":""},{"$f":"IF('Dati Gen'!C29<>\"\",'Dati Gen'!C29,\"\")","v":""},0,null,{"$f":"'Dati Gen'!G29","v":0.04},0,0,null,0.22,{"$f":"(T136+V136)*Y136","v":0},{"$f":"IF('Dati Gen'!$M$36<>\"\",$AA$141*'Dati Gen'!M29/'Dati Gen'!$M$36,0)","v":0},null,{"$f":"IF(R136<>\"\",VLOOKUP('SAL.30%'!R136,'Dati Gen'!$B$44:$D$51,3,0),\"\")","v":""},null,null,0,0,0,0,0,0,0,0,0]
[null,null,null,null,null,null,null,null,null,null,null,null,null,null,null,null,{"$f":"IF('Dati Gen'!B30<>\"\",'Dati Gen'!B30,\"\")","v":""},{"$f":"IF('Dati Gen'!C30<>\"\",'Dati Gen'!C30,\"\")","v":""},0,null,{"$f":"'Dati Gen'!G30","v":0.04},0,0,null,0.22,{"$f":"(T137+V137)*Y137","v":0},{"$f":"IF('Dati Gen'!$M$36<>\"\",$AA$141*'Dati Gen'!M30/'Dati Gen'!$M$36,0)","v":0},null,{"$f":"IF(R137<>\"\",VLOOKUP('SAL.30%'!R137,'Dati Gen'!$B$44:$D$51,3,0),\"\")","v":""},null,null,0,0,0,0,0,0,0,0,0]
[null,null,null,null,null,null,null,null,null,null,null,null,null,null,null,null,{"$f":"IF('Dati Gen'!B31<>\"\",'Dati Gen'!B31,\"\")","v":""},{"$f":"IF('Dati Gen'!C31<>\"\",'Dati Gen'!C31,\"\")","v":""},0,null,{"$f":"'Dati Gen'!G31","v":0.04},0,0,null,0.22,{"$f":"(T138+V138)*Y138","v":0},{"$f":"IF('Dati Gen'!$M$36<>\"\",$AA$141*'Dati Gen'!M31/'Dati Gen'!$M$36,0)","v":0},null,{"$f":"IF(R138<>\"\",VLOOKUP('SAL.30%'!R138,'Dati Gen'!$B$44:$D$51,3,0),\"\")","v":""},null,null,0,0,0,0,0,0,0,0,0]
[null,null,null,null,null,null,null,null,null,null,null,null,null,null,null,null,{"$f":"IF('Dati Gen'!B32<>\"\",'Dati Gen'!B32,\"\")","v":""},{"$f":"IF('Dati Gen'!C32<>\"\",'Dati Gen'!C32,\"\")","v":""},0,null,{"$f":"'Dati Gen'!G32","v":0.04},0,0,null,0.22,{"$f":"(T139+V139)*Y139","v":0},{"$f":"IF('Dati Gen'!$M$36<>\"\",$AA$141*'Dati Gen'!M32/'Dati Gen'!$M$36,0)","v":0},null,{"$f":"IF(R139<>\"\",VLOOKUP('SAL.30%'!R139,'Dati Gen'!$B$44:$D$51,3,0),\"\")","v":""},null,null,0,0,0,0,0,0,0,0,0]
[null,null,null,null,null,null,null,null,null,null,null,null,null,null,null,null,{"$f":"IF('Dati Gen'!B35<>\"\",'Dati Gen'!B35,\"\")","v":"Visto Conformità"},{"$f":"IF('Dati Gen'!C35<>\"\",'Dati Gen'!C35,\"\")","v":"Dott. Igor"},0,null,{"$f":"'Dati Gen'!G35","v":0.04},0,0,null,0.22,{"$f":"(S140+V140)*Y140","v":0},{"$f":"IF('Dati Gen'!$M$36<>\"\",$AA$141*'Dati Gen'!M35/'Dati Gen'!$M$36,0)","v":0},null,{"$f":"IF(R140<>\"\",VLOOKUP('SAL.30%'!R140,'Dati Gen'!$B$44:$D$51,3,0),\"\")","v":"NO"},null,null,0,0,0,0,0,0,0,0,0]
[null,null,null,null,null,null,null,null,null,null,null,null,null,null,null,null,null,null,{"$f":"SUM(S132:T140)","v":0},null,{"$f":"SUM(V132:V140)","v":0},null,{"$f":"SUM(W132:X140)","v":0},null,null,{"$f":"SUM(Z132:Z140)","v":0},{"$f":"K93","v":0},null,null,null,null,{"$f":"SUM(AF132:AF140)","v":0},0,0,0,0,0,0,0,0,{"$f":"SUM(AF141:AN141)","v":0}]
[null,null,null,null,null,null,null,null,null,null,null,null,null,null,null,null,null,null,null,null,null,null,null,null,null,null,null,null,null,null,null,{"$f":"IF($AO$141<>0,AF141/$AO$141,0)","v":0},{"$f":"IF($AO$141<>0,AG141/$AO$141,0)","v":0},0,0,0,0,0,0,0]

{"sheet":"SAL.60%","index":6,"n_rows":142,"n_cols":41,"rows_kept":142,"cut":false,"hidden":false,"merged":[[115,28,116,28],[116,20,116,21],[87,2,87,3],[77,2,77,3],[139,18,139,19],[139,22,139,23],[139,26,139,27],[131,26,131,27],[132,18,132,19],[132,22,132,23],[132,26,132,27],[133,18,133,19],[133,22,133,23],[133,26,133,27],[126,18,126,19],[126,20,126,21],[126,22,126,23],[126,26,126,27],[125,18,125,19],[125,22,125,23],[125,26,125,27],[116,24,116,25],[123,18,123,19],[123,22,123,23],[123,26,123,27],[124,18,124,19],[124,22,124,23],[124,26,124,27],[120,18,120,19],[120,22,120,23],[120,26,120,27],[121,18,121,19],[140,18,140,19],[140,20,140,21],[140,22,140,23],[140,26,140,27],[121,22,121,23],[121,26,121,27],[122,18,122,19],[122,22,122,23],[122,26,122,27],[129,28,130,28],[130,20,130,21],[130,24,130,25],[137,18,137,19],[137,22,137,23],[137,26,137,27],[138,18,138,19],[138,22,138,23],[138,26,138,27],[134,18,134,19],[134,22,134,23],[134,26,134,27],[135,18,135,19],[135,22,135,23],[135,26,135,27],[136,18,136,19],[136,22,136,23],[136,26,136,27],[131,18,131,19],[131,22,131,23],[130,18,130,19],[130,22,130,23],[130,26,130,27],[129,16,129,27],[117,18,117,19],[119,18,119,19],[119,22,119,23],[119,26,119,27],[116,18,116,19],[116,22,116,23],[116,26,116,27],[117,22,117,23],[117,26,117,27],[118,18,118,19],[118,22,118,23],[118,26,118,27],[115,16,115,27],[26,20,26,21],[26,22,29,23],[26,24,29,25],[26,26,29,27],[27,20,27,21],[28,20,28,21],[41,20,41,21],[42,20,42,21],[29,20,29,21],[28,18,28,19],[79,16,80,19],[79,22,79,23],[96,22,96,23],[96,24,96,25],[96,26,96,27],[91,20,91,21],[87,22,87,23],[45,22,45,23],[45,24,45,25],[45,26,45,27],[40,22,40,23],[40,24,40,27],[36,17,36,19],[82,2,82,13],[86,2,86,13],[87,18,87,19],[100,2,100,5],[92,2,92,3],[95,2,96,4],[91,22,91,23],[91,24,91,25],[91,26,91,27],[99,2,99,4],[91,18,91,19],[92,17,92,19],[92,20,92,21],[92,22,92,23],[92,24,92,25],[92,26,92,27],[95,16,96,19],[95,20,95,21],[95,22,95,23],[95,24,95,27],[96,20,96,21],[91,2,91,3],[89,2,89,3],[90,2,90,3],[79,20,79,21],[89,18,89,19],[89,22,89,23],[89,24,89,25],[89,26,89,27],[90,18,90,19],[90,22,90,23],[90,24,90,25],[90,26,90,27],[89,20,89,21],[90,20,90,21],[88,18,88,19],[88,22,88,23],[88,24,88,25],[88,26,88,27],[86,16,86,27],[87,24,87,27],[88,20,88,21],[80,20,80,21],[56,2,56,3],[56,18,56,19],[56,22,56,23],[56,24,56,25],[56,26,56,27],[55,20,55,21],[56,20,56,21],[57,26,57,27],[57,20,57,21],[57,2,57,3],[57,17,57,19],[57,22,57,23],[57,24,57,25],[54,2,54,3],[54,18,54,19],[54,22,54,23],[54,24,54,25],[54,26,54,27],[54,20,54,21],[55,2,55,3],[55,18,55,19],[55,22,55,23],[55,24,55,25],[55,26,55,27],[52,2,52,3],[52,18,52,19],[52,22,52,23],[52,24,52,25],[52,26,52,27],[51,20,51,21],[52,20,52,21],[53,2,53,3],[53,18,53,19],[53,22,53,23],[53,24,53,25],[53,26,53,27],[53,20,53,21],[50,2,50,3],[50,18,50,19],[50,22,50,23],[50,24,50,25],[50,26,50,27],[50,20,50,21],[51,2,51,3],[51,18,51,19],[51,22,51,23],[51,24,51,25],[51,26,51,27],[46,2,46,3],[46,18,46,19],[45,20,45,21],[49,2,49,3],[49,18,49,19],[49,22,49,23],[49,24,49,25],[49,26,49,27],[47,2,47,3],[47,18,47,19],[48,2,48,3],[48,18,48,19],[46,20,46,21],[46,22,46,23],[46,24,46,25],[46,26,46,27],[47,20,47,21],[48,20,48,21],[45,2,45,3],[45,18,45,19],[49,20,49,21],[39,2,39,13],[39,16,39,27],[42,18,42,19],[43,2,43,3],[43,18,43,19],[36,20,36,21],[40,20,40,21],[36,2,36,3],[40,2,40,4],[40,18,40,19],[41,2,41,3],[41,18,41,19],[41,22,44,23],[41,24,44,25],[41,26,44,27],[42,2,42,3],[44,2,44,3],[44,18,44,19],[43,20,43,21],[44,20,44,21],[36,22,36,23],[36,24,36,25],[36,26,36,27],[30,2,30,3],[30,18,30,19],[30,22,30,23],[30,24,30,25],[30,26,30,27],[31,2,31,3],[31,18,31,19],[31,22,31,23],[31,24,31,25],[31,26,31,27],[30,20,30,21],[31,20,31,21],[32,20,32,21],[33,20,33,21],[34,2,34,3],[34,18,34,19],[34,22,34,23],[34,24,34,25],[34,26,34,27],[35,2,35,3],[35,18,35,19],[35,22,35,23],[35,24,35,25],[35,26,35,27],[34,20,34,21],[35,20,35,21],[32,2,32,3],[32,18,32,19],[32,22,32,23],[32,24,32,25],[32,26,32,27],[33,2,33,3],[33,18,33,19],[33,22,33,23],[33,24,33,25],[33,26,33,27],[29,18,29,19],[24,2,24,3],[24,18,24,19],[25,2,25,3],[25,18,25,19],[26,2,26,3],[26,18,26,19],[27,2,27,3],[27,18,27,19],[28,2,28,3],[12,22,12,23],[19,2,19,3],[19,18,19,19],[19,22,22,23],[19,24,22,25],[19,26,22,27],[20,2,20,3],[20,18,20,19],[21,2,21,3],[21,18,21,19],[22,2,22,3],[19,20,19,21],[20,20,20,21],[21,20,21,21],[22,20,22,21],[12,24,12,25],[17,2,17,13],[17,16,17,27],[18,2,18,4],[18,18,18,19],[18,22,18,23],[18,24,18,27],[14,2,14,3],[14,18,14,19],[2,16,2,27],[12,26,12,27],[13,2,13,3],[13,18,13,19],[13,22,13,23],[13,24,13,25],[13,26,13,27],[12,20,12,21],[13,20,13,21],[8,24,11,25],[8,26,11,27],[1,13,5,13],[2,2,2,4],[3,2,3,4],[4,2,5,2],[4,3,5,4],[4,10,5,11],[4,12,5,12],[7,20,7,21],[11,2,11,3],[11,18,11,19],[8,20,8,21],[12,2,12,3],[12,18,12,19],[9,20,9,21],[10,20,10,21],[11,20,11,21],[9,2,9,3],[9,18,9,19],[10,2,10,3],[10,18,10,19],[6,2,6,13],[6,16,6,27],[7,2,7,4],[7,18,7,19],[7,22,7,23],[7,24,7,27],[8,2,8,3],[8,18,8,19],[14,22,14,23],[14,24,14,25],[14,26,14,27],[15,2,15,3],[15,17,15,19],[15,22,15,23],[15,24,15,25],[15,26,15,27],[14,20,14,21],[15,20,15,21],[88,2,88,3],[79,2,80,4],[79,24,79,27],[80,22,80,23],[80,24,80,25],[80,26,80,27],[87,20,87,21],[18,20,18,21],[24,20,24,21],[24,22,24,23],[24,24,24,25],[24,26,24,27],[23,26,23,27],[23,20,23,21],[25,20,25,21],[25,22,25,23],[25,24,25,25],[22,18,22,19],[23,2,23,3],[23,18,23,19],[23,22,23,23],[23,24,23,25],[25,26,25,27],[29,2,29,3]]}
[null,null,null,null,null,null,null,null,null,null,null,null,null,null,null,{"$f":"MATCH(\"SimMZ\",C:C,0)","v":78}]
[null,null,null,null,null,"DATI DI PROGETTO : ","IMPONIBILE","IVA","IMPORTO",null,"IMPONIBILE","IVA","IMPORTO",{"$f":"CONCATENATE('Dati Gen'!K2,\"   SIM.srl\")","v":"Pratica.110plus   SIM.srl"}]
[null,null,"STATO AVANZAMENTO LAVORI N.2",null,null,"Importo Lavori ",{"$f":"'Dati Gen'!G18","v":10000},{"$f":"'Dati Gen'!K18","v":1000},{"$f":"'Dati Gen'!M18","v":11000},"Importo Netto",{"$f":"'Dati Gen'!G20","v":10000},{"$f":"'Dati Gen'!K20","v":1000},{"$f":"'Dati Gen'!M20","v":11000},null,null,null,{"$f":"IF('Computo-Massimali'!C6<>\"\",\"Attenzione! Tabella Computo-Massimali non completa. Si consiglia di completare, prima di registrare Voci di SAL\",\"\")","v":"Attenzione! Tabella Computo-Massimali non completa. Si consiglia di completare, prima di registrare Voci di SAL"}]
[null,null,"12/11/2021",null,null,"Oneri Sicurezza ",{"$f":"'Dati Gen'!G19","v":0},{"$f":"'Dati Gen'!K19","v":0},{"$f":"'Dati Gen'!M19","v":0},"Spese Tecniche",{"$f":"'Dati Gen'!G21","v":266.45},{"$f":"'Dati Gen'!K21","v":0},{"$f":"'Dati Gen'!M21","v":266.45}]
[null,null,"Oneri/Lavori x Sicurezza ",0,null,null,null,null,null,null,{"$f":"'Dati Gen'!G22","v":"Importo Complessivo Progetto : "},null,{"$f":"'Dati Gen'!M22","v":11266.45}]
[]
[null,null,"INTERVENTI TRAINANTI",null,null,null,null,null,null,null,null,null,null,null,null,null,{"$f":"CONCATENATE(\"Verifica Massimali di Spesa \",C7)","v":"Verifica Massimali di Spesa INTERVENTI TRAINANTI"}]
[null,null,"  Interventi",null,null,"Importo Lavori","Incidenza Sicurezza","Imponibile","Iva","Importo c.iva","Spese tecniche","Totale","Detrazione Spettante","%SAL",null,null,null,"Massimale  spesa","Verifica Max",null,"Spesa Ammessa",null,"Quota Eccedente Massimale Spesa ",null,"Cessione Credito"]
[null,null,{"$f":"'Computo-Massimali'!C9","v":"PV) Isolamento pareti perimetrali"},null,{"$f":"'Computo-Massimali'!E9","v":"Esterno"},0,{"$f":"IF('Computo-Massimali'!F9<>0,'Computo-Massimali'!G9*F9/'Computo-Massimali'!F9,0)","v":0},{"$f":"SUM(F9:G9)","v":0},{"$f":"F9*'Dati Gen'!$J$20+G9*'Dati Gen'!$J$19","v":0},{"$f":"H9+I9","v":0},{"$f":"IF('Computo-Massimali'!F9<>0,'Computo-Massimali'!K9*F9/'Computo-Massimali'!F9,0)","v":0},{"$f":"SUM(J9:K9)","v":0},{"$f":"IF(L9<=R9,L9*1.1,R9*1.1)","v":0},{"$f":"IF('Computo-Massimali'!L9>0,L9/'Computo-Massimali'!L9,0)","v":0},null,null,{"$f":"C9","v":"PV) Isolamento pareti perimetrali"},{"$f":"'Computo-Massimali'!R9","v":50000},{"$f":"IF(L9>M9,\"KO Tot.>Detr.\",IF(L9>R9,\"ok< Tot.>Max.\",\"ok\"))","v":"ok"},null,{"$f":"IF($L$13<>0,(L9/$L$13)*$U$13,0)","v":0},null,null,null,"Quota Impresa",null,"Quota Tecnici"]
[null,null,{"$f":"'Computo-Massimali'!C10","v":"PO) Isolamento coperture"},null,{"$f":"'Computo-Massimali'!E10","v":"Esterno"},0,{"$f":"IF('Computo-Massimali'!F10<>0,'Computo-Massimali'!G10*F10/'Computo-Massimali'!F10,0)","v":0},{"$f":"SUM(F10:G10)","v":0},{"$f":"F10*'Dati Gen'!$J$20+G10*'Dati Gen'!$J$19","v":0},{"$f":"H10+I10","v":0},{"$f":"IF('Computo-Massimali'!F10<>0,'Computo-Massimali'!K10*F10/'Computo-Massimali'!F10,0)","v":0},{"$f":"SUM(J10:K10)","v":0},0,{"$f":"IF('Computo-Massimali'!L10>0,L10/'Computo-Massimali'!L10,0)","v":0},null,null,"PO) Isolamento coperture",{"$f":"'Computo-Massimali'!R10","v":50000},{"$f":"IF(L10>M10,\"KO Tot.>Detr.\",IF(L10>R10,\"ok< Tot.>Max.\",\"ok\"))","v":"ok"},null,{"$f":"IF($L$13<>0,(L10/$L$13)*$U$13,0)","v":0}]
[null,null,{"$f":"'Computo-Massimali'!C11","v":"POND) Isol. coperture non disperdenti"},null,{"$f":"'Computo-Massimali'!E11","v":"Esterno"},0,{"$f":"IF('Computo-Massimali'!F11<>0,'Computo-Massimali'!G11*F11/'Computo-Massimali'!F11,0)","v":0},{"$f":"SUM(F11:G11)","v":0},{"$f":"F11*'Dati Gen'!$J$20+G11*'Dati Gen'!$J$19","v":0},{"$f":"H11+I11","v":0},{"$f":"IF('Computo-Massimali'!F11<>0,'Computo-Massimali'!K11*F11/'Computo-Massimali'!F11,0)","v":0},{"$f":"SUM(J11:K11)","v":0},0,{"$f":"IF('Computo-Massimali'!L11>0,L11/'Computo-Massimali'!L11,0)","v":0},null,null,"POND) Isol. coperture non disperdenti",{"$f":"'Computo-Massimali'!R11","v":50000},"ok",null,{"$f":"IF($L$13<>0,(L11/$L$13)*$U$13,0)","v":0}]
[null,null,{"$f":"'Computo-Massimali'!C12","v":"PS) Isolamento Pavimenti"},null,{"$f":"'Computo-Massimali'!E12","v":"Esterno"},0,{"$f":"IF('Computo-Massimali'!F12<>0,'Computo-Massimali'!G12*F12/'Computo-Massimali'!F12,0)","v":0},{"$f":"SUM(F12:G12)","v":0},{"$f":"F12*'Dati Gen'!$J$20+G12*'Dati Gen'!$J$19","v":0},{"$f":"H12+I12","v":0},{"$f":"IF('Computo-Massimali'!F12<>0,'Computo-Massimali'!K12*F12/'Computo-Massimali'!F12,0)","v":0},{"$f":"SUM(J12:K12)","v":0},0,{"$f":"IF('Computo-Massimali'!L12>0,L12/'Computo-Massimali'!L12,0)","v":0},null,null,"PS) Isolamento Pavimenti",{"$f":"'Computo-Massimali'!R12","v":50000},"ok",null,{"$f":"IF($L$13<>0,(L12/$L$13)*$U$13,0)","v":0}]
[null,null,{"$f":"'Computo-Massimali'!C13","v":"TOT.Isolamento sup.verticali/orizzontali"},null,null,{"$f":"SUM(F9:F12)","v":0},{"$f":"SUM(G9:G12)","v":0},{"$f":"SUM(H9:H12)","v":0},0,0,0,0,0,{"$f":"IF('Computo-Massimali'!L13>0,L13/'Computo-Massimali'!L13,0)","v":0},null,null,"TOT.Isolamento sup.verticali/orizzontali",{"$f":"'Computo-Massimali'!R13","v":50000},"ok",null,{"$f":"IF(L13<R13,L13,R13)","v":0},null,{"$f":"IF(L13>R13,L13-R13,0)","v":0},null,{"$f":"IF(M13<>0,J13*M13/L13,0)","v":0},null,{"$f":"IF(M13<>0,K13*M13/L13,0)","v":0}]
[null,null,{"$f":"'Computo-Massimali'!C14","v":"Impianti climatizzazione e ACS"},null,null,0,{"$f":"IF('Computo-Massimali'!F14<>0,'Computo-Massimali'!G14*F14/'Computo-Massimali'!F14,0)","v":0},{"$f":"SUM(F14:G14)","v":0},{"$f":"F14*'Dati Gen'!$J$20+G14*'Dati Gen'!$J$19","v":0},{"$f":"H14+I14","v":0},{"$f":"IF('Computo-Massimali'!F14<>0,'Computo-Massimali'!K14*F14/'Computo-Massimali'!F14,0)","v":0},{"$f":"SUM(J14:K14)","v":0},0,{"$f":"IF('Computo-Massimali'!L14>0,L14/'Computo-Massimali'!L14,0)","v":0},null,null,"Impianti climatizzazione e ACS",{"$f":"'Computo-Massimali'!R14","v":30000},"ok",null,{"$f":"IF(L14<R14,L14,R14)","v":0},null,{"$f":"IF(L14>R14,L14-R14,0)","v":0},null,{"$f":"IF(M14<>0,J14*M14/L14,0)","v":0},null,{"$f":"IF(M14<>0,K14*M14/L14,0)","v":0}]
[null,null,{"$f":"'Computo-Massimali'!C15","v":"SismaBonus"},null,null,0,{"$f":"IF('Computo-Massimali'!F15<>0,'Computo-Massimali'!G15*F15/'Computo-Massimali'!F15,0)","v":0},{"$f":"SUM(F15:G15)","v":0},{"$f":"F15*'Dati Gen'!$J$20+G15*'Dati Gen'!$J$19","v":0},{"$f":"H15+I15","v":0},{"$f":"IF('Computo-Massimali'!F15<>0,'Computo-Massimali'!K15*F15/'Computo-Massimali'!F15,0)","v":0},{"$f":"SUM(J15:K15)","v":0},0,{"$f":"IF('Computo-Massimali'!L15>0,L15/'Computo-Massimali'!L15,0)","v":0},null,null,"SismaBonus",{"$f":"'Computo-Massimali'!R15","v":95999.999999999985},"ok",null,{"$f":"IF(L15<R15,L15,R15)","v":0},null,{"$f":"IF(L15>R15,L15-R15,0)","v":0},null,{"$f":"IF(M15<>0,J15*M15/L15,0)","v":0},null,{"$f":"IF(M15<>0,K15*M15/L15,0)","v":0}]
[null,null,{"$f":"'Computo-Massimali'!C16","v":"Totale interventi Trainanti  : "},null,null,{"$f":"SUM(F13:F15)","v":0},{"$f":"SUM(G13:G15)","v":0},0,0,0,0,0,{"$f":"SUM(M13:M15)","v":0},{"$f":"IF('Computo-Massimali'!L16>0,L16/'Computo-Massimali'!L16,0)","v":0},null,null,null,{"$f":"C16","v":"Totale interventi Trainanti  : "},null,null,{"$f":"SUM(U13:V15)","v":0},null,{"$f":"SUM(W13:X15)","v":0},null,{"$f":"SUM(Y13:Z15)","v":0},null,{"$f":"SUM(AA13:AB15)","v":0}]
[]
[null,null,"INTERVENTI TRAINATI PARTI COMUNI CONDOMINIALI",null,null,null,null,null,null,null,null,null,null,null,null,null,{"$f":"CONCATENATE(\"Verifica Massimali di Spesa \",C18)","v":"Verifica Massimali di Spesa INTERVENTI TRAINATI PARTI COMUNI CONDOMINIALI"}]
[null,null,"  Interventi",null,null,"Importo Lavori","Incidenza Sicurezza","Imponibile","Iva","Importo c.iva","Spese tecniche","Totale","Detrazione Spettante","%SAL",null,null,null,"Massimale  spesa","Verifica Max",null,"Spesa Ammessa",null,"Quota Eccedente Massimale Spesa ",null,"Cessione Credito"]
[null,null,{"$f":"'Computo-Massimali'!C20","v":"PV) Isolamento pareti perimetrali"},null,{"$f":"'Computo-Massimali'!E20","v":"Esterno"},0,{"$f":"IF('Computo-Massimali'!F20<>0,'Computo-Massimali'!G20*F20/'Computo-Massimali'!F20,0)","v":0},{"$f":"SUM(F20:G20)","v":0},{"$f":"F20*'Dati Gen'!$J$20+G20*'Dati Gen'!$J$19","v":0},{"$f":"H20+I20","v":0},{"$f":"IF('Computo-Massimali'!F20<>0,'Computo-Massimali'!K20*F20/'Computo-Massimali'!F20,0)","v":0},{"$f":"SUM(J20:K20)","v":0},{"$f":"IF(L20<=R20,L20*1.1,R20*1.1)","v":0},{"$f":"IF('Computo-Massimali'!L20>0,L20/'Computo-Massimali'!L20,0)","v":0},null,null,{"$f":"C20","v":"PV) Isolamento pareti perimetrali"},{"$f":"'Computo-Massimali'!R20","v":50000},{"$f":"IF(L20>M20,\"KO Tot.>Detr.\",IF(L20>R20,\"ok< Tot.>Max.\",\"ok\"))","v":"ok"},null,{"$f":"IF($L$24<>0,(L20/$L$24)*$U$24,0)","v":0},null,null,null,"Quota Impresa",null,"Quota Tecnici"]
[null,null,{"$f":"'Computo-Massimali'!C21","v":"PO) Isolamento coperture"},null,{"$f":"'Computo-Massimali'!E21","v":"Esterno"},0,{"$f":"IF('Computo-Massimali'!F21<>0,'Computo-Massimali'!G21*F21/'Computo-Massimali'!F21,0)","v":0},{"$f":"SUM(F21:G21)","v":0},{"$f":"F21*'Dati Gen'!$J$20+G21*'Dati Gen'!$J$19","v":0},{"$f":"H21+I21","v":0},{"$f":"IF('Computo-Massimali'!F21<>0,'Computo-Massimali'!K21*F21/'Computo-Massimali'!F21,0)","v":0},{"$f":"SUM(J21:K21)","v":0},{"$f":"IF(L21<=R21,L21*1.1,R21*1.1)","v":0},{"$f":"IF('Computo-Massimali'!L21>0,L21/'Computo-Massimali'!L21,0)","v":0},null,null,"PO) Isolamento coperture",{"$f":"'Computo-Massimali'!R21","v":50000},"ok",null,{"$f":"IF($L$24<>0,(L21/$L$24)*$U$24,0)","v":0}]
[null,null,{"$f":"'Computo-Massimali'!C22","v":"PS) Isolamento Pavimenti"},null,{"$f":"'Computo-Massimali'!E22","v":"Esterno"},0,{"$f":"IF('Computo-Massimali'!F22<>0,'Computo-Massimali'!G22*F22/'Computo-Massimali'!F22,0)","v":0},{"$f":"SUM(F22:G22)","v":0},{"$f":"F22*'Dati Gen'!$J$20+G22*'Dati Gen'!$J$19","v":0},{"$f":"H22+I22","v":0},{"$f":"IF('Computo-Massimali'!F22<>0,'Computo-Massimali'!K22*F22/'Computo-Massimali'!F22,0)","v":0},{"$f":"SUM(J22:K22)","v":0},{"$f":"IF(L22<=R22,L22*1.1,R22*1.1)","v":0},{"$f":"IF('Computo-Massimali'!L22>0,L22/'Computo-Massimali'!L22,0)","v":0},null,null,"PS) Isolamento Pavimenti",{"$f":"'Computo-Massimali'!R22","v":50000},"ok",null,{"$f":"IF($L$24<>0,(L22/$L$24)*$U$24,0)","v":0}]
[null,null,{"$f":"'Computo-Massimali'!C23","v":"IN) Serramenti con chiusure oscuranti"},null,{"$f":"'Computo-Massimali'!E23","v":"Zone D, E ed F"},0,{"$f":"IF('Computo-Massimali'!F23<>0,'Computo-Massimali'!G23*F23/'Computo-Massimali'!F23,0)","v":0},{"$f":"SUM(F23:G23)","v":0},{"$f":"F23*'Dati Gen'!$J$20+G23*'Dati Gen'!$J$19","v":0},{"$f":"H23+I23","v":0},{"$f":"IF('Computo-Massimali'!F23<>0,'Computo-Massimali'!K23*F23/'Computo-Massimali'!F23,0)","v":0},{"$f":"SUM(J23:K23)","v":0},{"$f":"IF(L23<=R23,L23*1.1,R23*1.1)","v":0},{"$f":"IF('Computo-Massimali'!L23>0,L23/'Computo-Massimali'!L23,0)","v":0},null,null,"IN) Serramenti con chiusure oscuranti",{"$f":"'Computo-Massimali'!R23","v":54545},"ok",null,{"$f":"IF($L$24<>0,(L23/$L$24)*$U$24,0)","v":0}]
[null,null,{"$f":"'Computo-Massimali'!C24","v":"Totali Isolamenti e Serramenti "},null,null,{"$f":"SUM(F20:F23)","v":0},{"$f":"SUM(G20:G23)","v":0},{"$f":"SUM(H20:H23)","v":0},0,0,{"$f":"SUM(K20:K23)","v":0},0,0,{"$f":"IF('Computo-Massimali'!L24>0,L24/'Computo-Massimali'!L24,0)","v":0},null,null,"Totali Isolamenti e Serramenti ",{"$f":"'Computo-Massimali'!R24","v":54545},"ok",null,{"$f":"IF(L24<R24,L24,R24)","v":0},null,{"$f":"IF(L24>R24,L24-R24,0)","v":0},null,{"$f":"IF(M24<>0,J24*M24/L24,0)","v":0},null,{"$f":"IF(M24<>0,K24*M24/L24,0)","v":0}]
[null,null,{"$f":"'Computo-Massimali'!C25","v":"SS) Schermature solari e chiusure oscur."},null,null,0,{"$f":"IF('Computo-Massimali'!F25<>0,'Computo-Massimali'!G25*F25/'Computo-Massimali'!F25,0)","v":0},{"$f":"SUM(F25:G25)","v":0},{"$f":"F25*'Dati Gen'!$J$20+G25*'Dati Gen'!$J$19","v":0},0,{"$f":"IF('Computo-Massimali'!F25<>0,'Computo-Massimali'!K25*F25/'Computo-Massimali'!F25,0)","v":0},{"$f":"SUM(J25:K25)","v":0},{"$f":"IF(L25<=R25,L25*1.1,R25*1.1)","v":0},{"$f":"IF('Computo-Massimali'!L25>0,L25/'Computo-Massimali'!L25,0)","v":0},null,null,"SS) Schermature solari e chiusure oscur.",{"$f":"'Computo-Massimali'!R25","v":54545},"ok",null,{"$f":"IF(L25<R25,L25,R25)","v":0},null,{"$f":"IF(L25>R25,L25-R25,0)","v":0},null,{"$f":"IF(M25<>0,J25*M25/L25,0)","v":0},null,{"$f":"IF(M25<>0,K25*M25/L25,0)","v":0}]
[null,null,{"$f":"'Computo-Massimali'!C26","v":"Impianti climatizzazione con CC) PC) PCA) o SI)"},null,null,0,{"$f":"IF('Computo-Massimali'!F26<>0,'Computo-Massimali'!G26*F26/'Computo-Massimali'!F26,0)","v":0},{"$f":"SUM(F26:G26)","v":0},{"$f":"F26*'Dati Gen'!$J$20+G26*'Dati Gen'!$J$19","v":0},0,{"$f":"IF('Computo-Massimali'!F26<>0,'Computo-Massimali'!K26*F26/'Computo-Massimali'!F26,0)","v":0},0,{"$f":"IF(L26<=R26,L26*1.1,R26*1.1)","v":0},{"$f":"IF('Computo-Massimali'!L26>0,L26/'Computo-Massimali'!L26,0)","v":0},null,null,"Impianti climatizzazione con CC) PC) PCA) o SI)",{"$f":"'Computo-Massimali'!R26","v":27272},"ok",null,{"$f":"IF(L26<R26,L26,R26)","v":0},null,{"$f":"IF(L26>R26,L26-R26,0)","v":0},null,{"$f":"IF(M26<>0,J26*M26/L26,0)","v":0},null,{"$f":"IF(M26<>0,K26*M26/L26,0)","v":0}]
[null,null,{"$f":"'Computo-Massimali'!C27","v":"GA) Generatori aria calda Condensazione"},null,null,0,{"$f":"IF('Computo-Massimali'!F27<>0,'Computo-Massimali'!G27*F27/'Computo-Massimali'!F27,0)","v":0},{"$f":"SUM(F27:G27)","v":0},{"$f":"F27*'Dati Gen'!$J$20+G27*'Dati Gen'!$J$19","v":0},0,{"$f":"IF('Computo-Massimali'!F27<>0,'Computo-Massimali'!K27*F27/'Computo-Massimali'!F27,0)","v":0},0,{"$f":"IF(L27<=R27,L27*1.1,R27*1.1)","v":0},{"$f":"IF('Computo-Massimali'!L27>0,L27/'Computo-Massimali'!L27,0)","v":0},null,null,"GA) Generatori aria calda Condensazione",{"$f":"'Computo-Massimali'!R27","v":27272},"ok",null,{"$f":"IF($L$30<>0,(L27/$L$30)*$U$30,0)","v":0},null,null,null,"Quota Impresa",null,"Quota Tecnici"]
[null,null,{"$f":"'Computo-Massimali'!C28","v":"IB) Impianti Biomassa"},null,null,0,{"$f":"IF('Computo-Massimali'!F28<>0,'Computo-Massimali'!G28*F28/'Computo-Massimali'!F28,0)","v":0},{"$f":"SUM(F28:G28)","v":0},{"$f":"F28*'Dati Gen'!$J$20+G28*'Dati Gen'!$J$19","v":0},0,{"$f":"IF('Computo-Massimali'!F28<>0,'Computo-Massimali'!K28*F28/'Computo-Massimali'!F28,0)","v":0},0,{"$f":"IF(L28<=R28,L28*1.1,R28*1.1)","v":0},{"$f":"IF('Computo-Massimali'!L28>0,L28/'Computo-Massimali'!L28,0)","v":0},null,null,"IB) Impianti Biomassa",{"$f":"'Computo-Massimali'!R28","v":27272},"ok",null,{"$f":"IF($L$30<>0,(L28/$L$30)*$U$30,0)","v":0}]
[null,null,{"$f":"'Computo-Massimali'!C29","v":"SA) Scaldacqua a pompa di calore"},null,null,0,{"$f":"IF('Computo-Massimali'!F29<>0,'Computo-Massimali'!G29*F29/'Computo-Massimali'!F29,0)","v":0},{"$f":"SUM(F29:G29)","v":0},{"$f":"F29*'Dati Gen'!$J$20+G29*'Dati Gen'!$J$19","v":0},0,{"$f":"IF('Computo-Massimali'!F29<>0,'Computo-Massimali'!K29*F29/'Computo-Massimali'!F29,0)","v":0},0,{"$f":"IF(L29<=R29,L29*1.1,R29*1.1)","v":0},{"$f":"IF('Computo-Massimali'!L29>0,L29/'Computo-Massimali'!L29,0)","v":0},null,null,"SA) Scaldacqua a pompa di calore",{"$f":"'Computo-Massimali'!R29","v":27272},"ok",null,{"$f":"IF($L$30<>0,(L29/$L$30)*$U$30,0)","v":0}]
[null,null,{"$f":"'Computo-Massimali'!C30","v":"Totali GA)  IB)  SA)"},null,null,{"$f":"SUM(F27:F29)","v":0},{"$f":"SUM(G27:G29)","v":0},{"$f":"SUM(H27:H29)","v":0},0,0,{"$f":"SUM(K27:K29)","v":0},0,0,{"$f":"IF('Computo-Massimali'!L30>0,L30/'Computo-Massimali'!L30,0)","v":0},null,null,"Totali GA)  IB)  SA)",{"$f":"'Computo-Massimali'!R30","v":27272},"ok",null,{"$f":"IF(L30<R30,L30,R30)","v":0}]
[null,null,{"$f":"'Computo-Massimali'!C31","v":"CO) Sistemi di Microgenerazione"},null,null,0,{"$f":"IF('Computo-Massimali'!F31<>0,'Computo-Massimali'!G31*F31/'Computo-Massimali'!F31,0)","v":0},{"$f":"SUM(F31:G31)","v":0},{"$f":"F31*'Dati Gen'!$J$20+G31*'Dati Gen'!$J$19","v":0},{"$f":"H31+I31","v":0},{"$f":"IF('Computo-Massimali'!F31<>0,'Computo-Massimali'!K31*F31/'Computo-Massimali'!F31,0)","v":0},{"$f":"SUM(J31:K31)","v":0},{"$f":"IF(L31<=R31,L31*1.1,R31*1.1)","v":0},{"$f":"IF('Computo-Massimali'!L31>0,L31/'Computo-Massimali'!L31,0)","v":0},null,null,"CO) Sistemi di Microgenerazione",{"$f":"'Computo-Massimali'!R31","v":90909},"ok",null,0,null,{"$f":"IF(L31>R31,L31-R31,0)","v":0},null,{"$f":"IF(M31<>0,J31*M31/L31,0)","v":0},null,{"$f":"IF(M31<>0,K31*M31/L31,0)","v":0}]
[null,null,{"$f":"'Computo-Massimali'!C32","v":"ST) Collettori Solari"},null,{"$f":"'Computo-Massimali'!E32","v":"Piani Vetrati"},0,{"$f":"IF('Computo-Massimali'!F32<>0,'Computo-Massimali'!G32*F32/'Computo-Massimali'!F32,0)","v":0},0,{"$f":"F32*'Dati Gen'!$J$20+G32*'Dati Gen'!$J$19","v":0},{"$f":"H32+I32","v":0},{"$f":"IF('Computo-Massimali'!F32<>0,'Computo-Massimali'!K32*F32/'Computo-Massimali'!F32,0)","v":0},{"$f":"SUM(J32:K32)","v":0},0,{"$f":"IF('Computo-Massimali'!L32>0,L32/'Computo-Massimali'!L32,0)","v":0},null,null,"ST) Collettori Solari",{"$f":"'Computo-Massimali'!R32","v":54545},"ok",null,0,null,0,null,0,null,0]
[null,null,{"$f":"'Computo-Massimali'!C33","v":"FV) Solare Fotovoltaico ristr.         kWp"},null,{"$f":"'Computo-Massimali'!E33","v":6},0,{"$f":"IF('Computo-Massimali'!F33<>0,'Computo-Massimali'!G33*F33/'Computo-Massimali'!F33,0)","v":0},0,{"$f":"F33*'Dati Gen'!$J$20+G33*'Dati Gen'!$J$19","v":0},{"$f":"H33+I33","v":0},{"$f":"IF('Computo-Massimali'!F33<>0,'Computo-Massimali'!K33*F33/'Computo-Massimali'!F33,0)","v":0},{"$f":"SUM(J33:K33)","v":0},0,{"$f":"IF('Computo-Massimali'!L33>0,L33/'Computo-Massimali'!L33,0)","v":0},null,null,"FV) Solare Fotovoltaico ristr.         kWp",{"$f":"'Computo-Massimali'!R33","v":9600},"ok",null,0,null,0,null,0,null,0]
[null,null,{"$f":"'Computo-Massimali'!C34","v":"AC) Sistema di Accumulo                kWh"},null,{"$f":"'Computo-Massimali'!E34","v":10},0,{"$f":"IF('Computo-Massimali'!F34<>0,'Computo-Massimali'!G34*F34/'Computo-Massimali'!F34,0)","v":0},0,{"$f":"F34*'Dati Gen'!$J$20+G34*'Dati Gen'!$J$19","v":0},{"$f":"H34+I34","v":0},{"$f":"IF('Computo-Massimali'!F34<>0,'Computo-Massimali'!K34*F34/'Computo-Massimali'!F34,0)","v":0},{"$f":"SUM(J34:K34)","v":0},0,{"$f":"IF('Computo-Massimali'!L34>0,L34/'Computo-Massimali'!L34,0)","v":0},null,null,"AC) Sistema di Accumulo                kWh",{"$f":"'Computo-Massimali'!R34","v":10000},"ok",null,0,null,0,null,0,null,0]
[null,null,{"$f":"'Computo-Massimali'!C35","v":"CR) Colonnine di Ricarica                   N."},null,null,0,{"$f":"IF('Computo-Massimali'!F35<>0,'Computo-Massimali'!G35*F35/'Computo-Massimali'!F35,0)","v":0},0,{"$f":"F35*'Dati Gen'!$J$20+G35*'Dati Gen'!$J$19","v":0},0,{"$f":"IF('Computo-Massimali'!F35<>0,'Computo-Massimali'!K35*F35/'Computo-Massimali'!F35,0)","v":0},0,0,{"$f":"IF('Computo-Massimali'!L35>0,L35/'Computo-Massimali'!L35,0)","v":0},null,null,"CR) Colonnine di Ricarica                   N.",{"$f":"'Computo-Massimali'!R35","v":1500},"ok",null,0,null,0,null,0,null,0]
[null,null,{"$f":"'Computo-Massimali'!C36","v":"EBA) Eliminazione Barriere architettoniche"},null,null,0,{"$f":"IF('Computo-Massimali'!F36<>0,'Computo-Massimali'!G36*F36/'Computo-Massimali'!F36,0)","v":0},0,{"$f":"F36*'Dati Gen'!$J$20+G36*'Dati Gen'!$J$19","v":0},0,{"$f":"IF('Computo-Massimali'!F36<>0,'Computo-Massimali'!K36*F36/'Computo-Massimali'!F36,0)","v":0},0,0,{"$f":"IF('Computo-Massimali'!L36>0,L36/'Computo-Massimali'!L36,0)","v":0},null,null,"EBA) Eliminazione Barriere architettoniche",{"$f":"'Computo-Massimali'!R36","v":96000},"ok",null,0,null,0,null,0,null,0]
[null,null,{"$f":"'Computo-Massimali'!C37","v":"Totale Interventi Trainati Parti Comuni: "},null,null,{"$f":"SUM(F24:F26)+SUM(F30:F36)","v":0},{"$f":"SUM(G24:G26)+SUM(G30:G36)","v":0},0,0,0,0,0,0,{"$f":"IF('Computo-Massimali'!L37>0,L37/'Computo-Massimali'!L37,0)","v":0},null,null,null,{"$f":"C37","v":"Totale Interventi Trainati Parti Comuni: "},null,null,{"$f":"SUM(U24:V36)","v":0},null,{"$f":"SUM(W24:X36)","v":0},null,{"$f":"SUM(Y23:Z36)","v":0},null,{"$f":"SUM(AA24:AB36)","v":0}]
[]
[]
[null,null,"INTERVENTI TRAINATI",null,null,null,null,null,null,null,null,null,null,null,null,null,{"$f":"CONCATENATE(\"Verifica Massimali di Spesa \",C40)","v":"Verifica Massimali di Spesa INTERVENTI TRAINATI"}]
[null,null,"  Interventi",null,null,"Importo Lavori","Incidenza Sicurezza","Imponibile","Iva","Importo c.iva","Spese tecniche","Totale","Detrazione Spettante","%SAL",null,null,null,"Massimale  spesa","Verifica Max",null,"Spesa Ammessa",null,"Quota Eccedente Massimale Spesa ",null,"Cessione Credito"]
[null,null,{"$f":"'Computo-Massimali'!C42:D42","v":"PV) Isolamento pareti perimetrali"},null,{"$f":"'Computo-Massimali'!E42","v":"Esterno"},0,0,{"$f":"SUM(F42:G42)","v":0},{"$f":"F42*'Dati Gen'!$J$20+G42*'Dati Gen'!$J$19","v":0},{"$f":"H42+I42","v":0},{"$f":"IF('Computo-Massimali'!F42<>0,'Computo-Massimali'!K42*F42/'Computo-Massimali'!F42,0)","v":0},{"$f":"SUM(J42:K42)","v":0},{"$f":"IF(L42<=R42,L42*1.1,R42*1.1)","v":0},{"$f":"IF('Computo-Massimali'!L42>0,L42/'Computo-Massimali'!L42,0)","v":0},null,null,{"$f":"C42","v":"PV) Isolamento pareti perimetrali"},{"$f":"'Computo-Massimali'!R42","v":54545},{"$f":"IF(L42>M42,\"KO Tot.>Detr.\",IF(L42>R42,\"ok< Tot.>Max.\",\"ok\"))","v":"ok"},null,{"$f":"IF($L$46<>0,(L42/$L$46)*$U$46,0)","v":0},null,null,null,"Quota Impresa",null,"Quota Tecnici"]
[null,null,{"$f":"'Computo-Massimali'!C43:D43","v":"PO) Isolamento coperture"},null,"Esterno",0,0,{"$f":"SUM(F43:G43)","v":0},{"$f":"F43*'Dati Gen'!$J$20+G43*'Dati Gen'!$J$19","v":0},{"$f":"H43+I43","v":0},{"$f":"IF('Computo-Massimali'!F43<>0,'Computo-Massimali'!K43*F43/'Computo-Massimali'!F43,0)","v":0},{"$f":"SUM(J43:K43)","v":0},{"$f":"IF(L43<=R43,L43*1.1,R43*1.1)","v":0},{"$f":"IF('Computo-Massimali'!L43>0,L43/'Computo-Massimali'!L43,0)","v":0},null,null,"PO) Isolamento coperture",{"$f":"'Computo-Massimali'!R43","v":54545},"ok",null,{"$f":"IF($L$46<>0,(L43/$L$46)*$U$46,0)","v":0}]
[null,null,{"$f":"'Computo-Massimali'!C44:D44","v":"PS) Isolamento Pavimenti"},null,"Esterno",0,0,{"$f":"SUM(F44:G44)","v":0},{"$f":"F44*'Dati Gen'!$J$20+G44*'Dati Gen'!$J$19","v":0},{"$f":"H44+I44","v":0},{"$f":"IF('Computo-Massimali'!F44<>0,'Computo-Massimali'!K44*F44/'Computo-Massimali'!F44,0)","v":0},{"$f":"SUM(J44:K44)","v":0},{"$f":"IF(L44<=R44,L44*1.1,R44*1.1)","v":0},{"$f":"IF('Computo-Massimali'!L44>0,L44/'Computo-Massimali'!L44,0)","v":0},null,null,"PS) Isolamento Pavimenti",{"$f":"'Computo-Massimali'!R44","v":54545},"ok",null,{"$f":"IF($L$46<>0,(L44/$L$46)*$U$46,0)","v":0}]
[null,null,{"$f":"'Computo-Massimali'!C45:D45","v":"IN) Serramenti con chiusure oscuranti"},null,"Zone D, E ed F",0,0,{"$f":"SUM(F45:G45)","v":0},{"$f":"F45*'Dati Gen'!$J$20+G45*'Dati Gen'!$J$19","v":0},{"$f":"H45+I45","v":0},{"$f":"IF('Computo-Massimali'!F45<>0,'Computo-Massimali'!K45*F45/'Computo-Massimali'!F45,0)","v":0},{"$f":"SUM(J45:K45)","v":0},{"$f":"IF(L45<=R45,L45*1.1,R45*1.1)","v":0},{"$f":"IF('Computo-Massimali'!L45>0,L45/'Computo-Massimali'!L45,0)","v":0},null,null,"IN) Serramenti con chiusure oscuranti",{"$f":"'Computo-Massimali'!R45","v":54545},"ok",null,{"$f":"IF($L$46<>0,(L45/$L$46)*$U$46,0)","v":0}]
[null,null,{"$f":"'Computo-Massimali'!C46:D46","v":"Totali Isolamenti e Serramenti "},null,null,{"$f":"SUM(F42:F45)","v":0},{"$f":"SUM(G42:G45)","v":0},0,0,0,{"$f":"SUM(K42:K45)","v":0},0,0,{"$f":"IF('Computo-Massimali'!L46>0,L46/'Computo-Massimali'!L46,0)","v":0},null,null,"Totali Isolamenti e Serramenti ",{"$f":"'Computo-Massimali'!R46","v":54545},"ok",null,{"$f":"IF(L46<R46,L46,R46)","v":0},null,{"$f":"IF(L46>R46,L46-R46,0)","v":0},null,{"$f":"IF(M46<>0,J46*M46/L46,0)","v":0},null,{"$f":"IF(M46<>0,K46*M46/L46,0)","v":0}]
[null,null,{"$f":"'Computo-Massimali'!C47:D47","v":"SS) Schermature solari e chiusure oscur."},null,null,0,0,{"$f":"SUM(F47:G47)","v":0},{"$f":"F47*'Dati Gen'!$J$20+G47*'Dati Gen'!$J$19","v":0},{"$f":"H47+I47","v":0},{"$f":"IF('Computo-Massimali'!F47<>0,'Computo-Massimali'!K47*F47/'Computo-Massimali'!F47,0)","v":0},{"$f":"SUM(J47:K47)","v":0},{"$f":"IF(L47<=R47,L47*1.1,R47*1.1)","v":0},{"$f":"IF('Computo-Massimali'!L47>0,L47/'Computo-Massimali'!L47,0)","v":0},null,null,"SS) Schermature solari e chiusure oscur.",{"$f":"'Computo-Massimali'!R47","v":54545},"ok",null,{"$f":"IF(L47<R47,L47,R47)","v":0},null,{"$f":"IF(L47>R47,L47-R47,0)","v":0},null,{"$f":"IF(M47<>0,J47*M47/L47,0)","v":0},null,{"$f":"IF(M47<>0,K47*M47/L47,0)","v":0}]
[null,null,{"$f":"'Computo-Massimali'!C48:D48","v":"Impianti climatizzazione e ACS"},null,null,0,0,{"$f":"SUM(F48:G48)","v":0},{"$f":"F48*'Dati Gen'!$J$20+G48*'Dati Gen'!$J$19","v":0},{"$f":"H48+I48","v":0},{"$f":"IF('Computo-Massimali'!F48<>0,'Computo-Massimali'!K48*F48/'Computo-Massimali'!F48,0)","v":0},{"$f":"SUM(J48:K48)","v":0},{"$f":"IF(L48<=R48,L48*1.1,R48*1.1)","v":0},{"$f":"IF('Computo-Massimali'!L48>0,L48/'Computo-Massimali'!L48,0)","v":0},null,null,"Impianti climatizzazione e ACS",{"$f":"'Computo-Massimali'!R48","v":27272},"ok",null,{"$f":"IF($L$50<>0,(L48/$L$50)*$U$50,0)","v":0}]
[null,null,{"$f":"'Computo-Massimali'!C49:D49","v":"SA) Scaldacqua a pompa di calore"},null,null,0,0,{"$f":"SUM(F49:G49)","v":0},{"$f":"F49*'Dati Gen'!$J$20+G49*'Dati Gen'!$J$19","v":0},{"$f":"H49+I49","v":0},{"$f":"IF('Computo-Massimali'!F49<>0,'Computo-Massimali'!K49*F49/'Computo-Massimali'!F49,0)","v":0},{"$f":"SUM(J49:K49)","v":0},{"$f":"IF(L49<=R49,L49*1.1,R49*1.1)","v":0},{"$f":"IF('Computo-Massimali'!L49>0,L49/'Computo-Massimali'!L49,0)","v":0},null,null,"SA) Scaldacqua a pompa di calore",{"$f":"'Computo-Massimali'!R49","v":27272},"ok",null,{"$f":"IF($L$50<>0,(L49/$L$50)*$U$50,0)","v":0}]
[null,null,{"$f":"'Computo-Massimali'!C50:D50","v":"Totali Impianti ed  SA)"},null,null,{"$f":"SUM(F48:F49)","v":0},{"$f":"SUM(G48:G49)","v":0},0,0,0,{"$f":"SUM(K48:K49)","v":0},0,0,{"$f":"IF('Computo-Massimali'!L50>0,L50/'Computo-Massimali'!L50,0)","v":0},null,null,"Totali Impianti ed  SA)",{"$f":"'Computo-Massimali'!R50","v":27272},"ok",null,{"$f":"IF(L50<R50,L50,R50)","v":0},null,{"$f":"IF(L50>R50,L50-R50,0)","v":0},null,{"$f":"IF(M50<>0,J50*M50/L50,0)","v":0},null,{"$f":"IF(M50<>0,K50*M50/L50,0)","v":0}]
[null,null,{"$f":"'Computo-Massimali'!C51:D51","v":"CO) Sistemi di Microgenerazione"},null,null,0,0,{"$f":"SUM(F51:G51)","v":0},{"$f":"F51*'Dati Gen'!$J$20+G51*'Dati Gen'!$J$19","v":0},{"$f":"H51+I51","v":0},{"$f":"IF('Computo-Massimali'!F51<>0,'Computo-Massimali'!K51*F51/'Computo-Massimali'!F51,0)","v":0},{"$f":"SUM(J51:K51)","v":0},{"$f":"IF(L51<=R51,L51*1.1,R51*1.1)","v":0},{"$f":"IF('Computo-Massimali'!L51>0,L51/'Computo-Massimali'!L51,0)","v":0},null,null,"CO) Sistemi di Microgenerazione",{"$f":"'Computo-Massimali'!R51","v":90909},"ok",null,0,null,0,null,0,null,0]
[null,null,{"$f":"'Computo-Massimali'!C52:D52","v":"IB) Generatori a Biomassa"},null,null,0,0,0,{"$f":"F52*'Dati Gen'!$J$20+G52*'Dati Gen'!$J$19","v":0},0,{"$f":"IF('Computo-Massimali'!F52<>0,'Computo-Massimali'!K52*F52/'Computo-Massimali'!F52,0)","v":0},0,0,{"$f":"IF('Computo-Massimali'!L52>0,L52/'Computo-Massimali'!L52,0)","v":0},null,null,"IB) Generatori a Biomassa",{"$f":"'Computo-Massimali'!R52","v":27272},"ok",null,0,null,0,null,0,null,0]
[null,null,{"$f":"'Computo-Massimali'!C53:D53","v":"BA) Building Automation"},null,null,0,0,0,{"$f":"F53*'Dati Gen'!$J$20+G53*'Dati Gen'!$J$19","v":0},0,{"$f":"IF('Computo-Massimali'!F53<>0,'Computo-Massimali'!K53*F53/'Computo-Massimali'!F53,0)","v":0},0,0,{"$f":"IF('Computo-Massimali'!L53>0,L53/'Computo-Massimali'!L53,0)","v":0},null,null,"BA) Building Automation",{"$f":"'Computo-Massimali'!R53","v":13636.363636363636},"ok",null,0,null,0,null,0,null,0]
[null,null,{"$f":"'Computo-Massimali'!C54:D54","v":"ST) Collettori Solari"},null,"Piani Vetrati",0,0,0,{"$f":"F54*'Dati Gen'!$J$20+G54*'Dati Gen'!$J$19","v":0},0,{"$f":"IF('Computo-Massimali'!F54<>0,'Computo-Massimali'!K54*F54/'Computo-Massimali'!F54,0)","v":0},0,0,{"$f":"IF('Computo-Massimali'!L54>0,L54/'Computo-Massimali'!L54,0)","v":0},null,null,"ST) Collettori Solari",{"$f":"'Computo-Massimali'!R54","v":54545},"ok",null,0,null,0,null,0,null,0]
[null,null,{"$f":"'Computo-Massimali'!C55:D55","v":"FV) Solare Fotovoltaico                    kWp"},null,6,0,0,0,{"$f":"F55*'Dati Gen'!$J$20+G55*'Dati Gen'!$J$19","v":0},0,{"$f":"IF('Computo-Massimali'!F55<>0,'Computo-Massimali'!K55*F55/'Computo-Massimali'!F55,0)","v":0},0,0,{"$f":"IF('Computo-Massimali'!L55>0,L55/'Computo-Massimali'!L55,0)","v":0},null,null,"FV) Solare Fotovoltaico                    kWp",{"$f":"'Computo-Massimali'!R55","v":14400},"ok",null,0,null,0,null,0,null,0]
[null,null,{"$f":"'Computo-Massimali'!C56:D56","v":"AC) Sistema di Accumulo                  kWh"},null,10,0,0,0,{"$f":"F56*'Dati Gen'!$J$20+G56*'Dati Gen'!$J$19","v":0},0,{"$f":"IF('Computo-Massimali'!F56<>0,'Computo-Massimali'!K56*F56/'Computo-Massimali'!F56,0)","v":0},0,0,{"$f":"IF('Computo-Massimali'!L56>0,L56/'Computo-Massimali'!L56,0)","v":0},null,null,"AC) Sistema di Accumulo                  kWh",{"$f":"'Computo-Massimali'!R56","v":10000},"ok",null,0,null,0,null,0,null,0]
[null,null,{"$f":"'Computo-Massimali'!C57:D57","v":"CR) Colonnine di Ricarica"},null,null,0,0,0,{"$f":"F57*'Dati Gen'!$J$20+G57*'Dati Gen'!$J$19","v":0},0,{"$f":"IF('Computo-Massimali'!F57<>0,'Computo-Massimali'!K57*F57/'Computo-Massimali'!F57,0)","v":0},0,0,{"$f":"IF('Computo-Massimali'!L57>0,L57/'Computo-Massimali'!L57,0)","v":0},null,null,"CR) Colonnine di Ricarica",{"$f":"'Computo-Massimali'!R57","v":1500},"ok",null,0,null,0,null,0,null,0]
[null,null,"Totale Interventi trainati",null,null,{"$f":"F46+F47+SUM(F50:F57)","v":0},{"$f":"G46+G47+SUM(G50:G57)","v":0},0,0,0,{"$f":"K46+K47+SUM(K50:K57)","v":0},0,0,{"$f":"IF('Computo-Massimali'!L58>0,L58/'Computo-Massimali'!L58,0)","v":0},null,null,null,{"$f":"C58","v":"Totale Interventi trainati"},null,null,{"$f":"SUM(U46:V57)","v":0},null,{"$f":"SUM(W46:X57)","v":0},null,{"$f":"SUM(Y46:Z57)","v":0},null,{"$f":"SUM(AA46:AB57)","v":0}]
[]
[]
[]
[]
[]
[]
[]
[]
[]
[]
[]
[]
[]
[]
[]
[]
[]
[]
[]
[null,null,"SimMZ"]
[]
[null,null,"TOTALI SAL N.2 - INTERVENTI 110 ",null,null,"Importo Lavori","Incidenza Sicurezza","Imponibile","Iva","Importo c.iva","Spese tecniche","Totale","Credito Spettante  110% Spesa Ammessa","%SAL",null,null,{"$f":"C80","v":"TOTALI SAL N.2 - INTERVENTI 110 "},null,null,null,"Spesa Ammessa",null,"Quota Eccedente Massimale Spesa ",null,"Cessione Credito                               Quota Impresa         | Quota Tecnici"]
[null,null,null,null,null,{"$f":"F16+F58","v":0},0,0,0,0,0,0,0,{"$f":"IF('Computo-Massimali'!L81>0,L81/'Computo-Massimali'!L81,0)","v":0},null,null,null,null,null,null,{"$f":"U16+U37+U58","v":0},null,{"$f":"T16+T58","v":0},null,{"$f":"V16+V58","v":0},null,{"$f":"X16+X58","v":0}]
[]
[null,null,{"$f":"IF(N81>=59.999%,\"\",\"Attenzione!    SAL Superbonus 110 inferiore 60%\")","v":"Attenzione!    SAL Superbonus 110 inferiore 60%"}]
[]
[]
[]
[null,null,"ALTRI INTERVENTI",null,null,null,null,null,null,null,null,null,null,null,null,null,{"$f":"CONCATENATE(\"Verifica Massimali di Spesa \",C87)","v":"Verifica Massimali di Spesa ALTRI INTERVENTI"}]
[null,null,"  Interventi",null,"x% Credito ceduto","Importo Lavori","Incidenza Sicurezza","Imponibile","Iva","Importo c.iva","Spese tecniche","Totale","Credito Spettante  x% Spesa Ammessa","%SAL",null,null,null,"Massimale  spesa","Verifica Max",null,"Spesa Ammessa",null,"Quota Eccedente Massimale Spesa ",null,"Cessione Credito                               Quota Impresa         | Quota Tecnici"]
[null,null,{"$f":"IF('Computo-Massimali'!C89<>\"\",'Computo-Massimali'!C89,\"\")","v":"Lavori Ristrutturazione"},null,{"$f":"IF('Computo-Massimali'!E89<>0,'Computo-Massimali'!E89,\"\")","v":0.5},0,{"$f":"IF('Computo-Massimali'!F89<>0,'Computo-Massimali'!G89*F89/'Computo-Massimali'!F89,0)","v":0},{"$f":"SUM(F89:G89)","v":0},{"$f":"F89*'Dati Gen'!$J$20+G89*'Dati Gen'!$J$19","v":0},{"$f":"H89+I89","v":0},{"$f":"IF('Computo-Massimali'!F89<>0,'Computo-Massimali'!K89*F89/'Computo-Massimali'!F89,0)","v":0},{"$f":"SUM(J89:K89)","v":0},{"$f":"IF(L89<=R89,L89*E89,R89*E89)","v":0},{"$f":"IF('Computo-Massimali'!L89>0,L89/'Computo-Massimali'!L89,0)","v":0},null,null,{"$f":"IF(C89<>\"\",C89,\"\")","v":"Lavori Ristrutturazione"},{"$f":"96000*N_Uimm","v":96000},{"$f":"IF(R89<>0,IF(L89>R89,\"KO\",\"ok\"),\"ok\")","v":"ok"},null,{"$f":"IF(L89<R89,L89,R89)","v":0},null,{"$f":"IF(L89>R89,L89-R89,0)","v":0},null,{"$f":"IF(M89<>0,J89*M89/L89,0)","v":0},null,{"$f":"IF(M89<>0,K89*M89/L89,0)","v":0}]
[null,null,{"$f":"IF('Computo-Massimali'!C90<>\"\",'Computo-Massimali'!C90,\"\")","v":"Ecobonus"},null,{"$f":"IF('Computo-Massimali'!E90<>0,'Computo-Massimali'!E90,\"\")","v":0.65},0,{"$f":"IF('Computo-Massimali'!F90<>0,'Computo-Massimali'!G90*F90/'Computo-Massimali'!F90,0)","v":0},{"$f":"SUM(F90:G90)","v":0},{"$f":"F90*'Dati Gen'!$J$20+G90*'Dati Gen'!$J$19","v":0},{"$f":"H90+I90","v":0},{"$f":"IF('Computo-Massimali'!F90<>0,'Computo-Massimali'!K90*F90/'Computo-Massimali'!F90,0)","v":0},{"$f":"SUM(J90:K90)","v":0},{"$f":"IF(L90<=R90,L90*E90,R90*E90)","v":0},{"$f":"IF('Computo-Massimali'!L90>0,L90/'Computo-Massimali'!L90,0)","v":0},null,null,{"$f":"IF(C90<>\"\",C90,\"\")","v":"Ecobonus"},{"$f":"96000*N_Uimm","v":96000},{"$f":"IF(R90<>0,IF(L90>R90,\"KO\",\"ok\"),\"ok\")","v":"ok"},null,{"$f":"IF(L90<R90,L90,R90)","v":0},null,{"$f":"IF(L90>R90,L90-R90,0)","v":0},null,{"$f":"IF(M90<>0,J90*M90/L90,0)","v":0},null,{"$f":"IF(M90<>0,K90*M90/L90,0)","v":0}]
[null,null,{"$f":"IF('Computo-Massimali'!C91<>\"\",'Computo-Massimali'!C91,\"\")","v":"Bonus Facciata"},null,{"$f":"IF('Computo-Massimali'!E91<>0,'Computo-Massimali'!E91,\"\")","v":0.9},0,{"$f":"IF('Computo-Massimali'!F91<>0,'Computo-Massimali'!G91*F91/'Computo-Massimali'!F91,0)","v":0},{"$f":"SUM(F91:G91)","v":0},{"$f":"F91*'Dati Gen'!$J$20+G91*'Dati Gen'!$J$19","v":0},{"$f":"H91+I91","v":0},{"$f":"IF('Computo-Massimali'!F91<>0,'Computo-Massimali'!K91*F91/'Computo-Massimali'!F91,0)","v":0},{"$f":"SUM(J91:K91)","v":0},{"$f":"IF(L91<=R91,L91*E91,R91*E91)","v":0},{"$f":"IF('Computo-Massimali'!L91>0,L91/'Computo-Massimali'!L91,0)","v":0},null,null,{"$f":"IF(C91<>\"\",C91,\"\")","v":"Bonus Facciata"},{"$f":"96000*N_Uimm","v":96000},{"$f":"IF(R91<>0,IF(L91>R91,\"KO\",\"ok\"),\"ok\")","v":"ok"},null,{"$f":"IF(L91<R91,L91,R91)","v":0},null,{"$f":"IF(L91>R91,L91-R91,0)","v":0},null,{"$f":"IF(M91<>0,J91*M91/L91,0)","v":0},null,{"$f":"IF(M91<>0,K91*M91/L91,0)","v":0}]
[null,null,{"$f":"IF('Computo-Massimali'!C92<>\"\",'Computo-Massimali'!C92,\"\")","v":""},null,{"$f":"IF('Computo-Massimali'!E92<>0,'Computo-Massimali'!E92,\"\")","v":""},0,{"$f":"IF('Computo-Massimali'!F92<>0,'Computo-Massimali'!G92*F92/'Computo-Massimali'!F92,0)","v":0},0,0,0,{"$f":"IF('Computo-Massimali'!F92<>0,'Computo-Massimali'!K92*F92/'Computo-Massimali'!F92,0)","v":0},0,0,{"$f":"IF('Computo-Massimali'!L92>0,L92/'Computo-Massimali'!L92,0)","v":0},null,null,{"$f":"IF(C92<>\"\",C92,\"\")","v":""},{"$f":"96000*N_Uimm","v":96000},{"$f":"IF(R92<>0,IF(L92>R92,\"KO\",\"ok\"),\"ok\")","v":"ok"},null,{"$f":"IF(L92<R92,L92,R92)","v":0},null,{"$f":"IF(L92>R92,L92-R92,0)","v":0},null,{"$f":"IF(M92<>0,J92*M92/L92,0)","v":0},null,{"$f":"IF(M92<>0,K92*M92/L92,0)","v":0}]
[null,null,"TotalI SAL N.1 - Altri Interventi  : ",null,null,{"$f":"SUM(F89:F92)","v":0},0,0,0,0,{"$f":"SUM(K89:K92)","v":0},0,0,{"$f":"IF('Computo-Massimali'!L93>0,L93/'Computo-Massimali'!L93,0)","v":0},null,null,null,{"$f":"C93","v":"TotalI SAL N.1 - Altri Interventi  : "},null,null,{"$f":"SUM(U89:V92)","v":0},null,{"$f":"SUM(W89:X92)","v":0},null,{"$f":"SUM(Y89:Z92)","v":0},null,{"$f":"SUM(AA89:AB92)","v":0}]
[]
[]
[null,null,"TOTALI SAL N.2",null,null,"Importo Lavori Eseguiti","Incidenza Sicurezza","Imponibile","Iva","Importo c.iva","Spese tecniche","Totale","Credito Spettante","%SAL",null,null,{"$f":"C96","v":"TOTALI SAL N.2"},null,null,null,"Spesa Ammessa",null,"Quota Eccedente Massimale Spesa ",null,"Cessione Credito                               Quota Impresa         | Quota Tecnici"]
[null,null,null,null,null,{"$f":"F81+F93","v":0},0,0,0,0,{"$f":"K81+K93","v":0},0,0,{"$f":"IF('Computo-Massimali'!L100>0,L97/'Computo-Massimali'!L100,0)","v":0},null,null,null,null,null,null,{"$f":"U81+U93","v":0},null,{"$f":"W81+W93","v":0},null,{"$f":"Y81+Y93","v":0},null,{"$f":"AA81+AA93","v":0}]
[]
[]
[null,null,{"$f":"IF(ABS(D5-G97)>0.01,\"Importo Effettivo Lavori Eseguiti\",\"\")","v":""},null,null,{"$f":"IF($C$100<>\"\",F97,\"\")","v":""},{"$f":"IF($C$100<>\"\",D5,\"\")","v":""},{"$f":"IF($C$100<>\"\",F100+G100,\"\")","v":""},{"$f":"IF($C$100<>\"\",H100*AliqIva,\"\")","v":""},{"$f":"IF($C$100<>\"\",H100+I100,\"\")","v":""},{"$f":"IF($C$100<>\"\",K97,\"\")","v":""},{"$f":"IF($C$100<>\"\",J100+K100,\"\")","v":""},{"$f":"IF($C$100<>\"\",L100*1.1,\"\")","v":""},{"$f":"IF($C$100<>\"\",L100/'Computo-Massimali'!L100,\"\")","v":""}]
[null,null,{"$f":"IF($C$100<>\"\",\"Oneri/Lavori Sicurezza non imputabili al SAL, per lavori non eseguiti\",\"\")","v":""},null,null,null,{"$f":"IF($C$101<>\"\",D5-G97,\"\")","v":""}]
[]
[]
[]
[]
[]
[]
[]
[]
[]
[]
[]
[]
[]
[]
[null,null,null,null,null,null,null,null,null,null,null,null,null,null,null,null,"Ripartizione Spese Tecniche SAL. N.2 - INTERVENTI 110",null,null,null,null,null,null,null,null,null,null,null,"Applica Sconto in Fattura"]
[null,null,null,null,null,null,null,null,null,null,null,null,null,null,null,null,"Lavoro","Tecnico","Onorario",null,"C.Cassa",null,"Imponibile",null,"IVA",null,"Totale",null,null,null,null,{"$f":"'Dati Gen'!B44","v":"Ingegnere 1"},{"$f":"'Dati Gen'!B45","v":"Dott. Igor"},{"$f":"'Dati Gen'!B46","v":0},{"$f":"'Dati Gen'!B47","v":0},{"$f":"'Dati Gen'!B48","v":0},{"$f":"'Dati Gen'!B49","v":0},{"$f":"'Dati Gen'!B50","v":0},{"$f":"'Dati Gen'!B51","v":0}]
[null,null,null,null,null,null,null,null,null,null,null,null,null,null,null,null,{"$f":"IF('Dati Gen'!B25<>\"\",'Dati Gen'!B25,\"\")","v":"Incarico 1"},{"$f":"IF('Dati Gen'!C25<>\"\",'Dati Gen'!C25,\"\")","v":"Ingegnere 1"},{"$f":"W118/(1+U118)","v":0},null,{"$f":"'Dati Gen'!G25","v":0.04},{"$f":"S118*U118","v":0},{"$f":"AA118/(1+Y118)","v":0},null,0.22,{"$f":"Y118*(S118+V118)","v":0},{"$f":"IF('Dati Gen'!$M$36<>\"\",$AA$127*'Dati Gen'!M25/'Dati Gen'!$M$36,0)","v":0},null,{"$f":"IF(R118<>\"\",VLOOKUP('SAL.30%'!R118,'Dati Gen'!$B$44:$D$51,3,0),\"\")","v":"SI"},null,null,{"$f":"IF($R118=AF$117,$AA118,0)","v":0},{"$f":"IF($R118=AG$117,$AA118,0)","v":0},0,0,0,0,0,0,0]
[null,null,null,null,null,null,null,null,null,null,null,null,null,null,null,null,{"$f":"IF('Dati Gen'!B26<>\"\",'Dati Gen'!B26,\"\")","v":"Calcoli e Deposito G.C."},{"$f":"IF('Dati Gen'!C26<>\"\",'Dati Gen'!C26,\"\")","v":"Ingegnere 1"},{"$f":"W119/(1+U119)","v":0},null,{"$f":"'Dati Gen'!G26","v":0.04},{"$f":"S119*U119","v":0},{"$f":"AA119/(1+Y119)","v":0},null,0.22,{"$f":"(S119+V119)*Y119","v":0},{"$f":"IF('Dati Gen'!$M$36<>\"\",$AA$127*'Dati Gen'!M26/'Dati Gen'!$M$36,0)","v":0},null,{"$f":"IF(R119<>\"\",VLOOKUP('SAL.30%'!R119,'Dati Gen'!$B$44:$D$51,3,0),\"\")","v":"SI"},null,null,{"$f":"IF($R119=AF$117,$AA119,0)","v":0},0,0,0,0,0,0,0,0]
[null,null,null,null,null,null,null,null,null,null,null,null,null,null,null,null,{"$f":"IF('Dati Gen'!B27<>\"\",'Dati Gen'!B27,\"\")","v":"Congruità"},{"$f":"IF('Dati Gen'!C27<>\"\",'Dati Gen'!C27,\"\")","v":"Ingegnere 1"},0,null,{"$f":"'Dati Gen'!G27","v":0.04},{"$f":"S120*U120","v":0},0,null,0.22,{"$f":"(S120+V120)*Y120","v":0},{"$f":"IF('Dati Gen'!$M$36<>\"\",$AA$127*'Dati Gen'!M27/'Dati Gen'!$M$36,0)","v":0},null,{"$f":"IF(R120<>\"\",VLOOKUP('SAL.30%'!R120,'Dati Gen'!$B$44:$D$51,3,0),\"\")","v":"SI"},null,null,0,0,0,0,0,0,0,0,0]
[null,null,null,null,null,null,null,null,null,null,null,null,null,null,null,null,{"$f":"IF('Dati Gen'!B28<>\"\",'Dati Gen'!B28,\"\")","v":""},{"$f":"IF('Dati Gen'!C28<>\"\",'Dati Gen'!C28,\"\")","v":""},0,null,{"$f":"'Dati Gen'!G28","v":0.04},{"$f":"S121*U121","v":0},0,null,0.22,{"$f":"(S121+V121)*Y121","v":0},{"$f":"IF('Dati Gen'!$M$36<>\"\",$AA$127*'Dati Gen'!M28/'Dati Gen'!$M$36,0)","v":0},null,{"$f":"IF(R121<>\"\",VLOOKUP('SAL.30%'!R121,'Dati Gen'!$B$44:$D$51,3,0),\"\")","v":""},null,null,0,0,0,0,0,0,0,0,0]
[null,null,null,null,null,null,null,null,null,null,null,null,null,null,null,null,{"$f":"IF('Dati Gen'!B29<>\"\",'Dati Gen'!B29,\"\")","v":""},{"$f":"IF('Dati Gen'!C29<>\"\",'Dati Gen'!C29,\"\")","v":""},0,null,{"$f":"'Dati Gen'!G29","v":0.04},{"$f":"T122*U122","v":0},0,null,0.22,{"$f":"(T122+V122)*Y122","v":0},{"$f":"IF('Dati Gen'!$M$36<>\"\",$AA$127*'Dati Gen'!M29/'Dati Gen'!$M$36,0)","v":0},null,{"$f":"IF(R122<>\"\",VLOOKUP('SAL.30%'!R122,'Dati Gen'!$B$44:$D$51,3,0),\"\")","v":""},null,null,0,0,0,0,0,0,0,0,0]
[null,null,null,null,null,null,null,null,null,null,null,null,null,null,null,null,{"$f":"IF('Dati Gen'!B30<>\"\",'Dati Gen'!B30,\"\")","v":""},{"$f":"IF('Dati Gen'!C30<>\"\",'Dati Gen'!C30,\"\")","v":""},0,null,{"$f":"'Dati Gen'!G30","v":0.04},{"$f":"T123*U123","v":0},0,null,0,{"$f":"(T123+V123)*Y123","v":0},{"$f":"IF('Dati Gen'!$M$36<>\"\",$AA$127*'Dati Gen'!M30/'Dati Gen'!$M$36,0)","v":0},null,{"$f":"IF(R123<>\"\",VLOOKUP('SAL.30%'!R123,'Dati Gen'!$B$44:$D$51,3,0),\"\")","v":""},null,null,0,0,0,0,0,0,0,0,0]
[null,null,null,null,null,null,null,null,null,null,null,null,null,null,null,null,{"$f":"IF('Dati Gen'!B31<>\"\",'Dati Gen'!B31,\"\")","v":""},{"$f":"IF('Dati Gen'!C31<>\"\",'Dati Gen'!C31,\"\")","v":""},0,null,{"$f":"'Dati Gen'!G31","v":0.04},{"$f":"T124*U124","v":0},0,null,0,{"$f":"(T124+V124)*Y124","v":0},{"$f":"IF('Dati Gen'!$M$36<>\"\",$AA$127*'Dati Gen'!M31/'Dati Gen'!$M$36,0)","v":0},null,{"$f":"IF(R124<>\"\",VLOOKUP('SAL.30%'!R124,'Dati Gen'!$B$44:$D$51,3,0),\"\")","v":""},null,null,0,0,0,0,0,0,0,0,0]
[null,null,null,null,null,null,null,null,null,null,null,null,null,null,null,null,{"$f":"IF('Dati Gen'!B32<>\"\",'Dati Gen'!B32,\"\")","v":""},{"$f":"IF('Dati Gen'!C32<>\"\",'Dati Gen'!C32,\"\")","v":""},0,null,{"$f":"'Dati Gen'!G32","v":0.04},{"$f":"T125*U125","v":0},0,null,0,{"$f":"(T125+V125)*Y125","v":0},{"$f":"IF('Dati Gen'!$M$36<>\"\",$AA$127*'Dati Gen'!M32/'Dati Gen'!$M$36,0)","v":0},null,{"$f":"IF(R125<>\"\",VLOOKUP('SAL.30%'!R125,'Dati Gen'!$B$44:$D$51,3,0),\"\")","v":""},null,null,0,0,0,0,0,0,0,0,0]
[null,null,null,null,null,null,null,null,null,null,null,null,null,null,null,null,{"$f":"IF('Dati Gen'!B35<>\"\",'Dati Gen'!B35,\"\")","v":"Visto Conformità"},{"$f":"IF('Dati Gen'!C35<>\"\",'Dati Gen'!C35,\"\")","v":"Dott. Igor"},0,null,{"$f":"'Dati Gen'!G35","v":0.04},{"$f":"S126*U126","v":0},0,null,0.22,{"$f":"(S126+V126)*Y126","v":0},{"$f":"IF('Dati Gen'!$M$36<>\"\",$AA$127*'Dati Gen'!M35/'Dati Gen'!$M$36,0)","v":0},null,{"$f":"IF(R126<>\"\",VLOOKUP('SAL.30%'!R126,'Dati Gen'!$B$44:$D$51,3,0),\"\")","v":"NO"},null,null,0,0,0,0,0,0,0,0,0]
[null,null,null,null,null,null,null,null,null,null,null,null,null,null,null,null,null,null,{"$f":"SUM(S118:T126)","v":0},null,{"$f":"SUM(V118:V126)","v":0},null,{"$f":"SUM(W118:X126)","v":0},null,null,{"$f":"SUM(Z118:Z126)","v":0},{"$f":"SpeseTec60","v":0},null,null,null,null,{"$f":"SUM(AF118:AF126)","v":0},{"$f":"SUM(AG118:AG126)","v":0},0,0,0,0,0,0,0,{"$f":"SUM(AF127:AN127)","v":0}]
[null,null,null,null,null,null,null,null,null,null,null,null,null,null,null,null,null,null,null,null,null,null,null,null,null,null,null,null,null,null,null,{"$f":"IF($AO$127<>0,AF127/$AO$127,0)","v":0},{"$f":"IF($AO$127<>0,AG127/$AO$127,0)","v":0},0,0,0,0,0,0,0]
[]
[null,null,null,null,null,null,null,null,null,null,null,null,null,null,null,null,"Ripartizione Spese Tecniche SAL. N.2 - ALTRI INTERVENTI",null,null,null,null,null,null,null,null,null,null,null,"Applica Sconto in Fattura"]
[null,null,null,null,null,null,null,null,null,null,null,null,null,null,null,null,"Lavoro","Tecnico","Onorario",null,"C.Cassa",null,"Imponibile",null,"IVA",null,"Totale",null,null,null,null,{"$f":"AF117","v":"Ingegnere 1"},{"$f":"AG117","v":"Dott. Igor"},0,0,0,0,0,0]
[null,null,null,null,null,null,null,null,null,null,null,null,null,null,null,null,{"$f":"IF('Dati Gen'!B25<>\"\",'Dati Gen'!B25,\"\")","v":"Incarico 1"},{"$f":"IF('Dati Gen'!C25<>\"\",'Dati Gen'!C25,\"\")","v":"Ingegnere 1"},{"$f":"W132/(1+U132)","v":0},null,{"$f":"'Dati Gen'!G25","v":0.04},{"$f":"S132*U132","v":0},{"$f":"AA132/(1+Y132)","v":0},null,0.22,{"$f":"Y132*(S132+V132)","v":0},{"$f":"IF('Dati Gen'!$M$36<>\"\",$AA$141*'Dati Gen'!M25/'Dati Gen'!$M$36,0)","v":0},null,{"$f":"IF(R132<>\"\",VLOOKUP('SAL.30%'!R132,'Dati Gen'!$B$44:$D$51,3,0),\"\")","v":"SI"},null,null,{"$f":"IF($R132=AF$117,$AA132,0)","v":0},{"$f":"IF($R132=AG$117,$AA132,0)","v":0},0,0,0,0,0,0,0]
[null,null,null,null,null,null,null,null,null,null,null,null,null,null,null,null,{"$f":"IF('Dati Gen'!B26<>\"\",'Dati Gen'!B26,\"\")","v":"Calcoli e Deposito G.C."},{"$f":"IF('Dati Gen'!C26<>\"\",'Dati Gen'!C26,\"\")","v":"Ingegnere 1"},{"$f":"W133/(1+U133)","v":0},null,{"$f":"'Dati Gen'!G26","v":0.04},{"$f":"S133*U133","v":0},{"$f":"AA133/(1+Y133)","v":0},null,0.22,{"$f":"(S133+V133)*Y133","v":0},{"$f":"IF('Dati Gen'!$M$36<>\"\",$AA$141*'Dati Gen'!M26/'Dati Gen'!$M$36,0)","v":0},null,{"$f":"IF(R133<>\"\",VLOOKUP('SAL.30%'!R133,'Dati Gen'!$B$44:$D$51,3,0),\"\")","v":"SI"},null,null,{"$f":"IF($R133=AF$117,$AA133,0)","v":0},0,0,0,0,0,0,0,0]
[null,null,null,null,null,null,null,null,null,null,null,null,null,null,null,null,{"$f":"IF('Dati Gen'!B27<>\"\",'Dati Gen'!B27,\"\")","v":"Congruità"},{"$f":"IF('Dati Gen'!C27<>\"\",'Dati Gen'!C27,\"\")","v":"Ingegnere 1"},0,null,{"$f":"'Dati Gen'!G27","v":0.04},{"$f":"S134*U134","v":0},0,null,0.22,{"$f":"(S134+V134)*Y134","v":0},{"$f":"IF('Dati Gen'!$M$36<>\"\",$AA$141*'Dati Gen'!M27/'Dati Gen'!$M$36,0)","v":0},null,{"$f":"IF(R134<>\"\",VLOOKUP('SAL.30%'!R134,'Dati Gen'!$B$44:$D$51,3,0),\"\")","v":"SI"},null,null,0,0,0,0,0,0,0,0,0]
[null,null,null,null,null,null,null,null,null,null,null,null,null,null,null,null,{"$f":"IF('Dati Gen'!B28<>\"\",'Dati Gen'!B28,\"\")","v":""},{"$f":"IF('Dati Gen'!C28<>\"\",'Dati Gen'!C28,\"\")","v":""},0,null,{"$f":"'Dati Gen'!G28","v":0.04},{"$f":"S135*U135","v":0},0,null,0.22,{"$f":"(S135+V135)*Y135","v":0},{"$f":"IF('Dati Gen'!$M$36<>\"\",$AA$141*'Dati Gen'!M28/'Dati Gen'!$M$36,0)","v":0},null,{"$f":"IF(R135<>\"\",VLOOKUP('SAL.30%'!R135,'Dati Gen'!$B$44:$D$51,3,0),\"\")","v":""},null,null,0,0,0,0,0,0,0,0,0]
[null,null,null,null,null,null,null,null,null,null,null,null,null,null,null,null,{"$f":"IF('Dati Gen'!B29<>\"\",'Dati Gen'!B29,\"\")","v":""},{"$f":"IF('Dati Gen'!C29<>\"\",'Dati Gen'!C29,\"\")","v":""},0,null,{"$f":"'Dati Gen'!G29","v":0.04},{"$f":"T136*U136","v":0},0,null,0.22,{"$f":"(T136+V136)*Y136","v":0},{"$f":"IF('Dati Gen'!$M$36<>\"\",$AA$141*'Dati Gen'!M29/'Dati Gen'!$M$36,0)","v":0},null,{"$f":"IF(R136<>\"\",VLOOKUP('SAL.30%'!R136,'Dati Gen'!$B$44:$D$51,3,0),\"\")","v":""},null,null,0,0,0,0,0,0,0,0,0]
[null,null,null,null,null,null,null,null,null,null,null,null,null,null,null,null,{"$f":"IF('Dati Gen'!B30<>\"\",'Dati Gen'!B30,\"\")","v":""},{"$f":"IF('Dati Gen'!C30<>\"\",'Dati Gen'!C30,\"\")","v":""},0,null,{"$f":"'Dati Gen'!G30","v":0.04},{"$f":"T137*U137","v":0},0,null,0,{"$f":"(T137+V137)*Y137","v":0},{"$f":"IF('Dati Gen'!$M$36<>\"\",$AA$141*'Dati Gen'!M30/'Dati Gen'!$M$36,0)","v":0},null,{"$f":"IF(R137<>\"\",VLOOKUP('SAL.30%'!R137,'Dati Gen'!$B$44:$D$51,3,0),\"\")","v":""},null,null,0,0,0,0,0,0,0,0,0]
[null,null,null,null,null,null,null,null,null,null,null,null,null,null,null,null,{"$f":"IF('Dati Gen'!B31<>\"\",'Dati Gen'!B31,\"\")","v":""},{"$f":"IF('Dati Gen'!C31<>\"\",'Dati Gen'!C31,\"\")","v":""},0,null,{"$f":"'Dati Gen'!G31","v":0.04},{"$f":"T138*U138","v":0},0,null,0,{"$f":"(T138+V138)*Y138","v":0},{"$f":"IF('Dati Gen'!$M$36<>\"\",$AA$141*'Dati Gen'!M31/'Dati Gen'!$M$36,0)","v":0},null,{"$f":"IF(R138<>\"\",VLOOKUP('SAL.30%'!R138,'Dati Gen'!$B$44:$D$51,3,0),\"\")","v":""},null,null,0,0,0,0,0,0,0,0,0]
[null,null,null,null,null,null,null,null,null,null,null,null,null,null,null,null,{"$f":"IF('Dati Gen'!B32<>\"\",'Dati Gen'!B32,\"\")","v":""},{"$f":"IF('Dati Gen'!C32<>\"\",'Dati Gen'!C32,\"\")","v":""},0,null,{"$f":"'Dati Gen'!G32","v":0.04},{"$f":"T139*U139","v":0},0,null,0,{"$f":"(T139+V139)*Y139","v":0},{"$f":"IF('Dati Gen'!$M$36<>\"\",$AA$141*'Dati Gen'!M32/'Dati Gen'!$M$36,0)","v":0},null,{"$f":"IF(R139<>\"\",VLOOKUP('SAL.30%'!R139,'Dati Gen'!$B$44:$D$51,3,0),\"\")","v":""},null,null,0,0,0,0,0,0,0,0,0]
[null,null,null,null,null,null,null,null,null,null,null,null,null,null,null,null,{"$f":"IF('Dati Gen'!B35<>\"\",'Dati Gen'!B35,\"\")","v":"Visto Conformità"},{"$f":"IF('Dati Gen'!C35<>\"\",'Dati Gen'!C35,\"\")","v":"Dott. Igor"},0,null,{"$f":"'Dati Gen'!G35","v":0.04},{"$f":"S140*U140","v":0},0,null,0.22,{"$f":"(S140+V140)*Y140","v":0},{"$f":"IF('Dati Gen'!$M$36<>\"\",$AA$141*'Dati Gen'!M35/'Dati Gen'!$M$36,0)","v":0},null,{"$f":"IF(R140<>\"\",VLOOKUP('SAL.30%'!R140,'Dati Gen'!$B$44:$D$51,3,0),\"\")","v":"NO"},null,null,0,0,0,0,0,0,0,0,0]
[null,null,null,null,null,null,null,null,null,null,null,null,null,null,null,null,null,null,{"$f":"SUM(S132:T140)","v":0},null,{"$f":"SUM(V132:V140)","v":0},null,{"$f":"SUM(W132:X140)","v":0},null,null,{"$f":"SUM(Z132:Z140)","v":0},{"$f":"K93","v":0},null,null,null,null,{"$f":"SUM(AF132:AF140)","v":0},{"$f":"SUM(AG132:AG140)","v":0},0,0,0,0,0,0,0,{"$f":"SUM(AF141:AN141)","v":0}]
[null,null,null,null,null,null,null,null,null,null,null,null,null,null,null,null,null,null,null,null,null,null,null,null,null,null,null,null,null,null,null,{"$f":"IF($AO$141<>0,AF141/$AO$141,0)","v":0},{"$f":"IF($AO$141<>0,AG141/$AO$141,0)","v":0},0,0,0,0,0,0,0]

{"sheet":"SAL.Finale","index":7,"n_rows":142,"n_cols":41,"rows_kept":142,"cut":false,"hidden":false,"merged":[[140,18,140,19],[140,20,140,21],[140,22,140,23],[140,26,140,27],[137,18,137,19],[137,22,137,23],[137,26,137,27],[138,18,138,19],[138,22,138,23],[138,26,138,27],[139,18,139,19],[139,22,139,23],[139,26,139,27],[134,18,134,19],[134,22,134,23],[134,26,134,27],[135,18,135,19],[135,22,135,23],[135,26,135,27],[136,18,136,19],[136,22,136,23],[136,26,136,27],[133,26,133,27],[126,18,126,19],[126,20,126,21],[126,22,126,23],[126,26,126,27],[129,16,129,27],[129,28,130,28],[130,18,130,19],[130,20,130,21],[130,22,130,23],[130,24,130,25],[130,26,130,27],[131,18,131,19],[131,22,131,23],[131,26,131,27],[132,18,132,19],[132,22,132,23],[132,26,132,27],[133,18,133,19],[133,22,133,23],[123,18,123,19],[123,22,123,23],[123,26,123,27],[124,18,124,19],[124,22,124,23],[124,26,124,27],[125,18,125,19],[125,22,125,23],[125,26,125,27],[120,18,120,19],[120,22,120,23],[120,26,120,27],[121,18,121,19],[121,22,121,23],[121,26,121,27],[122,18,122,19],[122,22,122,23],[122,26,122,27],[117,18,117,19],[117,22,117,23],[117,26,117,27],[118,18,118,19],[118,22,118,23],[118,26,118,27],[119,18,119,19],[119,22,119,23],[119,26,119,27],[97,2,97,4],[98,2,98,4],[101,2,101,4],[102,2,102,5],[95,2,95,4],[92,2,92,3],[115,16,115,27],[115,28,116,28],[116,18,116,19],[116,20,116,21],[116,22,116,23],[116,24,116,25],[116,26,116,27],[95,20,95,21],[95,16,96,19],[95,22,95,23],[95,24,95,27],[96,20,96,21],[96,22,96,23],[96,24,96,25],[96,26,96,27],[91,24,91,25],[91,26,91,27],[92,22,92,23],[92,24,92,25],[92,26,92,27],[91,20,91,21],[92,20,92,21],[92,17,92,19],[96,2,96,4],[91,2,91,3],[88,26,88,27],[87,20,87,21],[88,20,88,21],[87,24,87,27],[89,26,89,27],[90,18,90,19],[90,22,90,23],[90,24,90,25],[90,26,90,27],[89,20,89,21],[90,20,90,21],[89,18,89,19],[89,22,89,23],[89,24,89,25],[88,24,88,25],[57,2,57,3],[57,17,57,19],[57,22,57,23],[57,24,57,25],[57,26,57,27],[57,20,57,21],[82,2,82,13],[86,2,86,13],[79,2,80,4],[77,2,77,3],[86,16,86,27],[79,16,80,19],[79,20,79,21],[79,22,79,23],[79,24,79,27],[80,20,80,21],[80,22,80,23],[80,24,80,25],[80,26,80,27],[55,2,55,3],[55,18,55,19],[55,22,55,23],[55,24,55,25],[55,26,55,27],[56,2,56,3],[56,18,56,19],[56,22,56,23],[56,24,56,25],[56,26,56,27],[55,20,55,21],[56,20,56,21],[53,2,53,3],[53,18,53,19],[53,22,53,23],[53,24,53,25],[53,26,53,27],[54,2,54,3],[54,18,54,19],[54,22,54,23],[54,24,54,25],[54,26,54,27],[53,20,53,21],[54,20,54,21],[51,2,51,3],[51,18,51,19],[51,22,51,23],[51,24,51,25],[51,26,51,27],[52,2,52,3],[52,18,52,19],[52,22,52,23],[52,24,52,25],[52,26,52,27],[51,20,51,21],[52,20,52,21],[49,2,49,3],[49,18,49,19],[49,22,49,23],[49,24,49,25],[49,26,49,27],[50,2,50,3],[50,18,50,19],[50,22,50,23],[50,24,50,25],[50,26,50,27],[49,20,49,21],[50,20,50,21],[47,2,47,3],[47,18,47,19],[48,2,48,3],[48,18,48,19],[40,22,40,23],[40,24,40,27],[41,2,41,3],[41,18,41,19],[41,22,44,23],[41,24,44,25],[41,26,44,27],[42,2,42,3],[44,2,44,3],[44,18,44,19],[44,20,44,21],[46,20,46,21],[46,22,46,23],[46,24,46,25],[46,26,46,27],[47,20,47,21],[48,20,48,21],[45,2,45,3],[45,18,45,19],[40,2,40,4],[46,18,46,19],[46,2,46,3],[36,2,36,3],[36,17,36,19],[36,22,36,23],[36,24,36,25],[36,26,36,27],[39,2,39,13],[39,16,39,27],[42,18,42,19],[43,2,43,3],[43,18,43,19],[36,20,36,21],[40,20,40,21],[45,20,45,21],[41,20,41,21],[42,20,42,21],[43,20,43,21],[40,18,40,19],[45,22,45,23],[45,24,45,25],[45,26,45,27],[30,2,30,3],[30,18,30,19],[30,22,30,23],[30,24,30,25],[30,26,30,27],[31,2,31,3],[31,18,31,19],[31,22,31,23],[31,24,31,25],[31,26,31,27],[30,20,30,21],[31,20,31,21],[32,20,32,21],[33,20,33,21],[34,2,34,3],[34,18,34,19],[34,22,34,23],[34,24,34,25],[34,26,34,27],[35,2,35,3],[35,18,35,19],[35,22,35,23],[35,24,35,25],[35,26,35,27],[34,20,34,21],[35,20,35,21],[32,2,32,3],[32,18,32,19],[32,22,32,23],[32,24,32,25],[32,26,32,27],[33,2,33,3],[33,18,33,19],[33,22,33,23],[33,24,33,25],[33,26,33,27],[26,20,26,21],[26,22,29,23],[26,24,29,25],[26,26,29,27],[27,20,27,21],[28,20,28,21],[29,20,29,21],[23,2,23,3],[23,18,23,19],[23,22,23,23],[23,24,23,25],[28,18,28,19],[29,2,29,3],[29,18,29,19],[24,2,24,3],[24,18,24,19],[25,2,25,3],[25,18,25,19],[26,2,26,3],[26,18,26,19],[27,2,27,3],[27,18,27,19],[28,2,28,3],[24,20,24,21],[24,22,24,23],[24,24,24,25],[24,26,24,27],[25,20,25,21],[25,22,25,23],[25,24,25,25],[25,26,25,27],[22,18,22,19],[12,2,12,3],[12,18,12,19],[12,22,12,23],[12,24,12,25],[12,26,12,27],[13,2,13,3],[13,18,13,19],[13,22,13,23],[13,24,13,25],[13,26,13,27],[12,20,12,21],[13,20,13,21],[23,26,23,27],[19,2,19,3],[19,18,19,19],[19,22,22,23],[19,24,22,25],[19,26,22,27],[20,2,20,3],[20,18,20,19],[21,2,21,3],[21,18,21,19],[22,2,22,3],[23,20,23,21],[19,20,19,21],[20,20,20,21],[21,20,21,21],[22,20,22,21],[18,22,18,23],[18,24,18,27],[14,2,14,3],[15,2,15,3],[15,17,15,19],[15,22,15,23],[15,24,15,25],[15,26,15,27],[14,20,14,21],[15,20,15,21],[18,20,18,21],[17,2,17,13],[17,16,17,27],[18,2,18,4],[18,18,18,19],[1,13,5,13],[2,2,2,4],[3,2,3,4],[4,2,5,2],[4,3,5,4],[4,10,5,11],[4,12,5,12],[7,20,7,21],[8,2,8,3],[8,18,8,19],[2,16,2,27],[6,2,6,13],[6,16,6,27],[7,2,7,4],[7,18,7,19],[7,22,7,23],[7,24,7,27],[8,24,11,25],[8,26,11,27],[9,2,9,3],[9,18,9,19],[10,2,10,3],[10,18,10,19],[11,2,11,3],[11,18,11,19],[8,20,8,21],[9,20,9,21],[10,20,10,21],[11,20,11,21],[14,18,14,19],[14,22,14,23],[14,24,14,25],[14,26,14,27],[89,2,89,3],[90,2,90,3],[88,2,88,3],[87,2,87,4],[87,18,87,19],[88,18,88,19],[87,22,87,23],[88,22,88,23],[91,18,91,19],[91,22,91,23]]}
[null,null,null,null,null,null,null,null,null,null,null,null,null,null,null,{"$f":"MATCH(\"SimMZ\",C:C,0)","v":78}]
[null,null,null,null,null,"DATI DI PROGETTO : ","IMPONIBILE","IVA","IMPORTO",null,"IMPONIBILE","IVA","IMPORTO",{"$f":"CONCATENATE('Dati Gen'!K2,\"   SIM.srl\")","v":"Pratica.110plus   SIM.srl"}]
[null,null,"STATO AVANZAMENTO LAVORI Finale",null,null,"Importo Lavori ",{"$f":"'Dati Gen'!G18","v":10000},{"$f":"'Dati Gen'!K18","v":1000},{"$f":"'Dati Gen'!M18","v":11000},"Importo Netto",{"$f":"'Dati Gen'!G20","v":10000},{"$f":"'Dati Gen'!K20","v":1000},{"$f":"'Dati Gen'!M20","v":11000},null,null,null,{"$f":"IF('Computo-Massimali'!C6<>\"\",\"Attenzione! Tabella Computo-Massimali non completa. Si consiglia di completare, prima di registrare Voci di SAL\",\"\")","v":"Attenzione! Tabella Computo-Massimali non completa. Si consiglia di completare, prima di registrare Voci di SAL"}]
[null,null,"20/12/2021",null,null,"Oneri Sicurezza ",{"$f":"'Dati Gen'!G19","v":0},{"$f":"'Dati Gen'!K19","v":0},{"$f":"'Dati Gen'!M19","v":0},"Spese Tecniche",{"$f":"'Dati Gen'!G21","v":266.45},{"$f":"'Dati Gen'!K21","v":0},{"$f":"'Dati Gen'!M21","v":266.45}]
[null,null,"Oneri/Lavori x Sicurezza ",0,null,null,null,null,null,null,{"$f":"'Dati Gen'!G22","v":"Importo Complessivo Progetto : "},null,{"$f":"'Dati Gen'!M22","v":11266.45}]
[]
[null,null,"INTERVENTI TRAINANTI",null,null,null,null,null,null,null,null,null,null,null,null,null,{"$f":"CONCATENATE(\"Verifica Massimali di Spesa \",C7)","v":"Verifica Massimali di Spesa INTERVENTI TRAINANTI"}]
[null,null,"  Interventi",null,null,"Importo Lavori","Incidenza Sicurezza","Imponibile","Iva","Importo c.iva","Spese tecniche","Totale","Detrazione Spettante","%SAL",null,null,null,"Massimale  spesa","Verifica Max",null,"Spesa Ammessa",null,"Quota Eccedente Massimale Spesa ",null,"Cessione Credito"]
[null,null,{"$f":"'Computo-Massimali'!C9","v":"PV) Isolamento pareti perimetrali"},null,{"$f":"'Computo-Massimali'!E9","v":"Esterno"},0,{"$f":"IF('Computo-Massimali'!F9<>0,'Computo-Massimali'!G9*F9/'Computo-Massimali'!F9,0)","v":0},{"$f":"SUM(F9:G9)","v":0},{"$f":"F9*'Dati Gen'!$J$20+G9*'Dati Gen'!$J$19","v":0},{"$f":"H9+I9","v":0},{"$f":"IF('Computo-Massimali'!F9<>0,'Computo-Massimali'!K9*F9/'Computo-Massimali'!F9,0)","v":0},{"$f":"SUM(J9:K9)","v":0},{"$f":"IF(L9<=R9,L9*1.1,R9*1.1)","v":0},{"$f":"IF('Computo-Massimali'!L9>0,L9/'Computo-Massimali'!L9,0)","v":0},null,null,{"$f":"C9","v":"PV) Isolamento pareti perimetrali"},{"$f":"'Computo-Massimali'!R9","v":50000},{"$f":"IF(L9>M9,\"KO Tot.>Detr.\",IF(L9>R9,\"ok< Tot.>Max.\",\"ok\"))","v":"ok"},null,{"$f":"IF($L$13<>0,(L9/$L$13)*$U$13,0)","v":0},null,null,null,"Quota Impresa",null,"Quota Tecnici"]
[null,null,{"$f":"'Computo-Massimali'!C10","v":"PO) Isolamento coperture"},null,{"$f":"'Computo-Massimali'!E10","v":"Esterno"},0,{"$f":"IF('Computo-Massimali'!F10<>0,'Computo-Massimali'!G10*F10/'Computo-Massimali'!F10,0)","v":0},{"$f":"SUM(F10:G10)","v":0},{"$f":"F10*'Dati Gen'!$J$20+G10*'Dati Gen'!$J$19","v":0},{"$f":"H10+I10","v":0},{"$f":"IF('Computo-Massimali'!F10<>0,'Computo-Massimali'!K10*F10/'Computo-Massimali'!F10,0)","v":0},{"$f":"SUM(J10:K10)","v":0},0,{"$f":"IF('Computo-Massimali'!L10>0,L10/'Computo-Massimali'!L10,0)","v":0},null,null,"PO) Isolamento coperture",{"$f":"'Computo-Massimali'!R10","v":50000},{"$f":"IF(L10>M10,\"KO Tot.>Detr.\",IF(L10>R10,\"ok< Tot.>Max.\",\"ok\"))","v":"ok"},null,{"$f":"IF($L$13<>0,(L10/$L$13)*$U$13,0)","v":0}]
[null,null,{"$f":"'Computo-Massimali'!C11","v":"POND) Isol. coperture non disperdenti"},null,{"$f":"'Computo-Massimali'!E11","v":"Esterno"},0,{"$f":"IF('Computo-Massimali'!F11<>0,'Computo-Massimali'!G11*F11/'Computo-Massimali'!F11,0)","v":0},{"$f":"SUM(F11:G11)","v":0},{"$f":"F11*'Dati Gen'!$J$20+G11*'Dati Gen'!$J$19","v":0},{"$f":"H11+I11","v":0},{"$f":"IF('Computo-Massimali'!F11<>0,'Computo-Massimali'!K11*F11/'Computo-Massimali'!F11,0)","v":0},{"$f":"SUM(J11:K11)","v":0},0,{"$f":"IF('Computo-Massimali'!L11>0,L11/'Computo-Massimali'!L11,0)","v":0},null,null,"POND) Isol. coperture non disperdenti",{"$f":"'Computo-Massimali'!R11","v":50000},"ok",null,{"$f":"IF($L$13<>0,(L11/$L$13)*$U$13,0)","v":0}]
[null,null,{"$f":"'Computo-Massimali'!C12","v":"PS) Isolamento Pavimenti"},null,{"$f":"'Computo-Massimali'!E12","v":"Esterno"},{"$f":"'Computo-Massimali'!F12","v":0},{"$f":"IF('Computo-Massimali'!F12<>0,'Computo-Massimali'!G12*F12/'Computo-Massimali'!F12,0)","v":0},{"$f":"SUM(F12:G12)","v":0},{"$f":"F12*'Dati Gen'!$J$20+G12*'Dati Gen'!$J$19","v":0},{"$f":"H12+I12","v":0},{"$f":"IF('Computo-Massimali'!F12<>0,'Computo-Massimali'!K12*F12/'Computo-Massimali'!F12,0)","v":0},{"$f":"SUM(J12:K12)","v":0},0,{"$f":"IF('Computo-Massimali'!L12>0,L12/'Computo-Massimali'!L12,0)","v":0},null,null,"PS) Isolamento Pavimenti",{"$f":"'Computo-Massimali'!R12","v":50000},"ok",null,{"$f":"IF($L$13<>0,(L12/$L$13)*$U$13,0)","v":0}]
[null,null,{"$f":"'Computo-Massimali'!C13","v":"TOT.Isolamento sup.verticali/orizzontali"},null,null,{"$f":"SUM(F9:F12)","v":0},{"$f":"SUM(G9:G12)","v":0},{"$f":"SUM(H9:H12)","v":0},0,0,0,0,0,{"$f":"IF('Computo-Massimali'!L13>0,L13/'Computo-Massimali'!L13,0)","v":0},null,null,"TOT.Isolamento sup.verticali/orizzontali",{"$f":"'Computo-Massimali'!R13","v":50000},"ok",null,{"$f":"IF(L13<R13,L13,R13)","v":0},null,{"$f":"IF(L13>R13,L13-R13,0)","v":0},null,{"$f":"IF(M13<>0,J13*M13/L13,0)","v":0},null,{"$f":"IF(M13<>0,K13*M13/L13,0)","v":0}]
[null,null,{"$f":"'Computo-Massimali'!C14","v":"Impianti climatizzazione e ACS"},null,null,0,{"$f":"IF('Computo-Massimali'!F14<>0,'Computo-Massimali'!G14*F14/'Computo-Massimali'!F14,0)","v":0},{"$f":"SUM(F14:G14)","v":0},{"$f":"F14*'Dati Gen'!$J$20+G14*'Dati Gen'!$J$19","v":0},{"$f":"H14+I14","v":0},{"$f":"IF('Computo-Massimali'!F14<>0,'Computo-Massimali'!K14*F14/'Computo-Massimali'!F14,0)","v":0},{"$f":"SUM(J14:K14)","v":0},0,{"$f":"IF('Computo-Massimali'!L14>0,L14/'Computo-Massimali'!L14,0)","v":0},null,null,"Impianti climatizzazione e ACS",{"$f":"'Computo-Massimali'!R14","v":30000},"ok",null,{"$f":"IF(L14<R14,L14,R14)","v":0},null,{"$f":"IF(L14>R14,L14-R14,0)","v":0},null,{"$f":"IF(M14<>0,J14*M14/L14,0)","v":0},null,{"$f":"IF(M14<>0,K14*M14/L14,0)","v":0}]
[null,null,{"$f":"'Computo-Massimali'!C15","v":"SismaBonus"},null,null,0,{"$f":"IF('Computo-Massimali'!F15<>0,'Computo-Massimali'!G15*F15/'Computo-Massimali'!F15,0)","v":0},{"$f":"SUM(F15:G15)","v":0},{"$f":"F15*'Dati Gen'!$J$20+G15*'Dati Gen'!$J$19","v":0},{"$f":"H15+I15","v":0},{"$f":"IF('Computo-Massimali'!F15<>0,'Computo-Massimali'!K15*F15/'Computo-Massimali'!F15,0)","v":0},{"$f":"SUM(J15:K15)","v":0},0,{"$f":"IF('Computo-Massimali'!L15>0,L15/'Computo-Massimali'!L15,0)","v":0},null,null,"SismaBonus",{"$f":"'Computo-Massimali'!R15","v":95999.999999999985},"ok",null,{"$f":"IF(L15<R15,L15,R15)","v":0},null,{"$f":"IF(L15>R15,L15-R15,0)","v":0},null,{"$f":"IF(M15<>0,J15*M15/L15,0)","v":0},null,{"$f":"IF(M15<>0,K15*M15/L15,0)","v":0}]
[null,null,{"$f":"'Computo-Massimali'!C16","v":"Totale interventi Trainanti  : "},null,null,{"$f":"SUM(F13:F15)","v":0},{"$f":"SUM(G13:G15)","v":0},0,0,0,0,0,{"$f":"SUM(M13:M15)","v":0},{"$f":"IF('Computo-Massimali'!L16>0,L16/'Computo-Massimali'!L16,0)","v":0},null,null,null,{"$f":"C16","v":"Totale interventi Trainanti  : "},null,null,{"$f":"SUM(U13:V15)","v":0},null,{"$f":"SUM(W13:X15)","v":0},null,{"$f":"SUM(Y13:Z15)","v":0},null,{"$f":"SUM(AA13:AB15)","v":0}]
[]
[null,null,"INTERVENTI TRAINATI PARTI COMUNI CONDOMINIALI",null,null,null,null,null,null,null,null,null,null,null,null,null,{"$f":"CONCATENATE(\"Verifica Massimali di Spesa \",C18)","v":"Verifica Massimali di Spesa INTERVENTI TRAINATI PARTI COMUNI CONDOMINIALI"}]
[null,null,"  Interventi",null,null,"Importo Lavori","Incidenza Sicurezza","Imponibile","Iva","Importo c.iva","Spese tecniche","Totale","Detrazione Spettante","%SAL",null,null,null,"Massimale  spesa","Verifica Max",null,"Spesa Ammessa",null,"Quota Eccedente Massimale Spesa ",null,"Cessione Credito"]
[null,null,{"$f":"'Computo-Massimali'!C20","v":"PV) Isolamento pareti perimetrali"},null,{"$f":"'Computo-Massimali'!E20","v":"Esterno"},0,{"$f":"IF('Computo-Massimali'!F20<>0,'Computo-Massimali'!G20*F20/'Computo-Massimali'!F20,0)","v":0},{"$f":"SUM(F20:G20)","v":0},{"$f":"F20*'Dati Gen'!$J$20+G20*'Dati Gen'!$J$19","v":0},{"$f":"H20+I20","v":0},{"$f":"IF('Computo-Massimali'!F20<>0,'Computo-Massimali'!K20*F20/'Computo-Massimali'!F20,0)","v":0},{"$f":"SUM(J20:K20)","v":0},{"$f":"IF(L20<=R20,L20*1.1,R20*1.1)","v":0},{"$f":"IF('Computo-Massimali'!L20>0,L20/'Computo-Massimali'!L20,0)","v":0},null,null,{"$f":"C20","v":"PV) Isolamento pareti perimetrali"},{"$f":"'Computo-Massimali'!R20","v":50000},{"$f":"IF(L20>M20,\"KO Tot.>Detr.\",IF(L20>R20,\"ok< Tot.>Max.\",\"ok\"))","v":"ok"},null,{"$f":"IF($L$24<>0,(L20/$L$24)*$U$24,0)","v":0},null,null,null,"Quota Impresa",null,"Quota Tecnici"]
[null,null,{"$f":"'Computo-Massimali'!C21","v":"PO) Isolamento coperture"},null,{"$f":"'Computo-Massimali'!E21","v":"Esterno"},0,{"$f":"IF('Computo-Massimali'!F21<>0,'Computo-Massimali'!G21*F21/'Computo-Massimali'!F21,0)","v":0},{"$f":"SUM(F21:G21)","v":0},{"$f":"F21*'Dati Gen'!$J$20+G21*'Dati Gen'!$J$19","v":0},{"$f":"H21+I21","v":0},{"$f":"IF('Computo-Massimali'!F21<>0,'Computo-Massimali'!K21*F21/'Computo-Massimali'!F21,0)","v":0},{"$f":"SUM(J21:K21)","v":0},{"$f":"IF(L21<=R21,L21*1.1,R21*1.1)","v":0},{"$f":"IF('Computo-Massimali'!L21>0,L21/'Computo-Massimali'!L21,0)","v":0},null,null,"PO) Isolamento coperture",{"$f":"'Computo-Massimali'!R21","v":50000},"ok",null,{"$f":"IF($L$24<>0,(L21/$L$24)*$U$24,0)","v":0}]
[null,null,{"$f":"'Computo-Massimali'!C22","v":"PS) Isolamento Pavimenti"},null,{"$f":"'Computo-Massimali'!E22","v":"Esterno"},0,{"$f":"IF('Computo-Massimali'!F22<>0,'Computo-Massimali'!G22*F22/'Computo-Massimali'!F22,0)","v":0},{"$f":"SUM(F22:G22)","v":0},{"$f":"F22*'Dati Gen'!$J$20+G22*'Dati Gen'!$J$19","v":0},{"$f":"H22+I22","v":0},{"$f":"IF('Computo-Massimali'!F22<>0,'Computo-Massimali'!K22*F22/'Computo-Massimali'!F22,0)","v":0},{"$f":"SUM(J22:K22)","v":0},{"$f":"IF(L22<=R22,L22*1.1,R22*1.1)","v":0},{"$f":"IF('Computo-Massimali'!L22>0,L22/'Computo-Massimali'!L22,0)","v":0},null,null,"PS) Isolamento Pavimenti",{"$f":"'Computo-Massimali'!R22","v":50000},"ok",null,{"$f":"IF($L$24<>0,(L22/$L$24)*$U$24,0)","v":0}]
[null,null,{"$f":"'Computo-Massimali'!C23","v":"IN) Serramenti con chiusure oscuranti"},null,{"$f":"'Computo-Massimali'!E23","v":"Zone D, E ed F"},0,{"$f":"IF('Computo-Massimali'!F23<>0,'Computo-Massimali'!G23*F23/'Computo-Massimali'!F23,0)","v":0},{"$f":"SUM(F23:G23)","v":0},{"$f":"F23*'Dati Gen'!$J$20+G23*'Dati Gen'!$J$19","v":0},{"$f":"H23+I23","v":0},{"$f":"IF('Computo-Massimali'!F23<>0,'Computo-Massimali'!K23*F23/'Computo-Massimali'!F23,0)","v":0},{"$f":"SUM(J23:K23)","v":0},{"$f":"IF(L23<=R23,L23*1.1,R23*1.1)","v":0},{"$f":"IF('Computo-Massimali'!L23>0,L23/'Computo-Massimali'!L23,0)","v":0},null,null,"IN) Serramenti con chiusure oscuranti",{"$f":"'Computo-Massimali'!R23","v":54545},"ok",null,{"$f":"IF($L$24<>0,(L23/$L$24)*$U$24,0)","v":0}]
[null,null,{"$f":"'Computo-Massimali'!C24","v":"Totali Isolamenti e Serramenti "},null,null,{"$f":"SUM(F20:F23)","v":0},{"$f":"SUM(G20:G23)","v":0},0,0,0,{"$f":"SUM(K20:K23)","v":0},{"$f":"SUM(L20:L23)","v":0},{"$f":"SUM(M20:M23)","v":0},{"$f":"IF('Computo-Massimali'!L24>0,L24/'Computo-Massimali'!L24,0)","v":0},null,null,"Totali Isolamenti e Serramenti ",{"$f":"'Computo-Massimali'!R24","v":54545},"ok",null,{"$f":"IF(L24<R24,L24,R24)","v":0},null,{"$f":"IF(L24>R24,L24-R24,0)","v":0},null,{"$f":"IF(M24<>0,J24*M24/L24,0)","v":0},null,{"$f":"IF(M24<>0,K24*M24/L24,0)","v":0}]
[null,null,{"$f":"'Computo-Massimali'!C25","v":"SS) Schermature solari e chiusure oscur."},null,null,0,{"$f":"IF('Computo-Massimali'!F25<>0,'Computo-Massimali'!G25*F25/'Computo-Massimali'!F25,0)","v":0},{"$f":"SUM(F25:G25)","v":0},{"$f":"F25*'Dati Gen'!$J$20+G25*'Dati Gen'!$J$19","v":0},0,{"$f":"IF('Computo-Massimali'!F25<>0,'Computo-Massimali'!K25*F25/'Computo-Massimali'!F25,0)","v":0},{"$f":"SUM(J25:K25)","v":0},{"$f":"IF(L25<=R25,L25*1.1,R25*1.1)","v":0},{"$f":"IF('Computo-Massimali'!L25>0,L25/'Computo-Massimali'!L25,0)","v":0},null,null,"SS) Schermature solari e chiusure oscur.",{"$f":"'Computo-Massimali'!R25","v":54545},"ok",null,{"$f":"IF(L25<R25,L25,R25)","v":0},null,{"$f":"IF(L25>R25,L25-R25,0)","v":0},null,{"$f":"IF(M25<>0,J25*M25/L25,0)","v":0},null,{"$f":"IF(M25<>0,K25*M25/L25,0)","v":0}]
[null,null,{"$f":"'Computo-Massimali'!C26","v":"Impianti climatizzazione con CC) PC) PCA) o SI)"},null,null,0,{"$f":"IF('Computo-Massimali'!F26<>0,'Computo-Massimali'!G26*F26/'Computo-Massimali'!F26,0)","v":0},{"$f":"SUM(F26:G26)","v":0},{"$f":"F26*'Dati Gen'!$J$20+G26*'Dati Gen'!$J$19","v":0},0,{"$f":"IF('Computo-Massimali'!F26<>0,'Computo-Massimali'!K26*F26/'Computo-Massimali'!F26,0)","v":0},0,{"$f":"IF(L26<=R26,L26*1.1,R26*1.1)","v":0},{"$f":"IF('Computo-Massimali'!L26>0,L26/'Computo-Massimali'!L26,0)","v":0},null,null,"Impianti climatizzazione con CC) PC) PCA) o SI)",{"$f":"'Computo-Massimali'!R26","v":27272},"ok",null,{"$f":"IF(L26<R26,L26,R26)","v":0},null,{"$f":"IF(L26>R26,L26-R26,0)","v":0},null,{"$f":"IF(M26<>0,J26*M26/L26,0)","v":0},null,{"$f":"IF(M26<>0,K26*M26/L26,0)","v":0}]
[null,null,{"$f":"'Computo-Massimali'!C27","v":"GA) Generatori aria calda Condensazione"},null,null,0,{"$f":"IF('Computo-Massimali'!F27<>0,'Computo-Massimali'!G27*F27/'Computo-Massimali'!F27,0)","v":0},{"$f":"SUM(F27:G27)","v":0},{"$f":"F27*'Dati Gen'!$J$20+G27*'Dati Gen'!$J$19","v":0},0,{"$f":"IF('Computo-Massimali'!F27<>0,'Computo-Massimali'!K27*F27/'Computo-Massimali'!F27,0)","v":0},0,{"$f":"IF(L27<=R27,L27*1.1,R27*1.1)","v":0},{"$f":"IF('Computo-Massimali'!L27>0,L27/'Computo-Massimali'!L27,0)","v":0},null,null,"GA) Generatori aria calda Condensazione",{"$f":"'Computo-Massimali'!R27","v":27272},"ok",null,{"$f":"IF($L$30<>0,(L27/$L$30)*$U$30,0)","v":0},null,null,null,"Quota Impresa",null,"Quota Tecnici"]
[null,null,{"$f":"'Computo-Massimali'!C28","v":"IB) Impianti Biomassa"},null,null,0,{"$f":"IF('Computo-Massimali'!F28<>0,'Computo-Massimali'!G28*F28/'Computo-Massimali'!F28,0)","v":0},{"$f":"SUM(F28:G28)","v":0},{"$f":"F28*'Dati Gen'!$J$20+G28*'Dati Gen'!$J$19","v":0},0,{"$f":"IF('Computo-Massimali'!F28<>0,'Computo-Massimali'!K28*F28/'Computo-Massimali'!F28,0)","v":0},0,{"$f":"IF(L28<=R28,L28*1.1,R28*1.1)","v":0},{"$f":"IF('Computo-Massimali'!L28>0,L28/'Computo-Massimali'!L28,0)","v":0},null,null,"IB) Impianti Biomassa",{"$f":"'Computo-Massimali'!R28","v":27272},"ok",null,{"$f":"IF($L$30<>0,(L28/$L$30)*$U$30,0)","v":0}]
[null,null,{"$f":"'Computo-Massimali'!C29","v":"SA) Scaldacqua a pompa di calore"},null,null,0,{"$f":"IF('Computo-Massimali'!F29<>0,'Computo-Massimali'!G29*F29/'Computo-Massimali'!F29,0)","v":0},{"$f":"SUM(F29:G29)","v":0},{"$f":"F29*'Dati Gen'!$J$20+G29*'Dati Gen'!$J$19","v":0},0,{"$f":"IF('Computo-Massimali'!F29<>0,'Computo-Massimali'!K29*F29/'Computo-Massimali'!F29,0)","v":0},0,{"$f":"IF(L29<=R29,L29*1.1,R29*1.1)","v":0},{"$f":"IF('Computo-Massimali'!L29>0,L29/'Computo-Massimali'!L29,0)","v":0},null,null,"SA) Scaldacqua a pompa di calore",{"$f":"'Computo-Massimali'!R29","v":27272},"ok",null,{"$f":"IF($L$30<>0,(L29/$L$30)*$U$30,0)","v":0}]
[null,null,{"$f":"'Computo-Massimali'!C30","v":"Totali GA)  IB)  SA)"},null,null,{"$f":"SUM(F27:F29)","v":0},{"$f":"SUM(G27:G29)","v":0},0,0,0,{"$f":"SUM(K27:K29)","v":0},{"$f":"SUM(L27:L29)","v":0},0,{"$f":"IF('Computo-Massimali'!L30>0,L30/'Computo-Massimali'!L30,0)","v":0},null,null,"Totali GA)  IB)  SA)",{"$f":"'Computo-Massimali'!R30","v":27272},"ok",null,{"$f":"IF(L30<R30,L30,R30)","v":0}]
[null,null,{"$f":"'Computo-Massimali'!C31","v":"CO) Sistemi di Microgenerazione"},null,null,0,{"$f":"IF('Computo-Massimali'!F31<>0,'Computo-Massimali'!G31*F31/'Computo-Massimali'!F31,0)","v":0},{"$f":"SUM(F31:G31)","v":0},{"$f":"F31*'Dati Gen'!$J$20+G31*'Dati Gen'!$J$19","v":0},{"$f":"H31+I31","v":0},{"$f":"IF('Computo-Massimali'!F31<>0,'Computo-Massimali'!K31*F31/'Computo-Massimali'!F31,0)","v":0},{"$f":"SUM(J31:K31)","v":0},{"$f":"IF(L31<=R31,L31*1.1,R31*1.1)","v":0},{"$f":"IF('Computo-Massimali'!L31>0,L31/'Computo-Massimali'!L31,0)","v":0},null,null,"CO) Sistemi di Microgenerazione",{"$f":"'Computo-Massimali'!R31","v":90909},"ok",null,0,null,{"$f":"IF(L31>R31,L31-R31,0)","v":0},null,{"$f":"IF(M31<>0,J31*M31/L31,0)","v":0},null,{"$f":"IF(M31<>0,K31*M31/L31,0)","v":0}]
[null,null,{"$f":"'Computo-Massimali'!C32","v":"ST) Collettori Solari"},null,{"$f":"'Computo-Massimali'!E32","v":"Piani Vetrati"},0,{"$f":"IF('Computo-Massimali'!F32<>0,'Computo-Massimali'!G32*F32/'Computo-Massimali'!F32,0)","v":0},0,{"$f":"F32*'Dati Gen'!$J$20+G32*'Dati Gen'!$J$19","v":0},{"$f":"H32+I32","v":0},{"$f":"IF('Computo-Massimali'!F32<>0,'Computo-Massimali'!K32*F32/'Computo-Massimali'!F32,0)","v":0},{"$f":"SUM(J32:K32)","v":0},0,{"$f":"IF('Computo-Massimali'!L32>0,L32/'Computo-Massimali'!L32,0)","v":0},null,null,"ST) Collettori Solari",{"$f":"'Computo-Massimali'!R32","v":54545},"ok",null,0,null,0,null,0,null,0]
[null,null,{"$f":"'Computo-Massimali'!C33","v":"FV) Solare Fotovoltaico ristr.         kWp"},null,{"$f":"'Computo-Massimali'!E33","v":6},0,{"$f":"IF('Computo-Massimali'!F33<>0,'Computo-Massimali'!G33*F33/'Computo-Massimali'!F33,0)","v":0},0,{"$f":"F33*'Dati Gen'!$J$20+G33*'Dati Gen'!$J$19","v":0},{"$f":"H33+I33","v":0},{"$f":"IF('Computo-Massimali'!F33<>0,'Computo-Massimali'!K33*F33/'Computo-Massimali'!F33,0)","v":0},{"$f":"SUM(J33:K33)","v":0},0,{"$f":"IF('Computo-Massimali'!L33>0,L33/'Computo-Massimali'!L33,0)","v":0},null,null,"FV) Solare Fotovoltaico ristr.         kWp",{"$f":"'Computo-Massimali'!R33","v":9600},"ok",null,0,null,0,null,0,null,0]
[null,null,{"$f":"'Computo-Massimali'!C34","v":"AC) Sistema di Accumulo                kWh"},null,{"$f":"'Computo-Massimali'!E34","v":10},0,{"$f":"IF('Computo-Massimali'!F34<>0,'Computo-Massimali'!G34*F34/'Computo-Massimali'!F34,0)","v":0},0,{"$f":"F34*'Dati Gen'!$J$20+G34*'Dati Gen'!$J$19","v":0},{"$f":"H34+I34","v":0},{"$f":"IF('Computo-Massimali'!F34<>0,'Computo-Massimali'!K34*F34/'Computo-Massimali'!F34,0)","v":0},{"$f":"SUM(J34:K34)","v":0},0,{"$f":"IF('Computo-Massimali'!L34>0,L34/'Computo-Massimali'!L34,0)","v":0},null,null,"AC) Sistema di Accumulo                kWh",{"$f":"'Computo-Massimali'!R34","v":10000},"ok",null,0,null,0,null,0,null,0]
[null,null,{"$f":"'Computo-Massimali'!C35","v":"CR) Colonnine di Ricarica                   N."},null,null,0,{"$f":"IF('Computo-Massimali'!F35<>0,'Computo-Massimali'!G35*F35/'Computo-Massimali'!F35,0)","v":0},0,{"$f":"F35*'Dati Gen'!$J$20+G35*'Dati Gen'!$J$19","v":0},0,{"$f":"IF('Computo-Massimali'!F35<>0,'Computo-Massimali'!K35*F35/'Computo-Massimali'!F35,0)","v":0},0,0,{"$f":"IF('Computo-Massimali'!L35>0,L35/'Computo-Massimali'!L35,0)","v":0},null,null,"CR) Colonnine di Ricarica                   N.",{"$f":"'Computo-Massimali'!R35","v":1500},"ok",null,0,null,0,null,0,null,0]
[null,null,{"$f":"'Computo-Massimali'!C36","v":"EBA) Eliminazione Barriere architettoniche"},null,null,0,{"$f":"IF('Computo-Massimali'!F36<>0,'Computo-Massimali'!G36*F36/'Computo-Massimali'!F36,0)","v":0},0,{"$f":"F36*'Dati Gen'!$J$20+G36*'Dati Gen'!$J$19","v":0},0,{"$f":"IF('Computo-Massimali'!F36<>0,'Computo-Massimali'!K36*F36/'Computo-Massimali'!F36,0)","v":0},0,0,{"$f":"IF('Computo-Massimali'!L36>0,L36/'Computo-Massimali'!L36,0)","v":0},null,null,"EBA) Eliminazione Barriere architettoniche",{"$f":"'Computo-Massimali'!R36","v":96000},"ok",null,0,null,0,null,0,null,0]
[null,null,{"$f":"'Computo-Massimali'!C37","v":"Totale Interventi Trainati Parti Comuni: "},null,null,{"$f":"SUM(F24:F26)+SUM(F30:F36)","v":0},{"$f":"SUM(G24:G26)+SUM(G30:G36)","v":0},0,0,0,0,{"$f":"SUM(L24:L26)+SUM(L30:L36)","v":0},0,{"$f":"IF('Computo-Massimali'!L37>0,L37/'Computo-Massimali'!L37,0)","v":0},null,null,null,{"$f":"C37","v":"Totale Interventi Trainati Parti Comuni: "},null,null,{"$f":"SUM(U24:V36)","v":0},null,{"$f":"SUM(W24:X36)","v":0},null,{"$f":"SUM(Y23:Z36)","v":0},null,{"$f":"SUM(AA24:AB36)","v":0}]
[]
[]
[null,null,"INTERVENTI TRAINATI",null,null,null,null,null,null,null,null,null,null,null,null,null,{"$f":"CONCATENATE(\"Verifica Massimali di Spesa \",C40)","v":"Verifica Massimali di Spesa INTERVENTI TRAINATI"}]
[null,null,"  Interventi",null,null,"Importo Lavori","Incidenza Sicurezza","Imponibile","Iva","Importo c.iva","Spese tecniche","Totale","Detrazione Spettante","%SAL",null,null,null,"Massimale  spesa","Verifica Max",null,"Spesa Ammessa",null,"Quota Eccedente Massimale Spesa ",null,"Cessione Credito"]
[null,null,{"$f":"'Computo-Massimali'!C42:D42","v":"PV) Isolamento pareti perimetrali"},null,{"$f":"'Computo-Massimali'!E42","v":"Esterno"},0,0,{"$f":"SUM(F42:G42)","v":0},{"$f":"F42*'Dati Gen'!$J$20+G42*'Dati Gen'!$J$19","v":0},{"$f":"H42+I42","v":0},{"$f":"IF('Computo-Massimali'!F42<>0,'Computo-Massimali'!K42*F42/'Computo-Massimali'!F42,0)","v":0},{"$f":"SUM(J42:K42)","v":0},{"$f":"IF(L42<=R42,L42*1.1,R42*1.1)","v":0},{"$f":"IF('Computo-Massimali'!L42>0,L42/'Computo-Massimali'!L42,0)","v":0},null,null,{"$f":"C42","v":"PV) Isolamento pareti perimetrali"},{"$f":"'Computo-Massimali'!R42","v":54545},{"$f":"IF(L42>M42,\"KO Tot.>Detr.\",IF(L42>R42,\"ok< Tot.>Max.\",\"ok\"))","v":"ok"},null,{"$f":"IF($L$46<>0,(L42/$L$46)*$U$46,0)","v":0},null,null,null,"Quota Impresa",null,"Quota Tecnici"]
[null,null,{"$f":"'Computo-Massimali'!C43:D43","v":"PO) Isolamento coperture"},null,"Esterno",0,0,{"$f":"SUM(F43:G43)","v":0},{"$f":"F43*'Dati Gen'!$J$20+G43*'Dati Gen'!$J$19","v":0},{"$f":"H43+I43","v":0},{"$f":"IF('Computo-Massimali'!F43<>0,'Computo-Massimali'!K43*F43/'Computo-Massimali'!F43,0)","v":0},{"$f":"SUM(J43:K43)","v":0},{"$f":"IF(L43<=R43,L43*1.1,R43*1.1)","v":0},{"$f":"IF('Computo-Massimali'!L43>0,L43/'Computo-Massimali'!L43,0)","v":0},null,null,"PO) Isolamento coperture",{"$f":"'Computo-Massimali'!R43","v":54545},"ok",null,{"$f":"IF($L$46<>0,(L43/$L$46)*$U$46,0)","v":0}]
[null,null,{"$f":"'Computo-Massimali'!C44:D44","v":"PS) Isolamento Pavimenti"},null,"Esterno",0,0,{"$f":"SUM(F44:G44)","v":0},{"$f":"F44*'Dati Gen'!$J$20+G44*'Dati Gen'!$J$19","v":0},{"$f":"H44+I44","v":0},{"$f":"IF('Computo-Massimali'!F44<>0,'Computo-Massimali'!K44*F44/'Computo-Massimali'!F44,0)","v":0},{"$f":"SUM(J44:K44)","v":0},{"$f":"IF(L44<=R44,L44*1.1,R44*1.1)","v":0},{"$f":"IF('Computo-Massimali'!L44>0,L44/'Computo-Massimali'!L44,0)","v":0},null,null,"PS) Isolamento Pavimenti",{"$f":"'Computo-Massimali'!R44","v":54545},"ok",null,{"$f":"IF($L$46<>0,(L44/$L$46)*$U$46,0)","v":0}]
[null,null,{"$f":"'Computo-Massimali'!C45:D45","v":"IN) Serramenti con chiusure oscuranti"},null,"Zone D, E ed F",0,0,{"$f":"SUM(F45:G45)","v":0},{"$f":"F45*'Dati Gen'!$J$20+G45*'Dati Gen'!$J$19","v":0},{"$f":"H45+I45","v":0},{"$f":"IF('Computo-Massimali'!F45<>0,'Computo-Massimali'!K45*F45/'Computo-Massimali'!F45,0)","v":0},{"$f":"SUM(J45:K45)","v":0},{"$f":"IF(L45<=R45,L45*1.1,R45*1.1)","v":0},{"$f":"IF('Computo-Massimali'!L45>0,L45/'Computo-Massimali'!L45,0)","v":0},null,null,"IN) Serramenti con chiusure oscuranti",{"$f":"'Computo-Massimali'!R45","v":54545},"ok",null,{"$f":"IF($L$46<>0,(L45/$L$46)*$U$46,0)","v":0}]
[null,null,{"$f":"'Computo-Massimali'!C46:D46","v":"Totali Isolamenti e Serramenti "},null,null,{"$f":"SUM(F42:F45)","v":0},{"$f":"SUM(G42:G45)","v":0},0,0,0,{"$f":"SUM(K42:K45)","v":0},0,0,{"$f":"IF('Computo-Massimali'!L46>0,L46/'Computo-Massimali'!L46,0)","v":0},null,null,"Totali Isolamenti e Serramenti ",{"$f":"'Computo-Massimali'!R46","v":54545},"ok",null,{"$f":"IF(L46<R46,L46,R46)","v":0},null,{"$f":"IF(L46>R46,L46-R46,0)","v":0},null,{"$f":"IF(M46<>0,J46*M46/L46,0)","v":0},null,{"$f":"IF(M46<>0,K46*M46/L46,0)","v":0}]
[null,null,{"$f":"'Computo-Massimali'!C47:D47","v":"SS) Schermature solari e chiusure oscur."},null,null,0,0,{"$f":"SUM(F47:G47)","v":0},{"$f":"F47*'Dati Gen'!$J$20+G47*'Dati Gen'!$J$19","v":0},{"$f":"H47+I47","v":0},{"$f":"IF('Computo-Massimali'!F47<>0,'Computo-Massimali'!K47*F47/'Computo-Massimali'!F47,0)","v":0},{"$f":"SUM(J47:K47)","v":0},{"$f":"IF(L47<=R47,L47*1.1,R47*1.1)","v":0},{"$f":"IF('Computo-Massimali'!L47>0,L47/'Computo-Massimali'!L47,0)","v":0},null,null,"SS) Schermature solari e chiusure oscur.",{"$f":"'Computo-Massimali'!R47","v":54545},"ok",null,{"$f":"IF(L47<R47,L47,R47)","v":0},null,{"$f":"IF(L47>R47,L47-R47,0)","v":0},null,{"$f":"IF(M47<>0,J47*M47/L47,0)","v":0},null,{"$f":"IF(M47<>0,K47*M47/L47,0)","v":0}]
[null,null,{"$f":"'Computo-Massimali'!C48:D48","v":"Impianti climatizzazione e ACS"},null,null,0,0,{"$f":"SUM(F48:G48)","v":0},{"$f":"F48*'Dati Gen'!$J$20+G48*'Dati Gen'!$J$19","v":0},{"$f":"H48+I48","v":0},{"$f":"IF('Computo-Massimali'!F48<>0,'Computo-Massimali'!K48*F48/'Computo-Massimali'!F48,0)","v":0},{"$f":"SUM(J48:K48)","v":0},{"$f":"IF(L48<=R48,L48*1.1,R48*1.1)","v":0},{"$f":"IF('Computo-Massimali'!L48>0,L48/'Computo-Massimali'!L48,0)","v":0},null,null,"Impianti climatizzazione e ACS",{"$f":"'Computo-Massimali'!R48","v":27272},"ok",null,{"$f":"IF($L$50<>0,(L48/$L$50)*$U$50,0)","v":0}]
[null,null,{"$f":"'Computo-Massimali'!C49:D49","v":"SA) Scaldacqua a pompa di calore"},null,null,0,0,{"$f":"SUM(F49:G49)","v":0},{"$f":"F49*'Dati Gen'!$J$20+G49*'Dati Gen'!$J$19","v":0},{"$f":"H49+I49","v":0},{"$f":"IF('Computo-Massimali'!F49<>0,'Computo-Massimali'!K49*F49/'Computo-Massimali'!F49,0)","v":0},{"$f":"SUM(J49:K49)","v":0},{"$f":"IF(L49<=R49,L49*1.1,R49*1.1)","v":0},{"$f":"IF('Computo-Massimali'!L49>0,L49/'Computo-Massimali'!L49,0)","v":0},null,null,"SA) Scaldacqua a pompa di calore",{"$f":"'Computo-Massimali'!R49","v":27272},"ok",null,{"$f":"IF($L$50<>0,(L49/$L$50)*$U$50,0)","v":0}]
[null,null,{"$f":"'Computo-Massimali'!C50:D50","v":"Totali Impianti ed  SA)"},null,null,{"$f":"SUM(F48:F49)","v":0},{"$f":"SUM(G48:G49)","v":0},0,0,0,{"$f":"SUM(K48:K49)","v":0},0,0,{"$f":"IF('Computo-Massimali'!L50>0,L50/'Computo-Massimali'!L50,0)","v":0},null,null,"Totali Impianti ed  SA)",{"$f":"'Computo-Massimali'!R50","v":27272},"ok",null,{"$f":"IF(L50<R50,L50,R50)","v":0},null,{"$f":"IF(L50>R50,L50-R50,0)","v":0},null,{"$f":"IF(M50<>0,J50*M50/L50,0)","v":0},null,{"$f":"IF(M50<>0,K50*M50/L50,0)","v":0}]
[null,null,{"$f":"'Computo-Massimali'!C51:D51","v":"CO) Sistemi di Microgenerazione"},null,null,0,0,{"$f":"SUM(F51:G51)","v":0},{"$f":"F51*'Dati Gen'!$J$20+G51*'Dati Gen'!$J$19","v":0},{"$f":"H51+I51","v":0},{"$f":"IF('Computo-Massimali'!F51<>0,'Computo-Massimali'!K51*F51/'Computo-Massimali'!F51,0)","v":0},{"$f":"SUM(J51:K51)","v":0},{"$f":"IF(L51<=R51,L51*1.1,R51*1.1)","v":0},{"$f":"IF('Computo-Massimali'!L51>0,L51/'Computo-Massimali'!L51,0)","v":0},null,null,"CO) Sistemi di Microgenerazione",{"$f":"'Computo-Massimali'!R51","v":90909},"ok",null,0,null,0,null,0,null,0]
[null,null,{"$f":"'Computo-Massimali'!C52:D52","v":"IB) Generatori a Biomassa"},null,null,0,0,0,{"$f":"F52*'Dati Gen'!$J$20+G52*'Dati Gen'!$J$19","v":0},0,{"$f":"IF('Computo-Massimali'!F52<>0,'Computo-Massimali'!K52*F52/'Computo-Massimali'!F52,0)","v":0},0,0,{"$f":"IF('Computo-Massimali'!L52>0,L52/'Computo-Massimali'!L52,0)","v":0},null,null,"IB) Generatori a Biomassa",{"$f":"'Computo-Massimali'!R52","v":27272},"ok",null,0,null,0,null,0,null,0]
[null,null,{"$f":"'Computo-Massimali'!C53:D53","v":"BA) Building Automation"},null,null,0,0,0,{"$f":"F53*'Dati Gen'!$J$20+G53*'Dati Gen'!$J$19","v":0},0,{"$f":"IF('Computo-Massimali'!F53<>0,'Computo-Massimali'!K53*F53/'Computo-Massimali'!F53,0)","v":0},0,0,{"$f":"IF('Computo-Massimali'!L53>0,L53/'Computo-Massimali'!L53,0)","v":0},null,null,"BA) Building Automation",{"$f":"'Computo-Massimali'!R53","v":13636.363636363636},"ok",null,0,null,0,null,0,null,0]
[null,null,{"$f":"'Computo-Massimali'!C54:D54","v":"ST) Collettori Solari"},null,"Piani Vetrati",0,0,0,{"$f":"F54*'Dati Gen'!$J$20+G54*'Dati Gen'!$J$19","v":0},0,{"$f":"IF('Computo-Massimali'!F54<>0,'Computo-Massimali'!K54*F54/'Computo-Massimali'!F54,0)","v":0},0,0,{"$f":"IF('Computo-Massimali'!L54>0,L54/'Computo-Massimali'!L54,0)","v":0},null,null,"ST) Collettori Solari",{"$f":"'Computo-Massimali'!R54","v":54545},"ok",null,0,null,0,null,0,null,0]
[null,null,{"$f":"'Computo-Massimali'!C55:D55","v":"FV) Solare Fotovoltaico                    kWp"},null,6,0,0,0,{"$f":"F55*'Dati Gen'!$J$20+G55*'Dati Gen'!$J$19","v":0},0,{"$f":"IF('Computo-Massimali'!F55<>0,'Computo-Massimali'!K55*F55/'Computo-Massimali'!F55,0)","v":0},0,0,{"$f":"IF('Computo-Massimali'!L55>0,L55/'Computo-Massimali'!L55,0)","v":0},null,null,"FV) Solare Fotovoltaico                    kWp",{"$f":"'Computo-Massimali'!R55","v":14400},"ok",null,0,null,0,null,0,null,0]
[null,null,{"$f":"'Computo-Massimali'!C56:D56","v":"AC) Sistema di Accumulo                  kWh"},null,10,0,0,0,{"$f":"F56*'Dati Gen'!$J$20+G56*'Dati Gen'!$J$19","v":0},0,{"$f":"IF('Computo-Massimali'!F56<>0,'Computo-Massimali'!K56*F56/'Computo-Massimali'!F56,0)","v":0},0,0,{"$f":"IF('Computo-Massimali'!L56>0,L56/'Computo-Massimali'!L56,0)","v":0},null,null,"AC) Sistema di Accumulo                  kWh",{"$f":"'Computo-Massimali'!R56","v":10000},"ok",null,0,null,0,null,0,null,0]
[null,null,{"$f":"'Computo-Massimali'!C57:D57","v":"CR) Colonnine di Ricarica"},null,null,0,0,0,{"$f":"F57*'Dati Gen'!$J$20+G57*'Dati Gen'!$J$19","v":0},0,{"$f":"IF('Computo-Massimali'!F57<>0,'Computo-Massimali'!K57*F57/'Computo-Massimali'!F57,0)","v":0},0,0,{"$f":"IF('Computo-Massimali'!L57>0,L57/'Computo-Massimali'!L57,0)","v":0},null,null,"CR) Colonnine di Ricarica",{"$f":"'Computo-Massimali'!R57","v":1500},"ok",null,0,null,0,null,0,null,0]
[null,null,"Totale Interventi trainati",null,null,{"$f":"F46+F47+SUM(F50:F57)","v":0},{"$f":"G46+G47+SUM(G50:G57)","v":0},{"$f":"H46+H47+SUM(H50:H57)","v":0},0,0,{"$f":"K46+K47+SUM(K50:K57)","v":0},{"$f":"L46+L47+SUM(L50:L57)","v":0},0,{"$f":"IF('Computo-Massimali'!L58>0,L58/'Computo-Massimali'!L58,0)","v":0},null,null,null,{"$f":"C58","v":"Totale Interventi trainati"},null,null,{"$f":"SUM(U46:V57)","v":0},null,{"$f":"SUM(W46:X57)","v":0},null,{"$f":"SUM(Y46:Z57)","v":0},null,{"$f":"SUM(AA46:AB57)","v":0}]
[]
[]
[]
[]
[]
[]
[]
[]
[]
[]
[]
[]
[]
[]
[]
[]
[]
[]
[]
[null,null,"SimMZ"]
[]
[null,null,"TOTALI SAL Finale - INTERVENTI 110 ",null,null,"Importo Lavori","Incidenza Sicurezza","Imponibile","Iva","Importo c.iva","Spese tecniche","Totale","Detrazione Spettante","%SAL",null,null,{"$f":"C80","v":"TOTALI SAL Finale - INTERVENTI 110 "},null,null,null,"Spesa Ammessa",null,"Quota Eccedente Massimale Spesa ",null,"Cessione Credito                               Quota Impresa         | Quota Tecnici"]
[null,null,null,null,null,{"$f":"F16+F58","v":0},0,0,0,0,0,0,0,{"$f":"IF('Computo-Massimali'!L81>0,L81/'Computo-Massimali'!L81,0)","v":0},null,null,null,null,null,null,{"$f":"U16+U37+U58","v":0},null,{"$f":"T16+T58","v":0},null,{"$f":"V16+V58","v":0},null,{"$f":"X16+X58","v":0}]
[]
[null,null,{"$f":"IF(N81>=99.999%,\"\",\"Attenzione!    SAL Superbonus 110 inferiore 100%\")","v":"Attenzione!    SAL Superbonus 110 inferiore 100%"}]
[]
[]
[]
[null,null,"ALTRI INTERVENTI",null,null,null,null,null,null,null,null,null,null,null,null,null,{"$f":"CONCATENATE(\"Verifica Massimali di Spesa \",C87)","v":"Verifica Massimali di Spesa ALTRI INTERVENTI"}]
[null,null,"  Interventi",null,null,"Importo Lavori","Incidenza Sicurezza","Imponibile","Iva","Importo c.iva","Spese tecniche","Totale","Detrazione Spettante","%SAL",null,null,null,"Massimale  spesa","Verifica Max",null,"Spesa Ammessa",null,"Quota Eccedente Massimale Spesa ",null,"Cessione Credito                               Quota Impresa         | Quota Tecnici"]
[null,null,{"$f":"IF('Computo-Massimali'!C89<>\"\",'Computo-Massimali'!C89,\"\")","v":"Lavori Ristrutturazione"},null,{"$f":"IF('Computo-Massimali'!E89<>0,'Computo-Massimali'!E89,\"\")","v":0.5},0,{"$f":"IF('Computo-Massimali'!F89<>0,'Computo-Massimali'!G89*F89/'Computo-Massimali'!F89,0)","v":0},{"$f":"SUM(F89:G89)","v":0},{"$f":"F89*'Dati Gen'!$J$20+G89*'Dati Gen'!$J$19","v":0},{"$f":"H89+I89","v":0},{"$f":"IF('Computo-Massimali'!F89<>0,'Computo-Massimali'!K89*F89/'Computo-Massimali'!F89,0)","v":0},{"$f":"SUM(J89:K89)","v":0},{"$f":"IF(L89<=R89,L89*E89,R89*E89)","v":0},{"$f":"IF('Computo-Massimali'!L89>0,L89/'Computo-Massimali'!L89,0)","v":0},null,null,{"$f":"IF(C89<>\"\",C89,\"\")","v":"Lavori Ristrutturazione"},{"$f":"96000*N_Uimm","v":96000},{"$f":"IF(R89<>0,IF(L89>R89,\"KO\",\"ok\"),\"ok\")","v":"ok"},null,{"$f":"IF(L89<R89,L89,R89)","v":0},null,{"$f":"IF(L89>R89,L89-R89,0)","v":0},null,{"$f":"IF(M89<>0,J89*M89/L89,0)","v":0},null,{"$f":"IF(M89<>0,K89*M89/L89,0)","v":0}]
[null,null,{"$f":"IF('Computo-Massimali'!C90<>\"\",'Computo-Massimali'!C90,\"\")","v":"Ecobonus"},null,{"$f":"IF('Computo-Massimali'!E90<>0,'Computo-Massimali'!E90,\"\")","v":0.65},0,{"$f":"IF('Computo-Massimali'!F90<>0,'Computo-Massimali'!G90*F90/'Computo-Massimali'!F90,0)","v":0},{"$f":"SUM(F90:G90)","v":0},{"$f":"F90*'Dati Gen'!$J$20+G90*'Dati Gen'!$J$19","v":0},{"$f":"H90+I90","v":0},{"$f":"IF('Computo-Massimali'!F90<>0,'Computo-Massimali'!K90*F90/'Computo-Massimali'!F90,0)","v":0},{"$f":"SUM(J90:K90)","v":0},{"$f":"IF(L90<=R90,L90*E90,R90*E90)","v":0},{"$f":"IF('Computo-Massimali'!L90>0,L90/'Computo-Massimali'!L90,0)","v":0},null,null,{"$f":"IF(C90<>\"\",C90,\"\")","v":"Ecobonus"},{"$f":"96000*N_Uimm","v":96000},{"$f":"IF(R90<>0,IF(L90>R90,\"KO\",\"ok\"),\"ok\")","v":"ok"},null,{"$f":"IF(L90<R90,L90,R90)","v":0},null,{"$f":"IF(L90>R90,L90-R90,0)","v":0},null,{"$f":"IF(M90<>0,J90*M90/L90,0)","v":0},null,{"$f":"IF(M90<>0,K90*M90/L90,0)","v":0}]
[null,null,{"$f":"IF('Computo-Massimali'!C91<>\"\",'Computo-Massimali'!C91,\"\")","v":"Bonus Facciata"},null,{"$f":"IF('Computo-Massimali'!E91<>0,'Computo-Massimali'!E91,\"\")","v":0.9},0,{"$f":"IF('Computo-Massimali'!F91<>0,'Computo-Massimali'!G91*F91/'Computo-Massimali'!F91,0)","v":0},{"$f":"SUM(F91:G91)","v":0},{"$f":"F91*'Dati Gen'!$J$20+G91*'Dati Gen'!$J$19","v":0},{"$f":"H91+I91","v":0},{"$f":"IF('Computo-Massimali'!F91<>0,'Computo-Massimali'!K91*F91/'Computo-Massimali'!F91,0)","v":0},{"$f":"SUM(J91:K91)","v":0},{"$f":"IF(L91<=R91,L91*E91,R91*E91)","v":0},{"$f":"IF('Computo-Massimali'!L91>0,L91/'Computo-Massimali'!L91,0)","v":0},null,null,{"$f":"IF(C91<>\"\",C91,\"\")","v":"Bonus Facciata"},{"$f":"96000*N_Uimm","v":96000},{"$f":"IF(R91<>0,IF(L91>R91,\"KO\",\"ok\"),\"ok\")","v":"ok"},null,{"$f":"IF(L91<R91,L91,R91)","v":0},null,{"$f":"IF(L91>R91,L91-R91,0)","v":0},null,{"$f":"IF(M91<>0,J91*M91/L91,0)","v":0},null,{"$f":"IF(M91<>0,K91*M91/L91,0)","v":0}]
[null,null,{"$f":"IF('Computo-Massimali'!C92<>\"\",'Computo-Massimali'!C92,\"\")","v":""},null,{"$f":"IF('Computo-Massimali'!E92<>0,'Computo-Massimali'!E92,\"\")","v":""},0,{"$f":"IF('Computo-Massimali'!F92<>0,'Computo-Massimali'!G92*F92/'Computo-Massimali'!F92,0)","v":0},0,0,0,{"$f":"IF('Computo-Massimali'!F92<>0,'Computo-Massimali'!K92*F92/'Computo-Massimali'!F92,0)","v":0},0,0,{"$f":"IF('Computo-Massimali'!L92>0,L92/'Computo-Massimali'!L92,0)","v":0},null,null,{"$f":"IF(C92<>\"\",C92,\"\")","v":""},{"$f":"96000*N_Uimm","v":96000},{"$f":"IF(R92<>0,IF(L92>R92,\"KO\",\"ok\"),\"ok\")","v":"ok"},null,{"$f":"IF(L92<R92,L92,R92)","v":0},null,{"$f":"IF(L92>R92,L92-R92,0)","v":0},null,{"$f":"IF(M92<>0,J92*M92/L92,0)","v":0},null,{"$f":"IF(M92<>0,K92*M92/L92,0)","v":0}]
[null,null,"TotalI SAL Finale - Altri Interventi  : ",null,null,{"$f":"SUM(F89:F92)","v":0},0,0,0,0,0,0,0,{"$f":"IF('Computo-Massimali'!L93>0,L93/'Computo-Massimali'!L93,0)","v":0},null,null,null,{"$f":"C93","v":"TotalI SAL Finale - Altri Interventi  : "},null,null,{"$f":"SUM(U89:V92)","v":0},null,{"$f":"SUM(W89:X92)","v":0},null,{"$f":"SUM(Y89:Z92)","v":0},null,{"$f":"SUM(AA89:AB92)","v":0}]
[]
[]
[null,null,null,null,null,"Importo Lavori Eseguiti","Incidenza Sicurezza","Imponibile","Iva","Importo c.iva","Spese tecniche","Totale","Detrazione Spettante","%SAL",null,null,{"$f":"C99","v":"TOTALI SAL. Finale del 20/12/2021 : "},null,null,null,"Spesa Ammessa",null,"Quota Eccedente Massimale Spesa ",null,"Cessione Credito                               Quota Impresa         | Quota Tecnici"]
[null,null,{"$f":"CONCATENATE(\"TOTALI SAL. N.1 del \",'SAL.30%'!C4, \" : \")","v":"TOTALI SAL. N.1 del 24/04/2021 : "},null,null,{"$f":"'SAL.30%'!F97","v":1000},{"$f":"'SAL.30%'!G97","v":0},{"$f":"'SAL.30%'!H97","v":1000},{"$f":"'SAL.30%'!I97","v":1},{"$f":"'SAL.30%'!J97","v":1100},{"$f":"'SAL.30%'!K97","v":0},{"$f":"'SAL.30%'!L97","v":1100},{"$f":"'SAL.30%'!M97","v":1210},{"$f":"'SAL.30%'!N97","v":0},null,null,null,null,null,null,{"$f":"U81+U93","v":0},null,{"$f":"W81+W93","v":0},null,{"$f":"Y81+Y93","v":0},null,{"$f":"AA81+AA93","v":0}]
[null,null,{"$f":"CONCATENATE(\"TOTALI SAL. N.2 del \",'SAL.60%'!C4, \" : \")","v":"TOTALI SAL. N.2 del 12/11/2021 : "},null,null,{"$f":"'SAL.60%'!F97","v":0},{"$f":"'SAL.60%'!G97","v":0},{"$f":"'SAL.60%'!H97","v":0},{"$f":"'SAL.60%'!I97","v":0},{"$f":"'SAL.60%'!J97","v":0},{"$f":"'SAL.60%'!K97","v":0},{"$f":"'SAL.60%'!L97","v":0},{"$f":"'SAL.60%'!M97","v":0},{"$f":"'SAL.60%'!N97","v":0}]
[null,null,{"$f":"CONCATENATE(\"TOTALI SAL. Finale del \",C4, \" : \")","v":"TOTALI SAL. Finale del 20/12/2021 : "},null,null,{"$f":"ImpLavFinale+F93","v":0},0,0,0,0,0,0,0,{"$f":"IF('Computo-Massimali'!L100>0,L99/'Computo-Massimali'!L100,0)","v":0}]
[]
[]
[null,null,{"$f":"IF(ABS(D5-G97)>0.01,\"Importo Effettivo Lavori Eseguiti\",\"\")","v":""},null,null,{"$f":"IF($C$102<>\"\",F97,\"\")","v":""},{"$f":"IF($C$102<>\"\",D5,\"\")","v":""},{"$f":"IF($C$102<>\"\",F102+G102,\"\")","v":""},{"$f":"IF($C$102<>\"\",H102*AliqIva,\"\")","v":""},{"$f":"IF($C$102<>\"\",H102+I102,\"\")","v":""},{"$f":"IF($C$102<>\"\",K97,\"\")","v":""},{"$f":"IF($C$102<>\"\",J102+K102,\"\")","v":""},{"$f":"IF($C$102<>\"\",L102*1.1,\"\")","v":""},{"$f":"IF($C$102<>\"\",L102/'Computo-Massimali'!L100,\"\")","v":""}]
[null,null,{"$f":"IF($C$102<>\"\",\"Oneri/Lavori Sicurezza non imputabili al SAL, per lavori non eseguiti\",\"\")","v":""},null,null,null,{"$f":"IF($C$103<>\"\",D5-G97,\"\")","v":""}]
[]
[]
[]
[]
[]
[]
[]
[]
[]
[]
[]
[]
[null,null,null,null,null,null,null,null,null,null,null,null,null,null,null,null,"Ripartizione Spese Tecniche SAL. Finale - INTERVENTI 110",null,null,null,null,null,null,null,null,null,null,null,"Applica Sconto in Fattura"]
[null,null,null,null,null,null,null,null,null,null,null,null,null,null,null,null,"Lavoro","Tecnico","Onorario",null,"C.Cassa",null,"Imponibile",null,"IVA",null,"Totale",null,null,null,null,{"$f":"'Dati Gen'!B44","v":"Ingegnere 1"},{"$f":"'Dati Gen'!B45","v":"Dott. Igor"},{"$f":"'Dati Gen'!B46","v":0},{"$f":"'Dati Gen'!B47","v":0},{"$f":"'Dati Gen'!B48","v":0},{"$f":"'Dati Gen'!B49","v":0},{"$f":"'Dati Gen'!B50","v":0},{"$f":"'Dati Gen'!B51","v":0}]
[null,null,null,null,null,null,null,null,null,null,null,null,null,null,null,null,{"$f":"IF('Dati Gen'!B25<>\"\",'Dati Gen'!B25,\"\")","v":"Incarico 1"},{"$f":"IF('Dati Gen'!C25<>\"\",'Dati Gen'!C25,\"\")","v":"Ingegnere 1"},{"$f":"W118/(1+U118)","v":0},null,{"$f":"'Dati Gen'!G25","v":0.04},{"$f":"S118*U118","v":0},{"$f":"AA118/(1+Y118)","v":0},null,0.22,{"$f":"Y118*(S118+V118)","v":0},{"$f":"IF('Dati Gen'!$M$36<>\"\",$AA$127*'Dati Gen'!M25/'Dati Gen'!$M$36,0)","v":0},null,{"$f":"IF(R118<>\"\",VLOOKUP('SAL.30%'!R118,'Dati Gen'!$B$44:$D$51,3,0),\"\")","v":"SI"},null,null,{"$f":"IF($R118=AF$117,$AA118,0)","v":0},{"$f":"IF($R118=AG$117,$AA118,0)","v":0},0,0,0,0,0,0,0]
[null,null,null,null,null,null,null,null,null,null,null,null,null,null,null,null,{"$f":"IF('Dati Gen'!B26<>\"\",'Dati Gen'!B26,\"\")","v":"Calcoli e Deposito G.C."},{"$f":"IF('Dati Gen'!C26<>\"\",'Dati Gen'!C26,\"\")","v":"Ingegnere 1"},{"$f":"W119/(1+U119)","v":0},null,{"$f":"'Dati Gen'!G26","v":0.04},{"$f":"S119*U119","v":0},{"$f":"AA119/(1+Y119)","v":0},null,0.22,{"$f":"(S119+V119)*Y119","v":0},{"$f":"IF('Dati Gen'!$M$36<>\"\",$AA$127*'Dati Gen'!M26/'Dati Gen'!$M$36,0)","v":0},null,{"$f":"IF(R119<>\"\",VLOOKUP('SAL.30%'!R119,'Dati Gen'!$B$44:$D$51,3,0),\"\")","v":"SI"},null,null,{"$f":"IF($R119=AF$117,$AA119,0)","v":0},0,0,0,0,0,0,0,0]
[null,null,null,null,null,null,null,null,null,null,null,null,null,null,null,null,{"$f":"IF('Dati Gen'!B27<>\"\",'Dati Gen'!B27,\"\")","v":"Congruità"},{"$f":"IF('Dati Gen'!C27<>\"\",'Dati Gen'!C27,\"\")","v":"Ingegnere 1"},0,null,{"$f":"'Dati Gen'!G27","v":0.04},{"$f":"S120*U120","v":0},0,null,0.22,{"$f":"(S120+V120)*Y120","v":0},{"$f":"IF('Dati Gen'!$M$36<>\"\",$AA$127*'Dati Gen'!M27/'Dati Gen'!$M$36,0)","v":0},null,{"$f":"IF(R120<>\"\",VLOOKUP('SAL.30%'!R120,'Dati Gen'!$B$44:$D$51,3,0),\"\")","v":"SI"},null,null,0,0,0,0,0,0,0,0,0]
[null,null,null,null,null,null,null,null,null,null,null,null,null,null,null,null,{"$f":"IF('Dati Gen'!B28<>\"\",'Dati Gen'!B28,\"\")","v":""},{"$f":"IF('Dati Gen'!C28<>\"\",'Dati Gen'!C28,\"\")","v":""},0,null,{"$f":"'Dati Gen'!G28","v":0.04},{"$f":"S121*U121","v":0},0,null,0.22,{"$f":"(S121+V121)*Y121","v":0},{"$f":"IF('Dati Gen'!$M$36<>\"\",$AA$127*'Dati Gen'!M28/'Dati Gen'!$M$36,0)","v":0},null,{"$f":"IF(R121<>\"\",VLOOKUP('SAL.30%'!R121,'Dati Gen'!$B$44:$D$51,3,0),\"\")","v":""},null,null,{"$f":"IF($R121=AF$117,$AA121,0)","v":0},0,0,0,0,0,0,0,0]
[null,null,null,null,null,null,null,null,null,null,null,null,null,null,null,null,{"$f":"IF('Dati Gen'!B29<>\"\",'Dati Gen'!B29,\"\")","v":""},{"$f":"IF('Dati Gen'!C29<>\"\",'Dati Gen'!C29,\"\")","v":""},0,null,{"$f":"'Dati Gen'!G29","v":0.04},{"$f":"T122*U122","v":0},0,null,0.22,{"$f":"(T122+V122)*Y122","v":0},{"$f":"IF('Dati Gen'!$M$36<>\"\",$AA$127*'Dati Gen'!M29/'Dati Gen'!$M$36,0)","v":0},null,{"$f":"IF(R122<>\"\",VLOOKUP('SAL.30%'!R122,'Dati Gen'!$B$44:$D$51,3,0),\"\")","v":""},null,null,0,0,0,0,0,0,0,0,0]
[null,null,null,null,null,null,null,null,null,null,null,null,null,null,null,null,{"$f":"IF('Dati Gen'!B30<>\"\",'Dati Gen'!B30,\"\")","v":""},{"$f":"IF('Dati Gen'!C30<>\"\",'Dati Gen'!C30,\"\")","v":""},0,null,{"$f":"'Dati Gen'!G30","v":0.04},{"$f":"T123*U123","v":0},0,null,0,{"$f":"(T123+V123)*Y123","v":0},{"$f":"IF('Dati Gen'!$M$36<>\"\",$AA$127*'Dati Gen'!M30/'Dati Gen'!$M$36,0)","v":0},null,{"$f":"IF(R123<>\"\",VLOOKUP('SAL.30%'!R123,'Dati Gen'!$B$44:$D$51,3,0),\"\")","v":""},null,null,0,0,0,0,0,0,0,0,0]
[null,null,null,null,null,null,null,null,null,null,null,null,null,null,null,null,{"$f":"IF('Dati Gen'!B31<>\"\",'Dati Gen'!B31,\"\")","v":""},{"$f":"IF('Dati Gen'!C31<>\"\",'Dati Gen'!C31,\"\")","v":""},0,null,{"$f":"'Dati Gen'!G31","v":0.04},{"$f":"T124*U124","v":0},0,null,0,{"$f":"(T124+V124)*Y124","v":0},{"$f":"IF('Dati Gen'!$M$36<>\"\",$AA$127*'Dati Gen'!M31/'Dati Gen'!$M$36,0)","v":0},null,{"$f":"IF(R124<>\"\",VLOOKUP('SAL.30%'!R124,'Dati Gen'!$B$44:$D$51,3,0),\"\")","v":""},null,null,0,0,0,0,0,0,0,0,0]
[null,null,null,null,null,null,null,null,null,null,null,null,null,null,null,null,{"$f":"IF('Dati Gen'!B32<>\"\",'Dati Gen'!B32,\"\")","v":""},{"$f":"IF('Dati Gen'!C32<>\"\",'Dati Gen'!C32,\"\")","v":""},0,null,{"$f":"'Dati Gen'!G32","v":0.04},{"$f":"T125*U125","v":0},0,null,0,{"$f":"(T125+V125)*Y125","v":0},{"$f":"IF('Dati Gen'!$M$36<>\"\",$AA$127*'Dati Gen'!M32/'Dati Gen'!$M$36,0)","v":0},null,{"$f":"IF(R125<>\"\",VLOOKUP('SAL.30%'!R125,'Dati Gen'!$B$44:$D$51,3,0),\"\")","v":""},null,null,0,0,0,0,0,0,0,0,0]
[null,null,null,null,null,null,null,null,null,null,null,null,null,null,null,null,{"$f":"IF('Dati Gen'!B35<>\"\",'Dati Gen'!B35,\"\")","v":"Visto Conformità"},{"$f":"IF('Dati Gen'!C35<>\"\",'Dati Gen'!C35,\"\")","v":"Dott. Igor"},0,null,{"$f":"'Dati Gen'!G35","v":0.04},{"$f":"S126*U126","v":0},0,null,0.22,{"$f":"(S126+V126)*Y126","v":0},{"$f":"IF('Dati Gen'!$M$36<>\"\",$AA$127*'Dati Gen'!M35/'Dati Gen'!$M$36,0)","v":0},null,{"$f":"IF(R126<>\"\",VLOOKUP('SAL.30%'!R126,'Dati Gen'!$B$44:$D$51,3,0),\"\")","v":"NO"},null,null,0,0,0,0,0,0,0,0,0]
[null,null,null,null,null,null,null,null,null,null,null,null,null,null,null,null,null,null,{"$f":"SUM(S118:T126)","v":0},null,{"$f":"SUM(V118:V126)","v":0},null,{"$f":"SUM(W118:X126)","v":0},null,null,{"$f":"SUM(Z118:Z126)","v":0},{"$f":"SpeseTecFinale","v":0},null,null,null,null,{"$f":"SUM(AF118:AF126)","v":0},{"$f":"SUM(AG118:AG126)","v":0},0,0,0,0,0,0,0,{"$f":"SUM(AF127:AN127)","v":0}]
[null,null,null,null,null,null,null,null,null,null,null,null,null,null,null,null,null,null,null,null,null,null,null,null,null,null,null,null,null,null,null,{"$f":"IF($AO$127<>0,AF127/$AO$127,0)","v":0},{"$f":"IF($AO$127<>0,AG127/$AO$127,0)","v":0},0,0,0,0,0,0,0]
[]
[null,null,null,null,null,null,null,null,null,null,null,null,null,null,null,null,"Ripartizione Spese Tecniche SAL. Finale1 - ALTRI INTERVENTI",null,null,null,null,null,null,null,null,null,null,null,"Applica Sconto in Fattura"]
[null,null,null,null,null,null,null,null,null,null,null,null,null,null,null,null,"Lavoro","Tecnico","Onorario",null,"C.Cassa",null,"Imponibile",null,"IVA",null,"Totale",null,null,null,null,{"$f":"AF117","v":"Ingegnere 1"},{"$f":"AG117","v":"Dott. Igor"},0,0,0,0,0,0]
[null,null,null,null,null,null,null,null,null,null,null,null,null,null,null,null,{"$f":"IF('Dati Gen'!B25<>\"\",'Dati Gen'!B25,\"\")","v":"Incarico 1"},{"$f":"IF('Dati Gen'!C25<>\"\",'Dati Gen'!C25,\"\")","v":"Ingegnere 1"},{"$f":"W132/(1+U132)","v":0},null,{"$f":"'Dati Gen'!G25","v":0.04},{"$f":"S132*U132","v":0},{"$f":"AA132/(1+Y132)","v":0},null,0.22,{"$f":"Y132*(S132+V132)","v":0},{"$f":"IF('Dati Gen'!$M$36<>\"\",$AA$141*'Dati Gen'!M25/'Dati Gen'!$M$36,0)","v":0},null,{"$f":"IF(R132<>\"\",VLOOKUP('SAL.30%'!R132,'Dati Gen'!$B$44:$D$51,3,0),\"\")","v":"SI"},null,null,{"$f":"IF($R132=AF$117,$AA132,0)","v":0},{"$f":"IF($R132=AG$117,$AA132,0)","v":0},0,0,0,0,0,0,0]
[null,null,null,null,null,null,null,null,null,null,null,null,null,null,null,null,{"$f":"IF('Dati Gen'!B26<>\"\",'Dati Gen'!B26,\"\")","v":"Calcoli e Deposito G.C."},{"$f":"IF('Dati Gen'!C26<>\"\",'Dati Gen'!C26,\"\")","v":"Ingegnere 1"},{"$f":"W133/(1+U133)","v":0},null,{"$f":"'Dati Gen'!G26","v":0.04},{"$f":"S133*U133","v":0},{"$f":"AA133/(1+Y133)","v":0},null,0.22,{"$f":"(S133+V133)*Y133","v":0},{"$f":"IF('Dati Gen'!$M$36<>\"\",$AA$141*'Dati Gen'!M26/'Dati Gen'!$M$36,0)","v":0},null,{"$f":"IF(R133<>\"\",VLOOKUP('SAL.30%'!R133,'Dati Gen'!$B$44:$D$51,3,0),\"\")","v":"SI"},null,null,{"$f":"IF($R133=AF$117,$AA133,0)","v":0},0,0,0,0,0,0,0,0]
[null,null,null,null,null,null,null,null,null,null,null,null,null,null,null,null,{"$f":"IF('Dati Gen'!B27<>\"\",'Dati Gen'!B27,\"\")","v":"Congruità"},{"$f":"IF('Dati Gen'!C27<>\"\",'Dati Gen'!C27,\"\")","v":"Ingegnere 1"},0,null,{"$f":"'Dati Gen'!G27","v":0.04},{"$f":"S134*U134","v":0},0,null,0.22,{"$f":"(S134+V134)*Y134","v":0},{"$f":"IF('Dati Gen'!$M$36<>\"\",$AA$141*'Dati Gen'!M27/'Dati Gen'!$M$36,0)","v":0},null,{"$f":"IF(R134<>\"\",VLOOKUP('SAL.30%'!R134,'Dati Gen'!$B$44:$D$51,3,0),\"\")","v":"SI"},null,null,0,0,0,0,0,0,0,0,0]
[null,null,null,null,null,null,null,null,null,null,null,null,null,null,null,null,{"$f":"IF('Dati Gen'!B28<>\"\",'Dati Gen'!B28,\"\")","v":""},{"$f":"IF('Dati Gen'!C28<>\"\",'Dati Gen'!C28,\"\")","v":""},0,null,{"$f":"'Dati Gen'!G28","v":0.04},{"$f":"S135*U135","v":0},0,null,0.22,{"$f":"(S135+V135)*Y135","v":0},{"$f":"IF('Dati Gen'!$M$36<>\"\",$AA$141*'Dati Gen'!M28/'Dati Gen'!$M$36,0)","v":0},null,{"$f":"IF(R135<>\"\",VLOOKUP('SAL.30%'!R135,'Dati Gen'!$B$44:$D$51,3,0),\"\")","v":""},null,null,0,0,0,0,0,0,0,0,0]
[null,null,null,null,null,null,null,null,null,null,null,null,null,null,null,null,{"$f":"IF('Dati Gen'!B29<>\"\",'Dati Gen'!B29,\"\")","v":""},{"$f":"IF('Dati Gen'!C29<>\"\",'Dati Gen'!C29,\"\")","v":""},0,null,{"$f":"'Dati Gen'!G29","v":0.04},{"$f":"T136*U136","v":0},0,null,0.22,{"$f":"(T136+V136)*Y136","v":0},{"$f":"IF('Dati Gen'!$M$36<>\"\",$AA$141*'Dati Gen'!M29/'Dati Gen'!$M$36,0)","v":0},null,{"$f":"IF(R136<>\"\",VLOOKUP('SAL.30%'!R136,'Dati Gen'!$B$44:$D$51,3,0),\"\")","v":""},null,null,0,0,0,0,0,0,0,0,0]
[null,null,null,null,null,null,null,null,null,null,null,null,null,null,null,null,{"$f":"IF('Dati Gen'!B30<>\"\",'Dati Gen'!B30,\"\")","v":""},{"$f":"IF('Dati Gen'!C30<>\"\",'Dati Gen'!C30,\"\")","v":""},0,null,{"$f":"'Dati Gen'!G30","v":0.04},{"$f":"T137*U137","v":0},0,null,0,{"$f":"(T137+V137)*Y137","v":0},{"$f":"IF('Dati Gen'!$M$36<>\"\",$AA$141*'Dati Gen'!M30/'Dati Gen'!$M$36,0)","v":0},null,{"$f":"IF(R137<>\"\",VLOOKUP('SAL.30%'!R137,'Dati Gen'!$B$44:$D$51,3,0),\"\")","v":""},null,null,0,0,0,0,0,0,0,0,0]
[null,null,null,null,null,null,null,null,null,null,null,null,null,null,null,null,{"$f":"IF('Dati Gen'!B31<>\"\",'Dati Gen'!B31,\"\")","v":""},{"$f":"IF('Dati Gen'!C31<>\"\",'Dati Gen'!C31,\"\")","v":""},0,null,{"$f":"'Dati Gen'!G31","v":0.04},{"$f":"T138*U138","v":0},0,null,0,{"$f":"(T138+V138)*Y138","v":0},{"$f":"IF('Dati Gen'!$M$36<>\"\",$AA$141*'Dati Gen'!M31/'Dati Gen'!$M$36,0)","v":0},null,{"$f":"IF(R138<>\"\",VLOOKUP('SAL.30%'!R138,'Dati Gen'!$B$44:$D$51,3,0),\"\")","v":""},null,null,0,0,0,0,0,0,0,0,0]
[null,null,null,null,null,null,null,null,null,null,null,null,null,null,null,null,{"$f":"IF('Dati Gen'!B32<>\"\",'Dati Gen'!B32,\"\")","v":""},{"$f":"IF('Dati Gen'!C32<>\"\",'Dati Gen'!C32,\"\")","v":""},0,null,{"$f":"'Dati Gen'!G32","v":0.04},{"$f":"T139*U139","v":0},0,null,0,{"$f":"(T139+V139)*Y139","v":0},{"$f":"IF('Dati Gen'!$M$36<>\"\",$AA$141*'Dati Gen'!M32/'Dati Gen'!$M$36,0)","v":0},null,{"$f":"IF(R139<>\"\",VLOOKUP('SAL.30%'!R139,'Dati Gen'!$B$44:$D$51,3,0),\"\")","v":""},null,null,0,0,0,0,0,0,0,0,0]
[null,null,null,null,null,null,null,null,null,null,null,null,null,null,null,null,{"$f":"IF('Dati Gen'!B35<>\"\",'Dati Gen'!B35,\"\")","v":"Visto Conformità"},{"$f":"IF('Dati Gen'!C35<>\"\",'Dati Gen'!C35,\"\")","v":"Dott. Igor"},0,null,{"$f":"'Dati Gen'!G35","v":0.04},{"$f":"S140*U140","v":0},0,null,0.22,{"$f":"(S140+V140)*Y140","v":0},{"$f":"IF('Dati Gen'!$M$36<>\"\",$AA$141*'Dati Gen'!M35/'Dati Gen'!$M$36,0)","v":0},null,{"$f":"IF(R140<>\"\",VLOOKUP('SAL.30%'!R140,'Dati Gen'!$B$44:$D$51,3,0),\"\")","v":"NO"},null,null,0,0,0,0,0,0,0,0,0]
[null,null,null,null,null,null,null,null,null,null,null,null,null,null,null,null,null,null,{"$f":"SUM(S132:T140)","v":0},null,{"$f":"SUM(V132:V140)","v":0},null,{"$f":"SUM(W132:X140)","v":0},null,null,{"$f":"SUM(Z132:Z140)","v":0},{"$f":"K93","v":0},null,null,null,null,{"$f":"SUM(AF132:AF140)","v":0},{"$f":"SUM(AG132:AG140)","v":0},0,0,0,0,0,0,0,{"$f":"SUM(AF141:AN141)","v":0}]
[null,null,null,null,null,null,null,null,null,null,null,null,null,null,null,null,null,null,null,null,null,null,null,null,null,null,null,null,null,null,null,{"$f":"IF($AO$141<>0,AF141/$AO$141,0)","v":0},{"$f":"IF($AO$141<>0,AG141/$AO$141,0)","v":0},0,0,0,0,0,0,0]

{"sheet":"Pratica ENEA","index":8,"n_rows":432,"n_cols":27,"rows_kept":432,"cut":false,"hidden":false,"merged":[[326,12,326,18],[140,1,145,4],[140,5,141,5],[140,6,141,6],[140,7,141,7],[140,8,140,11],[140,12,140,18],[252,1,252,4],[252,5,252,6],[252,7,252,8],[252,9,252,10],[249,1,249,8],[249,9,249,10],[250,1,250,4],[250,5,250,6],[250,7,250,8],[250,9,250,10],[251,1,251,4],[251,5,251,6],[251,7,251,8],[251,9,251,10],[324,1,324,5],[311,1,311,5],[313,1,313,5],[432,1,432,10],[147,1,147,8],[147,9,147,10],[148,1,148,8],[148,9,148,10],[149,1,149,8],[149,9,149,10],[150,1,150,4],[150,5,150,6],[150,7,150,8],[150,9,150,10],[151,1,151,4],[151,5,151,6],[151,7,151,8],[151,9,151,10],[152,1,152,4],[152,5,152,6],[152,7,152,8],[152,9,152,10],[153,1,153,8],[153,9,153,10],[159,1,159,5],[160,1,160,5],[161,1,161,5],[429,1,429,4],[429,5,429,6],[429,7,429,8],[429,9,429,10],[430,1,430,4],[430,5,430,6],[430,7,430,8],[430,9,430,10],[431,1,431,4],[431,5,431,6],[431,7,431,8],[431,9,431,10],[422,1,422,5],[423,1,423,5],[424,1,424,5],[425,1,425,10],[426,1,426,8],[426,9,426,10],[427,1,427,8],[427,9,427,10],[428,1,428,8],[428,9,428,10],[419,1,419,4],[419,5,419,6],[419,7,419,8],[419,9,419,10],[420,1,420,4],[420,5,420,6],[420,7,420,8],[420,9,420,10],[415,1,415,8],[415,9,415,10],[416,1,416,8],[416,9,416,10],[417,1,417,8],[417,9,417,10],[418,1,418,4],[418,5,418,6],[418,7,418,8],[418,9,418,10],[408,1,408,4],[408,5,408,6],[408,7,408,8],[408,9,408,10],[409,1,409,10],[411,1,411,5],[412,1,412,5],[413,1,413,5],[414,1,414,10],[404,1,404,8],[404,9,404,10],[405,1,405,8],[405,9,405,10],[406,1,406,4],[406,5,406,6],[406,7,406,8],[406,9,406,10],[407,1,407,4],[407,5,407,6],[407,7,407,8],[407,9,407,10],[397,1,397,10],[399,1,399,5],[399,6,399,7],[400,1,400,5],[400,6,400,7],[401,1,401,5],[401,6,401,7],[402,1,402,10],[403,1,403,8],[403,9,403,10],[394,1,394,4],[394,5,394,6],[394,7,394,8],[394,9,394,10],[395,1,395,4],[395,5,395,6],[395,7,395,8],[395,9,395,10],[396,1,396,8],[396,9,396,10],[388,1,388,5],[389,1,389,10],[390,1,390,8],[390,9,390,10],[391,1,391,8],[391,9,391,10],[392,1,392,8],[392,9,392,10],[393,1,393,4],[393,5,393,6],[393,7,393,8],[393,9,393,10],[382,1,382,4],[382,5,382,6],[382,7,382,8],[382,9,382,10],[383,1,383,8],[383,9,383,10],[384,1,384,10],[386,1,386,5],[387,1,387,5],[379,1,379,8],[379,9,379,10],[380,1,380,4],[380,5,380,6],[380,7,380,8],[380,9,380,10],[381,1,381,4],[381,5,381,6],[381,7,381,8],[381,9,381,10],[374,1,374,5],[374,9,374,10],[375,1,375,5],[375,9,375,10],[376,1,376,10],[377,1,377,8],[377,9,377,10],[378,1,378,8],[378,9,378,10],[369,1,369,4],[369,5,369,6],[369,7,369,8],[369,9,369,10],[370,1,370,8],[370,9,370,10],[371,1,371,10],[373,1,373,5],[373,9,373,10],[365,1,365,8],[365,9,365,10],[366,1,366,8],[366,9,366,10],[367,1,367,4],[367,5,367,6],[367,7,367,8],[367,9,367,10],[368,1,368,4],[368,5,368,6],[368,7,368,8],[368,9,368,10],[358,1,358,10],[360,1,360,5],[360,9,360,10],[361,1,361,5],[361,9,361,10],[362,1,362,5],[362,9,362,10],[363,1,363,10],[364,1,364,8],[364,9,364,10],[355,1,355,4],[355,5,355,6],[355,7,355,8],[355,9,355,10],[356,1,356,4],[356,5,356,6],[356,7,356,8],[356,9,356,10],[357,1,357,8],[357,9,357,10],[349,1,349,5],[350,1,350,10],[351,1,351,8],[351,9,351,10],[352,1,352,8],[352,9,352,10],[353,1,353,8],[353,9,353,10],[354,1,354,4],[354,5,354,6],[354,7,354,8],[354,9,354,10],[342,1,342,4],[342,5,342,6],[342,7,342,8],[342,9,342,10],[343,1,343,8],[343,9,343,10],[344,1,344,10],[347,1,347,5],[348,1,348,5],[339,1,339,8],[339,9,339,10],[340,1,340,4],[340,5,340,6],[340,7,340,8],[340,9,340,10],[341,1,341,4],[341,5,341,6],[341,7,341,8],[341,9,341,10],[333,1,333,5],[334,1,334,5],[335,1,335,5],[336,1,336,10],[337,1,337,8],[337,9,337,10],[338,1,338,8],[338,9,338,10],[325,1,325,10],[326,1,331,4],[326,5,327,5],[326,6,327,6],[326,7,327,7],[326,8,326,11],[314,1,314,5],[315,1,315,5],[317,1,317,5],[318,1,318,5],[319,1,319,5],[322,1,322,5],[323,1,323,5],[305,1,305,4],[305,5,305,6],[305,7,305,8],[305,9,305,10],[306,1,306,8],[306,9,306,10],[308,1,308,18],[309,1,309,5],[310,1,310,5],[301,1,301,8],[301,9,301,10],[302,1,302,8],[302,9,302,10],[303,1,303,4],[303,5,303,6],[303,7,303,8],[303,9,303,10],[304,1,304,4],[304,5,304,6],[304,7,304,8],[304,9,304,10],[298,1,298,5],[298,7,298,8],[298,13,298,14],[298,16,298,17],[299,1,299,5],[299,7,299,8],[299,13,299,14],[299,16,299,17],[300,1,300,8],[300,9,300,10],[295,1,295,5],[295,7,295,8],[295,13,295,14],[295,16,295,17],[296,1,296,5],[296,7,296,8],[296,13,296,14],[296,16,296,17],[297,1,297,5],[297,7,297,8],[297,13,297,14],[297,16,297,17],[290,1,290,4],[290,5,290,6],[290,7,290,8],[290,9,290,10],[293,1,293,18],[294,1,294,5],[294,7,294,8],[294,13,294,14],[294,16,294,17],[287,1,287,8],[287,9,287,10],[288,1,288,4],[288,5,288,6],[288,7,288,8],[288,9,288,10],[289,1,289,4],[289,5,289,6],[289,7,289,8],[289,9,289,10],[281,1,281,5],[281,7,281,8],[281,12,281,13],[282,1,282,8],[282,9,282,10],[284,1,284,10],[285,1,285,8],[285,9,285,10],[286,1,286,8],[286,9,286,10],[278,1,278,5],[278,7,278,8],[278,12,278,13],[279,1,279,5],[279,7,279,8],[279,12,279,13],[280,1,280,5],[280,7,280,8],[280,12,280,13],[275,1,275,5],[275,7,275,8],[275,12,275,13],[276,1,276,5],[276,7,276,8],[276,12,276,13],[277,1,277,5],[277,7,277,8],[277,12,277,13],[266,1,266,5],[37,22,37,23],[269,1,269,5],[270,1,270,8],[270,9,270,10],[271,1,271,8],[271,9,271,10],[273,1,273,15],[274,1,274,5],[274,7,274,8],[274,12,274,13],[261,1,261,5],[240,1,240,4],[240,5,240,6],[240,7,240,8],[240,9,240,10],[241,1,241,4],[241,5,241,6],[241,7,241,8],[241,9,241,10],[235,1,235,10],[246,1,246,10],[247,1,247,8],[247,9,247,10],[262,1,262,5],[33,22,33,25],[263,1,263,5],[34,22,34,25],[264,1,264,5],[35,22,35,23],[265,1,265,5],[36,22,36,23],[256,1,256,18],[258,1,258,14],[259,1,260,5],[259,6,260,6],[259,7,260,7],[259,8,260,8],[259,9,260,9],[259,10,260,10],[259,11,260,11],[259,12,259,14],[239,1,239,4],[239,5,239,6],[239,7,239,8],[239,9,239,10],[248,1,248,8],[248,9,248,10],[187,7,187,8],[187,9,187,10],[201,5,201,6],[201,7,201,8],[201,9,201,10],[219,5,219,6],[219,7,219,8],[195,1,195,10],[210,1,210,5],[211,1,211,5],[212,1,212,5],[198,1,198,8],[198,9,198,10],[202,1,202,8],[202,9,202,10],[219,9,219,10],[200,7,200,8],[200,9,200,10],[201,1,201,4],[197,1,197,8],[197,9,197,10],[199,5,199,6],[199,7,199,8],[199,9,199,10],[217,9,217,10],[218,1,218,4],[218,5,218,6],[218,7,218,8],[218,9,218,10],[219,1,219,4],[217,7,217,8],[228,7,228,8],[236,1,236,8],[236,9,236,10],[1,2,1,6],[1,7,1,11],[123,7,123,8],[123,9,123,10],[124,1,124,4],[124,5,124,6],[119,9,119,10],[120,1,120,8],[120,9,120,10],[117,1,117,5],[117,7,117,8],[124,7,124,8],[124,9,124,10],[50,1,50,18],[98,12,98,13],[51,12,51,18],[51,5,52,5],[117,16,117,17],[30,9,30,10],[107,1,107,4],[107,5,107,6],[51,7,52,7],[66,9,66,10],[65,1,65,4],[88,9,88,10],[99,12,99,13],[97,7,97,8],[99,1,99,5],[94,1,94,5],[97,1,97,5],[96,1,96,5],[95,1,95,5],[67,1,67,4],[67,9,67,10],[68,9,68,10],[100,1,100,8],[100,9,100,10],[104,9,104,10],[105,1,105,8],[92,7,92,8],[93,7,93,8],[94,7,94,8],[95,7,95,8],[96,7,96,8],[107,9,107,10],[108,1,108,4],[122,7,122,8],[122,9,122,10],[103,1,103,8],[103,9,103,10],[104,1,104,8],[105,9,105,10],[113,1,113,5],[108,5,108,6],[108,7,108,8],[106,1,106,4],[106,5,106,6],[106,7,106,8],[106,9,106,10],[111,1,111,18],[107,7,107,8],[108,9,108,10],[116,16,116,17],[113,13,113,14],[114,13,114,14],[115,13,115,14],[116,13,116,14],[113,16,113,17],[114,16,114,17],[115,16,115,17],[114,7,114,8],[115,7,115,8],[113,7,113,8],[117,13,117,14],[121,1,121,8],[121,9,121,10],[119,1,119,8],[115,1,115,5],[116,1,116,5],[116,7,116,8],[114,1,114,5],[122,1,122,4],[122,5,122,6],[34,9,34,10],[51,6,52,6],[37,9,37,10],[63,1,63,8],[80,1,80,5],[81,1,81,5],[82,1,82,5],[83,1,83,5],[84,1,84,5],[63,9,63,10],[64,1,64,8],[64,9,64,10],[65,9,65,10],[66,1,66,4],[66,5,66,6],[67,5,67,6],[65,5,65,6],[65,7,65,8],[68,1,68,8],[76,1,76,14],[77,1,78,5],[67,7,67,8],[41,1,41,5],[42,1,42,5],[43,1,43,5],[37,1,37,8],[40,1,40,18],[45,1,45,5],[48,1,48,5],[62,1,62,8],[62,9,62,10],[1,12,1,18],[74,1,74,18],[30,22,30,23],[112,16,112,17],[92,12,92,13],[93,12,93,13],[94,12,94,13],[95,12,95,13],[96,12,96,13],[97,12,97,13],[112,13,112,14],[98,7,98,8],[99,7,99,8],[26,1,26,5],[58,1,58,5],[59,1,59,5],[60,1,60,5],[44,1,44,5],[49,1,49,5],[2,6,2,11],[13,1,13,18],[46,1,46,5],[92,1,92,5],[93,1,93,5],[3,2,3,11],[2,2,2,5],[18,1,18,5],[7,2,7,7],[10,2,10,7],[33,9,33,10],[28,1,28,5],[30,1,30,8],[19,1,19,5],[20,1,20,5],[21,1,21,5],[22,1,22,5],[8,2,8,5],[8,6,8,10],[9,6,9,11],[11,9,11,10],[4,6,4,11],[5,6,5,11],[6,6,6,11],[27,1,27,5],[23,1,23,5],[11,1,11,6],[31,9,31,10],[112,7,112,8],[16,12,16,14],[16,1,17,5],[16,6,17,6],[16,7,17,7],[16,8,17,8],[16,9,17,9],[16,10,17,10],[16,11,17,11],[31,1,31,8],[33,1,33,8],[35,9,35,10],[36,9,36,10],[34,5,34,6],[35,5,35,6],[36,5,36,6],[34,1,34,4],[77,8,78,8],[77,9,78,9],[77,10,78,10],[35,1,35,4],[32,1,32,8],[79,1,79,5],[91,1,91,15],[172,5,172,6],[172,7,172,8],[172,9,172,10],[176,1,176,5],[186,7,186,8],[98,1,98,5],[123,1,123,4],[123,5,123,6],[125,1,125,8],[138,1,138,5],[130,1,130,5],[127,1,127,18],[128,1,128,5],[132,1,132,5],[125,9,125,10],[134,1,134,5],[129,1,129,5],[136,1,136,5],[137,1,137,5],[155,1,155,5],[139,1,139,10],[133,1,133,5],[118,1,118,10],[112,1,112,5],[194,1,194,5],[196,1,196,8],[196,9,196,10],[184,1,184,8],[188,1,188,8],[167,1,167,8],[167,9,167,10],[173,1,173,8],[182,9,182,10],[183,9,183,10],[184,9,184,10],[188,9,188,10],[173,9,173,10],[182,1,182,8],[181,1,181,10],[183,1,183,8],[185,1,185,4],[185,5,185,6],[185,7,185,8],[185,9,185,10],[186,1,186,4],[186,5,186,6],[187,1,187,4],[187,5,187,6],[191,1,191,5],[156,1,156,5],[157,1,157,5],[170,1,170,4],[170,5,170,6],[170,7,170,8],[170,9,170,10],[171,1,171,4],[171,5,171,6],[171,7,171,8],[171,9,171,10],[169,1,169,8],[169,9,169,10],[165,1,165,5],[168,1,168,8],[168,9,168,10],[177,1,177,5],[180,1,180,5],[186,9,186,10],[163,1,163,5],[164,1,164,5],[179,1,179,5],[166,1,166,10],[172,1,172,4],[8,22,8,26],[10,22,10,25],[11,22,11,23],[12,22,12,23],[13,22,13,23],[18,22,18,26],[9,22,9,25],[28,22,28,23],[77,12,77,14],[15,1,15,14],[34,7,34,8],[35,7,35,8],[36,7,36,8],[23,22,23,23],[47,1,47,5],[51,8,51,11],[51,1,56,4],[32,22,32,26],[77,11,78,11],[36,1,36,4],[11,7,11,8],[32,9,32,10],[66,7,66,8],[29,22,29,23],[25,22,25,26],[26,22,26,25],[27,22,27,25],[230,1,230,4],[230,5,230,6],[230,7,230,8],[230,9,230,10],[213,1,213,10],[214,1,214,8],[214,9,214,10],[215,1,215,8],[215,9,215,10],[216,1,216,8],[216,9,216,10],[217,1,217,4],[217,5,217,6],[89,1,89,8],[89,9,89,10],[102,1,102,10],[87,1,87,5],[88,1,88,8],[221,9,221,10],[77,6,78,6],[77,7,78,7],[193,1,193,5],[178,1,178,5],[192,1,192,5],[200,5,200,6],[228,9,228,10],[229,1,229,4],[229,5,229,6],[229,7,229,8],[229,9,229,10],[210,6,210,8],[211,6,211,8],[212,6,212,8],[210,9,210,10],[211,9,211,10],[212,9,212,10],[199,1,199,4],[225,1,225,8],[225,9,225,10],[226,1,226,8],[226,9,226,10],[227,1,227,8],[227,9,227,10],[200,1,200,4],[190,1,190,5],[245,9,245,10],[244,1,244,8],[245,1,245,8],[243,1,243,8],[222,9,222,10],[223,9,223,10],[221,1,221,8],[222,1,222,8],[223,1,223,8],[238,1,238,8],[238,9,238,10],[243,9,243,10],[244,9,244,10],[232,9,232,10],[233,9,233,10],[234,9,234,10],[232,1,232,8],[233,1,233,8],[234,1,234,8],[228,1,228,4],[228,5,228,6],[237,1,237,8],[237,9,237,10],[224,1,224,10]]}
[]
[null,"Tipologia Edificio",{"$f":"IF(TipoEdif=1,'Dati Gen'!Q5,'Dati Gen'!Q6)","v":"Edificio Unifamiliare"},null,null,null,null,{"$f":"IF(TipoEdif=2,'Dati Gen'!K5,\"\")","v":""},null,null,null,null,"https://detrazionifiscali.enea.it/creaasseverazione.asp",null,null,null,null,null,null,null,null,null,null,null,{"$f":"NomeApp","v":"Pratica.110plus"},{"$f":"'Dati Gen'!K3","v":"Vers.ne"},{"$f":"'Dati Gen'!L3","v":"2.1"}]
[null,"Data Inizio Lavori",{"$f":"'Dati Gen'!E14","v":"00:00:00"},null,null,null,null,null,null,null,null,null,null,null,null,null,null,null,null,null,null,null,null,null,{"$f":"'Dati Gen'!K4","v":"©2021 SIM srl - www.madosoft.it"}]
[null,"Comune Ubicazione",{"$f":"'Dati Gen'!E8","v":0},null,null,null,null,null,null,null,null,null,null,null,null,null,null,null,null,null,null,null,null,null,"Riepilogo Importi SAL"]
[null,"Comune Montano","X","SI",null,"NO","Elenco Comuni Montani",null,null,null,null,null,null,null,null,null,null,null,null,null,null,null,null,null,{"$f":"C2","v":"Edificio Unifamiliare"},{"$f":"H2","v":""}]
[null,"Interessato Infrazione",null,"SI","X","NO","Elenco Comuni Infrazioni",null,null,null,null,null,null,null,null,null,null,null,null,null,null,null,null,null,{"$f":"CONCATENATE(C8,\" N.\",J8)","v":"0 N.0"}]
[null,"Intervento comma 4-Ter",null,"SI","X","NO","160% Zone Terremotate",null,null,null,null,null,null,null,null,null,null,null,null,null,null,null,null,null,{"$f":"CONCATENATE(L8,\" \",C4)","v":"0 0"}]
[null,"Indirizzo",{"$f":"'Dati Gen'!E9","v":0},null,null,null,null,null,"N.Civico ",{"$f":"'Dati Gen'!N9","v":0},"CAP",{"$f":"'Dati Gen'!N8","v":0}]
[null,"Anno di Costruzione Immobile",{"$f":"'Dati Gen'!E11","v":0},null,null,null,{"$f":"'Dati Gen'!H11","v":"Superficie Totale Disperdente   :"},null,null,null,null,{"$f":"'Dati Gen'!N11","v":0},null,null,null,null,null,null,null,null,null,null,"Totali Progetto"]
[null,"Edificio in area Metanizzata","X","SI",null,"NO",null,null,null,null,null,null,null,null,null,null,null,null,null,null,null,null,"Spese previste in progetto",null,null,null,{"$f":"AA20+AA27+AA34","v":1100}]
[null,"Autorizzazione Edilizia",{"$f":"'Dati Gen'!E12","v":"Licenza Edilizia / Titolo Edilizio"},null,null,null,null,null,{"$f":"'Dati Gen'!K12","v":"N."},{"$f":"'Dati Gen'!L12","v":0},{"$f":"'Dati Gen'!M12","v":"Data"},{"$f":"'Dati Gen'!N12","v":"00:00:00"},null,null,null,null,null,null,null,null,null,null,"Spese Ammissibili",null,null,null,{"$f":"AA21+AA28","v":1100}]
[null,{"$f":"'Dati Gen'!B13","v":"Relazione ex Legge 10/91  Depositata al Comune in Data "},null,null,null,null,null,{"$f":"IF('Dati Gen'!I13<>\"\",'Dati Gen'!I13,\"\")","v":""},null,"Prot. N.",null,{"$f":"IF('Dati Gen'!N13<>\"\",'Dati Gen'!N13,\"\")","v":""},null,null,null,null,null,null,null,null,null,null,"Realizzati",null,"SAL 30%","SAL 60%","SAL FINALE"]
[null,null,null,null,null,null,null,null,null,null,null,null,null,null,null,null,null,null,null,null,null,null,"Costo Lavori Realizzati",null,{"$f":"Y23+Y30+Y37","v":1100},0,0]
[null,"INTERVENTI TRAINANTI",null,null,null,null,null,null,null,null,null,null,null,null,null,null,null,null,null,null,null,null,"di cui ammessi",null,1100,0,0]
[]
[null,"intervento di isolamento termico delle superfici opache verticali, orizzontali e inclinate : PV) PO) POND) PS)"]
[null,"Descrizione",null,null,null,null,"Superficie mq","Trasm. Ante","Trasm. Post","Trasm.P. YIE","Confine","Coiben-tazione","Realizzati mq"]
[null,null,null,null,null,null,null,null,null,null,null,null,"SAL.30%","SAL.60%","SAL.FIN."]
[null,"Pareti Verticali in Blocchi di Tufo da 50cm",null,null,null,null,22.58,0.89139999999999997,0.22359999999999999,0.01,"Esterno","Esterna",22.58,null,null,null,null,null,null,null,null,null,"Totali Interventi Trainanti"]
[null,"Pareti Verticali in mattoni pieni da 30cm ",null,null,null,null,123.7,1.839,0.252,1.7299999999999999E-2,"Esterno","Esterna",123.7,null,null,null,null,null,null,null,null,null,"Spese previste in progetto",null,null,null,{"$f":"J33+J64","v":1100}]
[null,"Pareti Verticali in blocchi di cemento da 30cm",null,null,null,null,22.88,1.3285,0.29099999999999998,1.9699999999999999E-2,"Esterno","Esterna",22.88,null,null,null,null,null,null,null,null,null,"Spese Ammissibili",null,null,null,{"$f":"J34+J65","v":1100}]
[null,"Coperture Legno",null,null,null,null,76.14,2.1352000000000002,0.21909999999999999,8.3799999999999999E-2,"Esterno","Esterna",76.14,null,null,null,null,null,null,null,null,null,"Realizzati",null,"SAL 30%","SAL 60%","SAL FINALE"]
[null,null,null,null,null,null,null,null,null,null,null,null,null,null,null,null,null,null,null,null,null,null,"Costo Lavori Realizzati",null,{"$f":"F36+F67","v":1100},{"$f":"H36+H67","v":0},{"$f":"J36+J67","v":0}]
[null,null,null,null,null,null,null,null,null,null,null,null,null,null,null,null,null,null,null,null,null,null,"di cui ammessi",null,{"$f":"F37+F68","v":1100},{"$f":"H37+H68","v":0},{"$f":"J37+J68","v":0}]
[]
[null,null,null,null,null,null,null,null,null,null,null,null,null,null,null,null,null,null,null,null,null,null,"Totali Interventi Trainati Parti Comuni"]
[null,null,null,null,null,null,null,null,null,null,null,null,null,null,null,null,null,null,null,null,null,null,"Spese previste in progetto",null,null,null,{"$f":"J105+J121+J149+J169+J184+J198+J216+J227+J238+J249","v":0}]
[null,null,null,null,null,null,null,null,null,null,null,null,null,null,null,null,null,null,null,null,null,null,"Spese Ammissibili",null,null,null,{"$f":"J106+J122+J150+J170+J185+J199+J217+J228+J239+J250","v":0}]
[null,null,null,null,null,null,null,null,null,null,null,null,null,null,null,null,null,null,null,null,null,null,"Realizzati",null,"SAL 30%","SAL 60%","SAL FINALE"]
[null,null,null,null,null,null,null,null,null,null,null,null,null,null,null,null,null,null,null,null,null,null,"Costo Lavori Realizzati",null,{"$f":"F108+F124+F152+F172+F187+F201+F219+F230+F241+F252","v":0},{"$f":"H108+H124+H152+H172+H187+H201+H219+H230+H241+H252","v":0},{"$f":"J108+J124+J152+J172+J187+J201+J219+J230+J241+J252","v":0}]
[null,"Superficie Totale disperdente oggetto di intervento                              [mq]",null,null,null,null,null,null,null,{"$f":"SUM(G19:G29)","v":245.3},null,null,null,null,null,null,null,null,null,null,null,null,"di cui ammessi",null,{"$f":"F109+F125+F153+F173+F188+F202+F220+F231+F242+F253","v":0},{"$f":"H109+H125+H153+H173+H188+H202+H220+H231+H242+H253","v":0},{"$f":"J109+J125+J153+J173+J188+J202+J220+J231+J242+J253","v":0}]
[null,"Spesa Massima Ammissibile ",null,null,null,null,null,null,null,{"$f":"'Computo-Massimali'!R13","v":50000}]
[null,"Costo Complessivo Previsto in progetto",null,null,null,null,null,null,null,{"$f":"'Computo-Massimali'!L13","v":1100},null,null,null,null,null,null,null,null,null,null,null,null,"Totali Interventi Trainati  U.Imm."]
[null,"Spesa Ammessa",null,null,null,null,null,null,null,{"$f":"IF(J33<J32,J33,J32)","v":1100},null,null,null,null,null,null,null,null,null,null,null,null,"Spese previste in progetto",null,null,null,{"$f":"J287+J302+J339+J353+J366+J379+J392+J405+J417","v":0}]
[null,null,null,null,null,"SAL 30%",null,"SAL 60%",null,"SAL FINALE",null,null,null,null,null,null,null,null,null,null,null,null,"Spese Ammissibili",null,null,null,{"$f":"J288+J303+J340+J354+J367+J380+J393+J406+J418","v":0}]
[null,"Costo Lavori Realizzati",null,null,null,{"$f":"'SAL.30%'!L13","v":1100},null,{"$f":"'SAL.60%'!L13","v":0},null,{"$f":"SAL.Finale!L13","v":0},null,null,null,null,null,null,null,null,null,null,null,null,"Realizzati",null,"SAL 30%","SAL 60%","SAL FINALE"]
[null,"di cui ammessi",null,null,null,{"$f":"IF(F36<J34,F36,J34)","v":1100},null,{"$f":"IF(H36<J34,H36,J34)","v":0},null,{"$f":"IF(J36<J34,J36,J34)","v":0},null,null,null,null,null,null,null,null,null,null,null,null,"Costo Lavori Realizzati",null,{"$f":"F290+F305+F342+F356+F369+F382+F395+F408+F420+F431","v":0},{"$f":"H290+H305+H342+H356+H369+H382+H395+H408+H420+H431","v":0},{"$f":"J290+J305+J342+J356+J369+J382+J395+J408+J420+J431","v":0}]
[null,"Risparmio di energia primaria non rinnovabile di progetto    [kWh/anno]",null,null,null,null,null,null,null,null,null,null,null,null,null,null,null,null,null,null,null,null,"di cui ammessi",null,{"$f":"F291+F306+F343+F357+F370+F383+F396+F409+F421+F432","v":0},{"$f":"H291+H306+H343+H357+H370+H383+H396+H409+H421+H432","v":0},{"$f":"J291+J306+J343+J357+J370+J383+J396+J409+J421+J432","v":0}]
[]
[]
[null,"Intervento di sostituzione degli impianti di climatizzazione invernale esistenti"]
[null,"Descrizione Nuovo Impianto",null,null,null,null,"Tipo Sostituito","P.Nom Sostituito","P.Nom kW","Rendim Util Nomin. 100%","Destinata","Efficienza  Riscaldam. hs","Efficienza  ACS hw","Tipo Aliment.","Classe Dispositivo Termoreg. Evoluto","Tipo PDC","Pot. El. Assorb kW","COP","Superfic. Risc. Da PDC",null,null,"Descrizione Impianto"]
[null,"-",null,null,null,null,null,null,null,null,null,null,null,null,null,"-",null,null,null,null,null,"-"]
[null,null,null,null,null,null,"-",null,null,null,"-",null,null,"-","-","-",null,null,null,null,null,"CC) Caldaie a condensazione"]
[null,null,null,null,null,null,"-",null,null,null,"-",null,null,"-","-","-",null,null,null,null,null,"PC) Pompe di calore (PDC) a compressione di vapore elettriche anche sonde geotermiche"]
[null,null,null,null,null,null,"-",null,null,null,"-",null,null,"-","-","-",null,null,null,null,null,"PCA) Pompe di calore a gas ad assorbimento o a compressione di vapore azionate da motore primo"]
[null,null,null,null,null,null,"-",null,null,null,"-",null,null,"-","-","-",null,null,null,null,null,"SI) Sistemi Ibridi"]
[null,null,null,null,null,null,"-",null,null,null,"-",null,null,"-","-","-",null,null,null,null,null,"CO) Sistemi microcogenerazione"]
[null,null,null,null,null,null,"-",null,null,null,"-",null,null,"-","-","-",null,null,null,null,null,"SA) Installazione di scaldacqua a pompa di calore in sostituzione di un sistema di produzione di acqua calda quando avviene con lo stesso generatore di calore destinato alla climatizzazione invernale ai sensi delle lettere b) e c) del comma 1 dell’articolo 119 del Decreto Rilancio"]
[null,null,null,null,null,null,"-",null,null,null,"-",null,null,"-","-","-",null,null,null,null,null,"ST) Collettori solari"]
[null,null,null,null,null,null,null,null,null,null,null,null,null,null,null,null,null,null,null,null,null,"TR) Teleriscaldamento (esclusivamente per i comuni montani non interessati dalle procedure di infrazione comunitaria n. 2014/2147 del 10 luglio 2014 o n. 2015/2043 del 28 maggio 2015 per la non ottemperanza dell’Italia agli obblighi previsti dalla direttiva 2008/50/CE, l’allaccio a sistemi di teleriscaldamento efficiente ai sensi dell’articolo 2, comma 2, lettera tt), del decreto legislativo 4 luglio 2014, n. 102)"]
[null,"SI) Sistemi Ibridi",null,null,null,null,"Tipo Sostituito","P.Nom Sostituito","Caldaia a Condensazione",null,null,null,"Pompa di Calore"]
[null,null,null,null,null,null,null,null,"P.Nom kW","Rendim Nomin. 100%","Efficienza  Riscaldam. hs","Tipo Aliment.","Tipo PDC","Tipo Roof Top","P.Nom    kW","Pot. El. Assorb kW","COP","Inverter","Sonde Geotermiche",null,null,"Tipo Sostituito"]
[null,null,null,null,null,1,null,null,null,null,null,null,null,null,null,null,null,null,null,null,null,"-"]
[null,null,null,null,null,2,null,null,null,null,null,null,null,null,null,null,null,null,null,null,null,"Caldaia Standard"]
[null,null,null,null,null,3,"-",null,null,null,null,"-","-","-",null,null,null,"-","-",null,null,"Caldaia Bassa Temperatura"]
[null,null,null,null,null,4,"-",null,null,null,null,"-","-","-",null,null,null,"-","-",null,null,"Caldaia a Condensazione Gas"]
[null,null,null,null,null,null,null,null,null,null,null,null,null,null,null,null,null,null,null,null,null,"Caldaia Condens.Gasolio"]
[null,"Destinati a :   Climatizzazione Invernale",null,null,null,null,"x",null,null,null,null,null,null,null,null,null,null,null,null,null,null,"Pompa di Calore anche con sonda geotermica"]
[null,"                         Climatizzazione estiva",null,null,null,null,null,null,null,null,null,null,null,null,null,null,null,null,null,null,null,"Generatori di Aria Calda"]
[null,"                         prod. di acqua calda sanitaria",null,null,null,null,"x",null,null,null,null,null,null,null,null,null,null,null,null,null,null,"Teleriscaldamento (solo in caso di distacco obbligato)"]
[null,null,null,null,null,null,null,null,null,null,null,null,null,null,null,null,null,null,null,null,null,"Impianto a biomassa"]
[null,"Spesa Massima Ammissibile ",null,null,null,null,null,null,null,{"$f":"'Computo-Massimali'!R14","v":30000},null,null,null,null,null,null,null,null,null,null,null,"Altro"]
[null,"Costo Complessivo Previsto in progetto",null,null,null,null,null,null,null,{"$f":"'Computo-Massimali'!L14","v":0}]
[null,"Spesa Ammessa",null,null,null,null,null,null,null,{"$f":"IF(J64<J63,J64,J63)","v":0}]
[null,null,null,null,null,"SAL 30%",null,"SAL 60%",null,"SAL FINALE"]
[null,"Costo Lavori Realizzati",null,null,null,{"$f":"'SAL.30%'!L14","v":0},null,{"$f":"'SAL.60%'!L14","v":0},null,{"$f":"SAL.Finale!L14","v":0}]
[null,"di cui ammessi",null,null,null,{"$f":"IF(F67<J65,F67,J65)","v":0},null,{"$f":"IF(H67<J65,H67,J65)","v":0},null,{"$f":"IF(J67<J65,J67,J65)","v":0}]
[null,"Risparmio di energia primaria non rinnovabile di progetto    [kWh/anno]"]
[]
[]
[]
[]
[]
[null,"INTERVENTI TRAINANTI Parti Comuni Condominiali"]
[]
[null,"intervento di isolamento termico delle superfici opache verticali, orizzontali e inclinate dell'involucro  PV) PO) PS)"]
[null,"Descrizione",null,null,null,null,"Superficie mq","Trasm. Ante","Trasm. Post","Trasm.P. YIE","Confine","Coiben-tazione","Realizzati mq"]
[null,null,null,null,null,null,null,null,null,null,null,null,"SAL.30%","SAL.60%","SAL.FIN."]
[]
[]
[]
[]
[]
[]
[null,null,null,null,null,null,null,null,null,null,"-","-"]
[null,null,null,null,null,null,null,null,null,null,"-","-"]
[null,null,null,null,null,null,null,null,null,null,"-","-"]
[null,"Superficie Totale disperdente oggetto di intervento                              [mq]",null,null,null,null,null,null,null,{"$f":"SUM(G80:G88)","v":0}]
[null,"Risparmio di energia primaria non rinnovabile di progetto    [kWh/anno]"]
[]
[null,"IN) Sostituzione degli infissi "]
[null,"Descrizione",null,null,null,null,"Telaio Prima","Vetro Prima",null,"Trasm. Ante","Superfice mq","Telaio Dopo","Vetro Dopo",null,"Trasm. Post","Chius. Oscura"]
[]
[]
[]
[null,null,null,null,null,null,"-","-",null,null,null,"-","-"]
[null,null,null,null,null,null,"-","-",null,null,null,"-","-"]
[null,null,null,null,null,null,"-","-",null,null,null,"-","-"]
[null,null,null,null,null,null,"-","-",null,null,null,"-","-"]
[null,"Risparmio di energia primaria non rinnovabile di progetto    [kWh/anno]"]
[]
[null,"Isolamento termico sup. verticali, orizzontali, inclinate e Sostituzione Infissi"]
[null,"Spesa Massima Ammissibile ",null,null,null,null,null,null,null,{"$f":"'Computo-Massimali'!R24","v":54545}]
[null,"Costo Complessivo Previsto in progetto",null,null,null,null,null,null,null,{"$f":"'Computo-Massimali'!L24","v":0}]
[null,"Spesa Ammessa",null,null,null,null,null,null,null,{"$f":"IF(J105<J104,J105,J104)","v":0}]
[null,null,null,null,null,"SAL 30%",null,"SAL 60%",null,"SAL FINALE"]
[null,"Costo Lavori Realizzati",null,null,null,{"$f":"'SAL.30%'!L24","v":0},null,{"$f":"'SAL.60%'!L24","v":0},null,{"$f":"SAL.Finale!L24","v":0}]
[null,"di cui ammessi",null,null,null,{"$f":"IF(F108<J106,F108,J106)","v":0},null,{"$f":"IF(H108<J106,H108,J106)","v":0},null,{"$f":"IF(J108<J106,J108,J106)","v":0}]
[]
[]
[null,"SS) Schermature solari Anche chiusure oscuranti"]
[null,"Descrizione",null,null,null,null,"Tipo Schermatura","Installazione",null,"Superf. Schermatura","Superfice finestra protetta","Resistenza term. suppl m2K/W","Orientamento","Tipo Calcolo",null,"gtot","Materiale schermatura",null,"Meccan. Regolaz."]
[null,null,null,null,null,null,"-","-",null,null,null,null,"-","-",null,null,"-",null,"-"]
[null,null,null,null,null,null,"-","-",null,null,null,null,"-","-",null,null,"-",null,"-"]
[null,null,null,null,null,null,"-","-",null,null,null,null,"-","-",null,null,"-",null,"-"]
[null,null,null,null,null,null,"-","-",null,null,null,null,"-","-",null,null,"-",null,"-"]
[null,null,null,null,null,null,"-","-",null,null,null,null,"-","-",null,null,"-",null,"-"]
[]
[null,"Spesa Massima Ammissibile ",null,null,null,null,null,null,null,{"$f":"'Computo-Massimali'!R25","v":54545}]
[null,"Costo Complessivo Previsto in progetto",null,null,null,null,null,null,null,{"$f":"'Computo-Massimali'!L25","v":0}]
[null,"Spesa Ammessa",null,null,null,null,null,null,null,{"$f":"IF(J121<J120,J121,J120)","v":0}]
[null,null,null,null,null,"SAL 30%",null,"SAL 60%",null,"SAL FINALE"]
[null,"Costo Lavori Realizzati",null,null,null,{"$f":"'SAL.30%'!L25","v":0},null,{"$f":"'SAL.60%'!L25","v":0},null,{"$f":"SAL.Finale!L25","v":0}]
[null,"di cui ammessi",null,null,null,{"$f":"IF(F124<J122,F124,J122)","v":0},null,{"$f":"IF(H124<J122,H124,J122)","v":0},null,{"$f":"IF(J124<J122,J124,J122)","v":0}]
[null,"Risparmio di energia primaria non rinnovabile di progetto    [kWh/anno]"]
[]
[null,"Intervento, sulle parti comuni, di sostituzione degli impianti di climatizzazione invernale esistenti con impianti dotati di"]
[null,"CC) Caldaie a condensazione",null,null,null,null,"Tipo Sostituito","P.Nom Sostituito","P.Nom kW","Rendim Util Nomin. 100%","Destinata","Efficienza  Riscaldam. hs","Efficienza  ACS     hw","Tipo Aliment.","Classe Dispositivo Termoreg. Evoluto"]
[null,null,null,null,null,null,"-",null,null,null,"-",null,null,"-","-"]
[null,null,null,null,null,null,"-",null,null,null,"-",null,null,"-","-",null,null,null,null,null,null,"Tipo Generatore"]
[null,null,null,null,null,null,null,null,null,null,null,null,null,null,null,null,null,null,null,null,null,"-"]
[null,"PC) Pompe di calore (PDC) a compressione di vapore elettriche anche sonde geotermiche",null,null,null,null,"Tipo Sostituito","P.Nom Sostituito","Tipo PDC","Tipo Roof Top","P.Nom kW","Pot. El. Assorb kW","Inverter","COP","Reversibile","Sonde Geotermiche","Sup. Riscald. dalla PDC",null,null,null,null,"Cucine a legna"]
[null,null,null,null,null,null,"-",null,"-","-",null,null,"-",null,"-","-"]
[null,null,null,null,null,null,"-",null,"-","-",null,null,"-",null,"-","-"]
[]
[null,"PCA) Pompe di calore a gas ad assorbimento o a compressione di vapore azionate da motore primo",null,null,null,null,"Tipo Sostituito","P.Nom Sostituito","Tipo PDC","Tipo Roof Top","P.Nom kW","Inverter","GUEh","Reversibile","GUEc","Sup. Riscald. Dalla PDC"]
[null,null,null,null,null,null,"-",null,"-","-",null,"-",null,"-"]
[null,null,null,null,null,null,"-",null,"-","-",null,"-",null,"-"]
[]
[null,"SI) Sistemi Ibridi",null,null,null,null,"Tipo Sostituito","P.Nom Sostituito","Caldaia a Condensazione",null,null,null,"Pompa di Calore"]
[null,null,null,null,null,null,null,null,"P.Nom kW","Rendim Nomin. 100%","Efficienza  Riscaldam. hs","Tipo Aliment.","Tipo PDC","Tipo Roof Top","P.Nom    kW","Pot. El. Assorb kW","COP","Inverter","Sonde Geotermiche",null,null,"Tipo Sostituito"]
[null,null,null,null,null,1,null,null,null,null,null,null,null,null,null,null,null,null,null,null,null,"-"]
[null,null,null,null,null,2,null,null,null,null,null,null,null,null,null,null,null,null,null,null,null,"Caldaia Standard"]
[null,null,null,null,null,3,"-",null,null,null,null,"-","-","-",null,null,null,"-","-",null,null,"Caldaia Bassa Temperatura"]
[null,null,null,null,null,4,"-",null,null,null,null,"-","-","-",null,null,null,"-","-",null,null,"Caldaia a Condensazione Gas"]
[]
[null,"Spesa Massima Ammissibile per Impianti Climatizzazione CC) PC) PCA) SI)",null,null,null,null,null,null,null,{"$f":"'Computo-Massimali'!R26","v":27272}]
[null,"Spese Previste in progetto per Impianti Climatizzazione  CC) PC) PCA) SI)",null,null,null,null,null,null,null,{"$f":"'Computo-Massimali'!L26","v":0}]
[null,"Spesa Ammessa",null,null,null,null,null,null,null,{"$f":"IF(J149<J148,J149,J148)","v":0}]
[null,null,null,null,null,"SAL 30%",null,"SAL 60%",null,"SAL FINALE"]
[null,"Costo Lavori Realizzati",null,null,null,{"$f":"'SAL.30%'!L26","v":0},null,{"$f":"'SAL.60%'!L26","v":0},null,{"$f":"SAL.Finale!L26","v":0}]
[null,"di cui ammessi",null,null,null,{"$f":"IF(F152<J150,F152,J150)","v":0},null,{"$f":"IF(H152<J150,H152,J150)","v":0},null,{"$f":"IF(J152<J150,J152,J150)","v":0}]
[null,"Risparmio di energia primaria non rinnovabile di progetto    [kWh/anno]"]
[]
[null,"GA) Generatori di Aria Calda a Condensazione",null,null,null,null,"Tipo Sostituito","Pu. scald. sostituito kW","Pu. scald. PDC  kW","COP nuovo scald.","Capacità accumulo litri"]
[null,null,null,null,null,null,"-"]
[null,null,null,null,null,null,"-"]
[]
[null,"IB) Impianti a Biomassa",null,null,null,null,"Tipo Sostituito","Pu. scald. sostituito kW","Pu. scald. PDC  kW","COP nuovo scald.","Capacità accumulo litri"]
[null,null,null,null,null,null,"-"]
[null,null,null,null,null,null,"-"]
[]
[null,"SA) Scaldacqua a pompa di calore",null,null,null,null,"Tipo Sostituito","Pu. scald. sostituito kW","Pu. scald. PDC  kW","COP nuovo scald.","Capacità accumulo litri"]
[null,null,null,null,null,null,"-"]
[null,null,null,null,null,null,"-"]
[]
[null,"Spesa Massima Ammissibile per Impianti GA) IB) SA)",null,null,null,null,null,null,null,{"$f":"'Computo-Massimali'!R30","v":27272}]
[null,"Spese Previste in progetto per Impianti  GA) IB) SA)",null,null,null,null,null,null,null,{"$f":"'Computo-Massimali'!L30","v":0}]
[null,"Spesa Ammessa",null,null,null,null,null,null,null,{"$f":"IF(J169<J168,J169,J168)","v":0}]
[null,null,null,null,null,"SAL 30%",null,"SAL 60%",null,"SAL FINALE"]
[null,"Costo Lavori Realizzati",null,null,null,{"$f":"'SAL.30%'!L30","v":0},null,{"$f":"'SAL.60%'!L30","v":0},null,{"$f":"SAL.Finale!L30","v":0}]
[null,"di cui ammessi",null,null,null,{"$f":"IF(F172<J170,F172,J170)","v":0},null,{"$f":"IF(H172<J170,H172,J170)","v":0},null,{"$f":"IF(J172<J170,J172,J170)","v":0}]
[null,"Risparmio di energia primaria non rinnovabile di progetto    [kWh/anno]"]
[]
[]
[null,"CO) Sistemi microcogenerazione ",null,null,null,null,"Tipo Sostituito","P.Nom Sostituito","Pot. Elettr. kW","Pot. Immes. kW","Pot. Term. Rec. kW","PES %","Tipo Aliment.","Tipo Intervent","a Celle Combust.","Riscaldatore Supplement.","P.Risc. Supp kW","Efficienz hs %","Classe Energet"]
[null,null,null,null,null,null,"-",null,null,null,null,null,"-","-","-","-",null,null,"-"]
[null,null,null,null,null,null,"-",null,null,null,null,null,"-","-","-","-",null,null,"-"]
[null,null,null,null,null,null,"-",null,null,null,null,null,"-","-","-","-",null,null,"-"]
[null,null,null,null,null,null,"-",null,null,null,null,null,"-","-","-","-",null,null,"-"]
[]
[null,"Spesa Massima Ammissibile per CO) Sistemi Microgenerazione",null,null,null,null,null,null,null,{"$f":"'Computo-Massimali'!R31","v":90909}]
[null,"Spese Previste in progetto per CO) Microgenerazione",null,null,null,null,null,null,null,{"$f":"'Computo-Massimali'!L31","v":0}]
[null,"Spesa Ammessa",null,null,null,null,null,null,null,{"$f":"IF(J184<J183,J184,J183)","v":0}]
[null,null,null,null,null,"SAL 30%",null,"SAL 60%",null,"SAL FINALE"]
[null,"Costo Lavori Realizzati",null,null,null,{"$f":"'SAL.30%'!L31","v":0},null,{"$f":"'SAL.60%'!L31","v":0},null,{"$f":"SAL.Finale!L31","v":0}]
[null,"di cui ammessi",null,null,null,{"$f":"IF(F187<J185,F187,J185)","v":0},null,{"$f":"IF(H187<J185,H187,J185)","v":0},null,{"$f":"IF(J187<J185,J187,J185)","v":0}]
[null,"Risparmio di energia primaria non rinnovabile di progetto    [kWh/anno]"]
[]
[null,"ST) Collettori Solari",null,null,null,null,"Sup lorda Ag singolo modulo","N. di moduli","S.tot","Tipo di colllettori","Tipo di installazione","Inclinaz. %","Orientamento","Factory Made","Qcol / Qsol kWht  oppure    QL MJ","Accumulo   litri","Dest. Calore","Solar Keymrk","Tipo impianto sost."]
[null,null,null,null,null,null,null,null,{"$f":"G192*H192","v":0},"-","-"]
[null,null,null,null,null,null,null,null,{"$f":"G193*H193","v":0},"-","-",null,"-","-",null,null,"-","-","-"]
[null,null,null,null,null,null,null,null,{"$f":"G194*H194","v":0},"-","-",null,"-","-",null,null,"-","-","-"]
[null,null,null,null,null,null,null,null,{"$f":"G195*H195","v":0},"-","-",null,"-","-",null,null,"-","-","-"]
[]
[null,"Spesa Massima Ammissibile per ST) Collettori Solari",null,null,null,null,null,null,null,{"$f":"'Computo-Massimali'!R32","v":54545}]
[null,"Spese Previste in progetto per ST) Collettori Solari",null,null,null,null,null,null,null,{"$f":"'Computo-Massimali'!L32","v":0}]
[null,"Spesa Ammessa",null,null,null,null,null,null,null,{"$f":"IF(J198<J197,J198,J197)","v":0}]
[null,null,null,null,null,"SAL 30%",null,"SAL 60%",null,"SAL FINALE"]
[null,"Costo Lavori Realizzati",null,null,null,{"$f":"'SAL.30%'!L32","v":0},null,{"$f":"'SAL.60%'!L32","v":0},null,{"$f":"SAL.Finale!L32","v":0}]
[null,"di cui ammessi",null,null,null,{"$f":"IF(F201<J199,F201,J199)","v":0},null,{"$f":"IF(H201<J199,H201,J199)","v":0},null,{"$f":"IF(J201<J199,J201,J199)","v":0}]
[null,"Risparmio di energia primaria non rinnovabile di progetto    [kWh/anno]"]
[]
[]
[]
[]
[]
[]
[]
[null,"FV) Fotovoltaico",null,null,null,null,"Codice POD",null,null,"Potenza Picco kW"]
[]
[]
[]
[null,"Spesa Massima Ammissibile per FV) Fotovoltaico",null,null,null,null,null,null,null,{"$f":"'Computo-Massimali'!R33","v":9600}]
[null,"Spese Previste in progetto per FV) Fotovoltaico",null,null,null,null,null,null,null,{"$f":"'Computo-Massimali'!L33","v":0}]
[null,"Spesa Ammessa",null,null,null,null,null,null,null,{"$f":"IF(J216<J215,J216,J215)","v":0}]
[null,null,null,null,null,"SAL 30%",null,"SAL 60%",null,"SAL FINALE"]
[null,"Costo Lavori Realizzati",null,null,null,{"$f":"'SAL.30%'!L33","v":0},null,{"$f":"'SAL.60%'!L33","v":0},null,{"$f":"SAL.Finale!L33","v":0}]
[null,"di cui ammessi",null,null,null,{"$f":"IF(F219<J217,F219,J217)","v":0},null,{"$f":"IF(H219<J217,H219,J217)","v":0},null,{"$f":"IF(J219<J217,J219,J217)","v":0}]
[]
[null,"AC) Sistema di Accumulo",null,null,null,null,null,null,null,"Capacità kWh"]
[]
[]
[]
[null,"Spesa Massima Ammissibile perAC) Sistema di Accumulo",null,null,null,null,null,null,null,{"$f":"'Computo-Massimali'!R34","v":10000}]
[null,"Spese Previste in progetto per AC) Sistema di Accumulo",null,null,null,null,null,null,null,{"$f":"'Computo-Massimali'!L34","v":0}]
[null,"Spesa Ammessa",null,null,null,null,null,null,null,{"$f":"IF(J227<J226,J227,J226)","v":0}]
[null,null,null,null,null,"SAL 30%",null,"SAL 60%",null,"SAL FINALE"]
[null,"Costo Lavori Realizzati",null,null,null,{"$f":"'SAL.30%'!L34","v":0},null,{"$f":"'SAL.60%'!L34","v":0},null,{"$f":"SAL.Finale!L34","v":0}]
[null,"di cui ammessi",null,null,null,{"$f":"IF(F230<J228,F230,J228)","v":0},null,{"$f":"IF(H230<J228,H230,J228)","v":0},null,{"$f":"IF(J230<J228,J230,J228)","v":0}]
[]
[null,"CR) Infrastrutture per la ricarica dei veicoli elettrici"]
[null,null,null,null,null,null,null,null,null,0]
[]
[]
[null,"Spesa Massima Ammissibile per CR) Colonnine di Ricarica",null,null,null,null,null,null,null,{"$f":"'Computo-Massimali'!R35","v":1500}]
[null,"Spese Previste in progetto per CR) Colonnine di Ricarica",null,null,null,null,null,null,null,{"$f":"'Computo-Massimali'!L35","v":0}]
[null,"Spesa Ammessa",null,null,null,null,null,null,null,{"$f":"IF(J238<J237,J238,J237)","v":0}]
[null,null,null,null,null,"SAL 30%",null,"SAL 60%",null,"SAL FINALE"]
[null,"Costo Lavori Realizzati",null,null,null,{"$f":"'SAL.30%'!L35","v":0},null,{"$f":"'SAL.60%'!L35","v":0},null,{"$f":"SAL.Finale!L35","v":0}]
[null,"di cui ammessi",null,null,null,{"$f":"IF(F241<J239,F241,J239)","v":0},null,{"$f":"IF(H241<J239,H241,J239)","v":0},null,{"$f":"IF(J241<J239,J241,J239)","v":0}]
[]
[null,"EBA) Barriere Architettoniche"]
[null,null,null,null,null,null,null,null,null,0]
[]
[]
[null,"Spesa Massima Ammissibile per EBA) Barriere Architettoniche",null,null,null,null,null,null,null,{"$f":"'Computo-Massimali'!R36","v":96000}]
[null,"Spese Previste in progetto per EBA) Barriere Architettoniche",null,null,null,null,null,null,null,{"$f":"'Computo-Massimali'!L36","v":0}]
[null,"Spesa Ammessa",null,null,null,null,null,null,null,{"$f":"IF(J249<J248,J249,J248)","v":0}]
[null,null,null,null,null,"SAL 30%",null,"SAL 60%",null,"SAL FINALE"]
[null,"Costo Lavori Realizzati",null,null,null,{"$f":"'SAL.30%'!L36","v":0},null,{"$f":"'SAL.60%'!L36","v":0},null,{"$f":"SAL.Finale!L36","v":0}]
[null,"di cui ammessi",null,null,null,{"$f":"IF(F252<J250,F252,J250)","v":0},null,{"$f":"IF(H252<J250,H252,J250)","v":0},null,{"$f":"IF(J252<J250,J252,J250)","v":0}]
[]
[]
[]
[null,"INTERVENTI TRAINATI Unità Immobiliare"]
[]
[null,"intervento di isolamento termico delle superfici opache verticali e orizzontali: PV)Pareti Verticali; PO)Coperture; PS)Pavimenti"]
[null,"Descrizione",null,null,null,null,"Superficie mq","Trasm. Ante","Trasm. Post","Trasm.P. YIE","Confine","Coiben-tazione","Realizzati mq"]
[null,null,null,null,null,null,null,null,null,null,null,null,"SAL.30%","SAL.60%","SAL.FIN."]
[]
[]
[]
[]
[]
[]
[null,null,null,null,null,null,null,null,null,null,"-","-"]
[null,null,null,null,null,null,null,null,null,null,"-","-"]
[null,null,null,null,null,null,null,null,null,null,"-","-"]
[null,"Superficie Totale disperdente oggetto di intervento                              [mq]",null,null,null,null,null,null,null,{"$f":"SUM(G262:G270)","v":0}]
[null,"Risparmio di energia primaria non rinnovabile di progetto    [kWh/anno]",null,null,null,null,null,null,null,10885]
[]
[null,"Sostituzione degli infissi "]
[null,"Descrizione",null,null,null,null,"Telaio Prima","Vetro Prima",null,"Trasm. Ante","Superfice mq","Telaio Dopo","Vetro Dopo",null,"Trasm. Post","Chius. Oscura"]
[]
[]
[]
[null,null,null,null,null,null,"-","-",null,null,null,"-","-"]
[null,null,null,null,null,null,"-","-",null,null,null,"-","-"]
[null,null,null,null,null,null,"-","-",null,null,null,"-","-"]
[null,null,null,null,null,null,"-","-",null,null,null,"-","-"]
[null,"Risparmio di energia primaria non rinnovabile di progetto    [kWh/anno]"]
[]
[null,"Isolamento termico sup. verticali , orizzontali e Sostituzione Infissi"]
[null,"Spesa Massima Ammissibile ",null,null,null,null,null,null,null,{"$f":"'Computo-Massimali'!R46","v":54545}]
[null,"Costo Complessivo Previsto in progetto",null,null,null,null,null,null,null,{"$f":"'Computo-Massimali'!L46","v":0}]
[null,"Spesa Ammessa",null,null,null,null,null,null,null,{"$f":"IF(J287<J286,J287,J286)","v":0}]
[null,null,null,null,null,"SAL 30%",null,"SAL 60%",null,"SAL FINALE"]
[null,"Costo Lavori Realizzati",null,null,null,{"$f":"'SAL.30%'!L46","v":0},null,{"$f":"'SAL.60%'!L46","v":0},null,{"$f":"SAL.Finale!L46","v":0}]
[null,"di cui ammessi",null,null,null,{"$f":"IF(F290<J288,F290,J288)","v":0},null,{"$f":"IF(H290<J288,H290,J288)","v":0},null,{"$f":"IF(J290<J288,J290,J288)","v":0}]
[]
[]
[null,"SS) Schermature solari e chiusure oscuranti"]
[null,"Descrizione",null,null,null,null,"Tipo Schermatura","Installazione",null,"Superf. Schermatura","Superfice finestra protetta","Resistenza term. suppl m2K/W","Orientamento","Tipo Calcolo",null,"gtot","Materiale schermatura",null,"Meccan. Regolaz."]
[null,null,null,null,null,null,"-","-",null,null,null,null,"-","-",null,null,"-",null,"-"]
[null,null,null,null,null,null,"-","-",null,null,null,null,"-","-",null,null,"-",null,"-"]
[null,null,null,null,null,null,"-","-",null,null,null,null,"-","-",null,null,"-",null,"-"]
[null,null,null,null,null,null,"-","-",null,null,null,null,"-","-",null,null,"-",null,"-"]
[null,null,null,null,null,null,"-","-",null,null,null,null,"-","-",null,null,"-",null,"-"]
[null,"Spesa Massima Ammissibile ",null,null,null,null,null,null,null,{"$f":"'Computo-Massimali'!R47","v":54545}]
[null,"Costo Complessivo Previsto in progetto",null,null,null,null,null,null,null,{"$f":"'Computo-Massimali'!L47","v":0}]
[null,"Spesa Ammessa",null,null,null,null,null,null,null,{"$f":"IF(J302<J301,J302,J301)","v":0}]
[null,null,null,null,null,"SAL 30%",null,"SAL 60%",null,"SAL FINALE"]
[null,"Costo Lavori Realizzati",null,null,null,{"$f":"'SAL.30%'!L47","v":0},null,{"$f":"'SAL.60%'!L47","v":0},null,{"$f":"SAL.Finale!L47","v":0}]
[null,"di cui ammessi",null,null,null,{"$f":"IF(F305<J303,F305,J303)","v":0},null,{"$f":"IF(H305<J303,H305,J303)","v":0},null,{"$f":"IF(J305<J303,J305,J303)","v":0}]
[null,"Risparmio di energia primaria non rinnovabile di progetto    [kWh/anno]"]
[]
[null,"Impianti"]
[null,"CC) Caldaie a condensazione",null,null,null,null,"Tipo Sostituito","P.Nom Sostituito","P.Nom kW","Rendim Util Nomin. 100%","Destinata","Efficienza  Riscaldam. hs","Efficienza  ACS     hw","Tipo Aliment.","Classe Dispositivo Termoreg. Evoluto"]
[null,null,null,null,null,null,"-",null,null,null,"-",null,null,"-","-"]
[null,null,null,null,null,null,"-",null,null,null,"-",null,null,"-","-",null,null,null,null,null,null,"Tipo Generatore"]
[null,null,null,null,null,null,null,null,null,null,null,null,null,null,null,null,null,null,null,null,null,"-"]
[null,"GA) Generatori di aria calda a condensazione",null,null,null,null,"Tipo Sostituito","P.Nom Sostituito","P.Nom kW","Rendim Util Nomin. 100%","Tipo Aliment.",null,null,null,null,null,null,null,null,null,null,"Caldaia"]
[null,null,null,null,null,null,"-",null,null,null,"-",null,null,null,null,null,null,null,null,null,null,"Stufe"]
[null,null,null,null,null,null,"-",null,null,null,"-",null,null,null,null,null,null,null,null,null,null,"Camini"]
[null,null,null,null,null,null,null,null,null,null,null,null,null,null,null,null,null,null,null,null,null,"Termostufe"]
[null,"PC) Pompe di calore (PDC) a compressione di vapore elettriche anche sonde geotermiche",null,null,null,null,"Tipo Sostituito","P.Nom Sostituito","Tipo PDC","Tipo Roof Top","P.Nom kW","Pot. El. Assorb kW","Inverter","COP","Reversibile","Sonde Geotermiche","Sup. Riscald. dalla PDC",null,null,null,null,"Cucine a legna"]
[null,null,null,null,null,null,"-",null,"-","-",null,null,"-",null,"-","-"]
[null,null,null,null,null,null,"-",null,"-","-",null,null,"-",null,"-","-"]
[]
[]
[null,"PCA) Pompe di calore a gas ad assorbimento o a compressione di vapore azionate da motore primo",null,null,null,null,"Tipo Sostituito","P.Nom Sostituito","Tipo PDC","Tipo Roof Top","P.Nom kW","Inverter","GUEh","Reversibile","GUEc","Sup. Riscald. Dalla PDC"]
[null,null,null,null,null,null,"-",null,"-","-",null,"-",null,"-"]
[null,null,null,null,null,null,"-",null,"-","-",null,"-",null,"-"]
[]
[null,"SI) Sistemi Ibridi",null,null,null,null,"Tipo Sostituito","P.Nom Sostituito","Caldaia a Condensazione",null,null,null,"Pompa di Calore"]
[null,null,null,null,null,null,null,null,"P.Nom kW","Rendim Nomin. 100%","Efficienza  Riscaldam. hs","Tipo Aliment.","Tipo PDC","Tipo Roof Top","P.Nom    kW","Pot. El. Assorb kW","COP","Inverter","Sonde Geotermiche",null,null,"Tipo Sostituito"]
[null,null,null,null,null,1,null,null,null,null,null,null,null,null,null,null,null,null,null,null,null,"-"]
[null,null,null,null,null,2,null,null,null,null,null,null,null,null,null,null,null,null,null,null,null,"Caldaia Standard"]
[null,null,null,null,null,3,"-",null,null,null,null,"-","-","-",null,null,null,"-","-",null,null,"Caldaia Bassa Temperatura"]
[null,null,null,null,null,4,"-",null,null,null,null,"-","-","-",null,null,null,"-","-",null,null,"Caldaia a Condensazione Gas"]
[]
[null,"SA) Scaldacqua a pompa di calore",null,null,null,null,"Tipo Sostituito","Pu. scald. sostituito kW","Pu. scald. PDC  kW","COP nuovo scald.","Capacità accumulo litri"]
[null,null,null,null,null,null,"-"]
[null,null,null,null,null,null,"-"]
[]
[null,"Spesa Massima Ammissibile per Impianti CC) GA) PC) PCA) SI) ed SA)",null,null,null,null,null,null,null,{"$f":"'Computo-Massimali'!R50","v":27272}]
[null,"Spese Previste in progetto per Impianti CC) GA) PC) PCA) SI) ed SA)",null,null,null,null,null,null,null,{"$f":"'Computo-Massimali'!L50","v":0}]
[null,"Spesa Ammessa",null,null,null,null,null,null,null,{"$f":"IF(J339<J338,J339,J338)","v":0}]
[null,null,null,null,null,"SAL 30%",null,"SAL 60%",null,"SAL FINALE"]
[null,"Costo Lavori Realizzati",null,null,null,{"$f":"'SAL.30%'!L50","v":0},null,{"$f":"'SAL.60%'!L50","v":0},null,{"$f":"SAL.Finale!L50","v":0}]
[null,"di cui ammessi",null,null,null,{"$f":"IF(F342<J340,F342,J340)","v":0},null,{"$f":"IF(H342<J340,H342,J340)","v":0},null,{"$f":"IF(J342<J340,J342,J340)","v":0}]
[null,"Risparmio di energia primaria non rinnovabile di progetto    [kWh/anno]"]
[]
[]
[]
[null,"CO) Sistemi microcogenerazione ",null,null,null,null,"Tipo Sostituito","P.Nom Sostituito","Pot. Elettr. kW","Pot. Immes. kW","Pot. Term. Rec. kW","PES %","Tipo Aliment.","Tipo Intervent","a Celle Combust.","Riscaldatore Supplement.","P.Risc. Supp kW","Efficienz hs %","Classe Energet"]
[null,null,null,null,null,null,"-",null,null,null,null,null,"-","-","-","-",null,null,"-"]
[null,null,null,null,null,null,"-",null,null,null,null,null,"-","-","-","-",null,null,"-"]
[]
[null,"Spesa Massima Ammissibile per CO) Sistemi Microgenerazione",null,null,null,null,null,null,null,{"$f":"'Computo-Massimali'!R51","v":90909}]
[null,"Spese Previste in progetto per CO) Microgenerazione",null,null,null,null,null,null,null,{"$f":"'Computo-Massimali'!L51","v":0}]
[null,"Spesa Ammessa",null,null,null,null,null,null,null,{"$f":"IF(J353<J352,J353,J352)","v":0}]
[null,null,null,null,null,"SAL 30%",null,"SAL 60%",null,"SAL FINALE"]
[null,"Costo Lavori Realizzati",null,null,null,{"$f":"'SAL.30%'!L51","v":0},null,{"$f":"'SAL.60%'!L51","v":0},null,{"$f":"SAL.Finale!L51","v":0}]
[null,"di cui ammessi",null,null,null,{"$f":"IF(F356<J354,F356,J354)","v":0},null,{"$f":"IF(H356<J354,H356,J354)","v":0},null,{"$f":"IF(J356<J354,J356,J354)","v":0}]
[null,"Risparmio di energia primaria non rinnovabile di progetto    [kWh/anno]"]
[]
[]
[null,"IB) Generatori a biomassa installazione, di impianti di climatizzazione invernale dotati di generatori di calore alimentati da biomasse combustibili ",null,null,null,null,"Tipo Sostituito","P.Nom Sostituito","Classe Gener. re","Tipo Generatore",null,"Impianto destinato a","Tipo Aliment.","P.u.      kW","P. al focolare kW","Rendimento a P. nom.","Sup. Riscald mq",null,null," "]
[null,null,null,null,null,null,"-",null,"-",null,null,"-","-"]
[null,null,null,null,null,null,"-",null,"-",null,null,"-","-"]
[]
[null,"Spesa Massima Ammissibile per IB) Generatori a biomassa",null,null,null,null,null,null,null,{"$f":"'Computo-Massimali'!R52","v":27272}]
[null,"Spese Previste in progetto per IB) Generatori a biomassa",null,null,null,null,null,null,null,{"$f":"'Computo-Massimali'!L52","v":0}]
[null,"Spesa Ammessa",null,null,null,null,null,null,null,{"$f":"IF(J366<J365,J366,J365)","v":0}]
[null,null,null,null,null,"SAL 30%",null,"SAL 60%",null,"SAL FINALE"]
[null,"Costo Lavori Realizzati",null,null,null,{"$f":"'SAL.30%'!L52","v":0},null,{"$f":"'SAL.60%'!L52","v":0},null,{"$f":"SAL.Finale!L52","v":0}]
[null,"di cui ammessi",null,null,null,{"$f":"IF(F369<J367,F369,J367)","v":0},null,{"$f":"IF(H369<J367,H369,J367)","v":0},null,{"$f":"IF(J369<J367,J369,J367)","v":0}]
[null,"Risparmio di energia primaria non rinnovabile di progetto    [kWh/anno]"]
[]
[]
[null,"BA) Building Automation",null,null,null,null,"Controllo Climatizzaz. Invernale","Controllo Climatizz. Estiva","Controllo ACS","Classe Sistema Esistente",null,"Classe Sistema Dopo interv.","Superfici Ambienti Contr."]
[]
[null,null,null,null,null,null,"-","-","-",null,null,"-"]
[]
[null,"Spesa Massima Ammissibile per BA) Building Automation",null,null,null,null,null,null,null,{"$f":"'Computo-Massimali'!R53","v":13636.363636363636}]
[null,"Spese Previste in progetto per BA) Building Automation",null,null,null,null,null,null,null,{"$f":"'Computo-Massimali'!L53","v":0}]
[null,"Spesa Ammessa",null,null,null,null,null,null,null,{"$f":"IF(J379<J378,J379,J378)","v":0}]
[null,null,null,null,null,"SAL 30%",null,"SAL 60%",null,"SAL FINALE"]
[null,"Costo Lavori Realizzati",null,null,null,{"$f":"'SAL.30%'!L53","v":0},null,{"$f":"'SAL.60%'!L53","v":0},null,{"$f":"SAL.Finale!L53","v":0}]
[null,"di cui ammessi",null,null,null,{"$f":"IF(F382<J380,F382,J380)","v":0},null,{"$f":"IF(H382<J380,H382,J380)","v":0},null,{"$f":"IF(J382<J380,J382,J380)","v":0}]
[null,"Risparmio di energia primaria non rinnovabile di progetto    [kWh/anno]"]
[]
[]
[null,"ST) Collettori Solari",null,null,null,null,"Sup lorda Ag singolo modulo","N. di moduli","S.tot","Tipo di colllettori","Tipo di installazione","Inclinaz. %","Orientamento","Factory Made","Qcol / Qsol kWht  oppure    QL MJ","Accumulo   litri","Dest. Calore","Solar Keymrk","Tipo impianto sost."]
[null,null,null,null,null,null,null,null,{"$f":"G388*H388","v":0}]
[null,null,null,null,null,null,null,null,{"$f":"G389*H389","v":0},"-","-",null,"-","-",null,null,"-","-","-"]
[]
[null,"Spesa Massima Ammissibile per ST) Collettori Solari",null,null,null,null,null,null,null,{"$f":"'Computo-Massimali'!R54","v":54545}]
[null,"Spese Previste in progetto per ST) Collettori Solari",null,null,null,null,null,null,null,{"$f":"'Computo-Massimali'!L54","v":0}]
[null,"Spesa Ammessa",null,null,null,null,null,null,null,{"$f":"IF(J392<J391,J392,J391)","v":0}]
[null,null,null,null,null,"SAL 30%",null,"SAL 60%",null,"SAL FINALE"]
[null,"Costo Lavori Realizzati",null,null,null,{"$f":"'SAL.30%'!L54","v":0},null,{"$f":"'SAL.60%'!L54","v":0},null,{"$f":"SAL.Finale!L54","v":0}]
[null,"di cui ammessi",null,null,null,{"$f":"IF(F395<J393,F395,J393)","v":0},null,{"$f":"IF(H395<J393,H395,J393)","v":0},null,{"$f":"IF(J395<J393,J395,J393)","v":0}]
[null,"Risparmio di energia primaria non rinnovabile di progetto    [kWh/anno]"]
[]
[]
[null,"FV) Fotovoltaico",null,null,null,null,"Codice POD",null,"Potenza Picco kW"]
[]
[]
[]
[null,"Spesa Massima Ammissibile per FV) Fotovoltaico",null,null,null,null,null,null,null,{"$f":"'Computo-Massimali'!R55","v":14400}]
[null,"Spese Previste in progetto per FV) Fotovoltaico",null,null,null,null,null,null,null,{"$f":"'Computo-Massimali'!L55","v":0}]
[null,"Spesa Ammessa",null,null,null,null,null,null,null,{"$f":"IF(J405<J404,J405,J404)","v":0}]
[null,null,null,null,null,"SAL 30%",null,"SAL 60%",null,"SAL FINALE"]
[null,"Costo Lavori Realizzati",null,null,null,{"$f":"'SAL.30%'!L55","v":0},null,{"$f":"'SAL.60%'!L55","v":0},null,{"$f":"SAL.Finale!L55","v":0}]
[null,"di cui ammessi",null,null,null,{"$f":"IF(F408<J406,F408,J406)","v":0},null,{"$f":"IF(H408<J406,H408,J406)","v":0},null,{"$f":"IF(J408<J406,J408,J406)","v":0}]
[]
[]
[null,"AC) Sistema di Accumulo",null,null,null,null,"Capacità kWh"]
[]
[]
[]
[null,"Spesa Massima Ammissibile perAC) Sistema di Accumulo",null,null,null,null,null,null,null,{"$f":"'Computo-Massimali'!R56","v":10000}]
[null,"Spese Previste in progetto per AC) Sistema di Accumulo",null,null,null,null,null,null,null,{"$f":"'Computo-Massimali'!L56","v":0}]
[null,"Spesa Ammessa",null,null,null,null,null,null,null,{"$f":"IF(J417<J416,J417,J416)","v":0}]
[null,null,null,null,null,"SAL 30%",null,"SAL 60%",null,"SAL FINALE"]
[null,"Costo Lavori Realizzati",null,null,null,{"$f":"'SAL.30%'!L56","v":0},null,{"$f":"'SAL.60%'!L56","v":0},null,{"$f":"SAL.Finale!L56","v":0}]
[null,"di cui ammessi",null,null,null,{"$f":"IF(F420<J418,F420,J418)","v":0},null,{"$f":"IF(H420<J418,H420,J418)","v":0},null,{"$f":"IF(J420<J418,J420,J418)","v":0}]
[]
[null,"CR) Infrastrutture per la ricarica dei veicoli elettrici"]
[null,null,null,null,null,null,0]
[]
[]
[null,"Spesa Massima Ammissibile per CR) Colonnine di Ricarica",null,null,null,null,null,null,null,{"$f":"'Computo-Massimali'!R57","v":1500}]
[null,"Spese Previste in progetto per CR) Colonnine di Ricarica",null,null,null,null,null,null,null,{"$f":"'Computo-Massimali'!L57","v":0}]
[null,"Spesa Ammessa",null,null,null,null,null,null,null,{"$f":"IF(J428<J427,J428,J427)","v":0}]
[null,null,null,null,null,"SAL 30%",null,"SAL 60%",null,"SAL FINALE"]
[null,"Costo Lavori Realizzati",null,null,null,{"$f":"'SAL.30%'!L57","v":0},null,{"$f":"'SAL.60%'!L57","v":0},null,{"$f":"SAL.Finale!L57","v":0}]
[null,"di cui ammessi",null,null,null,{"$f":"IF(F431<J429,F431,J429)","v":0},null,{"$f":"IF(H431<J429,H431,J429)","v":0},null,{"$f":"IF(J431<J429,J431,J429)","v":0}]

{"sheet":"Fatture","index":9,"n_rows":49,"n_cols":30,"rows_kept":49,"cut":false,"hidden":false,"merged":[[46,1,46,2],[46,3,46,12],[39,11,39,12],[40,11,40,12],[41,11,41,12],[42,11,42,12],[43,11,43,12],[45,1,45,2],[45,3,45,12],[36,28,37,28],[36,29,37,29],[37,2,37,5],[37,6,37,7],[37,8,37,9],[38,1,38,12],[35,2,35,5],[35,6,35,7],[35,8,35,9],[36,2,36,5],[36,6,36,7],[36,8,36,9],[33,2,33,5],[33,6,33,7],[33,8,33,9],[34,2,34,5],[34,6,34,7],[34,8,34,9],[31,2,31,5],[31,6,31,7],[31,8,31,9],[32,2,32,5],[32,6,32,7],[32,8,32,9],[29,2,29,5],[29,6,29,7],[29,8,29,9],[30,2,30,5],[30,6,30,7],[30,8,30,9],[27,2,27,5],[27,6,27,7],[27,8,27,9],[28,2,28,5],[28,6,28,7],[28,8,28,9],[25,2,25,5],[25,6,25,7],[25,8,25,9],[26,2,26,5],[26,6,26,7],[26,8,26,9],[23,2,23,5],[23,6,23,7],[23,8,23,9],[24,2,24,5],[24,6,24,7],[24,8,24,9],[21,2,21,5],[21,6,21,7],[21,8,21,9],[22,2,22,5],[22,6,22,7],[22,8,22,9],[19,2,19,5],[19,6,19,7],[19,8,19,9],[20,2,20,5],[20,6,20,7],[20,8,20,9],[17,2,17,5],[17,6,17,7],[17,8,17,9],[18,2,18,5],[18,6,18,7],[18,8,18,9],[15,2,15,5],[15,6,15,7],[15,8,15,9],[16,2,16,5],[16,6,16,7],[16,8,16,9],[13,2,13,5],[13,6,13,7],[13,8,13,9],[14,2,14,5],[14,6,14,7],[14,8,14,9],[11,2,11,5],[11,6,11,7],[11,8,11,9],[12,2,12,5],[12,6,12,7],[12,8,12,9],[8,1,8,12],[9,2,9,5],[9,6,9,7],[9,8,9,9],[10,2,10,5],[10,6,10,7],[10,8,10,9],[6,1,6,2],[6,3,6,4],[6,5,6,12],[7,1,7,2],[7,3,7,4],[7,5,7,12],[4,1,4,2],[4,3,4,6],[4,10,4,12],[5,1,5,2],[5,3,5,6],[5,10,5,12],[1,1,1,2],[1,3,1,6],[1,7,5,7],[1,10,1,12],[2,1,2,2],[2,3,2,6],[2,10,2,12],[3,1,3,2],[3,3,3,6],[3,10,3,12]]}
[]
[null,"Fornitore",null,"SIM srl",null,null,null,null," Cliente",null,"Tizio Caio",null,null,null,"Fattura Fornitore"]
[null,"Indirizzo",null,null,null,null,null,null," Indirizzo"]
[null,"Città",null,null,null,null,null,null," Città",null,"  "]
[null,"CF./P.Iva",null,null,null,null,null,null," C.F. : "]
[null,"Tel./Mail",null," / "]
[null,"FATTURA N.",null,null,null,"Oggetto Lavori"]
[null,"DATA",null,"2022-01-12",null,"SAL N.1 a tutto il 24/04/2021"]
[null,"Cessione del 100% (sconto in fattura praticato ai sensi dell'art.121 DL.34/2020 e smi",null,null,null,null,null,null,null,null,null,null,null,null,null,null,null,null,null,{"$f":"'Dati Gen'!D44","v":"SI"},{"$f":"'Dati Gen'!D45","v":"NO"},{"$f":"'Dati Gen'!D46","v":"NO"},{"$f":"'Dati Gen'!D47","v":"NO"},{"$f":"'Dati Gen'!D48","v":"NO"},{"$f":"'Dati Gen'!D49","v":"NO"},{"$f":"'Dati Gen'!D50","v":"NO"},"SI","NO"]
[null,null,"DESCRIZIONE",null,null,null,"QUANTITA'",null,"PREZZO",null,"SC./MG.","IMPORTO","%IVA",null,"Importo Iva","Tot.Rigo","Spesa Ammessa","Sconto","Spese Tecniche",{"$f":"IF('Dati Gen'!B44<>\"\",'Dati Gen'!B44,\"\")","v":"Ingegnere 1"},{"$f":"IF('Dati Gen'!B45<>\"\",'Dati Gen'!B45,\"\")","v":"Dott. Igor"},{"$f":"IF('Dati Gen'!B46<>\"\",'Dati Gen'!B46,\"\")","v":""},{"$f":"IF('Dati Gen'!B47<>\"\",'Dati Gen'!B47,\"\")","v":""},{"$f":"IF('Dati Gen'!B48<>\"\",'Dati Gen'!B48,\"\")","v":""},{"$f":"IF('Dati Gen'!B49<>\"\",'Dati Gen'!B49,\"\")","v":""},{"$f":"IF('Dati Gen'!B50<>\"\",'Dati Gen'!B50,\"\")","v":""},{"$f":"IF('Dati Gen'!B51<>\"\",'Dati Gen'!B51,\"\")","v":""}]
[null,{"$f":"IF(C11<>\"\",1,\"\")","v":1},"INTERVENTI TRAINANTI",null,null,null,null,null,null,null,null,{"$f":"IF(I11<>\"\",G11*I11,\"\")","v":""},null,null,{"$f":"IF(L11<>\"\",L11*M11,0)","v":0},{"$f":"IF(L11<>\"\",O11+L11,0)","v":0},0,{"$f":"IF(P11<Q11,P11,Q11)","v":0},0,{"$f":"$S11*'SAL.30%'!AF$128","v":0},{"$f":"$S11*'SAL.30%'!AG$128","v":0},{"$f":"$S11*'SAL.30%'!AH$128","v":0},{"$f":"$S11*'SAL.30%'!AI$128","v":0},{"$f":"$S11*'SAL.30%'!AJ$128","v":0},{"$f":"$S11*'SAL.30%'!AK$128","v":0},{"$f":"$S11*'SAL.30%'!AL$128","v":0},{"$f":"$S11*'SAL.30%'!AM$128","v":0},{"$f":"$S11*'SAL.30%'!AN$128","v":0}]
[null,{"$f":"IF(C12<>\"\",B11+1,\"\")","v":2},"Versione Demo",null,null,null,1,null,705.5474853515625,null,null,{"$f":"IF(I12<>\"\",G12*I12,\"\")","v":705.5474853515625},0.10000000149011612,null,{"$f":"IF(L12<>\"\",L12*M12,0)","v":70.554749586503931},{"$f":"IF(L12<>\"\",O12+L12,0)","v":776.10223493806643},1100,{"$f":"IF(P12<Q12,P12,Q12)","v":776.10223493806643},0,{"$f":"$S12*'SAL.30%'!AF$128","v":0},{"$f":"$S12*'SAL.30%'!AG$128","v":0},{"$f":"$S12*'SAL.30%'!AH$128","v":0},{"$f":"$S12*'SAL.30%'!AI$128","v":0},{"$f":"$S12*'SAL.30%'!AJ$128","v":0},{"$f":"$S12*'SAL.30%'!AK$128","v":0},{"$f":"$S12*'SAL.30%'!AL$128","v":0},{"$f":"$S12*'SAL.30%'!AM$128","v":0},{"$f":"$S12*'SAL.30%'!AN$128","v":0}]
[null,"",null,null,null,null,null,null,null,null,null,"",null,null,0,{"$f":"IF(L13<>\"\",O13+L13,0)","v":0},0,0,0,{"$f":"$S13*'SAL.30%'!AF$128","v":0},{"$f":"$S13*'SAL.30%'!AG$128","v":0},{"$f":"$S13*'SAL.30%'!AH$128","v":0},{"$f":"$S13*'SAL.30%'!AI$128","v":0},{"$f":"$S13*'SAL.30%'!AJ$128","v":0},{"$f":"$S13*'SAL.30%'!AK$128","v":0},{"$f":"$S13*'SAL.30%'!AL$128","v":0},{"$f":"$S13*'SAL.30%'!AM$128","v":0},{"$f":"$S13*'SAL.30%'!AN$128","v":0}]
[null,"",null,null,null,null,null,null,null,null,null,"",null,null,0,0,0,0,0,{"$f":"$S14*'SAL.30%'!AF$128","v":0},{"$f":"$S14*'SAL.30%'!AG$128","v":0},{"$f":"$S14*'SAL.30%'!AH$128","v":0},{"$f":"$S14*'SAL.30%'!AI$128","v":0},{"$f":"$S14*'SAL.30%'!AJ$128","v":0},{"$f":"$S14*'SAL.30%'!AK$128","v":0},{"$f":"$S14*'SAL.30%'!AL$128","v":0},{"$f":"$S14*'SAL.30%'!AM$128","v":0},{"$f":"$S14*'SAL.30%'!AN$128","v":0}]
[null,"",null,null,null,null,null,null,null,null,null,"",null,null,0,0,0,0,0,{"$f":"$S15*'SAL.30%'!AF$128","v":0},{"$f":"$S15*'SAL.30%'!AG$128","v":0},{"$f":"$S15*'SAL.30%'!AH$128","v":0},{"$f":"$S15*'SAL.30%'!AI$128","v":0},{"$f":"$S15*'SAL.30%'!AJ$128","v":0},{"$f":"$S15*'SAL.30%'!AK$128","v":0},{"$f":"$S15*'SAL.30%'!AL$128","v":0},{"$f":"$S15*'SAL.30%'!AM$128","v":0},{"$f":"$S15*'SAL.30%'!AN$128","v":0}]
[null,"",null,null,null,null,null,null,null,null,null,"",null,null,0,0,0,0,0,{"$f":"$S16*'SAL.30%'!AF$128","v":0},{"$f":"$S16*'SAL.30%'!AG$128","v":0},{"$f":"$S16*'SAL.30%'!AH$128","v":0},{"$f":"$S16*'SAL.30%'!AI$128","v":0},{"$f":"$S16*'SAL.30%'!AJ$128","v":0},{"$f":"$S16*'SAL.30%'!AK$128","v":0},{"$f":"$S16*'SAL.30%'!AL$128","v":0},{"$f":"$S16*'SAL.30%'!AM$128","v":0},{"$f":"$S16*'SAL.30%'!AN$128","v":0}]
[null,"",null,null,null,null,null,null,null,null,null,"",null,null,0,0,0,0,0,{"$f":"$S17*'SAL.30%'!AF$128","v":0},{"$f":"$S17*'SAL.30%'!AG$128","v":0},{"$f":"$S17*'SAL.30%'!AH$128","v":0},{"$f":"$S17*'SAL.30%'!AI$128","v":0},{"$f":"$S17*'SAL.30%'!AJ$128","v":0},{"$f":"$S17*'SAL.30%'!AK$128","v":0},{"$f":"$S17*'SAL.30%'!AL$128","v":0},{"$f":"$S17*'SAL.30%'!AM$128","v":0},{"$f":"$S17*'SAL.30%'!AN$128","v":0}]
[null,"",null,null,null,null,null,null,null,null,null,"",null,null,0,0,0,0,0,{"$f":"$S18*'SAL.30%'!AF$128","v":0},{"$f":"$S18*'SAL.30%'!AG$128","v":0},{"$f":"$S18*'SAL.30%'!AH$128","v":0},{"$f":"$S18*'SAL.30%'!AI$128","v":0},{"$f":"$S18*'SAL.30%'!AJ$128","v":0},{"$f":"$S18*'SAL.30%'!AK$128","v":0},{"$f":"$S18*'SAL.30%'!AL$128","v":0},{"$f":"$S18*'SAL.30%'!AM$128","v":0},{"$f":"$S18*'SAL.30%'!AN$128","v":0}]
[null,"",null,null,null,null,null,null,null,null,null,"",null,null,0,0,0,0,0,{"$f":"$S19*'SAL.30%'!AF$128","v":0},{"$f":"$S19*'SAL.30%'!AG$128","v":0},{"$f":"$S19*'SAL.30%'!AH$128","v":0},{"$f":"$S19*'SAL.30%'!AI$128","v":0},{"$f":"$S19*'SAL.30%'!AJ$128","v":0},{"$f":"$S19*'SAL.30%'!AK$128","v":0},{"$f":"$S19*'SAL.30%'!AL$128","v":0},{"$f":"$S19*'SAL.30%'!AM$128","v":0},{"$f":"$S19*'SAL.30%'!AN$128","v":0}]
[null,"",null,null,null,null,null,null,null,null,null,"",null,null,0,0,0,0,0,{"$f":"$S20*'SAL.30%'!AF$128","v":0},{"$f":"$S20*'SAL.30%'!AG$128","v":0},{"$f":"$S20*'SAL.30%'!AH$128","v":0},{"$f":"$S20*'SAL.30%'!AI$128","v":0},{"$f":"$S20*'SAL.30%'!AJ$128","v":0},{"$f":"$S20*'SAL.30%'!AK$128","v":0},{"$f":"$S20*'SAL.30%'!AL$128","v":0},{"$f":"$S20*'SAL.30%'!AM$128","v":0},{"$f":"$S20*'SAL.30%'!AN$128","v":0}]
[null,"",null,null,null,null,null,null,null,null,null,"",null,null,0,0,0,0,0,{"$f":"$S21*'SAL.30%'!AF$128","v":0},{"$f":"$S21*'SAL.30%'!AG$128","v":0},{"$f":"$S21*'SAL.30%'!AH$128","v":0},{"$f":"$S21*'SAL.30%'!AI$128","v":0},{"$f":"$S21*'SAL.30%'!AJ$128","v":0},{"$f":"$S21*'SAL.30%'!AK$128","v":0},{"$f":"$S21*'SAL.30%'!AL$128","v":0},{"$f":"$S21*'SAL.30%'!AM$128","v":0},{"$f":"$S21*'SAL.30%'!AN$128","v":0}]
[null,"",null,null,null,null,null,null,null,null,null,"",null,null,0,0,0,0,0,{"$f":"$S22*'SAL.30%'!AF$128","v":0},{"$f":"$S22*'SAL.30%'!AG$128","v":0},{"$f":"$S22*'SAL.30%'!AH$128","v":0},{"$f":"$S22*'SAL.30%'!AI$128","v":0},{"$f":"$S22*'SAL.30%'!AJ$128","v":0},{"$f":"$S22*'SAL.30%'!AK$128","v":0},{"$f":"$S22*'SAL.30%'!AL$128","v":0},{"$f":"$S22*'SAL.30%'!AM$128","v":0},{"$f":"$S22*'SAL.30%'!AN$128","v":0}]
[null,"",null,null,null,null,null,null,null,null,null,"",null,null,0,0,0,0,0,{"$f":"$S23*'SAL.30%'!AF$128","v":0},{"$f":"$S23*'SAL.30%'!AG$128","v":0},{"$f":"$S23*'SAL.30%'!AH$128","v":0},{"$f":"$S23*'SAL.30%'!AI$128","v":0},{"$f":"$S23*'SAL.30%'!AJ$128","v":0},{"$f":"$S23*'SAL.30%'!AK$128","v":0},{"$f":"$S23*'SAL.30%'!AL$128","v":0},{"$f":"$S23*'SAL.30%'!AM$128","v":0},{"$f":"$S23*'SAL.30%'!AN$128","v":0}]
[null,"",null,null,null,null,null,null,null,null,null,"",null,null,0,0,0,0,0,{"$f":"$S24*'SAL.30%'!AF$128","v":0},{"$f":"$S24*'SAL.30%'!AG$128","v":0},{"$f":"$S24*'SAL.30%'!AH$128","v":0},{"$f":"$S24*'SAL.30%'!AI$128","v":0},{"$f":"$S24*'SAL.30%'!AJ$128","v":0},{"$f":"$S24*'SAL.30%'!AK$128","v":0},{"$f":"$S24*'SAL.30%'!AL$128","v":0},{"$f":"$S24*'SAL.30%'!AM$128","v":0},{"$f":"$S24*'SAL.30%'!AN$128","v":0}]
[null,"",null,null,null,null,null,null,null,null,null,"",null,null,0,0,0,0,0,{"$f":"$S25*'SAL.30%'!AF$128","v":0},{"$f":"$S25*'SAL.30%'!AG$128","v":0},{"$f":"$S25*'SAL.30%'!AH$128","v":0},{"$f":"$S25*'SAL.30%'!AI$128","v":0},{"$f":"$S25*'SAL.30%'!AJ$128","v":0},{"$f":"$S25*'SAL.30%'!AK$128","v":0},{"$f":"$S25*'SAL.30%'!AL$128","v":0},{"$f":"$S25*'SAL.30%'!AM$128","v":0},{"$f":"$S25*'SAL.30%'!AN$128","v":0}]
[null,"",null,null,null,null,null,null,null,null,null,"",null,null,0,0,0,0,0,{"$f":"$S26*'SAL.30%'!AF$128","v":0},{"$f":"$S26*'SAL.30%'!AG$128","v":0},{"$f":"$S26*'SAL.30%'!AH$128","v":0},{"$f":"$S26*'SAL.30%'!AI$128","v":0},{"$f":"$S26*'SAL.30%'!AJ$128","v":0},{"$f":"$S26*'SAL.30%'!AK$128","v":0},{"$f":"$S26*'SAL.30%'!AL$128","v":0},{"$f":"$S26*'SAL.30%'!AM$128","v":0},{"$f":"$S26*'SAL.30%'!AN$128","v":0}]
[null,"",null,null,null,null,null,null,null,null,null,"",null,null,0,0,0,0,0,{"$f":"$S27*'SAL.30%'!AF$128","v":0},{"$f":"$S27*'SAL.30%'!AG$128","v":0},{"$f":"$S27*'SAL.30%'!AH$128","v":0},{"$f":"$S27*'SAL.30%'!AI$128","v":0},{"$f":"$S27*'SAL.30%'!AJ$128","v":0},{"$f":"$S27*'SAL.30%'!AK$128","v":0},{"$f":"$S27*'SAL.30%'!AL$128","v":0},{"$f":"$S27*'SAL.30%'!AM$128","v":0},{"$f":"$S27*'SAL.30%'!AN$128","v":0}]
[null,"",null,null,null,null,null,null,null,null,null,"",null,null,0,0,0,0,0,{"$f":"$S28*'SAL.30%'!AF$128","v":0},{"$f":"$S28*'SAL.30%'!AG$128","v":0},{"$f":"$S28*'SAL.30%'!AH$128","v":0},{"$f":"$S28*'SAL.30%'!AI$128","v":0},{"$f":"$S28*'SAL.30%'!AJ$128","v":0},{"$f":"$S28*'SAL.30%'!AK$128","v":0},{"$f":"$S28*'SAL.30%'!AL$128","v":0},{"$f":"$S28*'SAL.30%'!AM$128","v":0},{"$f":"$S28*'SAL.30%'!AN$128","v":0}]
[null,"",null,null,null,null,null,null,null,null,null,"",null,null,0,0,0,0,0,{"$f":"$S29*'SAL.30%'!AF$128","v":0},{"$f":"$S29*'SAL.30%'!AG$128","v":0},{"$f":"$S29*'SAL.30%'!AH$128","v":0},{"$f":"$S29*'SAL.30%'!AI$128","v":0},{"$f":"$S29*'SAL.30%'!AJ$128","v":0},{"$f":"$S29*'SAL.30%'!AK$128","v":0},{"$f":"$S29*'SAL.30%'!AL$128","v":0},{"$f":"$S29*'SAL.30%'!AM$128","v":0},{"$f":"$S29*'SAL.30%'!AN$128","v":0}]
[null,"",null,null,null,null,null,null,null,null,null,"",null,null,0,0,0,0,0,{"$f":"$S30*'SAL.30%'!AF$128","v":0},{"$f":"$S30*'SAL.30%'!AG$128","v":0},{"$f":"$S30*'SAL.30%'!AH$128","v":0},{"$f":"$S30*'SAL.30%'!AI$128","v":0},{"$f":"$S30*'SAL.30%'!AJ$128","v":0},{"$f":"$S30*'SAL.30%'!AK$128","v":0},{"$f":"$S30*'SAL.30%'!AL$128","v":0},{"$f":"$S30*'SAL.30%'!AM$128","v":0},{"$f":"$S30*'SAL.30%'!AN$128","v":0}]
[null,"",null,null,null,null,null,null,null,null,null,"",null,null,0,0,0,0,0,{"$f":"$S31*'SAL.30%'!AF$128","v":0},{"$f":"$S31*'SAL.30%'!AG$128","v":0},{"$f":"$S31*'SAL.30%'!AH$128","v":0},{"$f":"$S31*'SAL.30%'!AI$128","v":0},{"$f":"$S31*'SAL.30%'!AJ$128","v":0},{"$f":"$S31*'SAL.30%'!AK$128","v":0},{"$f":"$S31*'SAL.30%'!AL$128","v":0},{"$f":"$S31*'SAL.30%'!AM$128","v":0},{"$f":"$S31*'SAL.30%'!AN$128","v":0}]
[null,"",null,null,null,null,null,null,null,null,null,"",null,null,0,0,0,0,0,{"$f":"$S32*'SAL.30%'!AF$128","v":0},{"$f":"$S32*'SAL.30%'!AG$128","v":0},{"$f":"$S32*'SAL.30%'!AH$128","v":0},{"$f":"$S32*'SAL.30%'!AI$128","v":0},{"$f":"$S32*'SAL.30%'!AJ$128","v":0},{"$f":"$S32*'SAL.30%'!AK$128","v":0},{"$f":"$S32*'SAL.30%'!AL$128","v":0},{"$f":"$S32*'SAL.30%'!AM$128","v":0},{"$f":"$S32*'SAL.30%'!AN$128","v":0}]
[null,"",null,null,null,null,null,null,null,null,null,"",null,null,0,0,0,0,0,{"$f":"$S33*'SAL.30%'!AF$128","v":0},{"$f":"$S33*'SAL.30%'!AG$128","v":0},{"$f":"$S33*'SAL.30%'!AH$128","v":0},{"$f":"$S33*'SAL.30%'!AI$128","v":0},{"$f":"$S33*'SAL.30%'!AJ$128","v":0},{"$f":"$S33*'SAL.30%'!AK$128","v":0},{"$f":"$S33*'SAL.30%'!AL$128","v":0},{"$f":"$S33*'SAL.30%'!AM$128","v":0},{"$f":"$S33*'SAL.30%'!AN$128","v":0}]
[null,"",null,null,null,null,null,null,null,null,null,"",null,null,0,0,0,0,0,{"$f":"$S34*'SAL.30%'!AF$128","v":0},{"$f":"$S34*'SAL.30%'!AG$128","v":0},{"$f":"$S34*'SAL.30%'!AH$128","v":0},{"$f":"$S34*'SAL.30%'!AI$128","v":0},{"$f":"$S34*'SAL.30%'!AJ$128","v":0},{"$f":"$S34*'SAL.30%'!AK$128","v":0},{"$f":"$S34*'SAL.30%'!AL$128","v":0},{"$f":"$S34*'SAL.30%'!AM$128","v":0},{"$f":"$S34*'SAL.30%'!AN$128","v":0}]
[null,"",null,null,null,null,null,null,null,null,null,"",null,null,0,0,0,0,0,{"$f":"$S35*'SAL.30%'!AF$128","v":0},{"$f":"$S35*'SAL.30%'!AG$128","v":0},{"$f":"$S35*'SAL.30%'!AH$128","v":0},{"$f":"$S35*'SAL.30%'!AI$128","v":0},{"$f":"$S35*'SAL.30%'!AJ$128","v":0},{"$f":"$S35*'SAL.30%'!AK$128","v":0},{"$f":"$S35*'SAL.30%'!AL$128","v":0},{"$f":"$S35*'SAL.30%'!AM$128","v":0},{"$f":"$S35*'SAL.30%'!AN$128","v":0}]
[null,"",null,null,null,null,null,null,null,null,null,"",null,null,0,0,0,0,0,{"$f":"$S36*'SAL.30%'!AF$128","v":0},{"$f":"$S36*'SAL.30%'!AG$128","v":0},{"$f":"$S36*'SAL.30%'!AH$128","v":0},{"$f":"$S36*'SAL.30%'!AI$128","v":0},{"$f":"$S36*'SAL.30%'!AJ$128","v":0},{"$f":"$S36*'SAL.30%'!AK$128","v":0},{"$f":"$S36*'SAL.30%'!AL$128","v":0},{"$f":"$S36*'SAL.30%'!AM$128","v":0},{"$f":"$S36*'SAL.30%'!AN$128","v":0}]
[null,"",null,null,null,null,null,null,null,null,null,"",null,null,0,0,0,0,0,{"$f":"$S37*'SAL.30%'!AF$128","v":0},{"$f":"$S37*'SAL.30%'!AG$128","v":0},{"$f":"$S37*'SAL.30%'!AH$128","v":0},{"$f":"$S37*'SAL.30%'!AI$128","v":0},{"$f":"$S37*'SAL.30%'!AJ$128","v":0},{"$f":"$S37*'SAL.30%'!AK$128","v":0},{"$f":"$S37*'SAL.30%'!AL$128","v":0},{"$f":"$S37*'SAL.30%'!AM$128","v":0},{"$f":"$S37*'SAL.30%'!AN$128","v":0},"Imponibile Spese Tecniche","Totale Spese Tecniche"]
[null,"",null,null,null,null,null,null,null,null,null,"",null,null,0,0,0,0,0,{"$f":"$S38*'SAL.30%'!AF$128","v":0},{"$f":"$S38*'SAL.30%'!AG$128","v":0},{"$f":"$S38*'SAL.30%'!AH$128","v":0},{"$f":"$S38*'SAL.30%'!AI$128","v":0},{"$f":"$S38*'SAL.30%'!AJ$128","v":0},{"$f":"$S38*'SAL.30%'!AK$128","v":0},{"$f":"$S38*'SAL.30%'!AL$128","v":0},{"$f":"$S38*'SAL.30%'!AM$128","v":0},{"$f":"$S38*'SAL.30%'!AN$128","v":0}]
[null,null,null,null,null,null,null,null,null,null,null,null,null,null,{"$f":"SUM(O11:O38)","v":70.554749586503931},{"$f":"SUM(P11:P38)","v":776.10223493806643},{"$f":"SUM(Q11:Q38)","v":1100},{"$f":"SUM(R11:R38)","v":776.10223493806643},{"$f":"SUM(S11:S38)","v":0},{"$f":"SUM(T11:T38)","v":0},0,0,0,0,0,0,0,0,{"$f":"AD39/1.22","v":0},{"$f":"SUM(T39:AB39)","v":0}]
[null,null,null,null,null,null,null,null,null,null,"Imponibile  ",{"$f":"SUM(L11:L38)","v":705.5474853515625},null,null,null,null,null,null,null,null,null,null,null,null,null,null,null,null,"Imponibile Fatturato","Totale Fatture Tecnici"]
[null,null,null,null,null,null,null,null,null,null,"IVA  ",{"$f":"SUM(O11:O38)","v":70.554749586503931},null,null,null,null,null,null,null,{"$f":"IF(T9=\"SI\",T39,0)","v":0},0,0,0,0,0,0,0,0,{"$f":"AD41/1.22","v":0},{"$f":"SUM(T41:AB41)","v":0}]
[null,null,null,null,null,null,null,null,null,null,"Totale  ",{"$f":"SUM(L40:L41)","v":776.10223493806643}]
[null,null,null,null,null,null,null,null,null,null,"Sconto in Fattura  ",{"$f":"-R39","v":-776.10223493806643},null,null,null,null,null,null,null,null,null,null,null,null,null,null,null,"Spese Tecniche non Fatturate direttamente dai Tecnici",{"$f":"AC39-AC41","v":0},{"$f":"AD39-AD41","v":0}]
[null,null,null,null,null,null,null,null,null,null,"Netto a Pagare  ",{"$f":"IF(L42+L43<>0,L42+L43,\"0,00 €\")","v":"0,00 €"}]
[]
[null,"Pagamento"]
[null,"Note"]
[]
[null,"©2021 SIM srl - www.madosoft.it",null,null,null,null,null,null,null,null,null,null,"Pag.1/1"]

{"sheet":"Rendiconto","index":10,"n_rows":44,"n_cols":25,"rows_kept":44,"cut":false,"hidden":false,"merged":[[39,2,39,4],[40,2,40,4],[41,2,41,4],[42,2,42,4],[43,2,43,4],[30,2,30,3],[3,2,3,3],[4,2,4,3],[5,2,5,3],[6,2,6,3],[7,2,7,3],[20,2,20,3],[21,2,21,3],[22,2,22,3],[23,2,23,3],[24,2,24,3],[25,2,25,3],[14,2,14,3],[15,2,15,3],[16,2,16,3],[17,2,17,3],[2,2,2,3],[26,2,26,3],[27,2,27,3],[28,2,28,3],[29,2,29,3],[18,2,18,3],[19,2,19,3],[10,2,10,3],[11,2,11,3],[12,2,12,3],[13,2,13,3],[8,2,8,3],[9,2,9,3]]}
[]
[null,"RENDICONTO APPALTATORE / GENERAL CONTRACTOR"]
[null,null,"Descrizione",null,"Incasso/Spesa","Importo ","Iva","Totale","Saldo",null,null,null,null,null,null,null,null,null,null,null,null,null,null,null,"Totale"]
[null,"2021-01-01","Acquisto Materiali Edili",null,"Spesa",5000,{"$f":"IF(F4<>0,IF(E4=\"Incasso\",F4*0.22,-F4*0.22),\"\")","v":-1100},{"$f":"IF(F4<>0,IF(E4=\"Incasso\",F4+G4,-F4+G4),\"\")","v":-6100},{"$f":"IF(H4<>0,H4,\"\")","v":-6100},null,null,null,null,null,null,null,null,null,null,null,null,null,null,"2021-01-01",{"$f":"H4","v":-6100}]
[null,"2021-01-01","Acquisto Materiali Impianti",null,"Spesa",10000,{"$f":"IF(F5<>0,IF(E5=\"Incasso\",F5*0.22,-F5*0.22),\"\")","v":-2200},{"$f":"IF(F5<>0,IF(E5=\"Incasso\",F5+G5,-F5+G5),\"\")","v":-12200},{"$f":"IF(I4<>0,IF(H5<>0,I4+H5,\"\"),\"\")","v":-18300},null,null,null,null,null,null,null,null,null,null,null,null,null,null,"2021-01-01",{"$f":"H5","v":-12200}]
[null,"2021-02-16","SAL N.1 - Fattura 26/2021",null,"Incasso",12000,2640,14640,{"$f":"IF(I5<>0,IF(H6<>0,I5+H6,\"\"),\"\")","v":-3660},null,null,null,null,null,null,null,null,null,null,null,null,null,null,"2021-02-16",14640]
[null,"2021-02-16","SAL N.1 - Pagata Fatt. Ing XYZ",null,"Spesa",3000,-660,-3660,{"$f":"IF(ISNUMBER(I6),IF(ISNUMBER(H7),I6+H7,\"\"),\"\")","v":-7320},null,null,null,null,null,null,null,null,null,null,null,null,null,null,"2021-02-16",-3660]
[null,null,null,null,null,null,"","",{"$f":"IF(ISNUMBER(I7),IF(ISNUMBER(H8),I7+H8,\"\"),\"\")","v":""},null,null,null,null,null,null,null,null,null,null,null,null,null,null,null,""]
[null,null,null,null,null,null,"","","",null,null,null,null,null,null,null,null,null,null,null,null,null,null,null,""]
[null,null,null,null,null,null,"","","",null,null,null,null,null,null,null,null,null,null,null,null,null,null,null,""]
[null,null,null,null,null,null,"","","",null,null,null,null,null,null,null,null,null,null,null,null,null,null,null,""]
[null,null,null,null,null,null,"","","",null,null,null,null,null,null,null,null,null,null,null,null,null,null,null,""]
[null,null,null,null,null,null,"","","",null,null,null,null,null,null,null,null,null,null,null,null,null,null,null,""]
[null,null,null,null,null,null,"","","",null,null,null,null,null,null,null,null,null,null,null,null,null,null,null,""]
[null,null,null,null,null,null,"","","",null,null,null,null,null,null,null,null,null,null,null,null,null,null,null,""]
[null,null,null,null,null,null,"","","",null,null,null,null,null,null,null,null,null,null,null,null,null,null,null,""]
[null,null,null,null,null,null,"","","",null,null,null,null,null,null,null,null,null,null,null,null,null,null,null,""]
[null,null,null,null,null,null,"","","",null,null,null,null,null,null,null,null,null,null,null,null,null,null,null,""]
[null,null,null,null,null,null,"","","",null,null,null,null,null,null,null,null,null,null,null,null,null,null,null,""]
[null,null,null,null,null,null,"","","",null,null,null,null,null,null,null,null,null,null,null,null,null,null,null,""]
[null,null,null,null,null,null,"","","",null,null,null,null,null,null,null,null,null,null,null,null,null,null,null,""]
[null,null,null,null,null,null,"","","",null,null,null,null,null,null,null,null,null,null,null,null,null,null,null,""]
[null,null,null,null,null,null,"","","",null,null,null,null,null,null,null,null,null,null,null,null,null,null,null,""]
[null,null,null,null,null,null,"","","",null,null,null,null,null,null,null,null,null,null,null,null,null,null,null,""]
[null,null,null,null,null,null,"","","",null,null,null,null,null,null,null,null,null,null,null,null,null,null,null,""]
[null,null,null,null,null,null,"","","",null,null,null,null,null,null,null,null,null,null,null,null,null,null,null,""]
[null,null,null,null,null,null,"","","",null,null,null,null,null,null,null,null,null,null,null,null,null,null,null,""]
[null,null,null,null,null,null,"","","",null,null,null,null,null,null,null,null,null,null,null,null,null,null,null,""]
[null,null,null,null,null,null,"","","",null,null,null,null,null,null,null,null,null,null,null,null,null,null,null,""]
[null,null,null,null,null,null,"","","",null,null,null,null,null,null,null,null,null,null,null,null,null,null,null,""]
[null,null,null,null,null,null,"","","",null,null,null,null,null,null,null,null,null,null,null,null,null,null,null,""]
[null,null,null,null,null,null,null,null,null,null,null,null,null,null,null,null,null,null,null,null,null,null,null,null,{"$f":"G35","v":-7320}]
[null,null,null,null,null,"Entrate: ",{"$f":"SUMIF(H4:H31,\">0\",H4:H31)","v":14640},"Iva Incassata: ",{"$f":"SUMIF(G4:G31,\">0\",G4:G31)","v":2640}]
[null,null,null,null,null,"Uscite: ",{"$f":"SUMIF(H4:H31,\"<0\",H4:H31)","v":-21960},"Iva Pagata: ",{"$f":"SUMIF(G4:G31,\"<0\",G4:G31)","v":-3960}]
[null,null,null,null,null,"Saldo:  ",{"$f":"SUM(H4:H31)","v":-7320},"Saldo Iva:  ",{"$f":"SUM(G4:G31)","v":-1320}]
[]
[]
[]
[null,null,null,null,null,"ImportoLavori","Spese","Importo"]
[null,null,"Interventi Isolamento T",null,null,{"$f":"'Computo-Massimali'!J13","v":1100},{"$f":"'Computo-Massimali'!K13","v":0},{"$f":"SUM(F40:G40)","v":1100}]
[null,null,"Impianti Climatizzazione e ACS T",null,null,{"$f":"'Computo-Massimali'!J14","v":0},{"$f":"'Computo-Massimali'!K14","v":0},{"$f":"SUM(F41:G41)","v":0}]
[null,null,"Totali Trainanti",null,null,{"$f":"SUM(F40:F41)","v":1100},{"$f":"SUM(G40:G41)","v":0},{"$f":"SUM(F42:G42)","v":1100}]
[null,null,"Interventi Isolamento PC",null,null,{"$f":"SUM('Computo-Massimali'!J20:'Computo-Massimali'!J22)","v":0},{"$f":"SUM('Computo-Massimali'!K20:'Computo-Massimali'!K22)","v":0},{"$f":"SUM(F43:G43)","v":0}]
[null,null,"Infissi PC",null,null,{"$f":"'Computo-Massimali'!J23","v":0},{"$f":"'Computo-Massimali'!K23","v":0},{"$f":"SUM(F44:G44)","v":0}]

{"sheet":"ModelloFattura","index":11,"n_rows":189,"n_cols":30,"rows_kept":189,"cut":false,"hidden":true,"merged":[[66,7,66,9],[67,7,67,9],[68,7,68,9],[69,7,69,9],[70,7,70,9],[71,7,71,9],[72,7,72,9],[73,7,73,9],[74,7,74,9],[95,1,95,2],[95,3,95,12],[96,1,96,2],[96,3,96,12],[88,1,88,12],[89,11,89,12],[90,11,90,12],[91,11,91,12],[92,11,92,12],[93,11,93,12],[87,2,87,6],[87,7,87,9],[84,2,84,6],[85,2,85,6],[86,2,86,6],[84,7,84,9],[85,7,85,9],[86,7,86,9],[81,2,81,6],[82,2,82,6],[83,2,83,6],[81,7,81,9],[82,7,82,9],[83,7,83,9],[78,2,78,6],[79,2,79,6],[80,2,80,6],[78,7,78,9],[79,7,79,9],[80,7,80,9],[75,2,75,6],[76,2,76,6],[77,2,77,6],[75,7,75,9],[76,7,76,9],[77,7,77,9],[72,2,72,6],[73,2,73,6],[74,2,74,6],[69,2,69,6],[70,2,70,6],[71,2,71,6],[66,2,66,6],[67,2,67,6],[68,2,68,6],[63,2,63,6],[64,2,64,6],[65,2,65,6],[60,2,60,6],[61,2,61,6],[62,2,62,6],[56,1,56,2],[56,3,56,4],[56,5,56,12],[57,1,57,2],[57,3,57,4],[57,5,57,12],[58,1,58,12],[59,7,59,9],[59,2,59,6],[60,7,60,9],[61,7,61,9],[62,7,62,9],[63,7,63,9],[64,7,64,9],[65,7,65,9],[51,1,51,2],[51,3,51,6],[51,7,55,7],[51,10,51,12],[52,1,52,2],[52,3,52,6],[52,10,52,12],[53,1,53,2],[53,3,53,6],[53,10,53,12],[54,1,54,2],[54,3,54,6],[54,10,54,12],[55,1,55,2],[55,3,55,6],[55,10,55,12],[36,28,37,28],[36,29,37,29],[45,1,45,2],[46,1,46,2],[45,3,45,12],[46,3,46,12],[38,1,38,12],[42,11,42,12],[43,11,43,12],[37,2,37,5],[37,6,37,7],[39,11,39,12],[40,11,40,12],[41,11,41,12],[36,2,36,5],[36,6,36,7],[12,2,12,5],[12,6,12,7],[35,2,35,5],[35,6,35,7],[24,2,24,5],[24,6,24,7],[21,2,21,5],[21,6,21,7],[22,2,22,5],[22,6,22,7],[27,2,27,5],[27,6,27,7],[28,2,28,5],[28,6,28,7],[25,2,25,5],[25,6,25,7],[26,2,26,5],[26,6,26,7],[31,2,31,5],[31,6,31,7],[32,2,32,5],[32,6,32,7],[29,2,29,5],[29,6,29,7],[33,2,33,5],[33,6,33,7],[34,2,34,5],[34,6,34,7],[15,2,15,5],[15,6,15,7],[16,2,16,5],[16,6,16,7],[13,2,13,5],[13,6,13,7],[14,2,14,5],[14,6,14,7],[20,6,20,7],[17,2,17,5],[17,6,17,7],[18,2,18,5],[18,6,18,7],[30,6,30,7],[19,2,19,5],[19,6,19,7],[20,2,20,5],[23,2,23,5],[23,6,23,7],[30,2,30,5],[7,3,7,4],[1,7,5,7],[1,10,1,12],[2,10,2,12],[3,10,3,12],[4,10,4,12],[5,10,5,12],[11,2,11,5],[11,6,11,7],[9,2,9,5],[10,2,10,5],[10,6,10,7],[9,6,9,7],[7,1,7,2],[8,1,8,12],[1,1,1,2],[2,1,2,2],[3,1,3,2],[4,1,4,2],[5,1,5,2],[6,1,6,2],[6,3,6,4],[6,5,6,12],[7,5,7,12],[14,8,14,9],[15,8,15,9],[16,8,16,9],[17,8,17,9],[18,8,18,9],[9,8,9,9],[10,8,10,9],[11,8,11,9],[12,8,12,9],[13,8,13,9],[34,8,34,9],[35,8,35,9],[36,8,36,9],[37,8,37,9],[1,3,1,6],[2,3,2,6],[3,3,3,6],[4,3,4,6],[5,3,5,6],[29,8,29,9],[30,8,30,9],[31,8,31,9],[32,8,32,9],[33,8,33,9],[24,8,24,9],[25,8,25,9],[26,8,26,9],[27,8,27,9],[28,8,28,9],[19,8,19,9],[20,8,20,9],[21,8,21,9],[22,8,22,9],[23,8,23,9]]}
[]
[null,"Fornitore",null,null,null,null,null,null," Cliente",null,null,null,null,null,"Fattura Fornitore"]
[null,"Indirizzo",null,null,null,null,null,null," Indirizzo"]
[null,"Città",null,null,null,null,null,null," Città"]
[null,"CF./P.Iva",null,null,null,null,null,null," C.F. : "]
[null,"Tel./Mail"]
[null,"FATTURA N."]
[null,"DATA"]
[null,"Cessione del 100% (sconto in fattura praticato ai sensi dell'art.121 DL.34/2020 e smi",null,null,null,null,null,null,null,null,null,null,null,null,null,null,null,null,null,{"$f":"'Dati Gen'!D44","v":"SI"},{"$f":"'Dati Gen'!D45","v":"NO"},{"$f":"'Dati Gen'!D46","v":"NO"},{"$f":"'Dati Gen'!D47","v":"NO"},{"$f":"'Dati Gen'!D48","v":"NO"},{"$f":"'Dati Gen'!D49","v":"NO"},{"$f":"'Dati Gen'!D50","v":"NO"},"SI","NO"]
[null,null,"DESCRIZIONE",null,null,null,"QUANTITA'",null,"PREZZO",null,"SC./MG.","IMPORTO","%IVA",null,"Importo Iva","Tot.Rigo","Spesa Ammessa","Sconto","Spese Tecniche",{"$f":"IF('Dati Gen'!B44<>\"\",'Dati Gen'!B44,\"\")","v":"Ingegnere 1"},{"$f":"IF('Dati Gen'!B45<>\"\",'Dati Gen'!B45,\"\")","v":"Dott. Igor"},{"$f":"IF('Dati Gen'!B46<>\"\",'Dati Gen'!B46,\"\")","v":""},{"$f":"IF('Dati Gen'!B47<>\"\",'Dati Gen'!B47,\"\")","v":""},{"$f":"IF('Dati Gen'!B48<>\"\",'Dati Gen'!B48,\"\")","v":""},{"$f":"IF('Dati Gen'!B49<>\"\",'Dati Gen'!B49,\"\")","v":""},{"$f":"IF('Dati Gen'!B50<>\"\",'Dati Gen'!B50,\"\")","v":""},{"$f":"IF('Dati Gen'!B51<>\"\",'Dati Gen'!B51,\"\")","v":""}]
[null,{"$f":"IF(C11<>\"\",1,\"\")","v":""},null,null,null,null,null,null,null,null,null,{"$f":"IF(I11<>\"\",G11*I11,\"\")","v":""},null,null,{"$f":"IF(L11<>\"\",L11*M11,0)","v":0},{"$f":"IF(L11<>\"\",O11+L11,0)","v":0},0,{"$f":"IF(P11<Q11,P11,Q11)","v":0},0,{"$f":"$S11*'SAL.30%'!AF$128","v":0},{"$f":"$S11*'SAL.30%'!AG$128","v":0},{"$f":"$S11*'SAL.30%'!AH$128","v":0},{"$f":"$S11*'SAL.30%'!AI$128","v":0},{"$f":"$S11*'SAL.30%'!AJ$128","v":0},{"$f":"$S11*'SAL.30%'!AK$128","v":0},{"$f":"$S11*'SAL.30%'!AL$128","v":0},{"$f":"$S11*'SAL.30%'!AM$128","v":0},{"$f":"$S11*'SAL.30%'!AN$128","v":0}]
[null,{"$f":"IF(C12<>\"\",B11+1,\"\")","v":""},null,null,null,null,null,null,null,null,null,{"$f":"IF(I12<>\"\",G12*I12,\"\")","v":""},null,null,{"$f":"IF(L12<>\"\",L12*M12,0)","v":0},{"$f":"IF(L12<>\"\",O12+L12,0)","v":0},0,{"$f":"IF(P12<Q12,P12,Q12)","v":0},0,{"$f":"$S12*'SAL.30%'!AF$128","v":0},{"$f":"$S12*'SAL.30%'!AG$128","v":0},{"$f":"$S12*'SAL.30%'!AH$128","v":0},{"$f":"$S12*'SAL.30%'!AI$128","v":0},{"$f":"$S12*'SAL.30%'!AJ$128","v":0},{"$f":"$S12*'SAL.30%'!AK$128","v":0},{"$f":"$S12*'SAL.30%'!AL$128","v":0},{"$f":"$S12*'SAL.30%'!AM$128","v":0},{"$f":"$S12*'SAL.30%'!AN$128","v":0}]
[null,"",null,null,null,null,null,null,null,null,null,"",null,null,0,{"$f":"IF(L13<>\"\",O13+L13,0)","v":0},0,0,0,{"$f":"$S13*'SAL.30%'!AF$128","v":0},{"$f":"$S13*'SAL.30%'!AG$128","v":0},{"$f":"$S13*'SAL.30%'!AH$128","v":0},{"$f":"$S13*'SAL.30%'!AI$128","v":0},{"$f":"$S13*'SAL.30%'!AJ$128","v":0},{"$f":"$S13*'SAL.30%'!AK$128","v":0},{"$f":"$S13*'SAL.30%'!AL$128","v":0},{"$f":"$S13*'SAL.30%'!AM$128","v":0},{"$f":"$S13*'SAL.30%'!AN$128","v":0}]
[null,"",null,null,null,null,null,null,null,null,null,"",null,null,0,0,0,0,0,{"$f":"$S14*'SAL.30%'!AF$128","v":0},{"$f":"$S14*'SAL.30%'!AG$128","v":0},{"$f":"$S14*'SAL.30%'!AH$128","v":0},{"$f":"$S14*'SAL.30%'!AI$128","v":0},{"$f":"$S14*'SAL.30%'!AJ$128","v":0},{"$f":"$S14*'SAL.30%'!AK$128","v":0},{"$f":"$S14*'SAL.30%'!AL$128","v":0},{"$f":"$S14*'SAL.30%'!AM$128","v":0},{"$f":"$S14*'SAL.30%'!AN$128","v":0}]
[null,"",null,null,null,null,null,null,null,null,null,"",null,null,0,0,0,0,0,{"$f":"$S15*'SAL.30%'!AF$128","v":0},{"$f":"$S15*'SAL.30%'!AG$128","v":0},{"$f":"$S15*'SAL.30%'!AH$128","v":0},{"$f":"$S15*'SAL.30%'!AI$128","v":0},{"$f":"$S15*'SAL.30%'!AJ$128","v":0},{"$f":"$S15*'SAL.30%'!AK$128","v":0},{"$f":"$S15*'SAL.30%'!AL$128","v":0},{"$f":"$S15*'SAL.30%'!AM$128","v":0},{"$f":"$S15*'SAL.30%'!AN$128","v":0}]
[null,"",null,null,null,null,null,null,null,null,null,"",null,null,0,0,0,0,0,{"$f":"$S16*'SAL.30%'!AF$128","v":0},{"$f":"$S16*'SAL.30%'!AG$128","v":0},{"$f":"$S16*'SAL.30%'!AH$128","v":0},{"$f":"$S16*'SAL.30%'!AI$128","v":0},{"$f":"$S16*'SAL.30%'!AJ$128","v":0},{"$f":"$S16*'SAL.30%'!AK$128","v":0},{"$f":"$S16*'SAL.30%'!AL$128","v":0},{"$f":"$S16*'SAL.30%'!AM$128","v":0},{"$f":"$S16*'SAL.30%'!AN$128","v":0}]
[null,"",null,null,null,null,null,null,null,null,null,"",null,null,0,0,0,0,0,{"$f":"$S17*'SAL.30%'!AF$128","v":0},{"$f":"$S17*'SAL.30%'!AG$128","v":0},{"$f":"$S17*'SAL.30%'!AH$128","v":0},{"$f":"$S17*'SAL.30%'!AI$128","v":0},{"$f":"$S17*'SAL.30%'!AJ$128","v":0},{"$f":"$S17*'SAL.30%'!AK$128","v":0},{"$f":"$S17*'SAL.30%'!AL$128","v":0},{"$f":"$S17*'SAL.30%'!AM$128","v":0},{"$f":"$S17*'SAL.30%'!AN$128","v":0}]
[null,"",null,null,null,null,null,null,null,null,null,"",null,null,0,0,0,0,0,{"$f":"$S18*'SAL.30%'!AF$128","v":0},{"$f":"$S18*'SAL.30%'!AG$128","v":0},{"$f":"$S18*'SAL.30%'!AH$128","v":0},{"$f":"$S18*'SAL.30%'!AI$128","v":0},{"$f":"$S18*'SAL.30%'!AJ$128","v":0},{"$f":"$S18*'SAL.30%'!AK$128","v":0},{"$f":"$S18*'SAL.30%'!AL$128","v":0},{"$f":"$S18*'SAL.30%'!AM$128","v":0},{"$f":"$S18*'SAL.30%'!AN$128","v":0}]
[null,"",null,null,null,null,null,null,null,null,null,"",null,null,0,0,0,0,0,{"$f":"$S19*'SAL.30%'!AF$128","v":0},{"$f":"$S19*'SAL.30%'!AG$128","v":0},{"$f":"$S19*'SAL.30%'!AH$128","v":0},{"$f":"$S19*'SAL.30%'!AI$128","v":0},{"$f":"$S19*'SAL.30%'!AJ$128","v":0},{"$f":"$S19*'SAL.30%'!AK$128","v":0},{"$f":"$S19*'SAL.30%'!AL$128","v":0},{"$f":"$S19*'SAL.30%'!AM$128","v":0},{"$f":"$S19*'SAL.30%'!AN$128","v":0}]
[null,"",null,null,null,null,null,null,null,null,null,"",null,null,0,0,0,0,0,{"$f":"$S20*'SAL.30%'!AF$128","v":0},{"$f":"$S20*'SAL.30%'!AG$128","v":0},{"$f":"$S20*'SAL.30%'!AH$128","v":0},{"$f":"$S20*'SAL.30%'!AI$128","v":0},{"$f":"$S20*'SAL.30%'!AJ$128","v":0},{"$f":"$S20*'SAL.30%'!AK$128","v":0},{"$f":"$S20*'SAL.30%'!AL$128","v":0},{"$f":"$S20*'SAL.30%'!AM$128","v":0},{"$f":"$S20*'SAL.30%'!AN$128","v":0}]
[null,"",null,null,null,null,null,null,null,null,null,"",null,null,0,0,0,0,0,{"$f":"$S21*'SAL.30%'!AF$128","v":0},{"$f":"$S21*'SAL.30%'!AG$128","v":0},{"$f":"$S21*'SAL.30%'!AH$128","v":0},{"$f":"$S21*'SAL.30%'!AI$128","v":0},{"$f":"$S21*'SAL.30%'!AJ$128","v":0},{"$f":"$S21*'SAL.30%'!AK$128","v":0},{"$f":"$S21*'SAL.30%'!AL$128","v":0},{"$f":"$S21*'SAL.30%'!AM$128","v":0},{"$f":"$S21*'SAL.30%'!AN$128","v":0}]
[null,"",null,null,null,null,null,null,null,null,null,"",null,null,0,0,0,0,0,{"$f":"$S22*'SAL.30%'!AF$128","v":0},{"$f":"$S22*'SAL.30%'!AG$128","v":0},{"$f":"$S22*'SAL.30%'!AH$128","v":0},{"$f":"$S22*'SAL.30%'!AI$128","v":0},{"$f":"$S22*'SAL.30%'!AJ$128","v":0},{"$f":"$S22*'SAL.30%'!AK$128","v":0},{"$f":"$S22*'SAL.30%'!AL$128","v":0},{"$f":"$S22*'SAL.30%'!AM$128","v":0},{"$f":"$S22*'SAL.30%'!AN$128","v":0}]
[null,"",null,null,null,null,null,null,null,null,null,"",null,null,0,0,0,0,0,{"$f":"$S23*'SAL.30%'!AF$128","v":0},{"$f":"$S23*'SAL.30%'!AG$128","v":0},{"$f":"$S23*'SAL.30%'!AH$128","v":0},{"$f":"$S23*'SAL.30%'!AI$128","v":0},{"$f":"$S23*'SAL.30%'!AJ$128","v":0},{"$f":"$S23*'SAL.30%'!AK$128","v":0},{"$f":"$S23*'SAL.30%'!AL$128","v":0},{"$f":"$S23*'SAL.30%'!AM$128","v":0},{"$f":"$S23*'SAL.30%'!AN$128","v":0}]
[null,"",null,null,null,null,null,null,null,null,null,"",null,null,0,0,0,0,0,{"$f":"$S24*'SAL.30%'!AF$128","v":0},{"$f":"$S24*'SAL.30%'!AG$128","v":0},{"$f":"$S24*'SAL.30%'!AH$128","v":0},{"$f":"$S24*'SAL.30%'!AI$128","v":0},{"$f":"$S24*'SAL.30%'!AJ$128","v":0},{"$f":"$S24*'SAL.30%'!AK$128","v":0},{"$f":"$S24*'SAL.30%'!AL$128","v":0},{"$f":"$S24*'SAL.30%'!AM$128","v":0},{"$f":"$S24*'SAL.30%'!AN$128","v":0}]
[null,"",null,null,null,null,null,null,null,null,null,"",null,null,0,0,0,0,0,{"$f":"$S25*'SAL.30%'!AF$128","v":0},{"$f":"$S25*'SAL.30%'!AG$128","v":0},{"$f":"$S25*'SAL.30%'!AH$128","v":0},{"$f":"$S25*'SAL.30%'!AI$128","v":0},{"$f":"$S25*'SAL.30%'!AJ$128","v":0},{"$f":"$S25*'SAL.30%'!AK$128","v":0},{"$f":"$S25*'SAL.30%'!AL$128","v":0},{"$f":"$S25*'SAL.30%'!AM$128","v":0},{"$f":"$S25*'SAL.30%'!AN$128","v":0}]
[null,"",null,null,null,null,null,null,null,null,null,"",null,null,0,0,0,0,0,{"$f":"$S26*'SAL.30%'!AF$128","v":0},{"$f":"$S26*'SAL.30%'!AG$128","v":0},{"$f":"$S26*'SAL.30%'!AH$128","v":0},{"$f":"$S26*'SAL.30%'!AI$128","v":0},{"$f":"$S26*'SAL.30%'!AJ$128","v":0},{"$f":"$S26*'SAL.30%'!AK$128","v":0},{"$f":"$S26*'SAL.30%'!AL$128","v":0},{"$f":"$S26*'SAL.30%'!AM$128","v":0},{"$f":"$S26*'SAL.30%'!AN$128","v":0}]
[null,"",null,null,null,null,null,null,null,null,null,"",null,null,0,0,0,0,0,{"$f":"$S27*'SAL.30%'!AF$128","v":0},{"$f":"$S27*'SAL.30%'!AG$128","v":0},{"$f":"$S27*'SAL.30%'!AH$128","v":0},{"$f":"$S27*'SAL.30%'!AI$128","v":0},{"$f":"$S27*'SAL.30%'!AJ$128","v":0},{"$f":"$S27*'SAL.30%'!AK$128","v":0},{"$f":"$S27*'SAL.30%'!AL$128","v":0},{"$f":"$S27*'SAL.30%'!AM$128","v":0},{"$f":"$S27*'SAL.30%'!AN$128","v":0}]
[null,"",null,null,null,null,null,null,null,null,null,"",null,null,0,0,0,0,0,{"$f":"$S28*'SAL.30%'!AF$128","v":0},{"$f":"$S28*'SAL.30%'!AG$128","v":0},{"$f":"$S28*'SAL.30%'!AH$128","v":0},{"$f":"$S28*'SAL.30%'!AI$128","v":0},{"$f":"$S28*'SAL.30%'!AJ$128","v":0},{"$f":"$S28*'SAL.30%'!AK$128","v":0},{"$f":"$S28*'SAL.30%'!AL$128","v":0},{"$f":"$S28*'SAL.30%'!AM$128","v":0},{"$f":"$S28*'SAL.30%'!AN$128","v":0}]
[null,"",null,null,null,null,null,null,null,null,null,"",null,null,0,0,0,0,0,{"$f":"$S29*'SAL.30%'!AF$128","v":0},{"$f":"$S29*'SAL.30%'!AG$128","v":0},{"$f":"$S29*'SAL.30%'!AH$128","v":0},{"$f":"$S29*'SAL.30%'!AI$128","v":0},{"$f":"$S29*'SAL.30%'!AJ$128","v":0},{"$f":"$S29*'SAL.30%'!AK$128","v":0},{"$f":"$S29*'SAL.30%'!AL$128","v":0},{"$f":"$S29*'SAL.30%'!AM$128","v":0},{"$f":"$S29*'SAL.30%'!AN$128","v":0}]
[null,"",null,null,null,null,null,null,null,null,null,"",null,null,0,0,0,0,0,{"$f":"$S30*'SAL.30%'!AF$128","v":0},{"$f":"$S30*'SAL.30%'!AG$128","v":0},{"$f":"$S30*'SAL.30%'!AH$128","v":0},{"$f":"$S30*'SAL.30%'!AI$128","v":0},{"$f":"$S30*'SAL.30%'!AJ$128","v":0},{"$f":"$S30*'SAL.30%'!AK$128","v":0},{"$f":"$S30*'SAL.30%'!AL$128","v":0},{"$f":"$S30*'SAL.30%'!AM$128","v":0},{"$f":"$S30*'SAL.30%'!AN$128","v":0}]
[null,"",null,null,null,null,null,null,null,null,null,"",null,null,0,0,0,0,0,{"$f":"$S31*'SAL.30%'!AF$128","v":0},{"$f":"$S31*'SAL.30%'!AG$128","v":0},{"$f":"$S31*'SAL.30%'!AH$128","v":0},{"$f":"$S31*'SAL.30%'!AI$128","v":0},{"$f":"$S31*'SAL.30%'!AJ$128","v":0},{"$f":"$S31*'SAL.30%'!AK$128","v":0},{"$f":"$S31*'SAL.30%'!AL$128","v":0},{"$f":"$S31*'SAL.30%'!AM$128","v":0},{"$f":"$S31*'SAL.30%'!AN$128","v":0}]
[null,"",null,null,null,null,null,null,null,null,null,"",null,null,0,0,0,0,0,{"$f":"$S32*'SAL.30%'!AF$128","v":0},{"$f":"$S32*'SAL.30%'!AG$128","v":0},{"$f":"$S32*'SAL.30%'!AH$128","v":0},{"$f":"$S32*'SAL.30%'!AI$128","v":0},{"$f":"$S32*'SAL.30%'!AJ$128","v":0},{"$f":"$S32*'SAL.30%'!AK$128","v":0},{"$f":"$S32*'SAL.30%'!AL$128","v":0},{"$f":"$S32*'SAL.30%'!AM$128","v":0},{"$f":"$S32*'SAL.30%'!AN$128","v":0}]
[null,"",null,null,null,null,null,null,null,null,null,"",null,null,0,0,0,0,0,{"$f":"$S33*'SAL.30%'!AF$128","v":0},{"$f":"$S33*'SAL.30%'!AG$128","v":0},{"$f":"$S33*'SAL.30%'!AH$128","v":0},{"$f":"$S33*'SAL.30%'!AI$128","v":0},{"$f":"$S33*'SAL.30%'!AJ$128","v":0},{"$f":"$S33*'SAL.30%'!AK$128","v":0},{"$f":"$S33*'SAL.30%'!AL$128","v":0},{"$f":"$S33*'SAL.30%'!AM$128","v":0},{"$f":"$S33*'SAL.30%'!AN$128","v":0}]
[null,"",null,null,null,null,null,null,null,null,null,"",null,null,0,0,0,0,0,{"$f":"$S34*'SAL.30%'!AF$128","v":0},{"$f":"$S34*'SAL.30%'!AG$128","v":0},{"$f":"$S34*'SAL.30%'!AH$128","v":0},{"$f":"$S34*'SAL.30%'!AI$128","v":0},{"$f":"$S34*'SAL.30%'!AJ$128","v":0},{"$f":"$S34*'SAL.30%'!AK$128","v":0},{"$f":"$S34*'SAL.30%'!AL$128","v":0},{"$f":"$S34*'SAL.30%'!AM$128","v":0},{"$f":"$S34*'SAL.30%'!AN$128","v":0}]
[null,"",null,null,null,null,null,null,null,null,null,"",null,null,0,0,0,0,0,{"$f":"$S35*'SAL.30%'!AF$128","v":0},{"$f":"$S35*'SAL.30%'!AG$128","v":0},{"$f":"$S35*'SAL.30%'!AH$128","v":0},{"$f":"$S35*'SAL.30%'!AI$128","v":0},{"$f":"$S35*'SAL.30%'!AJ$128","v":0},{"$f":"$S35*'SAL.30%'!AK$128","v":0},{"$f":"$S35*'SAL.30%'!AL$128","v":0},{"$f":"$S35*'SAL.30%'!AM$128","v":0},{"$f":"$S35*'SAL.30%'!AN$128","v":0}]
[null,"",null,null,null,null,null,null,null,null,null,"",null,null,0,0,0,0,0,{"$f":"$S36*'SAL.30%'!AF$128","v":0},{"$f":"$S36*'SAL.30%'!AG$128","v":0},{"$f":"$S36*'SAL.30%'!AH$128","v":0},{"$f":"$S36*'SAL.30%'!AI$128","v":0},{"$f":"$S36*'SAL.30%'!AJ$128","v":0},{"$f":"$S36*'SAL.30%'!AK$128","v":0},{"$f":"$S36*'SAL.30%'!AL$128","v":0},{"$f":"$S36*'SAL.30%'!AM$128","v":0},{"$f":"$S36*'SAL.30%'!AN$128","v":0}]
[null,"",null,null,null,null,null,null,null,null,null,"",null,null,0,0,0,0,0,{"$f":"$S37*'SAL.30%'!AF$128","v":0},{"$f":"$S37*'SAL.30%'!AG$128","v":0},{"$f":"$S37*'SAL.30%'!AH$128","v":0},{"$f":"$S37*'SAL.30%'!AI$128","v":0},{"$f":"$S37*'SAL.30%'!AJ$128","v":0},{"$f":"$S37*'SAL.30%'!AK$128","v":0},{"$f":"$S37*'SAL.30%'!AL$128","v":0},{"$f":"$S37*'SAL.30%'!AM$128","v":0},{"$f":"$S37*'SAL.30%'!AN$128","v":0},"Imponibile Spese Tecniche","Totale Spese Tecniche"]
[null,"",null,null,null,null,null,null,null,null,null,"",null,null,0,0,0,0,0,{"$f":"$S38*'SAL.30%'!AF$128","v":0},{"$f":"$S38*'SAL.30%'!AG$128","v":0},{"$f":"$S38*'SAL.30%'!AH$128","v":0},{"$f":"$S38*'SAL.30%'!AI$128","v":0},{"$f":"$S38*'SAL.30%'!AJ$128","v":0},{"$f":"$S38*'SAL.30%'!AK$128","v":0},{"$f":"$S38*'SAL.30%'!AL$128","v":0},{"$f":"$S38*'SAL.30%'!AM$128","v":0},{"$f":"$S38*'SAL.30%'!AN$128","v":0}]
[null,null,null,null,null,null,null,null,null,null,null,null,null,null,{"$f":"SUM(O11:O38)","v":0},{"$f":"SUM(P11:P38)","v":0},{"$f":"SUM(Q11:Q38)","v":0},{"$f":"SUM(R11:R38)","v":0},{"$f":"SUM(S11:S38)","v":0},{"$f":"SUM(T11:T38)","v":0},0,0,0,0,0,0,0,0,{"$f":"AD39/1.22","v":0},{"$f":"SUM(T39:AB39)","v":0}]
[null,null,null,null,null,null,null,null,null,null,"Imponibile  ",{"$f":"SUM(L11:L38)","v":0},null,null,null,null,null,null,null,null,null,null,null,null,null,null,null,null,"Imponibile Fatturato","Totale Fatture Tecnici"]
[null,null,null,null,null,null,null,null,null,null,"IVA  ",{"$f":"SUM(O11:O38)","v":0},null,null,null,null,null,null,null,{"$f":"IF(T9=\"SI\",T39,0)","v":0},0,0,0,0,0,0,0,0,{"$f":"AD41/1.22","v":0},{"$f":"SUM(T41:AB41)","v":0}]
[null,null,null,null,null,null,null,null,null,null,"Totale  ",{"$f":"SUM(L40:L41)","v":0}]
[null,null,null,null,null,null,null,null,null,null,"Sconto in Fattura  ",{"$f":"-R39","v":0},null,null,null,null,null,null,null,null,null,null,null,null,null,null,null,"Spese Tecniche non Fatturate direttamente dai Tecnici",{"$f":"AC39-AC41","v":0},{"$f":"AD39-AD41","v":0}]
[null,null,null,null,null,null,null,null,null,null,"Netto a Pagare  ",{"$f":"IF(L42+L43<>0,L42+L43,\"0,00 €\")","v":"0,00 €"}]
[]
[null,"Pagamento"]
[null,"Note"]
[]
[null,"©2021 SIM srl - www.madosoft.it",null,null,null,null,null,null,null,null,null,null,"Pag. 1/1"]
[]
[]
[null,"Fornitore",null,null,null,null,null,null," Cliente",null,null,null,null,null,"Fattura Tecnico"]
[null,"Indirizzo",null,null,null,null,null,null," Indirizzo"]
[null,"Città",null,null,null,null,null,null," Città"]
[null,"CF./P.Iva",null,null,null,null,null,null," C.F. : "]
[null,"Tel./Mail"]
[null,"FATTURA N.",null,null,null,"VS. DARE PER "]
[null,"DATA",null,"2021-01-12"]
[null,"Cessione del 100% (sconto in fattura praticato ai sensi dell'art.121 DL.34/2020 e smi"]
[null,null,"DESCRIZIONE",null,null,null,null,"ONORARIO",null,null,"% Cassa","IMPONIBILE","%IVA",null,"Importo Iva","Tot.Rigo"]
[null,{"$f":"IF(C61<>\"\",1,\"\")","v":""},null,null,null,null,null,null,null,null,null,{"$f":"H61*(1+K61)","v":0},null,null,{"$f":"IF(L61<>\"\",L61*M61,0)","v":0},{"$f":"IF(L61<>\"\",O61+L61,0)","v":0}]
[null,{"$f":"IF(C62<>\"\",B61+1,\"\")","v":""},null,null,null,null,null,null,null,null,null,{"$f":"H62*(1+K62)","v":0},null,null,{"$f":"IF(L62<>\"\",L62*M62,0)","v":0},{"$f":"IF(L62<>\"\",O62+L62,0)","v":0}]
[null,"",null,null,null,null,null,null,null,null,null,0,null,null,0,{"$f":"IF(L63<>\"\",O63+L63,0)","v":0}]
[null,"",null,null,null,null,null,null,null,null,null,0,null,null,0,0]
[null,"",null,null,null,null,null,null,null,null,null,0,null,null,0,0]
[null,"",null,null,null,null,null,null,null,null,null,0,null,null,0,0]
[null,"",null,null,null,null,null,null,null,null,null,0,null,null,0,0]
[null,"",null,null,null,null,null,null,null,null,null,0,null,null,0,0]
[null,"",null,null,null,null,null,null,null,null,null,0,null,null,0,0]
[null,"",null,null,null,null,null,null,null,null,null,0,null,null,0,0]
[null,"",null,null,null,null,null,null,null,null,null,0,null,null,0,0]
[null,"",null,null,null,null,null,null,null,null,null,0,null,null,0,0]
[null,"",null,null,null,null,null,null,null,null,null,0,null,null,0,0]
[null,"",null,null,null,null,null,null,null,null,null,0,null,null,0,0]
[null,"",null,null,null,null,null,null,null,null,null,0,null,null,0,0]
[null,"",null,null,null,null,null,null,null,null,null,0,null,null,0,0]
[null,"",null,null,null,null,null,null,null,null,null,0,null,null,0,0]
[null,"",null,null,null,null,null,null,null,null,null,0,null,null,0,0]
[null,"",null,null,null,null,null,null,null,null,null,0,null,null,0,0]
[null,"",null,null,null,null,null,null,null,null,null,0,null,null,0,0]
[null,"",null,null,null,null,null,null,null,null,null,0,null,null,0,0]
[null,"",null,null,null,null,null,null,null,null,null,0,null,null,0,0]
[null,"",null,null,null,null,null,null,null,null,null,0,null,null,0,0]
[null,"",null,null,null,null,null,null,null,null,null,0,null,null,0,0]
[null,"",null,null,null,null,null,null,null,null,null,0,null,null,0,0]
[null,"",null,null,null,null,null,null,null,null,null,0,null,null,0,0]
[null,"",null,null,null,null,null,null,null,null,null,0,null,null,0,0]
[null,"",null,null,null,null,null,null,null,null,null,0,null,null,0,0]
[null,null,null,null,null,null,null,null,null,null,null,null,null,null,{"$f":"SUM(O61:O88)","v":0},{"$f":"SUM(P61:P88)","v":0}]
[null,null,null,null,null,null,null,null,null,null,"Imponibile  ",{"$f":"SUM(L61:L88)","v":0}]
[null,null,null,null,null,null,null,null,null,null,"IVA  ",{"$f":"SUM(O61:O88)","v":0}]
[null,null,null,null,null,null,null,null,null,null,"Totale  ",{"$f":"SUM(L90:M91)","v":0}]
[null,null,null,null,null,null,null,null,null,null,"Sconto in Fattura  ",{"$f":"-SUM(P61:P88)","v":0}]
[null,null,null,null,null,null,null,null,null,null,"Netto a Pagare  ",{"$f":"IF(L92+L93<>0,L92+L93,\"0,00 €\")","v":"0,00 €"}]
[]
[null,"Pagamento"]
[null,"Note"]
[]
[null,null,null,null,null,null,null,null,null,null,null,null,"Pag. 1/1"]
[]
[]
[]
[]
[]
[]
[]
[]
[]
[]
[null,null,null,null,null,null,null,null,null,null,null,null,null,null,null,null,"Spesa Ammessa"]
[null,null,null,null,null,null,null,null,null,null,null,null,null,null,null,null,0]
[null,null,null,null,null,null,null,null,null,null,null,null,null,null,null,null,0]
[null,null,null,null,null,null,null,null,null,null,null,null,null,null,null,null,0]
[null,null,null,null,null,null,null,null,null,null,null,null,null,null,null,null,0]
[null,null,null,null,null,null,null,null,null,null,null,null,null,null,null,null,0]
[null,null,null,null,null,null,null,null,null,null,null,null,null,null,null,null,0]
[null,null,null,null,null,null,null,null,null,null,null,null,null,null,null,null,0]
[null,null,null,null,null,null,null,null,null,null,null,null,null,null,null,null,0]
[null,null,null,null,null,null,null,null,null,null,null,null,null,null,null,null,0]
[null,null,null,null,null,null,null,null,null,null,null,null,null,null,null,null,0]
[null,null,null,null,null,null,null,null,null,null,null,null,null,null,null,null,0]
[null,null,null,null,null,null,null,null,null,null,null,null,null,null,null,null,0]
[null,null,null,null,null,null,null,null,null,null,null,null,null,null,null,null,0]
[null,null,null,null,null,null,null,null,null,null,null,null,null,null,null,null,0]
[null,null,null,null,null,null,null,null,null,null,null,null,null,null,null,null,0]
[null,null,null,null,null,null,null,null,null,null,null,null,null,null,null,null,0]
[null,null,null,null,null,null,null,null,null,null,null,null,null,null,null,null,0]
[null,null,null,null,null,null,null,null,null,null,null,null,null,null,null,null,0]
[null,null,null,null,null,null,null,null,null,null,null,null,null,null,null,null,0]
[null,null,null,null,null,null,null,null,null,null,null,null,null,null,null,null,0]
[null,null,null,null,null,null,null,null,null,null,null,null,null,null,null,null,0]
[null,null,null,null,null,null,null,null,null,null,null,null,null,null,null,null,0]
[null,null,null,null,null,null,null,null,null,null,null,null,null,null,null,null,0]
[null,null,null,null,null,null,null,null,null,null,null,null,null,null,null,null,0]
[null,null,null,null,null,null,null,null,null,null,null,null,null,null,null,null,0]
[null,null,null,null,null,null,null,null,null,null,null,null,null,null,null,null,0]
[null,null,null,null,null,null,null,null,null,null,null,null,null,null,null,null,0]
[null,null,null,null,null,null,null,null,null,null,null,null,null,null,null,null,0]
[null,null,null,null,null,null,null,null,null,null,null,null,null,null,null,null,{"$f":"SUM(Q111:Q138)","v":0}]
[]
[]
[]
[]
[]
[]
[]
[]
[]
[]
[]
[]
[]
[]
[]
[]
[]
[]
[]
[]
[null,null,null,null,null,null,null,null,null,null,null,null,null,null,null,null,"Spesa Ammessa"]
[null,null,null,null,null,null,null,null,null,null,null,null,null,null,null,null,0]
[null,null,null,null,null,null,null,null,null,null,null,null,null,null,null,null,0]
[null,null,null,null,null,null,null,null,null,null,null,null,null,null,null,null,0]
[null,null,null,null,null,null,null,null,null,null,null,null,null,null,null,null,0]
[null,null,null,null,null,null,null,null,null,null,null,null,null,null,null,null,0]
[null,null,null,null,null,null,null,null,null,null,null,null,null,null,null,null,0]
[null,null,null,null,null,null,null,null,null,null,null,null,null,null,null,null,0]
[null,null,null,null,null,null,null,null,null,null,null,null,null,null,null,null,0]
[null,null,null,null,null,null,null,null,null,null,null,null,null,null,null,null,0]
[null,null,null,null,null,null,null,null,null,null,null,null,null,null,null,null,0]
[null,null,null,null,null,null,null,null,null,null,null,null,null,null,null,null,0]
[null,null,null,null,null,null,null,null,null,null,null,null,null,null,null,null,0]
[null,null,null,null,null,null,null,null,null,null,null,null,null,null,null,null,0]
[null,null,null,null,null,null,null,null,null,null,null,null,null,null,null,null,0]
[null,null,null,null,null,null,null,null,null,null,null,null,null,null,null,null,0]
[null,null,null,null,null,null,null,null,null,null,null,null,null,null,null,null,0]
[null,null,null,null,null,null,null,null,null,null,null,null,null,null,null,null,0]
[null,null,null,null,null,null,null,null,null,null,null,null,null,null,null,null,0]
[null,null,null,null,null,null,null,null,null,null,null,null,null,null,null,null,0]
[null,null,null,null,null,null,null,null,null,null,null,null,null,null,null,null,0]
[null,null,null,null,null,null,null,null,null,null,null,null,null,null,null,null,0]
[null,null,null,null,null,null,null,null,null,null,null,null,null,null,null,null,0]
[null,null,null,null,null,null,null,null,null,null,null,null,null,null,null,null,0]
[null,null,null,null,null,null,null,null,null,null,null,null,null,null,null,null,0]
[null,null,null,null,null,null,null,null,null,null,null,null,null,null,null,null,0]
[null,null,null,null,null,null,null,null,null,null,null,null,null,null,null,null,0]
[null,null,null,null,null,null,null,null,null,null,null,null,null,null,null,null,0]
[null,null,null,null,null,null,null,null,null,null,null,null,null,null,null,null,0]
[null,null,null,null,null,null,null,null,null,null,null,null,null,null,null,null,{"$f":"SUM(Q161:Q188)","v":0}]