{"text_format":"1","workbook":"xlsx","n_sheets":15,"sheets":["^","Titolare","Dati Gen","Committenti","UnitàImmobiliari","Computo-Massimali","SAL.30%","SAL.60%","SAL.Finale","Pratica ENEA","Fatture","Cessione Credito","Personal","ModelloFattura","ModelloCessione"],"not_rendered":{"charts":3,"images":13,"macros":1,"external_links":0,"defined_names":69,"comments":7,"pivot_tables":0},"unopened":[],"bounds":{"document_bytes":16777216,"sheet_cells":100000,"rows_first":2000,"rows_last":500,"rows_between":2000,"halvings":0,"cell_chars":16384,"cell_head_chars":4096},"cells_cut":0,"cells_raw":0,"read":"whole","date_system":"1900"}

{"sheet":"^","index":0,"n_rows":35,"n_cols":10,"rows_kept":35,"cut":false,"hidden":false,"merged":[]}
[]
[null,null,null,null,null,null,null,"Interventi Trainanti",null,"Massimali di Spesa"]
[null,null,null,null,null,null,null,null,null,"Spesa Ammessa"]
[null,null,null,"Dati Titolare",null,null,null,"Interventi Trainati",null,"Quota Eccedente"]
[]
[null,"Titolare",null,"Attivazione software",null,"Computo Massimali",null,"Altri Interventi (50%, 65%, ..)"]
[]
[null,null,null,"Help",null,null,null,"Importo Totale"]
[]
[null,null,null,null,null,null,null,"Quota a Carico Cliente"]
[null,null,null,{"$f":"'Dati Gen'!B4","v":"Tipologia Immobile"}]
[]
[null,null,null,{"$f":"'Dati Gen'!B7","v":"Dati Edificio"}]
[]
[null,null,null,"Dati Progetto / Importi Computo"]
[null,"Dati Generali"]
[null,null,null,"Spese Tecniche"]
[]
[null,null,null,"Appaltatore / General Contractor"]
[]
[null,null,null,"Tecnici (Progettista, DDLL., Asseveratori, ..)"]
[]
[]
[]
[]
[]
[]
[]
[]
[]
[null,"MODULI ATTIVI  con CONTRATTO ASSISTENZA"]
[]
[null,"Cessione Credito"]
[]
[null,"Asseverazioni"]

{"sheet":"Titolare","index":1,"n_rows":35,"n_cols":3,"rows_kept":35,"cut":false,"hidden":false,"merged":[[12,2,12,3],[17,1,17,3],[18,1,18,3],[0,1,0,3],[1,2,1,3],[2,2,2,3],[3,2,3,3],[4,2,4,3],[5,2,5,3],[6,2,6,3],[7,2,7,3],[13,2,13,3],[15,1,15,3],[8,2,8,3],[9,2,9,3],[10,2,10,3],[11,2,11,3]]}
[null,{"$f":"CONCATENATE('Dati Gen'!K2, \" \",'Dati Gen'!K3,\" \",'Dati Gen'!L3)","v":"Pratica.110plus Vers.ne 4.3.1"}]
[null,"Titolo"]
[null,"Cognome "]
[null,"Nome"]
[null,"Codice Fiscale"]
[null,"P.Iva"]
[null,"Indirizzo"]
[null,"CAP"]
[null,"Città"]
[null,"Provincia"]
[null,"Telefono"]
[null,"Mail"]
[null,"Codice Univoco"]
[null,"Mail/Pec"]
[true]
[null,"Versione Demo"]
[null,null,"PC-MARIO3"]
[null,{"$f":"IF(B16=\"Versione Demo\",\"Acquista Pratica110plus\",IF(_xlfn.XOR(MID(B16,19,1)=\"1\",MID(B16,19,1)=\"4\",MID(B16,19,1)=\"6\",MID(B16,19,1)=\"8\"),\"\",\"Acquista Contratto Assistenza e Manutenzione\"))","v":"Acquista Pratica110plus"}]
[null,{"$f":"IF(B16=\"Versione Demo\",HYPERLINK(\"https://www.madosoft.it/negozio/superbonus-110/pratica110plus-contratto110\"),IF(B18<>\"\",HYPERLINK(\"https://www.madosoft.it/negozio/superbonus-110/contratto110\"),\"\"))","v":"https://www.madosoft.it/negozio/superbonus-110/pratica110plus-contratto110"}]
[]
[]
[]
[null,"Guida online","https://www.madosoft.it/prodotti/superbonus110/pratica-110-xlsm"]
[null,"Introduzione"]
[null,"Download"]
[null,"Attivazione Software"]
[null,"Dati Generali"]
[null,"    Tipologia Edificio"]
[null,"    Dati Progetto"]
[null,"Committenti"]
[null,"Unità Immobiliari"]
[null,"Computo Massimali"]
[null,"    Interventi Trainanti"]
[null,"    Interventi Trainati Parti Comuni condominiali"]
[null,"    Interventi Trainanti Unità Immobiliari"]

{"sheet":"Dati Gen","index":2,"n_rows":1006,"n_cols":19,"rows_kept":1006,"cut":false,"hidden":false,"merged":[[7,1,7,3],[27,4,27,5],[4,7,4,9],[21,6,21,11],[19,6,19,8],[20,6,20,8],[16,10,16,11],[17,10,17,11],[18,10,18,11],[19,10,19,11],[20,10,20,11],[10,4,10,6],[4,1,4,4],[5,1,5,6],[7,4,7,11],[11,4,11,9],[20,1,20,4],[17,1,17,4],[18,1,18,4],[19,1,19,4],[4,10,4,13],[13,4,13,5],[8,1,8,3],[13,1,13,3],[30,2,30,3],[24,12,24,13],[25,12,25,13],[28,4,28,5],[29,4,29,5],[30,4,30,5],[16,1,16,4],[24,7,24,8],[24,2,24,3],[25,2,25,3],[26,2,26,3],[27,2,27,3],[28,2,28,3],[23,4,23,5],[25,4,25,5],[24,4,24,5],[30,7,30,8],[23,2,23,3],[10,1,10,3],[11,1,11,3],[23,6,23,8],[22,1,22,13],[29,2,29,3],[16,5,16,8],[17,6,17,8],[18,6,18,8],[25,7,25,8],[29,7,29,8],[33,6,33,8],[38,2,38,4],[47,4,47,5],[48,4,48,5],[35,7,35,8],[49,1,49,2],[50,1,50,2],[42,1,42,2],[43,1,43,2],[45,1,45,2],[46,1,46,2],[47,1,47,2],[48,1,48,2],[49,4,49,5],[44,4,44,5],[50,4,50,5],[44,1,44,2],[38,6,38,10],[39,6,39,10],[43,4,43,5],[43,6,43,8],[44,6,44,8],[50,6,50,8],[45,6,45,8],[48,6,48,8],[49,6,49,8],[48,9,48,10],[45,9,45,10],[46,9,46,10],[47,9,47,10],[48,11,48,12],[49,11,49,12],[47,6,47,8],[47,11,47,12],[45,4,45,5],[46,4,46,5],[32,4,32,5],[35,12,35,13],[35,4,35,5],[35,10,35,11],[31,4,31,5],[44,9,44,10],[37,1,37,13],[39,2,39,4],[42,11,42,12],[43,11,43,12],[40,2,40,13],[42,9,42,10],[43,9,43,10],[42,4,42,5],[42,6,42,8],[44,11,44,12],[31,2,31,3],[34,10,34,11],[34,7,34,8],[34,4,34,5],[33,4,33,5],[46,6,46,8],[1,10,1,12],[28,10,28,11],[25,10,25,11],[31,10,31,11],[17,12,17,13],[18,12,18,13],[27,10,27,11],[29,10,29,11],[23,9,23,11],[5,7,5,9],[5,10,5,13],[15,5,15,13],[31,12,31,13],[31,7,31,8],[1,13,1,14],[19,12,19,13],[20,12,20,13],[26,12,26,13],[27,12,27,13],[28,12,28,13],[29,12,29,13],[21,12,21,13],[2,12,2,13],[13,6,13,9],[51,18,51,25],[31,17,31,26],[24,17,24,26],[25,17,25,26],[34,17,34,26],[38,12,38,13],[39,12,39,13],[32,10,32,11],[50,11,50,12],[33,9,33,11],[32,12,32,13],[33,12,33,13],[34,12,34,13],[49,9,49,10],[50,9,50,10],[45,11,45,12],[46,11,46,12],[30,12,30,13],[30,10,30,11],[26,10,26,11],[24,10,24,11],[8,4,8,9],[26,17,26,26],[27,17,27,26],[28,17,28,26],[29,17,29,26],[30,17,30,26],[7,19,7,25],[32,19,32,25],[23,18,23,25],[32,7,32,8],[9,7,9,8],[10,7,10,12],[23,12,23,13],[26,7,26,8],[27,7,27,8],[28,7,28,8],[26,4,26,5],[12,8,12,9],[12,10,12,12],[12,1,12,7],[15,2,15,4],[16,12,16,13],[9,2,9,3],[13,11,13,12]]}
[null,"https://www.madosoft.it/prodotti/superbonus110/pratica-110-xlsm",null,null,null,null,null,null,null,null,null,null,null,null,null,1,1]
[0,null,null,null,null,null,null,null,null,null,"Pratica.110plus",null,null,{"$f":"IF(Titolare!B16=\"Versione Demo\",\"Versione Demo\",\"\")","v":"Versione Demo"},null,null,"Edificio Unifamiliare"]
[null,"PRATICA SUPERBONUS 110%",null,null,null,"N.",1,null,null,null,"Vers.ne","4.3.1",null,null,null,1,1]
["","Tipologia Immobile",null,null,null,null,null,null,null,null,"©2021-2022 SIM srl - www.madosoft.it"]
[null,1,null,null,null,2,1,{"$f":"IF(TipoEdif=2,\"Denominazione : \",\"\")","v":""},null,null,null,null,null,null,null,null,"Edificio Unifamiliare"]
[null,{"$f":"IF(TipoEdif=1, IF(N_Uimm>1,\"Inserire N.Unità Immobiliari =1\",\"\"),IF(N_Uimm<=1,\"Inserire N.Unità Immobiliari >=2\",\"\"))","v":""},null,null,null,null,null,{"$f":"IF(TipoEdif=2,\"Codice Fiscale : \",\"\")","v":""},null,null,null,null,null,null,null,null,"Condominio "]
[null,"Dati Edificio",null,null,null,null,null,null,null,null,null,null,null,null,null,null,1]
[null,"Comune di Ubicazione",null,null,null,null,null,null,null,null,null,null,"CAP",null,null,null,{"$f":"Q7+1","v":2}]
[null,"Indirizzo",null,null,null,null,null,null,null,null,"N.",null,"Zona","D",null,null,{"$f":"Q8+1","v":3}]
[null,{"$f":"IF(TipoEdif=2,\"Dati Catastali 1ª U.I.\",\"Dati Catastali\")","v":"Dati Catastali"},"Cod.Comune",null,null,"Foglio",null,"Particella",null,null,"Sub.",null,"CAT.","A/4",null,null,4]
[null,"Anno di Costruzione Immobile",null,null,null,null,null,"Superficie Totale Disperdente   :",null,null,null,null,null,null,null,null,5]
[null,"Autorizzazione Edilizia",null,null,"Licenza Edilizia / Titolo Edilizio",null,null,null,null,null,{"$f":"IF(E12=\"Licenza Edilizia / Titolo Edilizio\",\"N.\",IF(E12=\"Concessione in Sanatoria\",\"N.\",\"\"))","v":"N."},null,"Data",null,null,null,6]
[null,"Relazione ex Legge 10/91  Depositata al Comune in Data ",null,null,null,null,null,null,null,null,"Prot. N.  ",null,null,null,null,null,7]
[null,"Data Inizio Lavori",null,null,null,null,"Immobile Vincolato/Restriz.Edilizie",null,null,null,"SI","Edilizia Libera",null,"NO",null,null,8]
[null,null,null,null,null,null,null,null,null,null,null,null,null,null,null,null,9]
[null,"DATI DI PROGETTO","Oggetto Lavori :",null,null,"PROGETTO PER IL MIGLIORAMENTO ENERGETICO DEL FABBRICATO SITO IN VIA _____ N.____ – FG.__ P.LLA ___ SUB.___ : CILAS N.___  del _______",null,null,null,null,null,null,null,null,null,null,10]
[null,"Descrizione",null,null,null,"Imponibile",null,null,null,"%iva","IVA",null,"Totale",null,null,null,11]
[null,"Importo complessivo Lavori",null,null,null,null,0,null,null,0.1,{"$f":"G18*J18","v":0},null,{"$f":"G18+K18","v":0},null,null,null,12]
[null,"di cui Oneri/Lavori x Sicurezza",null,null,null,null,0,null,null,{"$f":"J18","v":0.1},{"$f":"G19*J19","v":0},null,{"$f":"G19+K19","v":0},null,null,null,13]
[null,"Importo Lavori al netto della Sicurezza",null,null,null,null,{"$f":"G18-G19","v":0},null,null,{"$f":"J18","v":0.1},{"$f":"G20*J20","v":0},null,{"$f":"G20+K20","v":0},null,null,null,14]
[null,"Spese tecniche (compresa iva)",null,null,null,null,{"$f":"M36","v":0},null,null,null,null,null,{"$f":"G21","v":0},null,null,null,15]
[null,null,null,null,null,null,"Importo Complessivo Progetto : ",null,null,null,null,null,{"$f":"M18+M21","v":0},null,null,null,16]
[null,null,null,null,null,null,null,null,null,null,null,null,null,null,null,null,17]
[null,"SPESE TECNICHE","Tecnico",null,"Onorario",null,"C.Cassa",null,null,"IVA",null,null,"Totale",null,null,null,18,null,"Foto 1"]
[null,"Redazione APE ante, Progettazione energetica","Architetto1",null,0,null,0.04,{"$f":"E25*G25","v":0},null,0.22,{"$f":"(E25+H25)*J25","v":0},null,{"$f":"E25+H25+K25","v":0},null,null,null,19,{"$f":"IF(C25<>\"\",IFERROR(IF(VLOOKUP(C25,$B$44:$D$51,3,FALSE)=\"NO\",IF(J25=0,\"Attenzione, tecnico esente iva (Forfettario) dovrebbe applicare sconto in fattura. Le relative competenze saranno inserite nella Fattura del G.C. come rimborso spese con IVA=0 <<<<<< Consulenti non d'accordo\",\"\"),\"\"),\"\"),\"\")","v":""}]
[null,"Progettazione e DD.LL.","Architetto1",null,0,null,0.04,0,null,0.22,0,null,{"$f":"E26+H26+K26","v":0},null,null,null,20,{"$f":"IF(C26<>\"\",IFERROR(IF(VLOOKUP(C26,$B$44:$D$51,3,FALSE)=\"NO\",IF(J26=0,\"Attenzione, tecnico esente iva (Forfettario) dovrebbe applicare sconto in fattura. Le relative competenze saranno inserite nella Fattura del G.C. come rimborso spese con IVA=0 <<<<<< Consulenti non d'accordo\",\"\"),\"\"),\"\"),\"\")","v":""}]
[null,"Coordinamento sicurezza","Ingegnere2",null,0,null,0.04,0,null,0.22,0,null,{"$f":"E27+H27+K27","v":0},null,null,null,21,""]
[null,"Redazione APE post","Architetto1",null,0,null,0.04,0,null,0.22,0,null,0,null,null,null,22,""]
[null,null,null,null,null,null,0.04,0,null,0.22,0,null,0,null,null,null,23,""]
[null,null,null,null,0,null,0.04,0,null,0.22,0,null,0,null,null,null,24,""]
[null,null,null,null,0,null,0.04,0,null,0.22,0,null,0,null,null,null,25,""]
[null,null,null,null,0,null,0.04,0,null,0.22,0,null,0,null,null,null,26,""]
[null,null,null,null,{"$f":"SUM(E25:F32)","v":0},null,null,{"$f":"SUM(H25:I32)","v":0},null,null,{"$f":"SUM(K25:L32)","v":0},null,{"$f":"SUM(M25:N32)","v":0},null,null,null,27]
[null,null,null,null,"onorario",null,"c.cassa",null,null,"iva",null,null,"totale",null,null,null,28]
[null,"Visto Conformità","Consulente1",0.02,{"$f":"G18*D35","v":0},null,0.04,{"$f":"E35*G35","v":0},null,0.22,{"$f":"(E35+H35)*J35","v":0},null,{"$f":"E35+H35+K35","v":0},null,null,null,29,{"$f":"IF(C35<>\"\",IFERROR(IF(VLOOKUP(C35,$B$44:$D$51,3,FALSE)=\"NO\",IF(J35=0,\"Attenzione, tecnico esente iva (Forfettario) dovrebbe applicare sconto in fattura. Le relative competenze saranno inserite nella Fattura del G.C. come rimborso spese con IVA=0 <<<<<< Consulenti non d'accordo\",\"\"),\"\"),\"\"),\"\")","v":""}]
[null,null,null,null,{"$f":"E33+E35","v":0},null,null,{"$f":"H33+H35","v":0},null,null,{"$f":"K33+K35","v":0},null,{"$f":"M33+M35","v":0},null,null,null,30]
[null,null,null,null,null,null,null,null,null,null,null,null,null,null,null,null,31]
[null,"Appaltatore / General Contractor / Soggetto Principale a cui viene ceduto il credito",null,null,null,null,null,null,null,null,null,null,null,null,null,null,32]
[null,"Denominazione","SIM srl",null,null,"CF/Piva",null,null,null,null,null,"Tel.",null,null,null,null,33]
[null,"Indirizzo",null,null,null,"Città",null,null,null,null,null,"Mail",null,null,null,null,34]
[null,"Dati Pagamento",null,null,null,null,null,null,null,null,null,null,null,null,null,null,35]
[null,null,null,null,null,null,null,null,null,null,null,null,null,null,null,null,36]
[null,"TECNICI",null,"Sc.to","Indirizzo",null,"Città",null,null,"CodFisc/Piva",null,"Tel./Mail",null,"Dati Pagamento"," ",null,37]
[null,"Architetto1",null,"SI",null,null,null,null,null,null,null,null,null,"Bonifico Bancario | Zafonte Mario | Banca Unicredit | IBAN : IT35S0200843240000300246664"," ",null,38]
[null,"Ingegnere2",null,"NO",null,null,null,null,null,null,null,null,null,null," ",null,39]
[null,"Consulente1",null,"NO",null,null,null,null,null,null,null,null,null,null," ",null,40]
[null,null,null,"NO",null,null,null,null,null,null,null,null,null,null," ",null,41]
[null,null,null,"NO",null,null,null,null,null,null,null,null,null,null," ",null,42]
[null,null,null,"NO",null,null,null,null,null,null,null,null,null,null," ",null,43]
[null,null,null,"NO",null,null,null,null,null,null,null,null,null,null," ",null,44]
[null,null,null,"NO",null,null,null,null,null,null,null,null,null,null," ",null,45]
[null,null,null,null,null,null,null,null,null,null,null,null,null,null,null,null,46,null,"Foto 2"]
[null,null,null,null,null,null,null,null,null,null,null,null,null,null,null,null,47]
[null,null,null,null,null,null,null,null,null,null,null,null,null,null,null,null,48]
[null,null,null,null,null,null,null,null,null,null,null,null,null,null,null,null,49]
[null,null,null,null,null,null,null,null,null,null,null,null,null,null,null,null,50]
[null,null,null,null,null,null,null,null,null,null,null,null,null,null,null,null,51]
[null,null,null,null,null,null,null,null,null,null,null,null,null,null,null,null,52]
[null,null,null,null,null,null,null,null,null,null,null,null,null,null,null,null,53]
[null,null,null,null,null,null,null,null,null,null,null,null,null,null,null,null,54]
[null,null,null,null,null,null,null,null,null,null,null,null,null,null,null,null,55]
[null,null,null,null,null,null,null,null,null,null,null,null,null,null,null,null,56]
[null,null,null,null,null,null,null,null,null,null,null,null,null,null,null,null,57]
[null,null,null,null,null,null,null,null,null,null,null,null,null,null,null,null,58]
[null,null,null,null,null,null,null,null,null,null,null,null,null,null,null,null,59]
[null,null,null,null,null,null,null,null,null,null,null,null,null,null,null,null,60]
[null,null,null,null,null,null,null,null,null,null,null,null,null,null,null,null,61]
[null,null,null,null,null,null,null,null,null,null,null,null,null,null,null,null,62]
[null,null,null,null,null,null,null,null,null,null,null,null,null,null,null,null,63]
[null,null,null,null,null,null,null,null,null,null,null,null,null,null,null,null,64]
[null,null,null,null,null,null,null,null,null,null,null,null,null,null,null,null,65]
[null,null,null,null,null,null,null,null,null,null,null,null,null,null,null,null,66]
[null,null,null,null,null,null,null,null,null,null,null,null,null,null,null,null,{"$f":"Q72+1","v":67}]
[null,null,null,null,null,null,null,null,null,null,null,null,null,null,null,null,68]
[null,null,null,null,null,null,null,null,null,null,null,null,null,null,null,null,69]
[null,null,null,null,null,null,null,null,null,null,null,null,null,null,null,null,70]
[null,null,null,null,null,null,null,null,null,null,null,null,null,null,null,null,71]
[null,null,null,null,null,null,null,null,null,null,null,null,null,null,null,null,72]
[null,null,null,null,null,null,null,null,null,null,null,null,null,null,null,null,73]
[null,null,null,null,null,null,null,null,null,null,null,null,null,null,null,null,74]
[null,null,null,null,null,null,null,null,null,null,null,null,null,null,null,null,75]
[null,null,null,null,null,null,null,null,null,null,null,null,null,null,null,null,76]
[null,null,null,null,null,null,null,null,null,null,null,null,null,null,null,null,77]
[null,null,null,null,null,null,null,null,null,null,null,null,null,null,null,null,78]
[null,null,null,null,null,null,null,null,null,null,null,null,null,null,null,null,79]
[null,null,null,null,null,null,null,null,null,null,null,null,null,null,null,null,80]
[null,null,null,null,null,null,null,null,null,null,null,null,null,null,null,null,81]
[null,null,null,null,null,null,null,null,null,null,null,null,null,null,null,null,82]
[null,null,null,null,null,null,null,null,null,null,null,null,null,null,null,null,83]
[null,null,null,null,null,null,null,null,null,null,null,null,null,null,null,null,84]
[null,null,null,null,null,null,null,null,null,null,null,null,null,null,null,null,85]
[null,null,null,null,null,null,null,null,null,null,null,null,null,null,null,null,86]
[null,null,null,null,null,null,null,null,null,null,null,null,null,null,null,null,87]
[null,null,null,null,null,null,null,null,null,null,null,null,null,null,null,null,88]
[null,null,null,null,null,null,null,null,null,null,null,null,null,null,null,null,89]
[null,null,null,null,null,null,null,null,null,null,null,null,null,null,null,null,90]
[null,null,null,null,null,null,null,null,null,null,null,null,null,null,null,null,91]
[null,null,null,null,null,null,null,null,null,null,null,null,null,null,null,null,92]
[null,null,null,null,null,null,null,null,null,null,null,null,null,null,null,null,93]
[null,null,null,null,null,null,null,null,null,null,null,null,null,null,null,null,94]
[null,null,null,null,null,null,null,null,null,null,null,null,null,null,null,null,95]
[null,null,null,null,null,null,null,null,null,null,null,null,null,null,null,null,96]
[null,null,null,null,null,null,null,null,null,null,null,null,null,null,null,null,97]
[null,null,null,null,null,null,null,null,null,null,null,null,null,null,null,null,98]
[null,null,null,null,null,null,null,null,null,null,null,null,null,null,null,null,99]
[null,null,null,null,null,null,null,null,null,null,null,null,null,null,null,null,100]
[null,null,null,null,null,null,null,null,null,null,null,null,null,null,null,null,101]
[null,null,null,null,null,null,null,null,null,null,null,null,null,null,null,null,102]
[null,null,null,null,null,null,null,null,null,null,null,null,null,null,null,null,103]
[null,null,null,null,null,null,null,null,null,null,null,null,null,null,null,null,104]
[null,null,null,null,null,null,null,null,null,null,null,null,null,null,null,null,105]
[null,null,null,null,null,null,null,null,null,null,null,null,null,null,null,null,106]
[null,null,null,null,null,null,null,null,null,null,null,null,null,null,null,null,107]
[null,null,null,null,null,null,null,null,null,null,null,null,null,null,null,null,108]
[null,null,null,null,null,null,null,null,null,null,null,null,null,null,null,null,109]
[null,null,null,null,null,null,null,null,null,null,null,null,null,null,null,null,110]
[null,null,null,null,null,null,null,null,null,null,null,null,null,null,null,null,111]
[null,null,null,null,null,null,null,null,null,null,null,null,null,null,null,null,112]
[null,null,null,null,null,null,null,null,null,null,null,null,null,null,null,null,113]
[null,null,null,null,null,null,null,null,null,null,null,null,null,null,null,null,114]
[null,null,null,null,null,null,null,null,null,null,null,null,null,null,null,null,115]
[null,null,null,null,null,null,null,null,null,null,null,null,null,null,null,null,116]
[null,null,null,null,null,null,null,null,null,null,null,null,null,null,null,null,117]
[null,null,null,null,null,null,null,null,null,null,null,null,null,null,null,null,118]
[null,null,null,null,null,null,null,null,null,null,null,null,null,null,null,null,119]
[null,null,null,null,null,null,null,null,null,null,null,null,null,null,null,null,120]
[null,null,null,null,null,null,null,null,null,null,null,null,null,null,null,null,121]
[null,null,null,null,null,null,null,null,null,null,null,null,null,null,null,null,122]
[null,null,null,null,null,null,null,null,null,null,null,null,null,null,null,null,123]
[null,null,null,null,null,null,null,null,null,null,null,null,null,null,null,null,124]
[null,null,null,null,null,null,null,null,null,null,null,null,null,null,null,null,125]
[null,null,null,null,null,null,null,null,null,null,null,null,null,null,null,null,126]
[null,null,null,null,null,null,null,null,null,null,null,null,null,null,null,null,127]
[null,null,null,null,null,null,null,null,null,null,null,null,null,null,null,null,128]
[null,null,null,null,null,null,null,null,null,null,null,null,null,null,null,null,129]
[null,null,null,null,null,null,null,null,null,null,null,null,null,null,null,null,130]
[null,null,null,null,null,null,null,null,null,null,null,null,null,null,null,null,{"$f":"Q136+1","v":131}]
[null,null,null,null,null,null,null,null,null,null,null,null,null,null,null,null,132]
[null,null,null,null,null,null,null,null,null,null,null,null,null,null,null,null,133]
[null,null,null,null,null,null,null,null,null,null,null,null,null,null,null,null,134]
[null,null,null,null,null,null,null,null,null,null,null,null,null,null,null,null,135]
[null,null,null,null,null,null,null,null,null,null,null,null,null,null,null,null,136]
[null,null,null,null,null,null,null,null,null,null,null,null,null,null,null,null,137]
[null,null,null,null,null,null,null,null,null,null,null,null,null,null,null,null,138]
[null,null,null,null,null,null,null,null,null,null,null,null,null,null,null,null,139]
[null,null,null,null,null,null,null,null,null,null,null,null,null,null,null,null,140]
[null,null,null,null,null,null,null,null,null,null,null,null,null,null,null,null,141]
[null,null,null,null,null,null,null,null,null,null,null,null,null,null,null,null,142]
[null,null,null,null,null,null,null,null,null,null,null,null,null,null,null,null,143]
[null,null,null,null,null,null,null,null,null,null,null,null,null,null,null,null,144]
[null,null,null,null,null,null,null,null,null,null,null,null,null,null,null,null,145]
[null,null,null,null,null,null,null,null,null,null,null,null,null,null,null,null,146]
[null,null,null,null,null,null,null,null,null,null,null,null,null,null,null,null,147]
[null,null,null,null,null,null,null,null,null,null,null,null,null,null,null,null,148]
[null,null,null,null,null,null,null,null,null,null,null,null,null,null,null,null,149]
[null,null,null,null,null,null,null,null,null,null,null,null,null,null,null,null,150]
[null,null,null,null,null,null,null,null,null,null,null,null,null,null,null,null,151]
[null,null,null,null,null,null,null,null,null,null,null,null,null,null,null,null,152]
[null,null,null,null,null,null,null,null,null,null,null,null,null,null,null,null,153]
[null,null,null,null,null,null,null,null,null,null,null,null,null,null,null,null,154]
[null,null,null,null,null,null,null,null,null,null,null,null,null,null,null,null,155]
[null,null,null,null,null,null,null,null,null,null,null,null,null,null,null,null,156]
[null,null,null,null,null,null,null,null,null,null,null,null,null,null,null,null,157]
[null,null,null,null,null,null,null,null,null,null,null,null,null,null,null,null,158]
[null,null,null,null,null,null,null,null,null,null,null,null,null,null,null,null,159]
[null,null,null,null,null,null,null,null,null,null,null,null,null,null,null,null,160]
[null,null,null,null,null,null,null,null,null,null,null,null,null,null,null,null,161]
[null,null,null,null,null,null,null,null,null,null,null,null,null,null,null,null,162]
[null,null,null,null,null,null,null,null,null,null,null,null,null,null,null,null,163]
[null,null,null,null,null,null,null,null,null,null,null,null,null,null,null,null,164]
[null,null,null,null,null,null,null,null,null,null,null,null,null,null,null,null,165]
[null,null,null,null,null,null,null,null,null,null,null,null,null,null,null,null,166]
[null,null,null,null,null,null,null,null,null,null,null,null,null,null,null,null,167]
[null,null,null,null,null,null,null,null,null,null,null,null,null,null,null,null,168]
[null,null,null,null,null,null,null,null,null,null,null,null,null,null,null,null,169]
[null,null,null,null,null,null,null,null,null,null,null,null,null,null,null,null,170]
[null,null,null,null,null,null,null,null,null,null,null,null,null,null,null,null,171]
[null,null,null,null,null,null,null,null,null,null,null,null,null,null,null,null,172]
[null,null,null,null,null,null,null,null,null,null,null,null,null,null,null,null,173]
[null,null,null,null,null,null,null,null,null,null,null,null,null,null,null,null,174]
[null,null,null,null,null,null,null,null,null,null,null,null,null,null,null,null,175]
[null,null,null,null,null,null,null,null,null,null,null,null,null,null,null,null,176]
[null,null,null,null,null,null,null,null,null,null,null,null,null,null,null,null,177]
[null,null,null,null,null,null,null,null,null,null,null,null,null,null,null,null,178]
[null,null,null,null,null,null,null,null,null,null,null,null,null,null,null,null,179]
[null,null,null,null,null,null,null,null,null,null,null,null,null,null,null,null,180]
[null,null,null,null,null,null,null,null,null,null,null,null,null,null,null,null,181]
[null,null,null,null,null,null,null,null,null,null,null,null,null,null,null,null,182]
[null,null,null,null,null,null,null,null,null,null,null,null,null,null,null,null,183]
[null,null,null,null,null,null,null,null,null,null,null,null,null,null,null,null,184]
[null,null,null,null,null,null,null,null,null,null,null,null,null,null,null,null,185]
[null,null,null,null,null,null,null,null,null,null,null,null,null,null,null,null,186]
[null,null,null,null,null,null,null,null,null,null,null,null,null,null,null,null,187]
[null,null,null,null,null,null,null,null,null,null,null,null,null,null,null,null,188]
[null,null,null,null,null,null,null,null,null,null,null,null,null,null,null,null,189]
[null,null,null,null,null,null,null,null,null,null,null,null,null,null,null,null,190]
[null,null,null,null,null,null,null,null,null,null,null,null,null,null,null,null,191]
[null,null,null,null,null,null,null,null,null,null,null,null,null,null,null,null,192]
[null,null,null,null,null,null,null,null,null,null,null,null,null,null,null,null,193]
[null,null,null,null,null,null,null,null,null,null,null,null,null,null,null,null,194]
[null,null,null,null,null,null,null,null,null,null,null,null,null,null,null,null,{"$f":"Q200+1","v":195}]
[null,null,null,null,null,null,null,null,null,null,null,null,null,null,null,null,196]
[null,null,null,null,null,null,null,null,null,null,null,null,null,null,null,null,197]
[null,null,null,null,null,null,null,null,null,null,null,null,null,null,null,null,198]
[null,null,null,null,null,null,null,null,null,null,null,null,null,null,null,null,199]
[null,null,null,null,null,null,null,null,null,null,null,null,null,null,null,null,200]
[null,null,null,null,null,null,null,null,null,null,null,null,null,null,null,null,201]
[null,null,null,null,null,null,null,null,null,null,null,null,null,null,null,null,202]
[null,null,null,null,null,null,null,null,null,null,null,null,null,null,null,null,203]
[null,null,null,null,null,null,null,null,null,null,null,null,null,null,null,null,204]
[null,null,null,null,null,null,null,null,null,null,null,null,null,null,null,null,205]
[null,null,null,null,null,null,null,null,null,null,null,null,null,null,null,null,206]
[null,null,null,null,null,null,null,null,null,null,null,null,null,null,null,null,207]
[null,null,null,null,null,null,null,null,null,null,null,null,null,null,null,null,208]
[null,null,null,null,null,null,null,null,null,null,null,null,null,null,null,null,209]
[null,null,null,null,null,null,null,null,null,null,null,null,null,null,null,null,210]
[null,null,null,null,null,null,null,null,null,null,null,null,null,null,null,null,211]
[null,null,null,null,null,null,null,null,null,null,null,null,null,null,null,null,212]
[null,null,null,null,null,null,null,null,null,null,null,null,null,null,null,null,213]
[null,null,null,null,null,null,null,null,null,null,null,null,null,null,null,null,214]
[null,null,null,null,null,null,null,null,null,null,null,null,null,null,null,null,215]
[null,null,null,null,null,null,null,null,null,null,null,null,null,null,null,null,216]
[null,null,null,null,null,null,null,null,null,null,null,null,null,null,null,null,217]
[null,null,null,null,null,null,null,null,null,null,null,null,null,null,null,null,218]
[null,null,null,null,null,null,null,null,null,null,null,null,null,null,null,null,219]
[null,null,null,null,null,null,null,null,null,null,null,null,null,null,null,null,220]
[null,null,null,null,null,null,null,null,null,null,null,null,null,null,null,null,221]
[null,null,null,null,null,null,null,null,null,null,null,null,null,null,null,null,222]
[null,null,null,null,null,null,null,null,null,null,null,null,null,null,null,null,223]
[null,null,null,null,null,null,null,null,null,null,null,null,null,null,null,null,224]
[null,null,null,null,null,null,null,null,null,null,null,null,null,null,null,null,225]
[null,null,null,null,null,null,null,null,null,null,null,null,null,null,null,null,226]
[null,null,null,null,null,null,null,null,null,null,null,null,null,null,null,null,227]
[null,null,null,null,null,null,null,null,null,null,null,null,null,null,null,null,228]
[null,null,null,null,null,null,null,null,null,null,null,null,null,null,null,null,229]
[null,null,null,null,null,null,null,null,null,null,null,null,null,null,null,null,230]
[null,null,null,null,null,null,null,null,null,null,null,null,null,null,null,null,231]
[null,null,null,null,null,null,null,null,null,null,null,null,null,null,null,null,232]
[null,null,null,null,null,null,null,null,null,null,null,null,null,null,null,null,233]
[null,null,null,null,null,null,null,null,null,null,null,null,null,null,null,null,234]
[null,null,null,null,null,null,null,null,null,null,null,null,null,null,null,null,235]
[null,null,null,null,null,null,null,null,null,null,null,null,null,null,null,null,236]
[null,null,null,null,null,null,null,null,null,null,null,null,null,null,null,null,237]
[null,null,null,null,null,null,null,null,null,null,null,null,null,null,null,null,238]
[null,null,null,null,null,null,null,null,null,null,null,null,null,null,null,null,239]
[null,null,null,null,null,null,null,null,null,null,null,null,null,null,null,null,240]
[null,null,null,null,null,null,null,null,null,null,null,null,null,null,null,null,241]
[null,null,null,null,null,null,null,null,null,null,null,null,null,null,null,null,242]
[null,null,null,null,null,null,null,null,null,null,null,null,null,null,null,null,243]
[null,null,null,null,null,null,null,null,null,null,null,null,null,null,null,null,244]
[null,null,null,null,null,null,null,null,null,null,null,null,null,null,null,null,245]
[null,null,null,null,null,null,null,null,null,null,null,null,null,null,null,null,246]
[null,null,null,null,null,null,null,null,null,null,null,null,null,null,null,null,247]
[null,null,null,null,null,null,null,null,null,null,null,null,null,null,null,null,248]
[null,null,null,null,null,null,null,null,null,null,null,null,null,null,null,null,249]
[null,null,null,null,null,null,null,null,null,null,null,null,null,null,null,null,250]
[null,null,null,null,null,null,null,null,null,null,null,null,null,null,null,null,251]
[null,null,null,null,null,null,null,null,null,null,null,null,null,null,null,null,252]
[null,null,null,null,null,null,null,null,null,null,null,null,null,null,null,null,253]
[null,null,null,null,null,null,null,null,null,null,null,null,null,null,null,null,254]
[null,null,null,null,null,null,null,null,null,null,null,null,null,null,null,null,255]
[null,null,null,null,null,null,null,null,null,null,null,null,null,null,null,null,256]
[null,null,null,null,null,null,null,null,null,null,null,null,null,null,null,null,257]
[null,null,null,null,null,null,null,null,null,null,null,null,null,null,null,null,258]
[null,null,null,null,null,null,null,null,null,null,null,null,null,null,null,null,{"$f":"Q264+1","v":259}]
[null,null,null,null,null,null,null,null,null,null,null,null,null,null,null,null,260]
[null,null,null,null,null,null,null,null,null,null,null,null,null,null,null,null,261]
[null,null,null,null,null,null,null,null,null,null,null,null,null,null,null,null,262]
[null,null,null,null,null,null,null,null,null,null,null,null,null,null,null,null,263]
[null,null,null,null,null,null,null,null,null,null,null,null,null,null,null,null,264]
[null,null,null,null,null,null,null,null,null,null,null,null,null,null,null,null,265]
[null,null,null,null,null,null,null,null,null,null,null,null,null,null,null,null,266]
[null,null,null,null,null,null,null,null,null,null,null,null,null,null,null,null,267]
[null,null,null,null,null,null,null,null,null,null,null,null,null,null,null,null,268]
[null,null,null,null,null,null,null,null,null,null,null,null,null,null,null,null,269]
[null,null,null,null,null,null,null,null,null,null,null,null,null,null,null,null,270]
[null,null,null,null,null,null,null,null,null,null,null,null,null,null,null,null,271]
[null,null,null,null,null,null,null,null,null,null,null,null,null,null,null,null,272]
[null,null,null,null,null,null,null,null,null,null,null,null,null,null,null,null,273]
[null,null,null,null,null,null,null,null,null,null,null,null,null,null,null,null,274]
[null,null,null,null,null,null,null,null,null,null,null,null,null,null,null,null,275]
[null,null,null,null,null,null,null,null,null,null,null,null,null,null,null,null,276]
[null,null,null,null,null,null,null,null,null,null,null,null,null,null,null,null,277]
[null,null,null,null,null,null,null,null,null,null,null,null,null,null,null,null,278]
[null,null,null,null,null,null,null,null,null,null,null,null,null,null,null,null,279]
[null,null,null,null,null,null,null,null,null,null,null,null,null,null,null,null,280]
[null,null,null,null,null,null,null,null,null,null,null,null,null,null,null,null,281]
[null,null,null,null,null,null,null,null,null,null,null,null,null,null,null,null,282]
[null,null,null,null,null,null,null,null,null,null,null,null,null,null,null,null,283]
[null,null,null,null,null,null,null,null,null,null,null,null,null,null,null,null,284]
[null,null,null,null,null,null,null,null,null,null,null,null,null,null,null,null,285]
[null,null,null,null,null,null,null,null,null,null,null,null,null,null,null,null,286]
[null,null,null,null,null,null,null,null,null,null,null,null,null,null,null,null,287]
[null,null,null,null,null,null,null,null,null,null,null,null,null,null,null,null,288]
[null,null,null,null,null,null,null,null,null,null,null,null,null,null,null,null,289]
[null,null,null,null,null,null,null,null,null,null,null,null,null,null,null,null,290]
[null,null,null,null,null,null,null,null,null,null,null,null,null,null,null,null,291]
[null,null,null,null,null,null,null,null,null,null,null,null,null,null,null,null,292]
[null,null,null,null,null,null,null,null,null,null,null,null,null,null,null,null,293]
[null,null,null,null,null,null,null,null,null,null,null,null,null,null,null,null,294]
[null,null,null,null,null,null,null,null,null,null,null,null,null,null,null,null,295]
[null,null,null,null,null,null,null,null,null,null,null,null,null,null,null,null,296]
[null,null,null,null,null,null,null,null,null,null,null,null,null,null,null,null,297]
[null,null,null,null,null,null,null,null,null,null,null,null,null,null,null,null,298]
[null,null,null,null,null,null,null,null,null,null,null,null,null,null,null,null,299]
[null,null,null,null,null,null,null,null,null,null,null,null,null,null,null,null,300]
[null,null,null,null,null,null,null,null,null,null,null,null,null,null,null,null,301]
[null,null,null,null,null,null,null,null,null,null,null,null,null,null,null,null,302]
[null,null,null,null,null,null,null,null,null,null,null,null,null,null,null,null,303]
[null,null,null,null,null,null,null,null,null,null,null,null,null,null,null,null,304]
[null,null,null,null,null,null,null,null,null,null,null,null,null,null,null,null,305]
[null,null,null,null,null,null,null,null,null,null,null,null,null,null,null,null,306]
[null,null,null,null,null,null,null,null,null,null,null,null,null,null,null,null,307]
[null,null,null,null,null,null,null,null,null,null,null,null,null,null,null,null,308]
[null,null,null,null,null,null,null,null,null,null,null,null,null,null,null,null,309]
[null,null,null,null,null,null,null,null,null,null,null,null,null,null,null,null,310]
[null,null,null,null,null,null,null,null,null,null,null,null,null,null,null,null,311]
[null,null,null,null,null,null,null,null,null,null,null,null,null,null,null,null,312]
[null,null,null,null,null,null,null,null,null,null,null,null,null,null,null,null,313]
[null,null,null,null,null,null,null,null,null,null,null,null,null,null,null,null,314]
[null,null,null,null,null,null,null,null,null,null,null,null,null,null,null,null,315]
[null,null,null,null,null,null,null,null,null,null,null,null,null,null,null,null,316]
[null,null,null,null,null,null,null,null,null,null,null,null,null,null,null,null,317]
[null,null,null,null,null,null,null,null,null,null,null,null,null,null,null,null,318]
[null,null,null,null,null,null,null,null,null,null,null,null,null,null,null,null,319]
[null,null,null,null,null,null,null,null,null,null,null,null,null,null,null,null,320]
[null,null,null,null,null,null,null,null,null,null,null,null,null,null,null,null,321]
[null,null,null,null,null,null,null,null,null,null,null,null,null,null,null,null,322]
[null,null,null,null,null,null,null,null,null,null,null,null,null,null,null,null,{"$f":"Q328+1","v":323}]
[null,null,null,null,null,null,null,null,null,null,null,null,null,null,null,null,324]
[null,null,null,null,null,null,null,null,null,null,null,null,null,null,null,null,325]
[null,null,null,null,null,null,null,null,null,null,null,null,null,null,null,null,326]
[null,null,null,null,null,null,null,null,null,null,null,null,null,null,null,null,327]
[null,null,null,null,null,null,null,null,null,null,null,null,null,null,null,null,328]
[null,null,null,null,null,null,null,null,null,null,null,null,null,null,null,null,329]
[null,null,null,null,null,null,null,null,null,null,null,null,null,null,null,null,330]
[null,null,null,null,null,null,null,null,null,null,null,null,null,null,null,null,331]
[null,null,null,null,null,null,null,null,null,null,null,null,null,null,null,null,332]
[null,null,null,null,null,null,null,null,null,null,null,null,null,null,null,null,333]
[null,null,null,null,null,null,null,null,null,null,null,null,null,null,null,null,334]
[null,null,null,null,null,null,null,null,null,null,null,null,null,null,null,null,335]
[null,null,null,null,null,null,null,null,null,null,null,null,null,null,null,null,336]
[null,null,null,null,null,null,null,null,null,null,null,null,null,null,null,null,337]
[null,null,null,null,null,null,null,null,null,null,null,null,null,null,null,null,338]
[null,null,null,null,null,null,null,null,null,null,null,null,null,null,null,null,339]
[null,null,null,null,null,null,null,null,null,null,null,null,null,null,null,null,340]
[null,null,null,null,null,null,null,null,null,null,null,null,null,null,null,null,341]
[null,null,null,null,null,null,null,null,null,null,null,null,null,null,null,null,342]
[null,null,null,null,null,null,null,null,null,null,null,null,null,null,null,null,343]
[null,null,null,null,null,null,null,null,null,null,null,null,null,null,null,null,344]
[null,null,null,null,null,null,null,null,null,null,null,null,null,null,null,null,345]
[null,null,null,null,null,null,null,null,null,null,null,null,null,null,null,null,346]
[null,null,null,null,null,null,null,null,null,null,null,null,null,null,null,null,347]
[null,null,null,null,null,null,null,null,null,null,null,null,null,null,null,null,348]
[null,null,null,null,null,null,null,null,null,null,null,null,null,null,null,null,349]
[null,null,null,null,null,null,null,null,null,null,null,null,null,null,null,null,350]
[null,null,null,null,null,null,null,null,null,null,null,null,null,null,null,null,351]
[null,null,null,null,null,null,null,null,null,null,null,null,null,null,null,null,352]
[null,null,null,null,null,null,null,null,null,null,null,null,null,null,null,null,353]
[null,null,null,null,null,null,null,null,null,null,null,null,null,null,null,null,354]
[null,null,null,null,null,null,null,null,null,null,null,null,null,null,null,null,355]
[null,null,null,null,null,null,null,null,null,null,null,null,null,null,null,null,356]
[null,null,null,null,null,null,null,null,null,null,null,null,null,null,null,null,357]
[null,null,null,null,null,null,null,null,null,null,null,null,null,null,null,null,358]
[null,null,null,null,null,null,null,null,null,null,null,null,null,null,null,null,359]
[null,null,null,null,null,null,null,null,null,null,null,null,null,null,null,null,360]
[null,null,null,null,null,null,null,null,null,null,null,null,null,null,null,null,361]
[null,null,null,null,null,null,null,null,null,null,null,null,null,null,null,null,362]
[null,null,null,null,null,null,null,null,null,null,null,null,null,null,null,null,363]
[null,null,null,null,null,null,null,null,null,null,null,null,null,null,null,null,364]
[null,null,null,null,null,null,null,null,null,null,null,null,null,null,null,null,365]
[null,null,null,null,null,null,null,null,null,null,null,null,null,null,null,null,366]
[null,null,null,null,null,null,null,null,null,null,null,null,null,null,null,null,367]
[null,null,null,null,null,null,null,null,null,null,null,null,null,null,null,null,368]
[null,null,null,null,null,null,null,null,null,null,null,null,null,null,null,null,369]
[null,null,null,null,null,null,null,null,null,null,null,null,null,null,null,null,370]
[null,null,null,null,null,null,null,null,null,null,null,null,null,null,null,null,371]
[null,null,null,null,null,null,null,null,null,null,null,null,null,null,null,null,372]
[null,null,null,null,null,null,null,null,null,null,null,null,null,null,null,null,373]
[null,null,null,null,null,null,null,null,null,null,null,null,null,null,null,null,374]
[null,null,null,null,null,null,null,null,null,null,null,null,null,null,null,null,375]
[null,null,null,null,null,null,null,null,null,null,null,null,null,null,null,null,376]
[null,null,null,null,null,null,null,null,null,null,null,null,null,null,null,null,377]
[null,null,null,null,null,null,null,null,null,null,null,null,null,null,null,null,378]
[null,null,null,null,null,null,null,null,null,null,null,null,null,null,null,null,379]
[null,null,null,null,null,null,null,null,null,null,null,null,null,null,null,null,380]
[null,null,null,null,null,null,null,null,null,null,null,null,null,null,null,null,381]
[null,null,null,null,null,null,null,null,null,null,null,null,null,null,null,null,382]
[null,null,null,null,null,null,null,null,null,null,null,null,null,null,null,null,383]
[null,null,null,null,null,null,null,null,null,null,null,null,null,null,null,null,384]
[null,null,null,null,null,null,null,null,null,null,null,null,null,null,null,null,385]
[null,null,null,null,null,null,null,null,null,null,null,null,null,null,null,null,386]
[null,null,null,null,null,null,null,null,null,null,null,null,null,null,null,null,{"$f":"Q392+1","v":387}]
[null,null,null,null,null,null,null,null,null,null,null,null,null,null,null,null,388]
[null,null,null,null,null,null,null,null,null,null,null,null,null,null,null,null,389]
[null,null,null,null,null,null,null,null,null,null,null,null,null,null,null,null,390]
[null,null,null,null,null,null,null,null,null,null,null,null,null,null,null,null,391]
[null,null,null,null,null,null,null,null,null,null,null,null,null,null,null,null,392]
[null,null,null,null,null,null,null,null,null,null,null,null,null,null,null,null,393]
[null,null,null,null,null,null,null,null,null,null,null,null,null,null,null,null,394]
[null,null,null,null,null,null,null,null,null,null,null,null,null,null,null,null,395]
[null,null,null,null,null,null,null,null,null,null,null,null,null,null,null,null,396]
[null,null,null,null,null,null,null,null,null,null,null,null,null,null,null,null,397]
[null,null,null,null,null,null,null,null,null,null,null,null,null,null,null,null,398]
[null,null,null,null,null,null,null,null,null,null,null,null,null,null,null,null,399]
[null,null,null,null,null,null,null,null,null,null,null,null,null,null,null,null,400]
[null,null,null,null,null,null,null,null,null,null,null,null,null,null,null,null,401]
[null,null,null,null,null,null,null,null,null,null,null,null,null,null,null,null,402]
[null,null,null,null,null,null,null,null,null,null,null,null,null,null,null,null,403]
[null,null,null,null,null,null,null,null,null,null,null,null,null,null,null,null,404]
[null,null,null,null,null,null,null,null,null,null,null,null,null,null,null,null,405]
[null,null,null,null,null,null,null,null,null,null,null,null,null,null,null,null,406]
[null,null,null,null,null,null,null,null,null,null,null,null,null,null,null,null,407]
[null,null,null,null,null,null,null,null,null,null,null,null,null,null,null,null,408]
[null,null,null,null,null,null,null,null,null,null,null,null,null,null,null,null,409]
[null,null,null,null,null,null,null,null,null,null,null,null,null,null,null,null,410]
[null,null,null,null,null,null,null,null,null,null,null,null,null,null,null,null,411]
[null,null,null,null,null,null,null,null,null,null,null,null,null,null,null,null,412]
[null,null,null,null,null,null,null,null,null,null,null,null,null,null,null,null,413]
[null,null,null,null,null,null,null,null,null,null,null,null,null,null,null,null,414]
[null,null,null,null,null,null,null,null,null,null,null,null,null,null,null,null,415]
[null,null,null,null,null,null,null,null,null,null,null,null,null,null,null,null,416]
[null,null,null,null,null,null,null,null,null,null,null,null,null,null,null,null,417]
[null,null,null,null,null,null,null,null,null,null,null,null,null,null,null,null,418]
[null,null,null,null,null,null,null,null,null,null,null,null,null,null,null,null,419]
[null,null,null,null,null,null,null,null,null,null,null,null,null,null,null,null,420]
[null,null,null,null,null,null,null,null,null,null,null,null,null,null,null,null,421]
[null,null,null,null,null,null,null,null,null,null,null,null,null,null,null,null,422]
[null,null,null,null,null,null,null,null,null,null,null,null,null,null,null,null,423]
[null,null,null,null,null,null,null,null,null,null,null,null,null,null,null,null,424]
[null,null,null,null,null,null,null,null,null,null,null,null,null,null,null,null,425]
[null,null,null,null,null,null,null,null,null,null,null,null,null,null,null,null,426]
[null,null,null,null,null,null,null,null,null,null,null,null,null,null,null,null,427]
[null,null,null,null,null,null,null,null,null,null,null,null,null,null,null,null,428]
[null,null,null,null,null,null,null,null,null,null,null,null,null,null,null,null,429]
[null,null,null,null,null,null,null,null,null,null,null,null,null,null,null,null,430]
[null,null,null,null,null,null,null,null,null,null,null,null,null,null,null,null,431]
[null,null,null,null,null,null,null,null,null,null,null,null,null,null,null,null,432]
[null,null,null,null,null,null,null,null,null,null,null,null,null,null,null,null,433]
[null,null,null,null,null,null,null,null,null,null,null,null,null,null,null,null,434]
[null,null,null,null,null,null,null,null,null,null,null,null,null,null,null,null,435]
[null,null,null,null,null,null,null,null,null,null,null,null,null,null,null,null,436]
[null,null,null,null,null,null,null,null,null,null,null,null,null,null,null,null,437]
[null,null,null,null,null,null,null,null,null,null,null,null,null,null,null,null,438]
[null,null,null,null,null,null,null,null,null,null,null,null,null,null,null,null,439]
[null,null,null,null,null,null,null,null,null,null,null,null,null,null,null,null,440]
[null,null,null,null,null,null,null,null,null,null,null,null,null,null,null,null,441]
[null,null,null,null,null,null,null,null,null,null,null,null,null,null,null,null,442]
[null,null,null,null,null,null,null,null,null,null,null,null,null,null,null,null,443]
[null,null,null,null,null,null,null,null,null,null,null,null,null,null,null,null,444]
[null,null,null,null,null,null,null,null,null,null,null,null,null,null,null,null,445]
[null,null,null,null,null,null,null,null,null,null,null,null,null,null,null,null,446]
[null,null,null,null,null,null,null,null,null,null,null,null,null,null,null,null,447]
[null,null,null,null,null,null,null,null,null,null,null,null,null,null,null,null,448]
[null,null,null,null,null,null,null,null,null,null,null,null,null,null,null,null,449]
[null,null,null,null,null,null,null,null,null,null,null,null,null,null,null,null,450]
[null,null,null,null,null,null,null,null,null,null,null,null,null,null,null,null,{"$f":"Q456+1","v":451}]
[null,null,null,null,null,null,null,null,null,null,null,null,null,null,null,null,452]
[null,null,null,null,null,null,null,null,null,null,null,null,null,null,null,null,453]
[null,null,null,null,null,null,null,null,null,null,null,null,null,null,null,null,454]
[null,null,null,null,null,null,null,null,null,null,null,null,null,null,null,null,455]
[null,null,null,null,null,null,null,null,null,null,null,null,null,null,null,null,456]
[null,null,null,null,null,null,null,null,null,null,null,null,null,null,null,null,457]
[null,null,null,null,null,null,null,null,null,null,null,null,null,null,null,null,458]
[null,null,null,null,null,null,null,null,null,null,null,null,null,null,null,null,459]
[null,null,null,null,null,null,null,null,null,null,null,null,null,null,null,null,460]
[null,null,null,null,null,null,null,null,null,null,null,null,null,null,null,null,461]
[null,null,null,null,null,null,null,null,null,null,null,null,null,null,null,null,462]
[null,null,null,null,null,null,null,null,null,null,null,null,null,null,null,null,463]
[null,null,null,null,null,null,null,null,null,null,null,null,null,null,null,null,464]
[null,null,null,null,null,null,null,null,null,null,null,null,null,null,null,null,465]
[null,null,null,null,null,null,null,null,null,null,null,null,null,null,null,null,466]
[null,null,null,null,null,null,null,null,null,null,null,null,null,null,null,null,467]
[null,null,null,null,null,null,null,null,null,null,null,null,null,null,null,null,468]
[null,null,null,null,null,null,null,null,null,null,null,null,null,null,null,null,469]
[null,null,null,null,null,null,null,null,null,null,null,null,null,null,null,null,470]
[null,null,null,null,null,null,null,null,null,null,null,null,null,null,null,null,471]
[null,null,null,null,null,null,null,null,null,null,null,null,null,null,null,null,472]
[null,null,null,null,null,null,null,null,null,null,null,null,null,null,null,null,473]
[null,null,null,null,null,null,null,null,null,null,null,null,null,null,null,null,474]
[null,null,null,null,null,null,null,null,null,null,null,null,null,null,null,null,475]
[null,null,null,null,null,null,null,null,null,null,null,null,null,null,null,null,476]
[null,null,null,null,null,null,null,null,null,null,null,null,null,null,null,null,477]
[null,null,null,null,null,null,null,null,null,null,null,null,null,null,null,null,478]
[null,null,null,null,null,null,null,null,null,null,null,null,null,null,null,null,479]
[null,null,null,null,null,null,null,null,null,null,null,null,null,null,null,null,480]
[null,null,null,null,null,null,null,null,null,null,null,null,null,null,null,null,481]
[null,null,null,null,null,null,null,null,null,null,null,null,null,null,null,null,482]
[null,null,null,null,null,null,null,null,null,null,null,null,null,null,null,null,483]
[null,null,null,null,null,null,null,null,null,null,null,null,null,null,null,null,484]
[null,null,null,null,null,null,null,null,null,null,null,null,null,null,null,null,485]
[null,null,null,null,null,null,null,null,null,null,null,null,null,null,null,null,486]
[null,null,null,null,null,null,null,null,null,null,null,null,null,null,null,null,487]
[null,null,null,null,null,null,null,null,null,null,null,null,null,null,null,null,488]
[null,null,null,null,null,null,null,null,null,null,null,null,null,null,null,null,489]
[null,null,null,null,null,null,null,null,null,null,null,null,null,null,null,null,490]
[null,null,null,null,null,null,null,null,null,null,null,null,null,null,null,null,491]
[null,null,null,null,null,null,null,null,null,null,null,null,null,null,null,null,492]
[null,null,null,null,null,null,null,null,null,null,null,null,null,null,null,null,493]
[null,null,null,null,null,null,null,null,null,null,null,null,null,null,null,null,494]
[null,null,null,null,null,null,null,null,null,null,null,null,null,null,null,null,495]
[null,null,null,null,null,null,null,null,null,null,null,null,null,null,null,null,496]
[null,null,null,null,null,null,null,null,null,null,null,null,null,null,null,null,497]
[null,null,null,null,null,null,null,null,null,null,null,null,null,null,null,null,498]
[null,null,null,null,null,null,null,null,null,null,null,null,null,null,null,null,499]
[null,null,null,null,null,null,null,null,null,null,null,null,null,null,null,null,500]
[null,null,null,null,null,null,null,null,null,null,null,null,null,null,null,null,501]
[null,null,null,null,null,null,null,null,null,null,null,null,null,null,null,null,502]
[null,null,null,null,null,null,null,null,null,null,null,null,null,null,null,null,503]
[null,null,null,null,null,null,null,null,null,null,null,null,null,null,null,null,504]
[null,null,null,null,null,null,null,null,null,null,null,null,null,null,null,null,505]
[null,null,null,null,null,null,null,null,null,null,null,null,null,null,null,null,506]
[null,null,null,null,null,null,null,null,null,null,null,null,null,null,null,null,507]
[null,null,null,null,null,null,null,null,null,null,null,null,null,null,null,null,508]
[null,null,null,null,null,null,null,null,null,null,null,null,null,null,null,null,509]
[null,null,null,null,null,null,null,null,null,null,null,null,null,null,null,null,510]
[null,null,null,null,null,null,null,null,null,null,null,null,null,null,null,null,511]
[null,null,null,null,null,null,null,null,null,null,null,null,null,null,null,null,512]
[null,null,null,null,null,null,null,null,null,null,null,null,null,null,null,null,513]
[null,null,null,null,null,null,null,null,null,null,null,null,null,null,null,null,514]
[null,null,null,null,null,null,null,null,null,null,null,null,null,null,null,null,{"$f":"Q520+1","v":515}]
[null,null,null,null,null,null,null,null,null,null,null,null,null,null,null,null,516]
[null,null,null,null,null,null,null,null,null,null,null,null,null,null,null,null,517]
[null,null,null,null,null,null,null,null,null,null,null,null,null,null,null,null,518]
[null,null,null,null,null,null,null,null,null,null,null,null,null,null,null,null,519]
[null,null,null,null,null,null,null,null,null,null,null,null,null,null,null,null,520]
[null,null,null,null,null,null,null,null,null,null,null,null,null,null,null,null,521]
[null,null,null,null,null,null,null,null,null,null,null,null,null,null,null,null,522]
[null,null,null,null,null,null,null,null,null,null,null,null,null,null,null,null,523]
[null,null,null,null,null,null,null,null,null,null,null,null,null,null,null,null,524]
[null,null,null,null,null,null,null,null,null,null,null,null,null,null,null,null,525]
[null,null,null,null,null,null,null,null,null,null,null,null,null,null,null,null,526]
[null,null,null,null,null,null,null,null,null,null,null,null,null,null,null,null,527]
[null,null,null,null,null,null,null,null,null,null,null,null,null,null,null,null,528]
[null,null,null,null,null,null,null,null,null,null,null,null,null,null,null,null,529]
[null,null,null,null,null,null,null,null,null,null,null,null,null,null,null,null,530]
[null,null,null,null,null,null,null,null,null,null,null,null,null,null,null,null,531]
[null,null,null,null,null,null,null,null,null,null,null,null,null,null,null,null,532]
[null,null,null,null,null,null,null,null,null,null,null,null,null,null,null,null,533]
[null,null,null,null,null,null,null,null,null,null,null,null,null,null,null,null,534]
[null,null,null,null,null,null,null,null,null,null,null,null,null,null,null,null,535]
[null,null,null,null,null,null,null,null,null,null,null,null,null,null,null,null,536]
[null,null,null,null,null,null,null,null,null,null,null,null,null,null,null,null,537]
[null,null,null,null,null,null,null,null,null,null,null,null,null,null,null,null,538]
[null,null,null,null,null,null,null,null,null,null,null,null,null,null,null,null,539]
[null,null,null,null,null,null,null,null,null,null,null,null,null,null,null,null,540]
[null,null,null,null,null,null,null,null,null,null,null,null,null,null,null,null,541]
[null,null,null,null,null,null,null,null,null,null,null,null,null,null,null,null,542]
[null,null,null,null,null,null,null,null,null,null,null,null,null,null,null,null,543]
[null,null,null,null,null,null,null,null,null,null,null,null,null,null,null,null,544]
[null,null,null,null,null,null,null,null,null,null,null,null,null,null,null,null,545]
[null,null,null,null,null,null,null,null,null,null,null,null,null,null,null,null,546]
[null,null,null,null,null,null,null,null,null,null,null,null,null,null,null,null,547]
[null,null,null,null,null,null,null,null,null,null,null,null,null,null,null,null,548]
[null,null,null,null,null,null,null,null,null,null,null,null,null,null,null,null,549]
[null,null,null,null,null,null,null,null,null,null,null,null,null,null,null,null,550]
[null,null,null,null,null,null,null,null,null,null,null,null,null,null,null,null,551]
[null,null,null,null,null,null,null,null,null,null,null,null,null,null,null,null,552]
[null,null,null,null,null,null,null,null,null,null,null,null,null,null,null,null,553]
[null,null,null,null,null,null,null,null,null,null,null,null,null,null,null,null,554]
[null,null,null,null,null,null,null,null,null,null,null,null,null,null,null,null,555]
[null,null,null,null,null,null,null,null,null,null,null,null,null,null,null,null,556]
[null,null,null,null,null,null,null,null,null,null,null,null,null,null,null,null,557]
[null,null,null,null,null,null,null,null,null,null,null,null,null,null,null,null,558]
[null,null,null,null,null,null,null,null,null,null,null,null,null,null,null,null,559]
[null,null,null,null,null,null,null,null,null,null,null,null,null,null,null,null,560]
[null,null,null,null,null,null,null,null,null,null,null,null,null,null,null,null,561]
[null,null,null,null,null,null,null,null,null,null,null,null,null,null,null,null,562]
[null,null,null,null,null,null,null,null,null,null,null,null,null,null,null,null,563]
[null,null,null,null,null,null,null,null,null,null,null,null,null,null,null,null,564]
[null,null,null,null,null,null,null,null,null,null,null,null,null,null,null,null,565]
[null,null,null,null,null,null,null,null,null,null,null,null,null,null,null,null,566]
[null,null,null,null,null,null,null,null,null,null,null,null,null,null,null,null,567]
[null,null,null,null,null,null,null,null,null,null,null,null,null,null,null,null,568]
[null,null,null,null,null,null,null,null,null,null,null,null,null,null,null,null,569]
[null,null,null,null,null,null,null,null,null,null,null,null,null,null,null,null,570]
[null,null,null,null,null,null,null,null,null,null,null,null,null,null,null,null,571]
[null,null,null,null,null,null,null,null,null,null,null,null,null,null,null,null,572]
[null,null,null,null,null,null,null,null,null,null,null,null,null,null,null,null,573]
[null,null,null,null,null,null,null,null,null,null,null,null,null,null,null,null,574]
[null,null,null,null,null,null,null,null,null,null,null,null,null,null,null,null,575]
[null,null,null,null,null,null,null,null,null,null,null,null,null,null,null,null,576]
[null,null,null,null,null,null,null,null,null,null,null,null,null,null,null,null,577]
[null,null,null,null,null,null,null,null,null,null,null,null,null,null,null,null,578]
[null,null,null,null,null,null,null,null,null,null,null,null,null,null,null,null,{"$f":"Q584+1","v":579}]
[null,null,null,null,null,null,null,null,null,null,null,null,null,null,null,null,580]
[null,null,null,null,null,null,null,null,null,null,null,null,null,null,null,null,581]
[null,null,null,null,null,null,null,null,null,null,null,null,null,null,null,null,582]
[null,null,null,null,null,null,null,null,null,null,null,null,null,null,null,null,583]
[null,null,null,null,null,null,null,null,null,null,null,null,null,null,null,null,584]
[null,null,null,null,null,null,null,null,null,null,null,null,null,null,null,null,585]
[null,null,null,null,null,null,null,null,null,null,null,null,null,null,null,null,586]
[null,null,null,null,null,null,null,null,null,null,null,null,null,null,null,null,587]
[null,null,null,null,null,null,null,null,null,null,null,null,null,null,null,null,588]
[null,null,null,null,null,null,null,null,null,null,null,null,null,null,null,null,589]
[null,null,null,null,null,null,null,null,null,null,null,null,null,null,null,null,590]
[null,null,null,null,null,null,null,null,null,null,null,null,null,null,null,null,591]
[null,null,null,null,null,null,null,null,null,null,null,null,null,null,null,null,592]
[null,null,null,null,null,null,null,null,null,null,null,null,null,null,null,null,593]
[null,null,null,null,null,null,null,null,null,null,null,null,null,null,null,null,594]
[null,null,null,null,null,null,null,null,null,null,null,null,null,null,null,null,595]
[null,null,null,null,null,null,null,null,null,null,null,null,null,null,null,null,596]
[null,null,null,null,null,null,null,null,null,null,null,null,null,null,null,null,597]
[null,null,null,null,null,null,null,null,null,null,null,null,null,null,null,null,598]
[null,null,null,null,null,null,null,null,null,null,null,null,null,null,null,null,599]
[null,null,null,null,null,null,null,null,null,null,null,null,null,null,null,null,600]
[null,null,null,null,null,null,null,null,null,null,null,null,null,null,null,null,601]
[null,null,null,null,null,null,null,null,null,null,null,null,null,null,null,null,602]
[null,null,null,null,null,null,null,null,null,null,null,null,null,null,null,null,603]
[null,null,null,null,null,null,null,null,null,null,null,null,null,null,null,null,604]
[null,null,null,null,null,null,null,null,null,null,null,null,null,null,null,null,605]
[null,null,null,null,null,null,null,null,null,null,null,null,null,null,null,null,606]
[null,null,null,null,null,null,null,null,null,null,null,null,null,null,null,null,607]
[null,null,null,null,null,null,null,null,null,null,null,null,null,null,null,null,608]
[null,null,null,null,null,null,null,null,null,null,null,null,null,null,null,null,609]
[null,null,null,null,null,null,null,null,null,null,null,null,null,null,null,null,610]
[null,null,null,null,null,null,null,null,null,null,null,null,null,null,null,null,611]
[null,null,null,null,null,null,null,null,null,null,null,null,null,null,null,null,612]
[null,null,null,null,null,null,null,null,null,null,null,null,null,null,null,null,613]
[null,null,null,null,null,null,null,null,null,null,null,null,null,null,null,null,614]
[null,null,null,null,null,null,null,null,null,null,null,null,null,null,null,null,615]
[null,null,null,null,null,null,null,null,null,null,null,null,null,null,null,null,616]
[null,null,null,null,null,null,null,null,null,null,null,null,null,null,null,null,617]
[null,null,null,null,null,null,null,null,null,null,null,null,null,null,null,null,618]
[null,null,null,null,null,null,null,null,null,null,null,null,null,null,null,null,619]
[null,null,null,null,null,null,null,null,null,null,null,null,null,null,null,null,620]
[null,null,null,null,null,null,null,null,null,null,null,null,null,null,null,null,621]
[null,null,null,null,null,null,null,null,null,null,null,null,null,null,null,null,622]
[null,null,null,null,null,null,null,null,null,null,null,null,null,null,null,null,623]
[null,null,null,null,null,null,null,null,null,null,null,null,null,null,null,null,624]
[null,null,null,null,null,null,null,null,null,null,null,null,null,null,null,null,625]
[null,null,null,null,null,null,null,null,null,null,null,null,null,null,null,null,626]
[null,null,null,null,null,null,null,null,null,null,null,null,null,null,null,null,627]
[null,null,null,null,null,null,null,null,null,null,null,null,null,null,null,null,628]
[null,null,null,null,null,null,null,null,null,null,null,null,null,null,null,null,629]
[null,null,null,null,null,null,null,null,null,null,null,null,null,null,null,null,630]
[null,null,null,null,null,null,null,null,null,null,null,null,null,null,null,null,631]
[null,null,null,null,null,null,null,null,null,null,null,null,null,null,null,null,632]
[null,null,null,null,null,null,null,null,null,null,null,null,null,null,null,null,633]
[null,null,null,null,null,null,null,null,null,null,null,null,null,null,null,null,634]
[null,null,null,null,null,null,null,null,null,null,null,null,null,null,null,null,635]
[null,null,null,null,null,null,null,null,null,null,null,null,null,null,null,null,636]
[null,null,null,null,null,null,null,null,null,null,null,null,null,null,null,null,637]
[null,null,null,null,null,null,null,null,null,null,null,null,null,null,null,null,638]
[null,null,null,null,null,null,null,null,null,null,null,null,null,null,null,null,639]
[null,null,null,null,null,null,null,null,null,null,null,null,null,null,null,null,640]
[null,null,null,null,null,null,null,null,null,null,null,null,null,null,null,null,641]
[null,null,null,null,null,null,null,null,null,null,null,null,null,null,null,null,642]
[null,null,null,null,null,null,null,null,null,null,null,null,null,null,null,null,{"$f":"Q648+1","v":643}]
[null,null,null,null,null,null,null,null,null,null,null,null,null,null,null,null,644]
[null,null,null,null,null,null,null,null,null,null,null,null,null,null,null,null,645]
[null,null,null,null,null,null,null,null,null,null,null,null,null,null,null,null,646]
[null,null,null,null,null,null,null,null,null,null,null,null,null,null,null,null,647]
[null,null,null,null,null,null,null,null,null,null,null,null,null,null,null,null,648]
[null,null,null,null,null,null,null,null,null,null,null,null,null,null,null,null,649]
[null,null,null,null,null,null,null,null,null,null,null,null,null,null,null,null,650]
[null,null,null,null,null,null,null,null,null,null,null,null,null,null,null,null,651]
[null,null,null,null,null,null,null,null,null,null,null,null,null,null,null,null,652]
[null,null,null,null,null,null,null,null,null,null,null,null,null,null,null,null,653]
[null,null,null,null,null,null,null,null,null,null,null,null,null,null,null,null,654]
[null,null,null,null,null,null,null,null,null,null,null,null,null,null,null,null,655]
[null,null,null,null,null,null,null,null,null,null,null,null,null,null,null,null,656]
[null,null,null,null,null,null,null,null,null,null,null,null,null,null,null,null,657]
[null,null,null,null,null,null,null,null,null,null,null,null,null,null,null,null,658]
[null,null,null,null,null,null,null,null,null,null,null,null,null,null,null,null,659]
[null,null,null,null,null,null,null,null,null,null,null,null,null,null,null,null,660]
[null,null,null,null,null,null,null,null,null,null,null,null,null,null,null,null,661]
[null,null,null,null,null,null,null,null,null,null,null,null,null,null,null,null,662]
[null,null,null,null,null,null,null,null,null,null,null,null,null,null,null,null,663]
[null,null,null,null,null,null,null,null,null,null,null,null,null,null,null,null,664]
[null,null,null,null,null,null,null,null,null,null,null,null,null,null,null,null,665]
[null,null,null,null,null,null,null,null,null,null,null,null,null,null,null,null,666]
[null,null,null,null,null,null,null,null,null,null,null,null,null,null,null,null,667]
[null,null,null,null,null,null,null,null,null,null,null,null,null,null,null,null,668]
[null,null,null,null,null,null,null,null,null,null,null,null,null,null,null,null,669]
[null,null,null,null,null,null,null,null,null,null,null,null,null,null,null,null,670]
[null,null,null,null,null,null,null,null,null,null,null,null,null,null,null,null,671]
[null,null,null,null,null,null,null,null,null,null,null,null,null,null,null,null,672]
[null,null,null,null,null,null,null,null,null,null,null,null,null,null,null,null,673]
[null,null,null,null,null,null,null,null,null,null,null,null,null,null,null,null,674]
[null,null,null,null,null,null,null,null,null,null,null,null,null,null,null,null,675]
[null,null,null,null,null,null,null,null,null,null,null,null,null,null,null,null,676]
[null,null,null,null,null,null,null,null,null,null,null,null,null,null,null,null,677]
[null,null,null,null,null,null,null,null,null,null,null,null,null,null,null,null,678]
[null,null,null,null,null,null,null,null,null,null,null,null,null,null,null,null,679]
[null,null,null,null,null,null,null,null,null,null,null,null,null,null,null,null,680]
[null,null,null,null,null,null,null,null,null,null,null,null,null,null,null,null,681]
[null,null,null,null,null,null,null,null,null,null,null,null,null,null,null,null,682]
[null,null,null,null,null,null,null,null,null,null,null,null,null,null,null,null,683]
[null,null,null,null,null,null,null,null,null,null,null,null,null,null,null,null,684]
[null,null,null,null,null,null,null,null,null,null,null,null,null,null,null,null,685]
[null,null,null,null,null,null,null,null,null,null,null,null,null,null,null,null,686]
[null,null,null,null,null,null,null,null,null,null,null,null,null,null,null,null,687]
[null,null,null,null,null,null,null,null,null,null,null,null,null,null,null,null,688]
[null,null,null,null,null,null,null,null,null,null,null,null,null,null,null,null,689]
[null,null,null,null,null,null,null,null,null,null,null,null,null,null,null,null,690]
[null,null,null,null,null,null,null,null,null,null,null,null,null,null,null,null,691]
[null,null,null,null,null,null,null,null,null,null,null,null,null,null,null,null,692]
[null,null,null,null,null,null,null,null,null,null,null,null,null,null,null,null,693]
[null,null,null,null,null,null,null,null,null,null,null,null,null,null,null,null,694]
[null,null,null,null,null,null,null,null,null,null,null,null,null,null,null,null,695]
[null,null,null,null,null,null,null,null,null,null,null,null,null,null,null,null,696]
[null,null,null,null,null,null,null,null,null,null,null,null,null,null,null,null,697]
[null,null,null,null,null,null,null,null,null,null,null,null,null,null,null,null,698]
[null,null,null,null,null,null,null,null,null,null,null,null,null,null,null,null,699]
[null,null,null,null,null,null,null,null,null,null,null,null,null,null,null,null,700]
[null,null,null,null,null,null,null,null,null,null,null,null,null,null,null,null,701]
[null,null,null,null,null,null,null,null,null,null,null,null,null,null,null,null,702]
[null,null,null,null,null,null,null,null,null,null,null,null,null,null,null,null,703]
[null,null,null,null,null,null,null,null,null,null,null,null,null,null,null,null,704]
[null,null,null,null,null,null,null,null,null,null,null,null,null,null,null,null,705]
[null,null,null,null,null,null,null,null,null,null,null,null,null,null,null,null,706]
[null,null,null,null,null,null,null,null,null,null,null,null,null,null,null,null,{"$f":"Q712+1","v":707}]
[null,null,null,null,null,null,null,null,null,null,null,null,null,null,null,null,708]
[null,null,null,null,null,null,null,null,null,null,null,null,null,null,null,null,709]
[null,null,null,null,null,null,null,null,null,null,null,null,null,null,null,null,710]
[null,null,null,null,null,null,null,null,null,null,null,null,null,null,null,null,711]
[null,null,null,null,null,null,null,null,null,null,null,null,null,null,null,null,712]
[null,null,null,null,null,null,null,null,null,null,null,null,null,null,null,null,713]
[null,null,null,null,null,null,null,null,null,null,null,null,null,null,null,null,714]
[null,null,null,null,null,null,null,null,null,null,null,null,null,null,null,null,715]
[null,null,null,null,null,null,null,null,null,null,null,null,null,null,null,null,716]
[null,null,null,null,null,null,null,null,null,null,null,null,null,null,null,null,717]
[null,null,null,null,null,null,null,null,null,null,null,null,null,null,null,null,718]
[null,null,null,null,null,null,null,null,null,null,null,null,null,null,null,null,719]
[null,null,null,null,null,null,null,null,null,null,null,null,null,null,null,null,720]
[null,null,null,null,null,null,null,null,null,null,null,null,null,null,null,null,721]
[null,null,null,null,null,null,null,null,null,null,null,null,null,null,null,null,722]
[null,null,null,null,null,null,null,null,null,null,null,null,null,null,null,null,723]
[null,null,null,null,null,null,null,null,null,null,null,null,null,null,null,null,724]
[null,null,null,null,null,null,null,null,null,null,null,null,null,null,null,null,725]
[null,null,null,null,null,null,null,null,null,null,null,null,null,null,null,null,726]
[null,null,null,null,null,null,null,null,null,null,null,null,null,null,null,null,727]
[null,null,null,null,null,null,null,null,null,null,null,null,null,null,null,null,728]
[null,null,null,null,null,null,null,null,null,null,null,null,null,null,null,null,729]
[null,null,null,null,null,null,null,null,null,null,null,null,null,null,null,null,730]
[null,null,null,null,null,null,null,null,null,null,null,null,null,null,null,null,731]
[null,null,null,null,null,null,null,null,null,null,null,null,null,null,null,null,732]
[null,null,null,null,null,null,null,null,null,null,null,null,null,null,null,null,733]
[null,null,null,null,null,null,null,null,null,null,null,null,null,null,null,null,734]
[null,null,null,null,null,null,null,null,null,null,null,null,null,null,null,null,735]
[null,null,null,null,null,null,null,null,null,null,null,null,null,null,null,null,736]
[null,null,null,null,null,null,null,null,null,null,null,null,null,null,null,null,737]
[null,null,null,null,null,null,null,null,null,null,null,null,null,null,null,null,738]
[null,null,null,null,null,null,null,null,null,null,null,null,null,null,null,null,739]
[null,null,null,null,null,null,null,null,null,null,null,null,null,null,null,null,740]
[null,null,null,null,null,null,null,null,null,null,null,null,null,null,null,null,741]
[null,null,null,null,null,null,null,null,null,null,null,null,null,null,null,null,742]
[null,null,null,null,null,null,null,null,null,null,null,null,null,null,null,null,743]
[null,null,null,null,null,null,null,null,null,null,null,null,null,null,null,null,744]
[null,null,null,null,null,null,null,null,null,null,null,null,null,null,null,null,745]
[null,null,null,null,null,null,null,null,null,null,null,null,null,null,null,null,746]
[null,null,null,null,null,null,null,null,null,null,null,null,null,null,null,null,747]
[null,null,null,null,null,null,null,null,null,null,null,null,null,null,null,null,748]
[null,null,null,null,null,null,null,null,null,null,null,null,null,null,null,null,749]
[null,null,null,null,null,null,null,null,null,null,null,null,null,null,null,null,750]
[null,null,null,null,null,null,null,null,null,null,null,null,null,null,null,null,751]
[null,null,null,null,null,null,null,null,null,null,null,null,null,null,null,null,752]
[null,null,null,null,null,null,null,null,null,null,null,null,null,null,null,null,753]
[null,null,null,null,null,null,null,null,null,null,null,null,null,null,null,null,754]
[null,null,null,null,null,null,null,null,null,null,null,null,null,null,null,null,755]
[null,null,null,null,null,null,null,null,null,null,null,null,null,null,null,null,756]
[null,null,null,null,null,null,null,null,null,null,null,null,null,null,null,null,757]
[null,null,null,null,null,null,null,null,null,null,null,null,null,null,null,null,758]
[null,null,null,null,null,null,null,null,null,null,null,null,null,null,null,null,759]
[null,null,null,null,null,null,null,null,null,null,null,null,null,null,null,null,760]
[null,null,null,null,null,null,null,null,null,null,null,null,null,null,null,null,761]
[null,null,null,null,null,null,null,null,null,null,null,null,null,null,null,null,762]
[null,null,null,null,null,null,null,null,null,null,null,null,null,null,null,null,763]
[null,null,null,null,null,null,null,null,null,null,null,null,null,null,null,null,764]
[null,null,null,null,null,null,null,null,null,null,null,null,null,null,null,null,765]
[null,null,null,null,null,null,null,null,null,null,null,null,null,null,null,null,766]
[null,null,null,null,null,null,null,null,null,null,null,null,null,null,null,null,767]
[null,null,null,null,null,null,null,null,null,null,null,null,null,null,null,null,768]
[null,null,null,null,null,null,null,null,null,null,null,null,null,null,null,null,769]
[null,null,null,null,null,null,null,null,null,null,null,null,null,null,null,null,770]
[null,null,null,null,null,null,null,null,null,null,null,null,null,null,null,null,{"$f":"Q776+1","v":771}]
[null,null,null,null,null,null,null,null,null,null,null,null,null,null,null,null,772]
[null,null,null,null,null,null,null,null,null,null,null,null,null,null,null,null,773]
[null,null,null,null,null,null,null,null,null,null,null,null,null,null,null,null,774]
[null,null,null,null,null,null,null,null,null,null,null,null,null,null,null,null,775]
[null,null,null,null,null,null,null,null,null,null,null,null,null,null,null,null,776]
[null,null,null,null,null,null,null,null,null,null,null,null,null,null,null,null,777]
[null,null,null,null,null,null,null,null,null,null,null,null,null,null,null,null,778]
[null,null,null,null,null,null,null,null,null,null,null,null,null,null,null,null,779]
[null,null,null,null,null,null,null,null,null,null,null,null,null,null,null,null,780]
[null,null,null,null,null,null,null,null,null,null,null,null,null,null,null,null,781]
[null,null,null,null,null,null,null,null,null,null,null,null,null,null,null,null,782]
[null,null,null,null,null,null,null,null,null,null,null,null,null,null,null,null,783]
[null,null,null,null,null,null,null,null,null,null,null,null,null,null,null,null,784]
[null,null,null,null,null,null,null,null,null,null,null,null,null,null,null,null,785]
[null,null,null,null,null,null,null,null,null,null,null,null,null,null,null,null,786]
[null,null,null,null,null,null,null,null,null,null,null,null,null,null,null,null,787]
[null,null,null,null,null,null,null,null,null,null,null,null,null,null,null,null,788]
[null,null,null,null,null,null,null,null,null,null,null,null,null,null,null,null,789]
[null,null,null,null,null,null,null,null,null,null,null,null,null,null,null,null,790]
[null,null,null,null,null,null,null,null,null,null,null,null,null,null,null,null,791]
[null,null,null,null,null,null,null,null,null,null,null,null,null,null,null,null,792]
[null,null,null,null,null,null,null,null,null,null,null,null,null,null,null,null,793]
[null,null,null,null,null,null,null,null,null,null,null,null,null,null,null,null,794]
[null,null,null,null,null,null,null,null,null,null,null,null,null,null,null,null,795]
[null,null,null,null,null,null,null,null,null,null,null,null,null,null,null,null,796]
[null,null,null,null,null,null,null,null,null,null,null,null,null,null,null,null,797]
[null,null,null,null,null,null,null,null,null,null,null,null,null,null,null,null,798]
[null,null,null,null,null,null,null,null,null,null,null,null,null,null,null,null,799]
[null,null,null,null,null,null,null,null,null,null,null,null,null,null,null,null,800]
[null,null,null,null,null,null,null,null,null,null,null,null,null,null,null,null,801]
[null,null,null,null,null,null,null,null,null,null,null,null,null,null,null,null,802]
[null,null,null,null,null,null,null,null,null,null,null,null,null,null,null,null,803]
[null,null,null,null,null,null,null,null,null,null,null,null,null,null,null,null,804]
[null,null,null,null,null,null,null,null,null,null,null,null,null,null,null,null,805]
[null,null,null,null,null,null,null,null,null,null,null,null,null,null,null,null,806]
[null,null,null,null,null,null,null,null,null,null,null,null,null,null,null,null,807]
[null,null,null,null,null,null,null,null,null,null,null,null,null,null,null,null,808]
[null,null,null,null,null,null,null,null,null,null,null,null,null,null,null,null,809]
[null,null,null,null,null,null,null,null,null,null,null,null,null,null,null,null,810]
[null,null,null,null,null,null,null,null,null,null,null,null,null,null,null,null,811]
[null,null,null,null,null,null,null,null,null,null,null,null,null,null,null,null,812]
[null,null,null,null,null,null,null,null,null,null,null,null,null,null,null,null,813]
[null,null,null,null,null,null,null,null,null,null,null,null,null,null,null,null,814]
[null,null,null,null,null,null,null,null,null,null,null,null,null,null,null,null,815]
[null,null,null,null,null,null,null,null,null,null,null,null,null,null,null,null,816]
[null,null,null,null,null,null,null,null,null,null,null,null,null,null,null,null,817]
[null,null,null,null,null,null,null,null,null,null,null,null,null,null,null,null,818]
[null,null,null,null,null,null,null,null,null,null,null,null,null,null,null,null,819]
[null,null,null,null,null,null,null,null,null,null,null,null,null,null,null,null,820]
[null,null,null,null,null,null,null,null,null,null,null,null,null,null,null,null,821]
[null,null,null,null,null,null,null,null,null,null,null,null,null,null,null,null,822]
[null,null,null,null,null,null,null,null,null,null,null,null,null,null,null,null,823]
[null,null,null,null,null,null,null,null,null,null,null,null,null,null,null,null,824]
[null,null,null,null,null,null,null,null,null,null,null,null,null,null,null,null,825]
[null,null,null,null,null,null,null,null,null,null,null,null,null,null,null,null,826]
[null,null,null,null,null,null,null,null,null,null,null,null,null,null,null,null,827]
[null,null,null,null,null,null,null,null,null,null,null,null,null,null,null,null,828]
[null,null,null,null,null,null,null,null,null,null,null,null,null,null,null,null,829]
[null,null,null,null,null,null,null,null,null,null,null,null,null,null,null,null,830]
[null,null,null,null,null,null,null,null,null,null,null,null,null,null,null,null,831]
[null,null,null,null,null,null,null,null,null,null,null,null,null,null,null,null,832]
[null,null,null,null,null,null,null,null,null,null,null,null,null,null,null,null,833]
[null,null,null,null,null,null,null,null,null,null,null,null,null,null,null,null,834]
[null,null,null,null,null,null,null,null,null,null,null,null,null,null,null,null,{"$f":"Q840+1","v":835}]
[null,null,null,null,null,null,null,null,null,null,null,null,null,null,null,null,836]
[null,null,null,null,null,null,null,null,null,null,null,null,null,null,null,null,837]
[null,null,null,null,null,null,null,null,null,null,null,null,null,null,null,null,838]
[null,null,null,null,null,null,null,null,null,null,null,null,null,null,null,null,839]
[null,null,null,null,null,null,null,null,null,null,null,null,null,null,null,null,840]
[null,null,null,null,null,null,null,null,null,null,null,null,null,null,null,null,841]
[null,null,null,null,null,null,null,null,null,null,null,null,null,null,null,null,842]
[null,null,null,null,null,null,null,null,null,null,null,null,null,null,null,null,843]
[null,null,null,null,null,null,null,null,null,null,null,null,null,null,null,null,844]
[null,null,null,null,null,null,null,null,null,null,null,null,null,null,null,null,845]
[null,null,null,null,null,null,null,null,null,null,null,null,null,null,null,null,846]
[null,null,null,null,null,null,null,null,null,null,null,null,null,null,null,null,847]
[null,null,null,null,null,null,null,null,null,null,null,null,null,null,null,null,848]
[null,null,null,null,null,null,null,null,null,null,null,null,null,null,null,null,849]
[null,null,null,null,null,null,null,null,null,null,null,null,null,null,null,null,850]
[null,null,null,null,null,null,null,null,null,null,null,null,null,null,null,null,851]
[null,null,null,null,null,null,null,null,null,null,null,null,null,null,null,null,852]
[null,null,null,null,null,null,null,null,null,null,null,null,null,null,null,null,853]
[null,null,null,null,null,null,null,null,null,null,null,null,null,null,null,null,854]
[null,null,null,null,null,null,null,null,null,null,null,null,null,null,null,null,855]
[null,null,null,null,null,null,null,null,null,null,null,null,null,null,null,null,856]
[null,null,null,null,null,null,null,null,null,null,null,null,null,null,null,null,857]
[null,null,null,null,null,null,null,null,null,null,null,null,null,null,null,null,858]
[null,null,null,null,null,null,null,null,null,null,null,null,null,null,null,null,859]
[null,null,null,null,null,null,null,null,null,null,null,null,null,null,null,null,860]
[null,null,null,null,null,null,null,null,null,null,null,null,null,null,null,null,861]
[null,null,null,null,null,null,null,null,null,null,null,null,null,null,null,null,862]
[null,null,null,null,null,null,null,null,null,null,null,null,null,null,null,null,863]
[null,null,null,null,null,null,null,null,null,null,null,null,null,null,null,null,864]
[null,null,null,null,null,null,null,null,null,null,null,null,null,null,null,null,865]
[null,null,null,null,null,null,null,null,null,null,null,null,null,null,null,null,866]
[null,null,null,null,null,null,null,null,null,null,null,null,null,null,null,null,867]
[null,null,null,null,null,null,null,null,null,null,null,null,null,null,null,null,868]
[null,null,null,null,null,null,null,null,null,null,null,null,null,null,null,null,869]
[null,null,null,null,null,null,null,null,null,null,null,null,null,null,null,null,870]
[null,null,null,null,null,null,null,null,null,null,null,null,null,null,null,null,871]
[null,null,null,null,null,null,null,null,null,null,null,null,null,null,null,null,872]
[null,null,null,null,null,null,null,null,null,null,null,null,null,null,null,null,873]
[null,null,null,null,null,null,null,null,null,null,null,null,null,null,null,null,874]
[null,null,null,null,null,null,null,null,null,null,null,null,null,null,null,null,875]
[null,null,null,null,null,null,null,null,null,null,null,null,null,null,null,null,876]
[null,null,null,null,null,null,null,null,null,null,null,null,null,null,null,null,877]
[null,null,null,null,null,null,null,null,null,null,null,null,null,null,null,null,878]
[null,null,null,null,null,null,null,null,null,null,null,null,null,null,null,null,879]
[null,null,null,null,null,null,null,null,null,null,null,null,null,null,null,null,880]
[null,null,null,null,null,null,null,null,null,null,null,null,null,null,null,null,881]
[null,null,null,null,null,null,null,null,null,null,null,null,null,null,null,null,882]
[null,null,null,null,null,null,null,null,null,null,null,null,null,null,null,null,883]
[null,null,null,null,null,null,null,null,null,null,null,null,null,null,null,null,884]
[null,null,null,null,null,null,null,null,null,null,null,null,null,null,null,null,885]
[null,null,null,null,null,null,null,null,null,null,null,null,null,null,null,null,886]
[null,null,null,null,null,null,null,null,null,null,null,null,null,null,null,null,887]
[null,null,null,null,null,null,null,null,null,null,null,null,null,null,null,null,888]
[null,null,null,null,null,null,null,null,null,null,null,null,null,null,null,null,889]
[null,null,null,null,null,null,null,null,null,null,null,null,null,null,null,null,890]
[null,null,null,null,null,null,null,null,null,null,null,null,null,null,null,null,891]
[null,null,null,null,null,null,null,null,null,null,null,null,null,null,null,null,892]
[null,null,null,null,null,null,null,null,null,null,null,null,null,null,null,null,893]
[null,null,null,null,null,null,null,null,null,null,null,null,null,null,null,null,894]
[null,null,null,null,null,null,null,null,null,null,null,null,null,null,null,null,895]
[null,null,null,null,null,null,null,null,null,null,null,null,null,null,null,null,896]
[null,null,null,null,null,null,null,null,null,null,null,null,null,null,null,null,897]
[null,null,null,null,null,null,null,null,null,null,null,null,null,null,null,null,898]
[null,null,null,null,null,null,null,null,null,null,null,null,null,null,null,null,{"$f":"Q904+1","v":899}]
[null,null,null,null,null,null,null,null,null,null,null,null,null,null,null,null,900]
[null,null,null,null,null,null,null,null,null,null,null,null,null,null,null,null,901]
[null,null,null,null,null,null,null,null,null,null,null,null,null,null,null,null,902]
[null,null,null,null,null,null,null,null,null,null,null,null,null,null,null,null,903]
[null,null,null,null,null,null,null,null,null,null,null,null,null,null,null,null,904]
[null,null,null,null,null,null,null,null,null,null,null,null,null,null,null,null,905]
[null,null,null,null,null,null,null,null,null,null,null,null,null,null,null,null,906]
[null,null,null,null,null,null,null,null,null,null,null,null,null,null,null,null,907]
[null,null,null,null,null,null,null,null,null,null,null,null,null,null,null,null,908]
[null,null,null,null,null,null,null,null,null,null,null,null,null,null,null,null,909]
[null,null,null,null,null,null,null,null,null,null,null,null,null,null,null,null,910]
[null,null,null,null,null,null,null,null,null,null,null,null,null,null,null,null,911]
[null,null,null,null,null,null,null,null,null,null,null,null,null,null,null,null,912]
[null,null,null,null,null,null,null,null,null,null,null,null,null,null,null,null,913]
[null,null,null,null,null,null,null,null,null,null,null,null,null,null,null,null,914]
[null,null,null,null,null,null,null,null,null,null,null,null,null,null,null,null,915]
[null,null,null,null,null,null,null,null,null,null,null,null,null,null,null,null,916]
[null,null,null,null,null,null,null,null,null,null,null,null,null,null,null,null,917]
[null,null,null,null,null,null,null,null,null,null,null,null,null,null,null,null,918]
[null,null,null,null,null,null,null,null,null,null,null,null,null,null,null,null,919]
[null,null,null,null,null,null,null,null,null,null,null,null,null,null,null,null,920]
[null,null,null,null,null,null,null,null,null,null,null,null,null,null,null,null,921]
[null,null,null,null,null,null,null,null,null,null,null,null,null,null,null,null,922]
[null,null,null,null,null,null,null,null,null,null,null,null,null,null,null,null,923]
[null,null,null,null,null,null,null,null,null,null,null,null,null,null,null,null,924]
[null,null,null,null,null,null,null,null,null,null,null,null,null,null,null,null,925]
[null,null,null,null,null,null,null,null,null,null,null,null,null,null,null,null,926]
[null,null,null,null,null,null,null,null,null,null,null,null,null,null,null,null,927]
[null,null,null,null,null,null,null,null,null,null,null,null,null,null,null,null,928]
[null,null,null,null,null,null,null,null,null,null,null,null,null,null,null,null,929]
[null,null,null,null,null,null,null,null,null,null,null,null,null,null,null,null,930]
[null,null,null,null,null,null,null,null,null,null,null,null,null,null,null,null,931]
[null,null,null,null,null,null,null,null,null,null,null,null,null,null,null,null,932]
[null,null,null,null,null,null,null,null,null,null,null,null,null,null,null,null,933]
[null,null,null,null,null,null,null,null,null,null,null,null,null,null,null,null,934]
[null,null,null,null,null,null,null,null,null,null,null,null,null,null,null,null,935]
[null,null,null,null,null,null,null,null,null,null,null,null,null,null,null,null,936]
[null,null,null,null,null,null,null,null,null,null,null,null,null,null,null,null,937]
[null,null,null,null,null,null,null,null,null,null,null,null,null,null,null,null,938]
[null,null,null,null,null,null,null,null,null,null,null,null,null,null,null,null,939]
[null,null,null,null,null,null,null,null,null,null,null,null,null,null,null,null,940]
[null,null,null,null,null,null,null,null,null,null,null,null,null,null,null,null,941]
[null,null,null,null,null,null,null,null,null,null,null,null,null,null,null,null,942]
[null,null,null,null,null,null,null,null,null,null,null,null,null,null,null,null,943]
[null,null,null,null,null,null,null,null,null,null,null,null,null,null,null,null,944]
[null,null,null,null,null,null,null,null,null,null,null,null,null,null,null,null,945]
[null,null,null,null,null,null,null,null,null,null,null,null,null,null,null,null,946]
[null,null,null,null,null,null,null,null,null,null,null,null,null,null,null,null,947]
[null,null,null,null,null,null,null,null,null,null,null,null,null,null,null,null,948]
[null,null,null,null,null,null,null,null,null,null,null,null,null,null,null,null,949]
[null,null,null,null,null,null,null,null,null,null,null,null,null,null,null,null,950]
[null,null,null,null,null,null,null,null,null,null,null,null,null,null,null,null,951]
[null,null,null,null,null,null,null,null,null,null,null,null,null,null,null,null,952]
[null,null,null,null,null,null,null,null,null,null,null,null,null,null,null,null,953]
[null,null,null,null,null,null,null,null,null,null,null,null,null,null,null,null,954]
[null,null,null,null,null,null,null,null,null,null,null,null,null,null,null,null,955]
[null,null,null,null,null,null,null,null,null,null,null,null,null,null,null,null,956]
[null,null,null,null,null,null,null,null,null,null,null,null,null,null,null,null,957]
[null,null,null,null,null,null,null,null,null,null,null,null,null,null,null,null,958]
[null,null,null,null,null,null,null,null,null,null,null,null,null,null,null,null,959]
[null,null,null,null,null,null,null,null,null,null,null,null,null,null,null,null,960]
[null,null,null,null,null,null,null,null,null,null,null,null,null,null,null,null,961]
[null,null,null,null,null,null,null,null,null,null,null,null,null,null,null,null,962]
[null,null,null,null,null,null,null,null,null,null,null,null,null,null,null,null,{"$f":"Q968+1","v":963}]
[null,null,null,null,null,null,null,null,null,null,null,null,null,null,null,null,964]
[null,null,null,null,null,null,null,null,null,null,null,null,null,null,null,null,965]
[null,null,null,null,null,null,null,null,null,null,null,null,null,null,null,null,966]
[null,null,null,null,null,null,null,null,null,null,null,null,null,null,null,null,967]
[null,null,null,null,null,null,null,null,null,null,null,null,null,null,null,null,968]
[null,null,null,null,null,null,null,null,null,null,null,null,null,null,null,null,969]
[null,null,null,null,null,null,null,null,null,null,null,null,null,null,null,null,970]
[null,null,null,null,null,null,null,null,null,null,null,null,null,null,null,null,971]
[null,null,null,null,null,null,null,null,null,null,null,null,null,null,null,null,972]
[null,null,null,null,null,null,null,null,null,null,null,null,null,null,null,null,973]
[null,null,null,null,null,null,null,null,null,null,null,null,null,null,null,null,974]
[null,null,null,null,null,null,null,null,null,null,null,null,null,null,null,null,975]
[null,null,null,null,null,null,null,null,null,null,null,null,null,null,null,null,976]
[null,null,null,null,null,null,null,null,null,null,null,null,null,null,null,null,977]
[null,null,null,null,null,null,null,null,null,null,null,null,null,null,null,null,978]
[null,null,null,null,null,null,null,null,null,null,null,null,null,null,null,null,979]
[null,null,null,null,null,null,null,null,null,null,null,null,null,null,null,null,980]
[null,null,null,null,null,null,null,null,null,null,null,null,null,null,null,null,981]
[null,null,null,null,null,null,null,null,null,null,null,null,null,null,null,null,982]
[null,null,null,null,null,null,null,null,null,null,null,null,null,null,null,null,983]
[null,null,null,null,null,null,null,null,null,null,null,null,null,null,null,null,984]
[null,null,null,null,null,null,null,null,null,null,null,null,null,null,null,null,985]
[null,null,null,null,null,null,null,null,null,null,null,null,null,null,null,null,986]
[null,null,null,null,null,null,null,null,null,null,null,null,null,null,null,null,987]
[null,null,null,null,null,null,null,null,null,null,null,null,null,null,null,null,988]
[null,null,null,null,null,null,null,null,null,null,null,null,null,null,null,null,989]
[null,null,null,null,null,null,null,null,null,null,null,null,null,null,null,null,990]
[null,null,null,null,null,null,null,null,null,null,null,null,null,null,null,null,991]
[null,null,null,null,null,null,null,null,null,null,null,null,null,null,null,null,992]
[null,null,null,null,null,null,null,null,null,null,null,null,null,null,null,null,993]
[null,null,null,null,null,null,null,null,null,null,null,null,null,null,null,null,994]
[null,null,null,null,null,null,null,null,null,null,null,null,null,null,null,null,995]
[null,null,null,null,null,null,null,null,null,null,null,null,null,null,null,null,996]
[null,null,null,null,null,null,null,null,null,null,null,null,null,null,null,null,997]
[null,null,null,null,null,null,null,null,null,null,null,null,null,null,null,null,998]
[null,null,null,null,null,null,null,null,null,null,null,null,null,null,null,null,999]
[null,null,null,null,null,null,null,null,null,null,null,null,null,null,null,null,1000]

{"sheet":"Committenti","index":3,"n_rows":1017,"n_cols":15,"rows_kept":1017,"cut":false,"hidden":false,"merged":[]}
[null,"Elenco Committenti",null,null,null,null,null,null,null,null,null,null,null,null,{"$f":"CONCATENATE('Dati Gen'!K2, \" \",'Dati Gen'!K3,\" \",'Dati Gen'!L3)","v":"Pratica.110plus Vers.ne 4.3.1"}]
[null,"Cognome","Nome","Codice Fiscale","Sesso","Data Nascita","Nazione Nasc","Comune Nascita","Nazione Res.","Comune Residenza","Prov.","Indirizzo","CAP","Telefono","Mail"]
[{"$f":"IF(B3<>\"\",1,\"\")","v":1},"Tizio","Caio"]
[{"$f":"IF(B4<>\"\", IF(A3<>\"\",A3+1,\"\"),\"\")","v":""}]
[{"$f":"IF(B5<>\"\", IF(A4<>\"\",A4+1,\"\"),\"\")","v":""}]
[""]
[""]
[""]
[""]
[""]
[""]
[""]
[""]
[""]
[""]
[""]
[""]
[""]
[""]
[""]
[""]
[""]
[""]
[""]
[""]
[""]
[""]
[""]
[""]
[""]
[""]
[""]
[""]
[""]
[""]
[""]
[""]
[""]
[""]
[""]
[""]
[""]
[""]
[""]
[""]
[""]
[""]
[""]
[""]
[""]
[""]
[""]
[""]
[""]
[""]
[""]
[""]
[""]
[""]
[""]
[""]
[""]
[""]
[""]
[""]
[""]
[""]
[""]
[{"$f":"IF(B69<>\"\", IF(A68<>\"\",A68+1,\"\"),\"\")","v":""}]
[""]
[""]
[""]
[""]
[""]
[""]
[""]
[""]
[""]
[""]
[""]
[""]
[""]
[""]
[""]
[""]
[""]
[""]
[""]
[""]
[""]
[""]
[""]
[""]
[""]
[""]
[""]
[""]
[""]
[""]
[""]
[""]
[""]
[""]
[""]
[""]
[""]
[""]
[""]
[""]
[""]
[""]
[""]
[""]
[""]
[""]
[""]
[""]
[""]
[""]
[""]
[""]
[""]
[""]
[""]
[""]
[""]
[""]
[""]
[""]
[""]
[""]
[""]
[{"$f":"IF(B133<>\"\", IF(A132<>\"\",A132+1,\"\"),\"\")","v":""}]
[""]
[""]
[""]
[""]
[""]
[""]
[""]
[""]
[""]
[""]
[""]
[""]
[""]
[""]
[""]
[""]
[""]
[""]
[""]
[""]
[""]
[""]
[""]
[""]
[""]
[""]
[""]
[""]
[""]
[""]
[""]
[""]
[""]
[""]
[""]
[""]
[""]
[""]
[""]
[""]
[""]
[""]
[""]
[""]
[""]
[""]
[""]
[""]
[""]
[""]
[""]
[""]
[""]
[""]
[""]
[""]
[""]
[""]
[""]
[""]
[""]
[""]
[""]
[{"$f":"IF(B197<>\"\", IF(A196<>\"\",A196+1,\"\"),\"\")","v":""}]
[""]
[""]
[""]
[""]
[""]
[""]
[""]
[""]
[""]
[""]
[""]
[""]
[""]
[""]
[""]
[""]
[""]
[""]
[""]
[""]
[""]
[""]
[""]
[""]
[""]
[""]
[""]
[""]
[""]
[""]
[""]
[""]
[""]
[""]
[""]
[""]
[""]
[""]
[""]
[""]
[""]
[""]
[""]
[""]
[""]
[""]
[""]
[""]
[""]
[""]
[""]
[""]
[""]
[""]
[""]
[""]
[""]
[""]
[""]
[""]
[""]
[""]
[""]
[{"$f":"IF(B261<>\"\", IF(A260<>\"\",A260+1,\"\"),\"\")","v":""}]
[""]
[""]
[""]
[""]
[""]
[""]
[""]
[""]
[""]
[""]
[""]
[""]
[""]
[""]
[""]
[""]
[""]
[""]
[""]
[""]
[""]
[""]
[""]
[""]
[""]
[""]
[""]
[""]
[""]
[""]
[""]
[""]
[""]
[""]
[""]
[""]
[""]
[""]
[""]
[""]
[""]
[""]
[""]
[""]
[""]
[""]
[""]
[""]
[""]
[""]
[""]
[""]
[""]
[""]
[""]
[""]
[""]
[""]
[""]
[""]
[""]
[""]
[""]
[{"$f":"IF(B325<>\"\", IF(A324<>\"\",A324+1,\"\"),\"\")","v":""}]
[""]
[""]
[""]
[""]
[""]
[""]
[""]
[""]
[""]
[""]
[""]
[""]
[""]
[""]
[""]
[""]
[""]
[""]
[""]
[""]
[""]
[""]
[""]
[""]
[""]
[""]
[""]
[""]
[""]
[""]
[""]
[""]
[""]
[""]
[""]
[""]
[""]
[""]
[""]
[""]
[""]
[""]
[""]
[""]
[""]
[""]
[""]
[""]
[""]
[""]
[""]
[""]
[""]
[""]
[""]
[""]
[""]
[""]
[""]
[""]
[""]
[""]
[""]
[{"$f":"IF(B389<>\"\", IF(A388<>\"\",A388+1,\"\"),\"\")","v":""}]
[""]
[""]
[""]
[""]
[""]
[""]
[""]
[""]
[""]
[""]
[""]
[""]
[""]
[""]
[""]
[""]
[""]
[""]
[""]
[""]
[""]
[""]
[""]
[""]
[""]
[""]
[""]
[""]
[""]
[""]
[""]
[""]
[""]
[""]
[""]
[""]
[""]
[""]
[""]
[""]
[""]
[""]
[""]
[""]
[""]
[""]
[""]
[""]
[""]
[""]
[""]
[""]
[""]
[""]
[""]
[""]
[""]
[""]
[""]
[""]
[""]
[""]
[""]
[{"$f":"IF(B453<>\"\", IF(A452<>\"\",A452+1,\"\"),\"\")","v":""}]
[""]
[""]
[""]
[""]
[""]
[""]
[""]
[""]
[""]
[""]
[""]
[""]
[""]
[""]
[""]
[""]
[""]
[""]
[""]
[""]
[""]
[""]
[""]
[""]
[""]
[""]
[""]
[""]
[""]
[""]
[""]
[""]
[""]
[""]
[""]
[""]
[""]
[""]
[""]
[""]
[""]
[""]
[""]
[""]
[""]
[""]
[""]
[""]
[""]
[""]
[""]
[""]
[""]
[""]
[""]
[""]
[""]
[""]
[""]
[""]
[""]
[""]
[""]
[{"$f":"IF(B517<>\"\", IF(A516<>\"\",A516+1,\"\"),\"\")","v":""}]
[""]
[""]
[""]
[""]
[""]
[""]
[""]
[""]
[""]
[""]
[""]
[""]
[""]
[""]
[""]
[""]
[""]
[""]
[""]
[""]
[""]
[""]
[""]
[""]
[""]
[""]
[""]
[""]
[""]
[""]
[""]
[""]
[""]
[""]
[""]
[""]
[""]
[""]
[""]
[""]
[""]
[""]
[""]
[""]
[""]
[""]
[""]
[""]
[""]
[""]
[""]
[""]
[""]
[""]
[""]
[""]
[""]
[""]
[""]
[""]
[""]
[""]
[""]
[{"$f":"IF(B581<>\"\", IF(A580<>\"\",A580+1,\"\"),\"\")","v":""}]
[""]
[""]
[""]
[""]
[""]
[""]
[""]
[""]
[""]
[""]
[""]
[""]
[""]
[""]
[""]
[""]
[""]
[""]
[""]
[""]
[""]
[""]
[""]
[""]
[""]
[""]
[""]
[""]
[""]
[""]
[""]
[""]
[""]
[""]
[""]
[""]
[""]
[""]
[""]
[""]
[""]
[""]
[""]
[""]
[""]
[""]
[""]
[""]
[""]
[""]
[""]
[""]
[""]
[""]
[""]
[""]
[""]
[""]
[""]
[""]
[""]
[""]
[""]
[{"$f":"IF(B645<>\"\", IF(A644<>\"\",A644+1,\"\"),\"\")","v":""}]
[""]
[""]
[""]
[""]
[""]
[""]
[""]
[""]
[""]
[""]
[""]
[""]
[""]
[""]
[""]
[""]
[""]
[""]
[""]
[""]
[""]
[""]
[""]
[""]
[""]
[""]
[""]
[""]
[""]
[""]
[""]
[""]
[""]
[""]
[""]
[""]
[""]
[""]
[""]
[""]
[""]
[""]
[""]
[""]
[""]
[""]
[""]
[""]
[""]
[""]
[""]
[""]
[""]
[""]
[""]
[""]
[""]
[""]
[""]
[""]
[""]
[""]
[""]
[{"$f":"IF(B709<>\"\", IF(A708<>\"\",A708+1,\"\"),\"\")","v":""}]
[""]
[""]
[""]
[""]
[""]
[""]
[""]
[""]
[""]
[""]
[""]
[""]
[""]
[""]
[""]
[""]
[""]
[""]
[""]
[""]
[""]
[""]
[""]
[""]
[""]
[""]
[""]
[""]
[""]
[""]
[""]
[""]
[""]
[""]
[""]
[""]
[""]
[""]
[""]
[""]
[""]
[""]
[""]
[""]
[""]
[""]
[""]
[""]
[""]
[""]
[""]
[""]
[""]
[""]
[""]
[""]
[""]
[""]
[""]
[""]
[""]
[""]
[""]
[{"$f":"IF(B773<>\"\", IF(A772<>\"\",A772+1,\"\"),\"\")","v":""}]
[""]
[""]
[""]
[""]
[""]
[""]
[""]
[""]
[""]
[""]
[""]
[""]
[""]
[""]
[""]
[""]
[""]
[""]
[""]
[""]
[""]
[""]
[""]
[""]
[""]
[""]
[""]
[""]
[""]
[""]
[""]
[""]
[""]
[""]
[""]
[""]
[""]
[""]
[""]
[""]
[""]
[""]
[""]
[""]
[""]
[""]
[""]
[""]
[""]
[""]
[""]
[""]
[""]
[""]
[""]
[""]
[""]
[""]
[""]
[""]
[""]
[""]
[""]
[{"$f":"IF(B837<>\"\", IF(A836<>\"\",A836+1,\"\"),\"\")","v":""}]
[""]
[""]
[""]
[""]
[""]
[""]
[""]
[""]
[""]
[""]
[""]
[""]
[""]
[""]
[""]
[""]
[""]
[""]
[""]
[""]
[""]
[""]
[""]
[""]
[""]
[""]
[""]
[""]
[""]
[""]
[""]
[""]
[""]
[""]
[""]
[""]
[""]
[""]
[""]
[""]
[""]
[""]
[""]
[""]
[""]
[""]
[""]
[""]
[""]
[""]
[""]
[""]
[""]
[""]
[""]
[""]
[""]
[""]
[""]
[""]
[""]
[""]
[""]
[{"$f":"IF(B901<>\"\", IF(A900<>\"\",A900+1,\"\"),\"\")","v":""}]
[""]
[""]
[""]
[""]
[""]
[""]
[""]
[""]
[""]
[""]
[""]
[""]
[""]
[""]
[""]
[""]
[""]
[""]
[""]
[""]
[""]
[""]
[""]
[""]
[""]
[""]
[""]
[""]
[""]
[""]
[""]
[""]
[""]
[""]
[""]
[""]
[""]
[""]
[""]
[""]
[""]
[""]
[""]
[""]
[""]
[""]
[""]
[""]
[""]
[""]
[""]
[""]
[""]
[""]
[""]
[""]
[""]
[""]
[""]
[""]
[""]
[""]
[""]
[{"$f":"IF(B965<>\"\", IF(A964<>\"\",A964+1,\"\"),\"\")","v":""}]
[""]
[""]
[""]
[""]
[""]
[""]
[""]
[""]
[""]
[""]
[""]
[""]
[""]
[""]
[""]
[""]
[""]
[""]
[""]
[""]
[""]
[""]
[""]
[""]
[""]
[""]
[""]
[""]
[""]
[""]
[""]
[""]
[""]
[""]
[""]
[""]
[""]
[""]
[""]
[""]
[""]
[""]
[""]
[""]
[""]
[""]
[""]
[""]
[""]
[""]
[""]
[""]

{"sheet":"UnitàImmobiliari","index":4,"n_rows":1017,"n_cols":17,"rows_kept":1017,"cut":false,"hidden":true,"merged":[[0,5,0,6],[0,7,0,8],[0,9,0,10],[0,11,0,12],[0,13,0,14]]}
[null,"Elenco Unità Immobiliari",null,null,null,"Beneficiario 1",null,"Beneficiario 2",null,"Beneficiario 3",null,"Beneficiario 4",null,"Beneficiario 5"]
[null,"Foglio","Particella","Sub.","Categoria","Codice Fiscale","Titolo Possesso","Codice Fiscale","Titolo Possesso","Codice Fiscale","Titolo Possesso","Codice Fiscale","Titolo Possesso","Codice Fiscale","Titolo Possesso",null,"Elenco Committenti"]
[{"$f":"IF(B3<>\"\",1,\"\")","v":1},{"$f":"nFoglio1","v":0},{"$f":"nPlla1","v":0},{"$f":"nSUB1","v":0},{"$f":"Categoria1","v":"A/4"},null,null,null,null,null,null,null,null,null,null,null,{"$f":"IF(Committenti!D3<>\"\",CONCATENATE(Committenti!B3,\"  \",Committenti!C3,\"  CF: \",Committenti!D3),\"\")","v":""}]
[{"$f":"IF(B4<>\"\", IF(A3<>\"\",A3+1,\"\"),\"\")","v":""},null,null,null,null,null,null,null,null,null,null,null,null,null,null,null,{"$f":"IF(Committenti!D4<>\"\",CONCATENATE(Committenti!B4,\"  \",Committenti!C4,\"  CF: \",Committenti!D4),\"\")","v":""}]
[{"$f":"IF(B5<>\"\", IF(A4<>\"\",A4+1,\"\"),\"\")","v":""},null,null,null,null,null,null,null,null,"",null,null,null,null,null,null,{"$f":"IF(Committenti!D5<>\"\",CONCATENATE(Committenti!B5,\"  \",Committenti!C5,\"  CF: \",Committenti!D5),\"\")","v":""}]
["",null,null,null,null,null,null,null,null,null,null,null,null,null,null,null,{"$f":"IF(Committenti!D6<>\"\",CONCATENATE(Committenti!B6,\"  \",Committenti!C6,\"  CF: \",Committenti!D6),\"\")","v":""}]
["",null,null,null,null,null,null,null,null,null,null,null,null,null,null,null,{"$f":"IF(Committenti!D7<>\"\",CONCATENATE(Committenti!B7,\"  \",Committenti!C7,\"  CF: \",Committenti!D7),\"\")","v":""}]
["",null,null,null,null,null,null,null,null,null,null,null,null,null,null,null,{"$f":"IF(Committenti!D8<>\"\",CONCATENATE(Committenti!B8,\"  \",Committenti!C8,\"  CF: \",Committenti!D8),\"\")","v":""}]
["",null,null,null,null,null,null,null,null,null,null,null,null,null,null,null,{"$f":"IF(Committenti!D9<>\"\",CONCATENATE(Committenti!B9,\"  \",Committenti!C9,\"  CF: \",Committenti!D9),\"\")","v":""}]
["",null,null,null,null,null,null,null,null,null,null,null,null,null,null,null,{"$f":"IF(Committenti!D10<>\"\",CONCATENATE(Committenti!B10,\"  \",Committenti!C10,\"  CF: \",Committenti!D10),\"\")","v":""}]
["",null,null,null,null,null,null,null,null,null,null,null,null,null,null,null,{"$f":"IF(Committenti!D11<>\"\",CONCATENATE(Committenti!B11,\"  \",Committenti!C11,\"  CF: \",Committenti!D11),\"\")","v":""}]
["",null,null,null,null,null,null,null,null,null,null,null,null,null,null,null,{"$f":"IF(Committenti!D12<>\"\",CONCATENATE(Committenti!B12,\"  \",Committenti!C12,\"  CF: \",Committenti!D12),\"\")","v":""}]
["",null,null,null,null,null,null,null,null,null,null,null,null,null,null,null,{"$f":"IF(Committenti!D13<>\"\",CONCATENATE(Committenti!B13,\"  \",Committenti!C13,\"  CF: \",Committenti!D13),\"\")","v":""}]
["",null,null,null,null,null,null,null,null,null,null,null,null,null,null,null,{"$f":"IF(Committenti!D14<>\"\",CONCATENATE(Committenti!B14,\"  \",Committenti!C14,\"  CF: \",Committenti!D14),\"\")","v":""}]
["",null,null,null,null,null,null,null,null,null,null,null,null,null,null,null,{"$f":"IF(Committenti!D15<>\"\",CONCATENATE(Committenti!B15,\"  \",Committenti!C15,\"  CF: \",Committenti!D15),\"\")","v":""}]
["",null,null,null,null,null,null,null,null,null,null,null,null,null,null,null,{"$f":"IF(Committenti!D16<>\"\",CONCATENATE(Committenti!B16,\"  \",Committenti!C16,\"  CF: \",Committenti!D16),\"\")","v":""}]
["",null,null,null,null,null,null,null,null,null,null,null,null,null,null,null,{"$f":"IF(Committenti!D17<>\"\",CONCATENATE(Committenti!B17,\"  \",Committenti!C17,\"  CF: \",Committenti!D17),\"\")","v":""}]
["",null,null,null,null,null,null,null,null,null,null,null,null,null,null,null,{"$f":"IF(Committenti!D18<>\"\",CONCATENATE(Committenti!B18,\"  \",Committenti!C18,\"  CF: \",Committenti!D18),\"\")","v":""}]
["",null,null,null,null,null,null,null,null,null,null,null,null,null,null,null,{"$f":"IF(Committenti!D19<>\"\",CONCATENATE(Committenti!B19,\"  \",Committenti!C19,\"  CF: \",Committenti!D19),\"\")","v":""}]
["",null,null,null,null,null,null,null,null,null,null,null,null,null,null,null,{"$f":"IF(Committenti!D20<>\"\",CONCATENATE(Committenti!B20,\"  \",Committenti!C20,\"  CF: \",Committenti!D20),\"\")","v":""}]
["",null,null,null,null,null,null,null,null,null,null,null,null,null,null,null,{"$f":"IF(Committenti!D21<>\"\",CONCATENATE(Committenti!B21,\"  \",Committenti!C21,\"  CF: \",Committenti!D21),\"\")","v":""}]
["",null,null,null,null,null,null,null,null,null,null,null,null,null,null,null,{"$f":"IF(Committenti!D22<>\"\",CONCATENATE(Committenti!B22,\"  \",Committenti!C22,\"  CF: \",Committenti!D22),\"\")","v":""}]
["",null,null,null,null,null,null,null,null,null,null,null,null,null,null,null,{"$f":"IF(Committenti!D23<>\"\",CONCATENATE(Committenti!B23,\"  \",Committenti!C23,\"  CF: \",Committenti!D23),\"\")","v":""}]
["",null,null,null,null,null,null,null,null,null,null,null,null,null,null,null,{"$f":"IF(Committenti!D24<>\"\",CONCATENATE(Committenti!B24,\"  \",Committenti!C24,\"  CF: \",Committenti!D24),\"\")","v":""}]
["",null,null,null,null,null,null,null,null,null,null,null,null,null,null,null,{"$f":"IF(Committenti!D25<>\"\",CONCATENATE(Committenti!B25,\"  \",Committenti!C25,\"  CF: \",Committenti!D25),\"\")","v":""}]
["",null,null,null,null,null,null,null,null,null,null,null,null,null,null,null,{"$f":"IF(Committenti!D26<>\"\",CONCATENATE(Committenti!B26,\"  \",Committenti!C26,\"  CF: \",Committenti!D26),\"\")","v":""}]
["",null,null,null,null,null,null,null,null,null,null,null,null,null,null,null,{"$f":"IF(Committenti!D27<>\"\",CONCATENATE(Committenti!B27,\"  \",Committenti!C27,\"  CF: \",Committenti!D27),\"\")","v":""}]
["",null,null,null,null,null,null,null,null,null,null,null,null,null,null,null,{"$f":"IF(Committenti!D28<>\"\",CONCATENATE(Committenti!B28,\"  \",Committenti!C28,\"  CF: \",Committenti!D28),\"\")","v":""}]
["",null,null,null,null,null,null,null,null,null,null,null,null,null,null,null,{"$f":"IF(Committenti!D29<>\"\",CONCATENATE(Committenti!B29,\"  \",Committenti!C29,\"  CF: \",Committenti!D29),\"\")","v":""}]
["",null,null,null,null,null,null,null,null,null,null,null,null,null,null,null,{"$f":"IF(Committenti!D30<>\"\",CONCATENATE(Committenti!B30,\"  \",Committenti!C30,\"  CF: \",Committenti!D30),\"\")","v":""}]
["",null,null,null,null,null,null,null,null,null,null,null,null,null,null,null,{"$f":"IF(Committenti!D31<>\"\",CONCATENATE(Committenti!B31,\"  \",Committenti!C31,\"  CF: \",Committenti!D31),\"\")","v":""}]
["",null,null,null,null,null,null,null,null,null,null,null,null,null,null,null,{"$f":"IF(Committenti!D32<>\"\",CONCATENATE(Committenti!B32,\"  \",Committenti!C32,\"  CF: \",Committenti!D32),\"\")","v":""}]
["",null,null,null,null,null,null,null,null,null,null,null,null,null,null,null,{"$f":"IF(Committenti!D33<>\"\",CONCATENATE(Committenti!B33,\"  \",Committenti!C33,\"  CF: \",Committenti!D33),\"\")","v":""}]
["",null,null,null,null,null,null,null,null,null,null,null,null,null,null,null,{"$f":"IF(Committenti!D34<>\"\",CONCATENATE(Committenti!B34,\"  \",Committenti!C34,\"  CF: \",Committenti!D34),\"\")","v":""}]
["",null,null,null,null,null,null,null,null,null,null,null,null,null,null,null,{"$f":"IF(Committenti!D35<>\"\",CONCATENATE(Committenti!B35,\"  \",Committenti!C35,\"  CF: \",Committenti!D35),\"\")","v":""}]
["",null,null,null,null,null,null,null,null,null,null,null,null,null,null,null,{"$f":"IF(Committenti!D36<>\"\",CONCATENATE(Committenti!B36,\"  \",Committenti!C36,\"  CF: \",Committenti!D36),\"\")","v":""}]
["",null,null,null,null,null,null,null,null,null,null,null,null,null,null,null,{"$f":"IF(Committenti!D37<>\"\",CONCATENATE(Committenti!B37,\"  \",Committenti!C37,\"  CF: \",Committenti!D37),\"\")","v":""}]
["",null,null,null,null,null,null,null,null,null,null,null,null,null,null,null,{"$f":"IF(Committenti!D38<>\"\",CONCATENATE(Committenti!B38,\"  \",Committenti!C38,\"  CF: \",Committenti!D38),\"\")","v":""}]
["",null,null,null,null,null,null,null,null,null,null,null,null,null,null,null,{"$f":"IF(Committenti!D39<>\"\",CONCATENATE(Committenti!B39,\"  \",Committenti!C39,\"  CF: \",Committenti!D39),\"\")","v":""}]
["",null,null,null,null,null,null,null,null,null,null,null,null,null,null,null,{"$f":"IF(Committenti!D40<>\"\",CONCATENATE(Committenti!B40,\"  \",Committenti!C40,\"  CF: \",Committenti!D40),\"\")","v":""}]
["",null,null,null,null,null,null,null,null,null,null,null,null,null,null,null,{"$f":"IF(Committenti!D41<>\"\",CONCATENATE(Committenti!B41,\"  \",Committenti!C41,\"  CF: \",Committenti!D41),\"\")","v":""}]
["",null,null,null,null,null,null,null,null,null,null,null,null,null,null,null,{"$f":"IF(Committenti!D42<>\"\",CONCATENATE(Committenti!B42,\"  \",Committenti!C42,\"  CF: \",Committenti!D42),\"\")","v":""}]
["",null,null,null,null,null,null,null,null,null,null,null,null,null,null,null,{"$f":"IF(Committenti!D43<>\"\",CONCATENATE(Committenti!B43,\"  \",Committenti!C43,\"  CF: \",Committenti!D43),\"\")","v":""}]
["",null,null,null,null,null,null,null,null,null,null,null,null,null,null,null,{"$f":"IF(Committenti!D44<>\"\",CONCATENATE(Committenti!B44,\"  \",Committenti!C44,\"  CF: \",Committenti!D44),\"\")","v":""}]
["",null,null,null,null,null,null,null,null,null,null,null,null,null,null,null,{"$f":"IF(Committenti!D45<>\"\",CONCATENATE(Committenti!B45,\"  \",Committenti!C45,\"  CF: \",Committenti!D45),\"\")","v":""}]
["",null,null,null,null,null,null,null,null,null,null,null,null,null,null,null,{"$f":"IF(Committenti!D46<>\"\",CONCATENATE(Committenti!B46,\"  \",Committenti!C46,\"  CF: \",Committenti!D46),\"\")","v":""}]
["",null,null,null,null,null,null,null,null,null,null,null,null,null,null,null,{"$f":"IF(Committenti!D47<>\"\",CONCATENATE(Committenti!B47,\"  \",Committenti!C47,\"  CF: \",Committenti!D47),\"\")","v":""}]
["",null,null,null,null,null,null,null,null,null,null,null,null,null,null,null,{"$f":"IF(Committenti!D48<>\"\",CONCATENATE(Committenti!B48,\"  \",Committenti!C48,\"  CF: \",Committenti!D48),\"\")","v":""}]
["",null,null,null,null,null,null,null,null,null,null,null,null,null,null,null,{"$f":"IF(Committenti!D49<>\"\",CONCATENATE(Committenti!B49,\"  \",Committenti!C49,\"  CF: \",Committenti!D49),\"\")","v":""}]
["",null,null,null,null,null,null,null,null,null,null,null,null,null,null,null,{"$f":"IF(Committenti!D50<>\"\",CONCATENATE(Committenti!B50,\"  \",Committenti!C50,\"  CF: \",Committenti!D50),\"\")","v":""}]
["",null,null,null,null,null,null,null,null,null,null,null,null,null,null,null,{"$f":"IF(Committenti!D51<>\"\",CONCATENATE(Committenti!B51,\"  \",Committenti!C51,\"  CF: \",Committenti!D51),\"\")","v":""}]
["",null,null,null,null,null,null,null,null,null,null,null,null,null,null,null,{"$f":"IF(Committenti!D52<>\"\",CONCATENATE(Committenti!B52,\"  \",Committenti!C52,\"  CF: \",Committenti!D52),\"\")","v":""}]
["",null,null,null,null,null,null,null,null,null,null,null,null,null,null,null,{"$f":"IF(Committenti!D53<>\"\",CONCATENATE(Committenti!B53,\"  \",Committenti!C53,\"  CF: \",Committenti!D53),\"\")","v":""}]
["",null,null,null,null,null,null,null,null,null,null,null,null,null,null,null,{"$f":"IF(Committenti!D54<>\"\",CONCATENATE(Committenti!B54,\"  \",Committenti!C54,\"  CF: \",Committenti!D54),\"\")","v":""}]
["",null,null,null,null,null,null,null,null,null,null,null,null,null,null,null,{"$f":"IF(Committenti!D55<>\"\",CONCATENATE(Committenti!B55,\"  \",Committenti!C55,\"  CF: \",Committenti!D55),\"\")","v":""}]
["",null,null,null,null,null,null,null,null,null,null,null,null,null,null,null,{"$f":"IF(Committenti!D56<>\"\",CONCATENATE(Committenti!B56,\"  \",Committenti!C56,\"  CF: \",Committenti!D56),\"\")","v":""}]
["",null,null,null,null,null,null,null,null,null,null,null,null,null,null,null,{"$f":"IF(Committenti!D57<>\"\",CONCATENATE(Committenti!B57,\"  \",Committenti!C57,\"  CF: \",Committenti!D57),\"\")","v":""}]
["",null,null,null,null,null,null,null,null,null,null,null,null,null,null,null,{"$f":"IF(Committenti!D58<>\"\",CONCATENATE(Committenti!B58,\"  \",Committenti!C58,\"  CF: \",Committenti!D58),\"\")","v":""}]
["",null,null,null,null,null,null,null,null,null,null,null,null,null,null,null,{"$f":"IF(Committenti!D59<>\"\",CONCATENATE(Committenti!B59,\"  \",Committenti!C59,\"  CF: \",Committenti!D59),\"\")","v":""}]
["",null,null,null,null,null,null,null,null,null,null,null,null,null,null,null,{"$f":"IF(Committenti!D60<>\"\",CONCATENATE(Committenti!B60,\"  \",Committenti!C60,\"  CF: \",Committenti!D60),\"\")","v":""}]
["",null,null,null,null,null,null,null,null,null,null,null,null,null,null,null,{"$f":"IF(Committenti!D61<>\"\",CONCATENATE(Committenti!B61,\"  \",Committenti!C61,\"  CF: \",Committenti!D61),\"\")","v":""}]
["",null,null,null,null,null,null,null,null,null,null,null,null,null,null,null,{"$f":"IF(Committenti!D62<>\"\",CONCATENATE(Committenti!B62,\"  \",Committenti!C62,\"  CF: \",Committenti!D62),\"\")","v":""}]
["",null,null,null,null,null,null,null,null,null,null,null,null,null,null,null,{"$f":"IF(Committenti!D63<>\"\",CONCATENATE(Committenti!B63,\"  \",Committenti!C63,\"  CF: \",Committenti!D63),\"\")","v":""}]
["",null,null,null,null,null,null,null,null,null,null,null,null,null,null,null,{"$f":"IF(Committenti!D64<>\"\",CONCATENATE(Committenti!B64,\"  \",Committenti!C64,\"  CF: \",Committenti!D64),\"\")","v":""}]
["",null,null,null,null,null,null,null,null,null,null,null,null,null,null,null,{"$f":"IF(Committenti!D65<>\"\",CONCATENATE(Committenti!B65,\"  \",Committenti!C65,\"  CF: \",Committenti!D65),\"\")","v":""}]
["",null,null,null,null,null,null,null,null,null,null,null,null,null,null,null,{"$f":"IF(Committenti!D66<>\"\",CONCATENATE(Committenti!B66,\"  \",Committenti!C66,\"  CF: \",Committenti!D66),\"\")","v":""}]
["",null,null,null,null,null,null,null,null,null,null,null,null,null,null,null,{"$f":"IF(Committenti!D67<>\"\",CONCATENATE(Committenti!B67,\"  \",Committenti!C67,\"  CF: \",Committenti!D67),\"\")","v":""}]
["",null,null,null,null,null,null,null,null,null,null,null,null,null,null,null,{"$f":"IF(Committenti!D68<>\"\",CONCATENATE(Committenti!B68,\"  \",Committenti!C68,\"  CF: \",Committenti!D68),\"\")","v":""}]
[{"$f":"IF(B69<>\"\", IF(A68<>\"\",A68+1,\"\"),\"\")","v":""},null,null,null,null,null,null,null,null,null,null,null,null,null,null,null,{"$f":"IF(Committenti!D69<>\"\",CONCATENATE(Committenti!B69,\"  \",Committenti!C69,\"  CF: \",Committenti!D69),\"\")","v":""}]
["",null,null,null,null,null,null,null,null,null,null,null,null,null,null,null,{"$f":"IF(Committenti!D70<>\"\",CONCATENATE(Committenti!B70,\"  \",Committenti!C70,\"  CF: \",Committenti!D70),\"\")","v":""}]
["",null,null,null,null,null,null,null,null,null,null,null,null,null,null,null,{"$f":"IF(Committenti!D71<>\"\",CONCATENATE(Committenti!B71,\"  \",Committenti!C71,\"  CF: \",Committenti!D71),\"\")","v":""}]
["",null,null,null,null,null,null,null,null,null,null,null,null,null,null,null,{"$f":"IF(Committenti!D72<>\"\",CONCATENATE(Committenti!B72,\"  \",Committenti!C72,\"  CF: \",Committenti!D72),\"\")","v":""}]
["",null,null,null,null,null,null,null,null,null,null,null,null,null,null,null,{"$f":"IF(Committenti!D73<>\"\",CONCATENATE(Committenti!B73,\"  \",Committenti!C73,\"  CF: \",Committenti!D73),\"\")","v":""}]
["",null,null,null,null,null,null,null,null,null,null,null,null,null,null,null,{"$f":"IF(Committenti!D74<>\"\",CONCATENATE(Committenti!B74,\"  \",Committenti!C74,\"  CF: \",Committenti!D74),\"\")","v":""}]
["",null,null,null,null,null,null,null,null,null,null,null,null,null,null,null,{"$f":"IF(Committenti!D75<>\"\",CONCATENATE(Committenti!B75,\"  \",Committenti!C75,\"  CF: \",Committenti!D75),\"\")","v":""}]
["",null,null,null,null,null,null,null,null,null,null,null,null,null,null,null,{"$f":"IF(Committenti!D76<>\"\",CONCATENATE(Committenti!B76,\"  \",Committenti!C76,\"  CF: \",Committenti!D76),\"\")","v":""}]
["",null,null,null,null,null,null,null,null,null,null,null,null,null,null,null,{"$f":"IF(Committenti!D77<>\"\",CONCATENATE(Committenti!B77,\"  \",Committenti!C77,\"  CF: \",Committenti!D77),\"\")","v":""}]
["",null,null,null,null,null,null,null,null,null,null,null,null,null,null,null,{"$f":"IF(Committenti!D78<>\"\",CONCATENATE(Committenti!B78,\"  \",Committenti!C78,\"  CF: \",Committenti!D78),\"\")","v":""}]
["",null,null,null,null,null,null,null,null,null,null,null,null,null,null,null,{"$f":"IF(Committenti!D79<>\"\",CONCATENATE(Committenti!B79,\"  \",Committenti!C79,\"  CF: \",Committenti!D79),\"\")","v":""}]
["",null,null,null,null,null,null,null,null,null,null,null,null,null,null,null,{"$f":"IF(Committenti!D80<>\"\",CONCATENATE(Committenti!B80,\"  \",Committenti!C80,\"  CF: \",Committenti!D80),\"\")","v":""}]
["",null,null,null,null,null,null,null,null,null,null,null,null,null,null,null,{"$f":"IF(Committenti!D81<>\"\",CONCATENATE(Committenti!B81,\"  \",Committenti!C81,\"  CF: \",Committenti!D81),\"\")","v":""}]
["",null,null,null,null,null,null,null,null,null,null,null,null,null,null,null,{"$f":"IF(Committenti!D82<>\"\",CONCATENATE(Committenti!B82,\"  \",Committenti!C82,\"  CF: \",Committenti!D82),\"\")","v":""}]
["",null,null,null,null,null,null,null,null,null,null,null,null,null,null,null,{"$f":"IF(Committenti!D83<>\"\",CONCATENATE(Committenti!B83,\"  \",Committenti!C83,\"  CF: \",Committenti!D83),\"\")","v":""}]
["",null,null,null,null,null,null,null,null,null,null,null,null,null,null,null,{"$f":"IF(Committenti!D84<>\"\",CONCATENATE(Committenti!B84,\"  \",Committenti!C84,\"  CF: \",Committenti!D84),\"\")","v":""}]
["",null,null,null,null,null,null,null,null,null,null,null,null,null,null,null,{"$f":"IF(Committenti!D85<>\"\",CONCATENATE(Committenti!B85,\"  \",Committenti!C85,\"  CF: \",Committenti!D85),\"\")","v":""}]
["",null,null,null,null,null,null,null,null,null,null,null,null,null,null,null,{"$f":"IF(Committenti!D86<>\"\",CONCATENATE(Committenti!B86,\"  \",Committenti!C86,\"  CF: \",Committenti!D86),\"\")","v":""}]
["",null,null,null,null,null,null,null,null,null,null,null,null,null,null,null,{"$f":"IF(Committenti!D87<>\"\",CONCATENATE(Committenti!B87,\"  \",Committenti!C87,\"  CF: \",Committenti!D87),\"\")","v":""}]
["",null,null,null,null,null,null,null,null,null,null,null,null,null,null,null,{"$f":"IF(Committenti!D88<>\"\",CONCATENATE(Committenti!B88,\"  \",Committenti!C88,\"  CF: \",Committenti!D88),\"\")","v":""}]
["",null,null,null,null,null,null,null,null,null,null,null,null,null,null,null,{"$f":"IF(Committenti!D89<>\"\",CONCATENATE(Committenti!B89,\"  \",Committenti!C89,\"  CF: \",Committenti!D89),\"\")","v":""}]
["",null,null,null,null,null,null,null,null,null,null,null,null,null,null,null,{"$f":"IF(Committenti!D90<>\"\",CONCATENATE(Committenti!B90,\"  \",Committenti!C90,\"  CF: \",Committenti!D90),\"\")","v":""}]
["",null,null,null,null,null,null,null,null,null,null,null,null,null,null,null,{"$f":"IF(Committenti!D91<>\"\",CONCATENATE(Committenti!B91,\"  \",Committenti!C91,\"  CF: \",Committenti!D91),\"\")","v":""}]
["",null,null,null,null,null,null,null,null,null,null,null,null,null,null,null,{"$f":"IF(Committenti!D92<>\"\",CONCATENATE(Committenti!B92,\"  \",Committenti!C92,\"  CF: \",Committenti!D92),\"\")","v":""}]
["",null,null,null,null,null,null,null,null,null,null,null,null,null,null,null,{"$f":"IF(Committenti!D93<>\"\",CONCATENATE(Committenti!B93,\"  \",Committenti!C93,\"  CF: \",Committenti!D93),\"\")","v":""}]
["",null,null,null,null,null,null,null,null,null,null,null,null,null,null,null,{"$f":"IF(Committenti!D94<>\"\",CONCATENATE(Committenti!B94,\"  \",Committenti!C94,\"  CF: \",Committenti!D94),\"\")","v":""}]
["",null,null,null,null,null,null,null,null,null,null,null,null,null,null,null,{"$f":"IF(Committenti!D95<>\"\",CONCATENATE(Committenti!B95,\"  \",Committenti!C95,\"  CF: \",Committenti!D95),\"\")","v":""}]
["",null,null,null,null,null,null,null,null,null,null,null,null,null,null,null,{"$f":"IF(Committenti!D96<>\"\",CONCATENATE(Committenti!B96,\"  \",Committenti!C96,\"  CF: \",Committenti!D96),\"\")","v":""}]
["",null,null,null,null,null,null,null,null,null,null,null,null,null,null,null,{"$f":"IF(Committenti!D97<>\"\",CONCATENATE(Committenti!B97,\"  \",Committenti!C97,\"  CF: \",Committenti!D97),\"\")","v":""}]
["",null,null,null,null,null,null,null,null,null,null,null,null,null,null,null,{"$f":"IF(Committenti!D98<>\"\",CONCATENATE(Committenti!B98,\"  \",Committenti!C98,\"  CF: \",Committenti!D98),\"\")","v":""}]
["",null,null,null,null,null,null,null,null,null,null,null,null,null,null,null,{"$f":"IF(Committenti!D99<>\"\",CONCATENATE(Committenti!B99,\"  \",Committenti!C99,\"  CF: \",Committenti!D99),\"\")","v":""}]
["",null,null,null,null,null,null,null,null,null,null,null,null,null,null,null,{"$f":"IF(Committenti!D100<>\"\",CONCATENATE(Committenti!B100,\"  \",Committenti!C100,\"  CF: \",Committenti!D100),\"\")","v":""}]
["",null,null,null,null,null,null,null,null,null,null,null,null,null,null,null,{"$f":"IF(Committenti!D101<>\"\",CONCATENATE(Committenti!B101,\"  \",Committenti!C101,\"  CF: \",Committenti!D101),\"\")","v":""}]
["",null,null,null,null,null,null,null,null,null,null,null,null,null,null,null,{"$f":"IF(Committenti!D102<>\"\",CONCATENATE(Committenti!B102,\"  \",Committenti!C102,\"  CF: \",Committenti!D102),\"\")","v":""}]
["",null,null,null,null,null,null,null,null,null,null,null,null,null,null,null,{"$f":"IF(Committenti!D103<>\"\",CONCATENATE(Committenti!B103,\"  \",Committenti!C103,\"  CF: \",Committenti!D103),\"\")","v":""}]
["",null,null,null,null,null,null,null,null,null,null,null,null,null,null,null,{"$f":"IF(Committenti!D104<>\"\",CONCATENATE(Committenti!B104,\"  \",Committenti!C104,\"  CF: \",Committenti!D104),\"\")","v":""}]
["",null,null,null,null,null,null,null,null,null,null,null,null,null,null,null,{"$f":"IF(Committenti!D105<>\"\",CONCATENATE(Committenti!B105,\"  \",Committenti!C105,\"  CF: \",Committenti!D105),\"\")","v":""}]
["",null,null,null,null,null,null,null,null,null,null,null,null,null,null,null,{"$f":"IF(Committenti!D106<>\"\",CONCATENATE(Committenti!B106,\"  \",Committenti!C106,\"  CF: \",Committenti!D106),\"\")","v":""}]
["",null,null,null,null,null,null,null,null,null,null,null,null,null,null,null,{"$f":"IF(Committenti!D107<>\"\",CONCATENATE(Committenti!B107,\"  \",Committenti!C107,\"  CF: \",Committenti!D107),\"\")","v":""}]
["",null,null,null,null,null,null,null,null,null,null,null,null,null,null,null,{"$f":"IF(Committenti!D108<>\"\",CONCATENATE(Committenti!B108,\"  \",Committenti!C108,\"  CF: \",Committenti!D108),\"\")","v":""}]
["",null,null,null,null,null,null,null,null,null,null,null,null,null,null,null,{"$f":"IF(Committenti!D109<>\"\",CONCATENATE(Committenti!B109,\"  \",Committenti!C109,\"  CF: \",Committenti!D109),\"\")","v":""}]
["",null,null,null,null,null,null,null,null,null,null,null,null,null,null,null,{"$f":"IF(Committenti!D110<>\"\",CONCATENATE(Committenti!B110,\"  \",Committenti!C110,\"  CF: \",Committenti!D110),\"\")","v":""}]
["",null,null,null,null,null,null,null,null,null,null,null,null,null,null,null,{"$f":"IF(Committenti!D111<>\"\",CONCATENATE(Committenti!B111,\"  \",Committenti!C111,\"  CF: \",Committenti!D111),\"\")","v":""}]
["",null,null,null,null,null,null,null,null,null,null,null,null,null,null,null,{"$f":"IF(Committenti!D112<>\"\",CONCATENATE(Committenti!B112,\"  \",Committenti!C112,\"  CF: \",Committenti!D112),\"\")","v":""}]
["",null,null,null,null,null,null,null,null,null,null,null,null,null,null,null,{"$f":"IF(Committenti!D113<>\"\",CONCATENATE(Committenti!B113,\"  \",Committenti!C113,\"  CF: \",Committenti!D113),\"\")","v":""}]
["",null,null,null,null,null,null,null,null,null,null,null,null,null,null,null,{"$f":"IF(Committenti!D114<>\"\",CONCATENATE(Committenti!B114,\"  \",Committenti!C114,\"  CF: \",Committenti!D114),\"\")","v":""}]
["",null,null,null,null,null,null,null,null,null,null,null,null,null,null,null,{"$f":"IF(Committenti!D115<>\"\",CONCATENATE(Committenti!B115,\"  \",Committenti!C115,\"  CF: \",Committenti!D115),\"\")","v":""}]
["",null,null,null,null,null,null,null,null,null,null,null,null,null,null,null,{"$f":"IF(Committenti!D116<>\"\",CONCATENATE(Committenti!B116,\"  \",Committenti!C116,\"  CF: \",Committenti!D116),\"\")","v":""}]
["",null,null,null,null,null,null,null,null,null,null,null,null,null,null,null,{"$f":"IF(Committenti!D117<>\"\",CONCATENATE(Committenti!B117,\"  \",Committenti!C117,\"  CF: \",Committenti!D117),\"\")","v":""}]
["",null,null,null,null,null,null,null,null,null,null,null,null,null,null,null,{"$f":"IF(Committenti!D118<>\"\",CONCATENATE(Committenti!B118,\"  \",Committenti!C118,\"  CF: \",Committenti!D118),\"\")","v":""}]
["",null,null,null,null,null,null,null,null,null,null,null,null,null,null,null,{"$f":"IF(Committenti!D119<>\"\",CONCATENATE(Committenti!B119,\"  \",Committenti!C119,\"  CF: \",Committenti!D119),\"\")","v":""}]
["",null,null,null,null,null,null,null,null,null,null,null,null,null,null,null,{"$f":"IF(Committenti!D120<>\"\",CONCATENATE(Committenti!B120,\"  \",Committenti!C120,\"  CF: \",Committenti!D120),\"\")","v":""}]
["",null,null,null,null,null,null,null,null,null,null,null,null,null,null,null,{"$f":"IF(Committenti!D121<>\"\",CONCATENATE(Committenti!B121,\"  \",Committenti!C121,\"  CF: \",Committenti!D121),\"\")","v":""}]
["",null,null,null,null,null,null,null,null,null,null,null,null,null,null,null,{"$f":"IF(Committenti!D122<>\"\",CONCATENATE(Committenti!B122,\"  \",Committenti!C122,\"  CF: \",Committenti!D122),\"\")","v":""}]
["",null,null,null,null,null,null,null,null,null,null,null,null,null,null,null,{"$f":"IF(Committenti!D123<>\"\",CONCATENATE(Committenti!B123,\"  \",Committenti!C123,\"  CF: \",Committenti!D123),\"\")","v":""}]
["",null,null,null,null,null,null,null,null,null,null,null,null,null,null,null,{"$f":"IF(Committenti!D124<>\"\",CONCATENATE(Committenti!B124,\"  \",Committenti!C124,\"  CF: \",Committenti!D124),\"\")","v":""}]
["",null,null,null,null,null,null,null,null,null,null,null,null,null,null,null,{"$f":"IF(Committenti!D125<>\"\",CONCATENATE(Committenti!B125,\"  \",Committenti!C125,\"  CF: \",Committenti!D125),\"\")","v":""}]
["",null,null,null,null,null,null,null,null,null,null,null,null,null,null,null,{"$f":"IF(Committenti!D126<>\"\",CONCATENATE(Committenti!B126,\"  \",Committenti!C126,\"  CF: \",Committenti!D126),\"\")","v":""}]
["",null,null,null,null,null,null,null,null,null,null,null,null,null,null,null,{"$f":"IF(Committenti!D127<>\"\",CONCATENATE(Committenti!B127,\"  \",Committenti!C127,\"  CF: \",Committenti!D127),\"\")","v":""}]
["",null,null,null,null,null,null,null,null,null,null,null,null,null,null,null,{"$f":"IF(Committenti!D128<>\"\",CONCATENATE(Committenti!B128,\"  \",Committenti!C128,\"  CF: \",Committenti!D128),\"\")","v":""}]
["",null,null,null,null,null,null,null,null,null,null,null,null,null,null,null,{"$f":"IF(Committenti!D129<>\"\",CONCATENATE(Committenti!B129,\"  \",Committenti!C129,\"  CF: \",Committenti!D129),\"\")","v":""}]
["",null,null,null,null,null,null,null,null,null,null,null,null,null,null,null,{"$f":"IF(Committenti!D130<>\"\",CONCATENATE(Committenti!B130,\"  \",Committenti!C130,\"  CF: \",Committenti!D130),\"\")","v":""}]
["",null,null,null,null,null,null,null,null,null,null,null,null,null,null,null,{"$f":"IF(Committenti!D131<>\"\",CONCATENATE(Committenti!B131,\"  \",Committenti!C131,\"  CF: \",Committenti!D131),\"\")","v":""}]
["",null,null,null,null,null,null,null,null,null,null,null,null,null,null,null,{"$f":"IF(Committenti!D132<>\"\",CONCATENATE(Committenti!B132,\"  \",Committenti!C132,\"  CF: \",Committenti!D132),\"\")","v":""}]
[{"$f":"IF(B133<>\"\", IF(A132<>\"\",A132+1,\"\"),\"\")","v":""},null,null,null,null,null,null,null,null,null,null,null,null,null,null,null,{"$f":"IF(Committenti!D133<>\"\",CONCATENATE(Committenti!B133,\"  \",Committenti!C133,\"  CF: \",Committenti!D133),\"\")","v":""}]
["",null,null,null,null,null,null,null,null,null,null,null,null,null,null,null,{"$f":"IF(Committenti!D134<>\"\",CONCATENATE(Committenti!B134,\"  \",Committenti!C134,\"  CF: \",Committenti!D134),\"\")","v":""}]
["",null,null,null,null,null,null,null,null,null,null,null,null,null,null,null,{"$f":"IF(Committenti!D135<>\"\",CONCATENATE(Committenti!B135,\"  \",Committenti!C135,\"  CF: \",Committenti!D135),\"\")","v":""}]
["",null,null,null,null,null,null,null,null,null,null,null,null,null,null,null,{"$f":"IF(Committenti!D136<>\"\",CONCATENATE(Committenti!B136,\"  \",Committenti!C136,\"  CF: \",Committenti!D136),\"\")","v":""}]
["",null,null,null,null,null,null,null,null,null,null,null,null,null,null,null,{"$f":"IF(Committenti!D137<>\"\",CONCATENATE(Committenti!B137,\"  \",Committenti!C137,\"  CF: \",Committenti!D137),\"\")","v":""}]
["",null,null,null,null,null,null,null,null,null,null,null,null,null,null,null,{"$f":"IF(Committenti!D138<>\"\",CONCATENATE(Committenti!B138,\"  \",Committenti!C138,\"  CF: \",Committenti!D138),\"\")","v":""}]
["",null,null,null,null,null,null,null,null,null,null,null,null,null,null,null,{"$f":"IF(Committenti!D139<>\"\",CONCATENATE(Committenti!B139,\"  \",Committenti!C139,\"  CF: \",Committenti!D139),\"\")","v":""}]
["",null,null,null,null,null,null,null,null,null,null,null,null,null,null,null,{"$f":"IF(Committenti!D140<>\"\",CONCATENATE(Committenti!B140,\"  \",Committenti!C140,\"  CF: \",Committenti!D140),\"\")","v":""}]
["",null,null,null,null,null,null,null,null,null,null,null,null,null,null,null,{"$f":"IF(Committenti!D141<>\"\",CONCATENATE(Committenti!B141,\"  \",Committenti!C141,\"  CF: \",Committenti!D141),\"\")","v":""}]
["",null,null,null,null,null,null,null,null,null,null,null,null,null,null,null,{"$f":"IF(Committenti!D142<>\"\",CONCATENATE(Committenti!B142,\"  \",Committenti!C142,\"  CF: \",Committenti!D142),\"\")","v":""}]
["",null,null,null,null,null,null,null,null,null,null,null,null,null,null,null,{"$f":"IF(Committenti!D143<>\"\",CONCATENATE(Committenti!B143,\"  \",Committenti!C143,\"  CF: \",Committenti!D143),\"\")","v":""}]
["",null,null,null,null,null,null,null,null,null,null,null,null,null,null,null,{"$f":"IF(Committenti!D144<>\"\",CONCATENATE(Committenti!B144,\"  \",Committenti!C144,\"  CF: \",Committenti!D144),\"\")","v":""}]
["",null,null,null,null,null,null,null,null,null,null,null,null,null,null,null,{"$f":"IF(Committenti!D145<>\"\",CONCATENATE(Committenti!B145,\"  \",Committenti!C145,\"  CF: \",Committenti!D145),\"\")","v":""}]
["",null,null,null,null,null,null,null,null,null,null,null,null,null,null,null,{"$f":"IF(Committenti!D146<>\"\",CONCATENATE(Committenti!B146,\"  \",Committenti!C146,\"  CF: \",Committenti!D146),\"\")","v":""}]
["",null,null,null,null,null,null,null,null,null,null,null,null,null,null,null,{"$f":"IF(Committenti!D147<>\"\",CONCATENATE(Committenti!B147,\"  \",Committenti!C147,\"  CF: \",Committenti!D147),\"\")","v":""}]
["",null,null,null,null,null,null,null,null,null,null,null,null,null,null,null,{"$f":"IF(Committenti!D148<>\"\",CONCATENATE(Committenti!B148,\"  \",Committenti!C148,\"  CF: \",Committenti!D148),\"\")","v":""}]
["",null,null,null,null,null,null,null,null,null,null,null,null,null,null,null,{"$f":"IF(Committenti!D149<>\"\",CONCATENATE(Committenti!B149,\"  \",Committenti!C149,\"  CF: \",Committenti!D149),\"\")","v":""}]
["",null,null,null,null,null,null,null,null,null,null,null,null,null,null,null,{"$f":"IF(Committenti!D150<>\"\",CONCATENATE(Committenti!B150,\"  \",Committenti!C150,\"  CF: \",Committenti!D150),\"\")","v":""}]
["",null,null,null,null,null,null,null,null,null,null,null,null,null,null,null,{"$f":"IF(Committenti!D151<>\"\",CONCATENATE(Committenti!B151,\"  \",Committenti!C151,\"  CF: \",Committenti!D151),\"\")","v":""}]
["",null,null,null,null,null,null,null,null,null,null,null,null,null,null,null,{"$f":"IF(Committenti!D152<>\"\",CONCATENATE(Committenti!B152,\"  \",Committenti!C152,\"  CF: \",Committenti!D152),\"\")","v":""}]
["",null,null,null,null,null,null,null,null,null,null,null,null,null,null,null,{"$f":"IF(Committenti!D153<>\"\",CONCATENATE(Committenti!B153,\"  \",Committenti!C153,\"  CF: \",Committenti!D153),\"\")","v":""}]
["",null,null,null,null,null,null,null,null,null,null,null,null,null,null,null,{"$f":"IF(Committenti!D154<>\"\",CONCATENATE(Committenti!B154,\"  \",Committenti!C154,\"  CF: \",Committenti!D154),\"\")","v":""}]
["",null,null,null,null,null,null,null,null,null,null,null,null,null,null,null,{"$f":"IF(Committenti!D155<>\"\",CONCATENATE(Committenti!B155,\"  \",Committenti!C155,\"  CF: \",Committenti!D155),\"\")","v":""}]
["",null,null,null,null,null,null,null,null,null,null,null,null,null,null,null,{"$f":"IF(Committenti!D156<>\"\",CONCATENATE(Committenti!B156,\"  \",Committenti!C156,\"  CF: \",Committenti!D156),\"\")","v":""}]
["",null,null,null,null,null,null,null,null,null,null,null,null,null,null,null,{"$f":"IF(Committenti!D157<>\"\",CONCATENATE(Committenti!B157,\"  \",Committenti!C157,\"  CF: \",Committenti!D157),\"\")","v":""}]
["",null,null,null,null,null,null,null,null,null,null,null,null,null,null,null,{"$f":"IF(Committenti!D158<>\"\",CONCATENATE(Committenti!B158,\"  \",Committenti!C158,\"  CF: \",Committenti!D158),\"\")","v":""}]
["",null,null,null,null,null,null,null,null,null,null,null,null,null,null,null,{"$f":"IF(Committenti!D159<>\"\",CONCATENATE(Committenti!B159,\"  \",Committenti!C159,\"  CF: \",Committenti!D159),\"\")","v":""}]
["",null,null,null,null,null,null,null,null,null,null,null,null,null,null,null,{"$f":"IF(Committenti!D160<>\"\",CONCATENATE(Committenti!B160,\"  \",Committenti!C160,\"  CF: \",Committenti!D160),\"\")","v":""}]
["",null,null,null,null,null,null,null,null,null,null,null,null,null,null,null,{"$f":"IF(Committenti!D161<>\"\",CONCATENATE(Committenti!B161,\"  \",Committenti!C161,\"  CF: \",Committenti!D161),\"\")","v":""}]
["",null,null,null,null,null,null,null,null,null,null,null,null,null,null,null,{"$f":"IF(Committenti!D162<>\"\",CONCATENATE(Committenti!B162,\"  \",Committenti!C162,\"  CF: \",Committenti!D162),\"\")","v":""}]
["",null,null,null,null,null,null,null,null,null,null,null,null,null,null,null,{"$f":"IF(Committenti!D163<>\"\",CONCATENATE(Committenti!B163,\"  \",Committenti!C163,\"  CF: \",Committenti!D163),\"\")","v":""}]
["",null,null,null,null,null,null,null,null,null,null,null,null,null,null,null,{"$f":"IF(Committenti!D164<>\"\",CONCATENATE(Committenti!B164,\"  \",Committenti!C164,\"  CF: \",Committenti!D164),\"\")","v":""}]
["",null,null,null,null,null,null,null,null,null,null,null,null,null,null,null,{"$f":"IF(Committenti!D165<>\"\",CONCATENATE(Committenti!B165,\"  \",Committenti!C165,\"  CF: \",Committenti!D165),\"\")","v":""}]
["",null,null,null,null,null,null,null,null,null,null,null,null,null,null,null,{"$f":"IF(Committenti!D166<>\"\",CONCATENATE(Committenti!B166,\"  \",Committenti!C166,\"  CF: \",Committenti!D166),\"\")","v":""}]
["",null,null,null,null,null,null,null,null,null,null,null,null,null,null,null,{"$f":"IF(Committenti!D167<>\"\",CONCATENATE(Committenti!B167,\"  \",Committenti!C167,\"  CF: \",Committenti!D167),\"\")","v":""}]
["",null,null,null,null,null,null,null,null,null,null,null,null,null,null,null,{"$f":"IF(Committenti!D168<>\"\",CONCATENATE(Committenti!B168,\"  \",Committenti!C168,\"  CF: \",Committenti!D168),\"\")","v":""}]
["",null,null,null,null,null,null,null,null,null,null,null,null,null,null,null,{"$f":"IF(Committenti!D169<>\"\",CONCATENATE(Committenti!B169,\"  \",Committenti!C169,\"  CF: \",Committenti!D169),\"\")","v":""}]
["",null,null,null,null,null,null,null,null,null,null,null,null,null,null,null,{"$f":"IF(Committenti!D170<>\"\",CONCATENATE(Committenti!B170,\"  \",Committenti!C170,\"  CF: \",Committenti!D170),\"\")","v":""}]
["",null,null,null,null,null,null,null,null,null,null,null,null,null,null,null,{"$f":"IF(Committenti!D171<>\"\",CONCATENATE(Committenti!B171,\"  \",Committenti!C171,\"  CF: \",Committenti!D171),\"\")","v":""}]
["",null,null,null,null,null,null,null,null,null,null,null,null,null,null,null,{"$f":"IF(Committenti!D172<>\"\",CONCATENATE(Committenti!B172,\"  \",Committenti!C172,\"  CF: \",Committenti!D172),\"\")","v":""}]
["",null,null,null,null,null,null,null,null,null,null,null,null,null,null,null,{"$f":"IF(Committenti!D173<>\"\",CONCATENATE(Committenti!B173,\"  \",Committenti!C173,\"  CF: \",Committenti!D173),\"\")","v":""}]
["",null,null,null,null,null,null,null,null,null,null,null,null,null,null,null,{"$f":"IF(Committenti!D174<>\"\",CONCATENATE(Committenti!B174,\"  \",Committenti!C174,\"  CF: \",Committenti!D174),\"\")","v":""}]
["",null,null,null,null,null,null,null,null,null,null,null,null,null,null,null,{"$f":"IF(Committenti!D175<>\"\",CONCATENATE(Committenti!B175,\"  \",Committenti!C175,\"  CF: \",Committenti!D175),\"\")","v":""}]
["",null,null,null,null,null,null,null,null,null,null,null,null,null,null,null,{"$f":"IF(Committenti!D176<>\"\",CONCATENATE(Committenti!B176,\"  \",Committenti!C176,\"  CF: \",Committenti!D176),\"\")","v":""}]
["",null,null,null,null,null,null,null,null,null,null,null,null,null,null,null,{"$f":"IF(Committenti!D177<>\"\",CONCATENATE(Committenti!B177,\"  \",Committenti!C177,\"  CF: \",Committenti!D177),\"\")","v":""}]
["",null,null,null,null,null,null,null,null,null,null,null,null,null,null,null,{"$f":"IF(Committenti!D178<>\"\",CONCATENATE(Committenti!B178,\"  \",Committenti!C178,\"  CF: \",Committenti!D178),\"\")","v":""}]
["",null,null,null,null,null,null,null,null,null,null,null,null,null,null,null,{"$f":"IF(Committenti!D179<>\"\",CONCATENATE(Committenti!B179,\"  \",Committenti!C179,\"  CF: \",Committenti!D179),\"\")","v":""}]
["",null,null,null,null,null,null,null,null,null,null,null,null,null,null,null,{"$f":"IF(Committenti!D180<>\"\",CONCATENATE(Committenti!B180,\"  \",Committenti!C180,\"  CF: \",Committenti!D180),\"\")","v":""}]
["",null,null,null,null,null,null,null,null,null,null,null,null,null,null,null,{"$f":"IF(Committenti!D181<>\"\",CONCATENATE(Committenti!B181,\"  \",Committenti!C181,\"  CF: \",Committenti!D181),\"\")","v":""}]
["",null,null,null,null,null,null,null,null,null,null,null,null,null,null,null,{"$f":"IF(Committenti!D182<>\"\",CONCATENATE(Committenti!B182,\"  \",Committenti!C182,\"  CF: \",Committenti!D182),\"\")","v":""}]
["",null,null,null,null,null,null,null,null,null,null,null,null,null,null,null,{"$f":"IF(Committenti!D183<>\"\",CONCATENATE(Committenti!B183,\"  \",Committenti!C183,\"  CF: \",Committenti!D183),\"\")","v":""}]
["",null,null,null,null,null,null,null,null,null,null,null,null,null,null,null,{"$f":"IF(Committenti!D184<>\"\",CONCATENATE(Committenti!B184,\"  \",Committenti!C184,\"  CF: \",Committenti!D184),\"\")","v":""}]
["",null,null,null,null,null,null,null,null,null,null,null,null,null,null,null,{"$f":"IF(Committenti!D185<>\"\",CONCATENATE(Committenti!B185,\"  \",Committenti!C185,\"  CF: \",Committenti!D185),\"\")","v":""}]
["",null,null,null,null,null,null,null,null,null,null,null,null,null,null,null,{"$f":"IF(Committenti!D186<>\"\",CONCATENATE(Committenti!B186,\"  \",Committenti!C186,\"  CF: \",Committenti!D186),\"\")","v":""}]
["",null,null,null,null,null,null,null,null,null,null,null,null,null,null,null,{"$f":"IF(Committenti!D187<>\"\",CONCATENATE(Committenti!B187,\"  \",Committenti!C187,\"  CF: \",Committenti!D187),\"\")","v":""}]
["",null,null,null,null,null,null,null,null,null,null,null,null,null,null,null,{"$f":"IF(Committenti!D188<>\"\",CONCATENATE(Committenti!B188,\"  \",Committenti!C188,\"  CF: \",Committenti!D188),\"\")","v":""}]
["",null,null,null,null,null,null,null,null,null,null,null,null,null,null,null,{"$f":"IF(Committenti!D189<>\"\",CONCATENATE(Committenti!B189,\"  \",Committenti!C189,\"  CF: \",Committenti!D189),\"\")","v":""}]
["",null,null,null,null,null,null,null,null,null,null,null,null,null,null,null,{"$f":"IF(Committenti!D190<>\"\",CONCATENATE(Committenti!B190,\"  \",Committenti!C190,\"  CF: \",Committenti!D190),\"\")","v":""}]
["",null,null,null,null,null,null,null,null,null,null,null,null,null,null,null,{"$f":"IF(Committenti!D191<>\"\",CONCATENATE(Committenti!B191,\"  \",Committenti!C191,\"  CF: \",Committenti!D191),\"\")","v":""}]
["",null,null,null,null,null,null,null,null,null,null,null,null,null,null,null,{"$f":"IF(Committenti!D192<>\"\",CONCATENATE(Committenti!B192,\"  \",Committenti!C192,\"  CF: \",Committenti!D192),\"\")","v":""}]
["",null,null,null,null,null,null,null,null,null,null,null,null,null,null,null,{"$f":"IF(Committenti!D193<>\"\",CONCATENATE(Committenti!B193,\"  \",Committenti!C193,\"  CF: \",Committenti!D193),\"\")","v":""}]
["",null,null,null,null,null,null,null,null,null,null,null,null,null,null,null,{"$f":"IF(Committenti!D194<>\"\",CONCATENATE(Committenti!B194,\"  \",Committenti!C194,\"  CF: \",Committenti!D194),\"\")","v":""}]
["",null,null,null,null,null,null,null,null,null,null,null,null,null,null,null,{"$f":"IF(Committenti!D195<>\"\",CONCATENATE(Committenti!B195,\"  \",Committenti!C195,\"  CF: \",Committenti!D195),\"\")","v":""}]
["",null,null,null,null,null,null,null,null,null,null,null,null,null,null,null,{"$f":"IF(Committenti!D196<>\"\",CONCATENATE(Committenti!B196,\"  \",Committenti!C196,\"  CF: \",Committenti!D196),\"\")","v":""}]
[{"$f":"IF(B197<>\"\", IF(A196<>\"\",A196+1,\"\"),\"\")","v":""},null,null,null,null,null,null,null,null,null,null,null,null,null,null,null,{"$f":"IF(Committenti!D197<>\"\",CONCATENATE(Committenti!B197,\"  \",Committenti!C197,\"  CF: \",Committenti!D197),\"\")","v":""}]
["",null,null,null,null,null,null,null,null,null,null,null,null,null,null,null,{"$f":"IF(Committenti!D198<>\"\",CONCATENATE(Committenti!B198,\"  \",Committenti!C198,\"  CF: \",Committenti!D198),\"\")","v":""}]
["",null,null,null,null,null,null,null,null,null,null,null,null,null,null,null,{"$f":"IF(Committenti!D199<>\"\",CONCATENATE(Committenti!B199,\"  \",Committenti!C199,\"  CF: \",Committenti!D199),\"\")","v":""}]
["",null,null,null,null,null,null,null,null,null,null,null,null,null,null,null,{"$f":"IF(Committenti!D200<>\"\",CONCATENATE(Committenti!B200,\"  \",Committenti!C200,\"  CF: \",Committenti!D200),\"\")","v":""}]
["",null,null,null,null,null,null,null,null,null,null,null,null,null,null,null,{"$f":"IF(Committenti!D201<>\"\",CONCATENATE(Committenti!B201,\"  \",Committenti!C201,\"  CF: \",Committenti!D201),\"\")","v":""}]
["",null,null,null,null,null,null,null,null,null,null,null,null,null,null,null,{"$f":"IF(Committenti!D202<>\"\",CONCATENATE(Committenti!B202,\"  \",Committenti!C202,\"  CF: \",Committenti!D202),\"\")","v":""}]
["",null,null,null,null,null,null,null,null,null,null,null,null,null,null,null,{"$f":"IF(Committenti!D203<>\"\",CONCATENATE(Committenti!B203,\"  \",Committenti!C203,\"  CF: \",Committenti!D203),\"\")","v":""}]
["",null,null,null,null,null,null,null,null,null,null,null,null,null,null,null,{"$f":"IF(Committenti!D204<>\"\",CONCATENATE(Committenti!B204,\"  \",Committenti!C204,\"  CF: \",Committenti!D204),\"\")","v":""}]
["",null,null,null,null,null,null,null,null,null,null,null,null,null,null,null,{"$f":"IF(Committenti!D205<>\"\",CONCATENATE(Committenti!B205,\"  \",Committenti!C205,\"  CF: \",Committenti!D205),\"\")","v":""}]
["",null,null,null,null,null,null,null,null,null,null,null,null,null,null,null,{"$f":"IF(Committenti!D206<>\"\",CONCATENATE(Committenti!B206,\"  \",Committenti!C206,\"  CF: \",Committenti!D206),\"\")","v":""}]
["",null,null,null,null,null,null,null,null,null,null,null,null,null,null,null,{"$f":"IF(Committenti!D207<>\"\",CONCATENATE(Committenti!B207,\"  \",Committenti!C207,\"  CF: \",Committenti!D207),\"\")","v":""}]
["",null,null,null,null,null,null,null,null,null,null,null,null,null,null,null,{"$f":"IF(Committenti!D208<>\"\",CONCATENATE(Committenti!B208,\"  \",Committenti!C208,\"  CF: \",Committenti!D208),\"\")","v":""}]
["",null,null,null,null,null,null,null,null,null,null,null,null,null,null,null,{"$f":"IF(Committenti!D209<>\"\",CONCATENATE(Committenti!B209,\"  \",Committenti!C209,\"  CF: \",Committenti!D209),\"\")","v":""}]
["",null,null,null,null,null,null,null,null,null,null,null,null,null,null,null,{"$f":"IF(Committenti!D210<>\"\",CONCATENATE(Committenti!B210,\"  \",Committenti!C210,\"  CF: \",Committenti!D210),\"\")","v":""}]
["",null,null,null,null,null,null,null,null,null,null,null,null,null,null,null,{"$f":"IF(Committenti!D211<>\"\",CONCATENATE(Committenti!B211,\"  \",Committenti!C211,\"  CF: \",Committenti!D211),\"\")","v":""}]
["",null,null,null,null,null,null,null,null,null,null,null,null,null,null,null,{"$f":"IF(Committenti!D212<>\"\",CONCATENATE(Committenti!B212,\"  \",Committenti!C212,\"  CF: \",Committenti!D212),\"\")","v":""}]
["",null,null,null,null,null,null,null,null,null,null,null,null,null,null,null,{"$f":"IF(Committenti!D213<>\"\",CONCATENATE(Committenti!B213,\"  \",Committenti!C213,\"  CF: \",Committenti!D213),\"\")","v":""}]
["",null,null,null,null,null,null,null,null,null,null,null,null,null,null,null,{"$f":"IF(Committenti!D214<>\"\",CONCATENATE(Committenti!B214,\"  \",Committenti!C214,\"  CF: \",Committenti!D214),\"\")","v":""}]
["",null,null,null,null,null,null,null,null,null,null,null,null,null,null,null,{"$f":"IF(Committenti!D215<>\"\",CONCATENATE(Committenti!B215,\"  \",Committenti!C215,\"  CF: \",Committenti!D215),\"\")","v":""}]
["",null,null,null,null,null,null,null,null,null,null,null,null,null,null,null,{"$f":"IF(Committenti!D216<>\"\",CONCATENATE(Committenti!B216,\"  \",Committenti!C216,\"  CF: \",Committenti!D216),\"\")","v":""}]
["",null,null,null,null,null,null,null,null,null,null,null,null,null,null,null,{"$f":"IF(Committenti!D217<>\"\",CONCATENATE(Committenti!B217,\"  \",Committenti!C217,\"  CF: \",Committenti!D217),\"\")","v":""}]
["",null,null,null,null,null,null,null,null,null,null,null,null,null,null,null,{"$f":"IF(Committenti!D218<>\"\",CONCATENATE(Committenti!B218,\"  \",Committenti!C218,\"  CF: \",Committenti!D218),\"\")","v":""}]
["",null,null,null,null,null,null,null,null,null,null,null,null,null,null,null,{"$f":"IF(Committenti!D219<>\"\",CONCATENATE(Committenti!B219,\"  \",Committenti!C219,\"  CF: \",Committenti!D219),\"\")","v":""}]
["",null,null,null,null,null,null,null,null,null,null,null,null,null,null,null,{"$f":"IF(Committenti!D220<>\"\",CONCATENATE(Committenti!B220,\"  \",Committenti!C220,\"  CF: \",Committenti!D220),\"\")","v":""}]
["",null,null,null,null,null,null,null,null,null,null,null,null,null,null,null,{"$f":"IF(Committenti!D221<>\"\",CONCATENATE(Committenti!B221,\"  \",Committenti!C221,\"  CF: \",Committenti!D221),\"\")","v":""}]
["",null,null,null,null,null,null,null,null,null,null,null,null,null,null,null,{"$f":"IF(Committenti!D222<>\"\",CONCATENATE(Committenti!B222,\"  \",Committenti!C222,\"  CF: \",Committenti!D222),\"\")","v":""}]
["",null,null,null,null,null,null,null,null,null,null,null,null,null,null,null,{"$f":"IF(Committenti!D223<>\"\",CONCATENATE(Committenti!B223,\"  \",Committenti!C223,\"  CF: \",Committenti!D223),\"\")","v":""}]
["",null,null,null,null,null,null,null,null,null,null,null,null,null,null,null,{"$f":"IF(Committenti!D224<>\"\",CONCATENATE(Committenti!B224,\"  \",Committenti!C224,\"  CF: \",Committenti!D224),\"\")","v":""}]
["",null,null,null,null,null,null,null,null,null,null,null,null,null,null,null,{"$f":"IF(Committenti!D225<>\"\",CONCATENATE(Committenti!B225,\"  \",Committenti!C225,\"  CF: \",Committenti!D225),\"\")","v":""}]
["",null,null,null,null,null,null,null,null,null,null,null,null,null,null,null,{"$f":"IF(Committenti!D226<>\"\",CONCATENATE(Committenti!B226,\"  \",Committenti!C226,\"  CF: \",Committenti!D226),\"\")","v":""}]
["",null,null,null,null,null,null,null,null,null,null,null,null,null,null,null,{"$f":"IF(Committenti!D227<>\"\",CONCATENATE(Committenti!B227,\"  \",Committenti!C227,\"  CF: \",Committenti!D227),\"\")","v":""}]
["",null,null,null,null,null,null,null,null,null,null,null,null,null,null,null,{"$f":"IF(Committenti!D228<>\"\",CONCATENATE(Committenti!B228,\"  \",Committenti!C228,\"  CF: \",Committenti!D228),\"\")","v":""}]
["",null,null,null,null,null,null,null,null,null,null,null,null,null,null,null,{"$f":"IF(Committenti!D229<>\"\",CONCATENATE(Committenti!B229,\"  \",Committenti!C229,\"  CF: \",Committenti!D229),\"\")","v":""}]
["",null,null,null,null,null,null,null,null,null,null,null,null,null,null,null,{"$f":"IF(Committenti!D230<>\"\",CONCATENATE(Committenti!B230,\"  \",Committenti!C230,\"  CF: \",Committenti!D230),\"\")","v":""}]
["",null,null,null,null,null,null,null,null,null,null,null,null,null,null,null,{"$f":"IF(Committenti!D231<>\"\",CONCATENATE(Committenti!B231,\"  \",Committenti!C231,\"  CF: \",Committenti!D231),\"\")","v":""}]
["",null,null,null,null,null,null,null,null,null,null,null,null,null,null,null,{"$f":"IF(Committenti!D232<>\"\",CONCATENATE(Committenti!B232,\"  \",Committenti!C232,\"  CF: \",Committenti!D232),\"\")","v":""}]
["",null,null,null,null,null,null,null,null,null,null,null,null,null,null,null,{"$f":"IF(Committenti!D233<>\"\",CONCATENATE(Committenti!B233,\"  \",Committenti!C233,\"  CF: \",Committenti!D233),\"\")","v":""}]
["",null,null,null,null,null,null,null,null,null,null,null,null,null,null,null,{"$f":"IF(Committenti!D234<>\"\",CONCATENATE(Committenti!B234,\"  \",Committenti!C234,\"  CF: \",Committenti!D234),\"\")","v":""}]
["",null,null,null,null,null,null,null,null,null,null,null,null,null,null,null,{"$f":"IF(Committenti!D235<>\"\",CONCATENATE(Committenti!B235,\"  \",Committenti!C235,\"  CF: \",Committenti!D235),\"\")","v":""}]
["",null,null,null,null,null,null,null,null,null,null,null,null,null,null,null,{"$f":"IF(Committenti!D236<>\"\",CONCATENATE(Committenti!B236,\"  \",Committenti!C236,\"  CF: \",Committenti!D236),\"\")","v":""}]
["",null,null,null,null,null,null,null,null,null,null,null,null,null,null,null,{"$f":"IF(Committenti!D237<>\"\",CONCATENATE(Committenti!B237,\"  \",Committenti!C237,\"  CF: \",Committenti!D237),\"\")","v":""}]
["",null,null,null,null,null,null,null,null,null,null,null,null,null,null,null,{"$f":"IF(Committenti!D238<>\"\",CONCATENATE(Committenti!B238,\"  \",Committenti!C238,\"  CF: \",Committenti!D238),\"\")","v":""}]
["",null,null,null,null,null,null,null,null,null,null,null,null,null,null,null,{"$f":"IF(Committenti!D239<>\"\",CONCATENATE(Committenti!B239,\"  \",Committenti!C239,\"  CF: \",Committenti!D239),\"\")","v":""}]
["",null,null,null,null,null,null,null,null,null,null,null,null,null,null,null,{"$f":"IF(Committenti!D240<>\"\",CONCATENATE(Committenti!B240,\"  \",Committenti!C240,\"  CF: \",Committenti!D240),\"\")","v":""}]
["",null,null,null,null,null,null,null,null,null,null,null,null,null,null,null,{"$f":"IF(Committenti!D241<>\"\",CONCATENATE(Committenti!B241,\"  \",Committenti!C241,\"  CF: \",Committenti!D241),\"\")","v":""}]
["",null,null,null,null,null,null,null,null,null,null,null,null,null,null,null,{"$f":"IF(Committenti!D242<>\"\",CONCATENATE(Committenti!B242,\"  \",Committenti!C242,\"  CF: \",Committenti!D242),\"\")","v":""}]
["",null,null,null,null,null,null,null,null,null,null,null,null,null,null,null,{"$f":"IF(Committenti!D243<>\"\",CONCATENATE(Committenti!B243,\"  \",Committenti!C243,\"  CF: \",Committenti!D243),\"\")","v":""}]
["",null,null,null,null,null,null,null,null,null,null,null,null,null,null,null,{"$f":"IF(Committenti!D244<>\"\",CONCATENATE(Committenti!B244,\"  \",Committenti!C244,\"  CF: \",Committenti!D244),\"\")","v":""}]
["",null,null,null,null,null,null,null,null,null,null,null,null,null,null,null,{"$f":"IF(Committenti!D245<>\"\",CONCATENATE(Committenti!B245,\"  \",Committenti!C245,\"  CF: \",Committenti!D245),\"\")","v":""}]
["",null,null,null,null,null,null,null,null,null,null,null,null,null,null,null,{"$f":"IF(Committenti!D246<>\"\",CONCATENATE(Committenti!B246,\"  \",Committenti!C246,\"  CF: \",Committenti!D246),\"\")","v":""}]
["",null,null,null,null,null,null,null,null,null,null,null,null,null,null,null,{"$f":"IF(Committenti!D247<>\"\",CONCATENATE(Committenti!B247,\"  \",Committenti!C247,\"  CF: \",Committenti!D247),\"\")","v":""}]
["",null,null,null,null,null,null,null,null,null,null,null,null,null,null,null,{"$f":"IF(Committenti!D248<>\"\",CONCATENATE(Committenti!B248,\"  \",Committenti!C248,\"  CF: \",Committenti!D248),\"\")","v":""}]
["",null,null,null,null,null,null,null,null,null,null,null,null,null,null,null,{"$f":"IF(Committenti!D249<>\"\",CONCATENATE(Committenti!B249,\"  \",Committenti!C249,\"  CF: \",Committenti!D249),\"\")","v":""}]
["",null,null,null,null,null,null,null,null,null,null,null,null,null,null,null,{"$f":"IF(Committenti!D250<>\"\",CONCATENATE(Committenti!B250,\"  \",Committenti!C250,\"  CF: \",Committenti!D250),\"\")","v":""}]
["",null,null,null,null,null,null,null,null,null,null,null,null,null,null,null,{"$f":"IF(Committenti!D251<>\"\",CONCATENATE(Committenti!B251,\"  \",Committenti!C251,\"  CF: \",Committenti!D251),\"\")","v":""}]
["",null,null,null,null,null,null,null,null,null,null,null,null,null,null,null,{"$f":"IF(Committenti!D252<>\"\",CONCATENATE(Committenti!B252,\"  \",Committenti!C252,\"  CF: \",Committenti!D252),\"\")","v":""}]
["",null,null,null,null,null,null,null,null,null,null,null,null,null,null,null,{"$f":"IF(Committenti!D253<>\"\",CONCATENATE(Committenti!B253,\"  \",Committenti!C253,\"  CF: \",Committenti!D253),\"\")","v":""}]
["",null,null,null,null,null,null,null,null,null,null,null,null,null,null,null,{"$f":"IF(Committenti!D254<>\"\",CONCATENATE(Committenti!B254,\"  \",Committenti!C254,\"  CF: \",Committenti!D254),\"\")","v":""}]
["",null,null,null,null,null,null,null,null,null,null,null,null,null,null,null,{"$f":"IF(Committenti!D255<>\"\",CONCATENATE(Committenti!B255,\"  \",Committenti!C255,\"  CF: \",Committenti!D255),\"\")","v":""}]
["",null,null,null,null,null,null,null,null,null,null,null,null,null,null,null,{"$f":"IF(Committenti!D256<>\"\",CONCATENATE(Committenti!B256,\"  \",Committenti!C256,\"  CF: \",Committenti!D256),\"\")","v":""}]
["",null,null,null,null,null,null,null,null,null,null,null,null,null,null,null,{"$f":"IF(Committenti!D257<>\"\",CONCATENATE(Committenti!B257,\"  \",Committenti!C257,\"  CF: \",Committenti!D257),\"\")","v":""}]
["",null,null,null,null,null,null,null,null,null,null,null,null,null,null,null,{"$f":"IF(Committenti!D258<>\"\",CONCATENATE(Committenti!B258,\"  \",Committenti!C258,\"  CF: \",Committenti!D258),\"\")","v":""}]
["",null,null,null,null,null,null,null,null,null,null,null,null,null,null,null,{"$f":"IF(Committenti!D259<>\"\",CONCATENATE(Committenti!B259,\"  \",Committenti!C259,\"  CF: \",Committenti!D259),\"\")","v":""}]
["",null,null,null,null,null,null,null,null,null,null,null,null,null,null,null,{"$f":"IF(Committenti!D260<>\"\",CONCATENATE(Committenti!B260,\"  \",Committenti!C260,\"  CF: \",Committenti!D260),\"\")","v":""}]
[{"$f":"IF(B261<>\"\", IF(A260<>\"\",A260+1,\"\"),\"\")","v":""},null,null,null,null,null,null,null,null,null,null,null,null,null,null,null,{"$f":"IF(Committenti!D261<>\"\",CONCATENATE(Committenti!B261,\"  \",Committenti!C261,\"  CF: \",Committenti!D261),\"\")","v":""}]
["",null,null,null,null,null,null,null,null,null,null,null,null,null,null,null,{"$f":"IF(Committenti!D262<>\"\",CONCATENATE(Committenti!B262,\"  \",Committenti!C262,\"  CF: \",Committenti!D262),\"\")","v":""}]
["",null,null,null,null,null,null,null,null,null,null,null,null,null,null,null,{"$f":"IF(Committenti!D263<>\"\",CONCATENATE(Committenti!B263,\"  \",Committenti!C263,\"  CF: \",Committenti!D263),\"\")","v":""}]
["",null,null,null,null,null,null,null,null,null,null,null,null,null,null,null,{"$f":"IF(Committenti!D264<>\"\",CONCATENATE(Committenti!B264,\"  \",Committenti!C264,\"  CF: \",Committenti!D264),\"\")","v":""}]
["",null,null,null,null,null,null,null,null,null,null,null,null,null,null,null,{"$f":"IF(Committenti!D265<>\"\",CONCATENATE(Committenti!B265,\"  \",Committenti!C265,\"  CF: \",Committenti!D265),\"\")","v":""}]
["",null,null,null,null,null,null,null,null,null,null,null,null,null,null,null,{"$f":"IF(Committenti!D266<>\"\",CONCATENATE(Committenti!B266,\"  \",Committenti!C266,\"  CF: \",Committenti!D266),\"\")","v":""}]
["",null,null,null,null,null,null,null,null,null,null,null,null,null,null,null,{"$f":"IF(Committenti!D267<>\"\",CONCATENATE(Committenti!B267,\"  \",Committenti!C267,\"  CF: \",Committenti!D267),\"\")","v":""}]
["",null,null,null,null,null,null,null,null,null,null,null,null,null,null,null,{"$f":"IF(Committenti!D268<>\"\",CONCATENATE(Committenti!B268,\"  \",Committenti!C268,\"  CF: \",Committenti!D268),\"\")","v":""}]
["",null,null,null,null,null,null,null,null,null,null,null,null,null,null,null,{"$f":"IF(Committenti!D269<>\"\",CONCATENATE(Committenti!B269,\"  \",Committenti!C269,\"  CF: \",Committenti!D269),\"\")","v":""}]
["",null,null,null,null,null,null,null,null,null,null,null,null,null,null,null,{"$f":"IF(Committenti!D270<>\"\",CONCATENATE(Committenti!B270,\"  \",Committenti!C270,\"  CF: \",Committenti!D270),\"\")","v":""}]
["",null,null,null,null,null,null,null,null,null,null,null,null,null,null,null,{"$f":"IF(Committenti!D271<>\"\",CONCATENATE(Committenti!B271,\"  \",Committenti!C271,\"  CF: \",Committenti!D271),\"\")","v":""}]
["",null,null,null,null,null,null,null,null,null,null,null,null,null,null,null,{"$f":"IF(Committenti!D272<>\"\",CONCATENATE(Committenti!B272,\"  \",Committenti!C272,\"  CF: \",Committenti!D272),\"\")","v":""}]
["",null,null,null,null,null,null,null,null,null,null,null,null,null,null,null,{"$f":"IF(Committenti!D273<>\"\",CONCATENATE(Committenti!B273,\"  \",Committenti!C273,\"  CF: \",Committenti!D273),\"\")","v":""}]
["",null,null,null,null,null,null,null,null,null,null,null,null,null,null,null,{"$f":"IF(Committenti!D274<>\"\",CONCATENATE(Committenti!B274,\"  \",Committenti!C274,\"  CF: \",Committenti!D274),\"\")","v":""}]
["",null,null,null,null,null,null,null,null,null,null,null,null,null,null,null,{"$f":"IF(Committenti!D275<>\"\",CONCATENATE(Committenti!B275,\"  \",Committenti!C275,\"  CF: \",Committenti!D275),\"\")","v":""}]
["",null,null,null,null,null,null,null,null,null,null,null,null,null,null,null,{"$f":"IF(Committenti!D276<>\"\",CONCATENATE(Committenti!B276,\"  \",Committenti!C276,\"  CF: \",Committenti!D276),\"\")","v":""}]
["",null,null,null,null,null,null,null,null,null,null,null,null,null,null,null,{"$f":"IF(Committenti!D277<>\"\",CONCATENATE(Committenti!B277,\"  \",Committenti!C277,\"  CF: \",Committenti!D277),\"\")","v":""}]
["",null,null,null,null,null,null,null,null,null,null,null,null,null,null,null,{"$f":"IF(Committenti!D278<>\"\",CONCATENATE(Committenti!B278,\"  \",Committenti!C278,\"  CF: \",Committenti!D278),\"\")","v":""}]
["",null,null,null,null,null,null,null,null,null,null,null,null,null,null,null,{"$f":"IF(Committenti!D279<>\"\",CONCATENATE(Committenti!B279,\"  \",Committenti!C279,\"  CF: \",Committenti!D279),\"\")","v":""}]
["",null,null,null,null,null,null,null,null,null,null,null,null,null,null,null,{"$f":"IF(Committenti!D280<>\"\",CONCATENATE(Committenti!B280,\"  \",Committenti!C280,\"  CF: \",Committenti!D280),\"\")","v":""}]
["",null,null,null,null,null,null,null,null,null,null,null,null,null,null,null,{"$f":"IF(Committenti!D281<>\"\",CONCATENATE(Committenti!B281,\"  \",Committenti!C281,\"  CF: \",Committenti!D281),\"\")","v":""}]
["",null,null,null,null,null,null,null,null,null,null,null,null,null,null,null,{"$f":"IF(Committenti!D282<>\"\",CONCATENATE(Committenti!B282,\"  \",Committenti!C282,\"  CF: \",Committenti!D282),\"\")","v":""}]
["",null,null,null,null,null,null,null,null,null,null,null,null,null,null,null,{"$f":"IF(Committenti!D283<>\"\",CONCATENATE(Committenti!B283,\"  \",Committenti!C283,\"  CF: \",Committenti!D283),\"\")","v":""}]
["",null,null,null,null,null,null,null,null,null,null,null,null,null,null,null,{"$f":"IF(Committenti!D284<>\"\",CONCATENATE(Committenti!B284,\"  \",Committenti!C284,\"  CF: \",Committenti!D284),\"\")","v":""}]
["",null,null,null,null,null,null,null,null,null,null,null,null,null,null,null,{"$f":"IF(Committenti!D285<>\"\",CONCATENATE(Committenti!B285,\"  \",Committenti!C285,\"  CF: \",Committenti!D285),\"\")","v":""}]
["",null,null,null,null,null,null,null,null,null,null,null,null,null,null,null,{"$f":"IF(Committenti!D286<>\"\",CONCATENATE(Committenti!B286,\"  \",Committenti!C286,\"  CF: \",Committenti!D286),\"\")","v":""}]
["",null,null,null,null,null,null,null,null,null,null,null,null,null,null,null,{"$f":"IF(Committenti!D287<>\"\",CONCATENATE(Committenti!B287,\"  \",Committenti!C287,\"  CF: \",Committenti!D287),\"\")","v":""}]
["",null,null,null,null,null,null,null,null,null,null,null,null,null,null,null,{"$f":"IF(Committenti!D288<>\"\",CONCATENATE(Committenti!B288,\"  \",Committenti!C288,\"  CF: \",Committenti!D288),\"\")","v":""}]
["",null,null,null,null,null,null,null,null,null,null,null,null,null,null,null,{"$f":"IF(Committenti!D289<>\"\",CONCATENATE(Committenti!B289,\"  \",Committenti!C289,\"  CF: \",Committenti!D289),\"\")","v":""}]
["",null,null,null,null,null,null,null,null,null,null,null,null,null,null,null,{"$f":"IF(Committenti!D290<>\"\",CONCATENATE(Committenti!B290,\"  \",Committenti!C290,\"  CF: \",Committenti!D290),\"\")","v":""}]
["",null,null,null,null,null,null,null,null,null,null,null,null,null,null,null,{"$f":"IF(Committenti!D291<>\"\",CONCATENATE(Committenti!B291,\"  \",Committenti!C291,\"  CF: \",Committenti!D291),\"\")","v":""}]
["",null,null,null,null,null,null,null,null,null,null,null,null,null,null,null,{"$f":"IF(Committenti!D292<>\"\",CONCATENATE(Committenti!B292,\"  \",Committenti!C292,\"  CF: \",Committenti!D292),\"\")","v":""}]
["",null,null,null,null,null,null,null,null,null,null,null,null,null,null,null,{"$f":"IF(Committenti!D293<>\"\",CONCATENATE(Committenti!B293,\"  \",Committenti!C293,\"  CF: \",Committenti!D293),\"\")","v":""}]
["",null,null,null,null,null,null,null,null,null,null,null,null,null,null,null,{"$f":"IF(Committenti!D294<>\"\",CONCATENATE(Committenti!B294,\"  \",Committenti!C294,\"  CF: \",Committenti!D294),\"\")","v":""}]
["",null,null,null,null,null,null,null,null,null,null,null,null,null,null,null,{"$f":"IF(Committenti!D295<>\"\",CONCATENATE(Committenti!B295,\"  \",Committenti!C295,\"  CF: \",Committenti!D295),\"\")","v":""}]
["",null,null,null,null,null,null,null,null,null,null,null,null,null,null,null,{"$f":"IF(Committenti!D296<>\"\",CONCATENATE(Committenti!B296,\"  \",Committenti!C296,\"  CF: \",Committenti!D296),\"\")","v":""}]
["",null,null,null,null,null,null,null,null,null,null,null,null,null,null,null,{"$f":"IF(Committenti!D297<>\"\",CONCATENATE(Committenti!B297,\"  \",Committenti!C297,\"  CF: \",Committenti!D297),\"\")","v":""}]
["",null,null,null,null,null,null,null,null,null,null,null,null,null,null,null,{"$f":"IF(Committenti!D298<>\"\",CONCATENATE(Committenti!B298,\"  \",Committenti!C298,\"  CF: \",Committenti!D298),\"\")","v":""}]
["",null,null,null,null,null,null,null,null,null,null,null,null,null,null,null,{"$f":"IF(Committenti!D299<>\"\",CONCATENATE(Committenti!B299,\"  \",Committenti!C299,\"  CF: \",Committenti!D299),\"\")","v":""}]
["",null,null,null,null,null,null,null,null,null,null,null,null,null,null,null,{"$f":"IF(Committenti!D300<>\"\",CONCATENATE(Committenti!B300,\"  \",Committenti!C300,\"  CF: \",Committenti!D300),\"\")","v":""}]
["",null,null,null,null,null,null,null,null,null,null,null,null,null,null,null,{"$f":"IF(Committenti!D301<>\"\",CONCATENATE(Committenti!B301,\"  \",Committenti!C301,\"  CF: \",Committenti!D301),\"\")","v":""}]
["",null,null,null,null,null,null,null,null,null,null,null,null,null,null,null,{"$f":"IF(Committenti!D302<>\"\",CONCATENATE(Committenti!B302,\"  \",Committenti!C302,\"  CF: \",Committenti!D302),\"\")","v":""}]
["",null,null,null,null,null,null,null,null,null,null,null,null,null,null,null,{"$f":"IF(Committenti!D303<>\"\",CONCATENATE(Committenti!B303,\"  \",Committenti!C303,\"  CF: \",Committenti!D303),\"\")","v":""}]
["",null,null,null,null,null,null,null,null,null,null,null,null,null,null,null,{"$f":"IF(Committenti!D304<>\"\",CONCATENATE(Committenti!B304,\"  \",Committenti!C304,\"  CF: \",Committenti!D304),\"\")","v":""}]
["",null,null,null,null,null,null,null,null,null,null,null,null,null,null,null,{"$f":"IF(Committenti!D305<>\"\",CONCATENATE(Committenti!B305,\"  \",Committenti!C305,\"  CF: \",Committenti!D305),\"\")","v":""}]
["",null,null,null,null,null,null,null,null,null,null,null,null,null,null,null,{"$f":"IF(Committenti!D306<>\"\",CONCATENATE(Committenti!B306,\"  \",Committenti!C306,\"  CF: \",Committenti!D306),\"\")","v":""}]
["",null,null,null,null,null,null,null,null,null,null,null,null,null,null,null,{"$f":"IF(Committenti!D307<>\"\",CONCATENATE(Committenti!B307,\"  \",Committenti!C307,\"  CF: \",Committenti!D307),\"\")","v":""}]
["",null,null,null,null,null,null,null,null,null,null,null,null,null,null,null,{"$f":"IF(Committenti!D308<>\"\",CONCATENATE(Committenti!B308,\"  \",Committenti!C308,\"  CF: \",Committenti!D308),\"\")","v":""}]
["",null,null,null,null,null,null,null,null,null,null,null,null,null,null,null,{"$f":"IF(Committenti!D309<>\"\",CONCATENATE(Committenti!B309,\"  \",Committenti!C309,\"  CF: \",Committenti!D309),\"\")","v":""}]
["",null,null,null,null,null,null,null,null,null,null,null,null,null,null,null,{"$f":"IF(Committenti!D310<>\"\",CONCATENATE(Committenti!B310,\"  \",Committenti!C310,\"  CF: \",Committenti!D310),\"\")","v":""}]
["",null,null,null,null,null,null,null,null,null,null,null,null,null,null,null,{"$f":"IF(Committenti!D311<>\"\",CONCATENATE(Committenti!B311,\"  \",Committenti!C311,\"  CF: \",Committenti!D311),\"\")","v":""}]
["",null,null,null,null,null,null,null,null,null,null,null,null,null,null,null,{"$f":"IF(Committenti!D312<>\"\",CONCATENATE(Committenti!B312,\"  \",Committenti!C312,\"  CF: \",Committenti!D312),\"\")","v":""}]
["",null,null,null,null,null,null,null,null,null,null,null,null,null,null,null,{"$f":"IF(Committenti!D313<>\"\",CONCATENATE(Committenti!B313,\"  \",Committenti!C313,\"  CF: \",Committenti!D313),\"\")","v":""}]
["",null,null,null,null,null,null,null,null,null,null,null,null,null,null,null,{"$f":"IF(Committenti!D314<>\"\",CONCATENATE(Committenti!B314,\"  \",Committenti!C314,\"  CF: \",Committenti!D314),\"\")","v":""}]
["",null,null,null,null,null,null,null,null,null,null,null,null,null,null,null,{"$f":"IF(Committenti!D315<>\"\",CONCATENATE(Committenti!B315,\"  \",Committenti!C315,\"  CF: \",Committenti!D315),\"\")","v":""}]
["",null,null,null,null,null,null,null,null,null,null,null,null,null,null,null,{"$f":"IF(Committenti!D316<>\"\",CONCATENATE(Committenti!B316,\"  \",Committenti!C316,\"  CF: \",Committenti!D316),\"\")","v":""}]
["",null,null,null,null,null,null,null,null,null,null,null,null,null,null,null,{"$f":"IF(Committenti!D317<>\"\",CONCATENATE(Committenti!B317,\"  \",Committenti!C317,\"  CF: \",Committenti!D317),\"\")","v":""}]
["",null,null,null,null,null,null,null,null,null,null,null,null,null,null,null,{"$f":"IF(Committenti!D318<>\"\",CONCATENATE(Committenti!B318,\"  \",Committenti!C318,\"  CF: \",Committenti!D318),\"\")","v":""}]
["",null,null,null,null,null,null,null,null,null,null,null,null,null,null,null,{"$f":"IF(Committenti!D319<>\"\",CONCATENATE(Committenti!B319,\"  \",Committenti!C319,\"  CF: \",Committenti!D319),\"\")","v":""}]
["",null,null,null,null,null,null,null,null,null,null,null,null,null,null,null,{"$f":"IF(Committenti!D320<>\"\",CONCATENATE(Committenti!B320,\"  \",Committenti!C320,\"  CF: \",Committenti!D320),\"\")","v":""}]
["",null,null,null,null,null,null,null,null,null,null,null,null,null,null,null,{"$f":"IF(Committenti!D321<>\"\",CONCATENATE(Committenti!B321,\"  \",Committenti!C321,\"  CF: \",Committenti!D321),\"\")","v":""}]
["",null,null,null,null,null,null,null,null,null,null,null,null,null,null,null,{"$f":"IF(Committenti!D322<>\"\",CONCATENATE(Committenti!B322,\"  \",Committenti!C322,\"  CF: \",Committenti!D322),\"\")","v":""}]
["",null,null,null,null,null,null,null,null,null,null,null,null,null,null,null,{"$f":"IF(Committenti!D323<>\"\",CONCATENATE(Committenti!B323,\"  \",Committenti!C323,\"  CF: \",Committenti!D323),\"\")","v":""}]
["",null,null,null,null,null,null,null,null,null,null,null,null,null,null,null,{"$f":"IF(Committenti!D324<>\"\",CONCATENATE(Committenti!B324,\"  \",Committenti!C324,\"  CF: \",Committenti!D324),\"\")","v":""}]
[{"$f":"IF(B325<>\"\", IF(A324<>\"\",A324+1,\"\"),\"\")","v":""},null,null,null,null,null,null,null,null,null,null,null,null,null,null,null,{"$f":"IF(Committenti!D325<>\"\",CONCATENATE(Committenti!B325,\"  \",Committenti!C325,\"  CF: \",Committenti!D325),\"\")","v":""}]
["",null,null,null,null,null,null,null,null,null,null,null,null,null,null,null,{"$f":"IF(Committenti!D326<>\"\",CONCATENATE(Committenti!B326,\"  \",Committenti!C326,\"  CF: \",Committenti!D326),\"\")","v":""}]
["",null,null,null,null,null,null,null,null,null,null,null,null,null,null,null,{"$f":"IF(Committenti!D327<>\"\",CONCATENATE(Committenti!B327,\"  \",Committenti!C327,\"  CF: \",Committenti!D327),\"\")","v":""}]
["",null,null,null,null,null,null,null,null,null,null,null,null,null,null,null,{"$f":"IF(Committenti!D328<>\"\",CONCATENATE(Committenti!B328,\"  \",Committenti!C328,\"  CF: \",Committenti!D328),\"\")","v":""}]
["",null,null,null,null,null,null,null,null,null,null,null,null,null,null,null,{"$f":"IF(Committenti!D329<>\"\",CONCATENATE(Committenti!B329,\"  \",Committenti!C329,\"  CF: \",Committenti!D329),\"\")","v":""}]
["",null,null,null,null,null,null,null,null,null,null,null,null,null,null,null,{"$f":"IF(Committenti!D330<>\"\",CONCATENATE(Committenti!B330,\"  \",Committenti!C330,\"  CF: \",Committenti!D330),\"\")","v":""}]
["",null,null,null,null,null,null,null,null,null,null,null,null,null,null,null,{"$f":"IF(Committenti!D331<>\"\",CONCATENATE(Committenti!B331,\"  \",Committenti!C331,\"  CF: \",Committenti!D331),\"\")","v":""}]
["",null,null,null,null,null,null,null,null,null,null,null,null,null,null,null,{"$f":"IF(Committenti!D332<>\"\",CONCATENATE(Committenti!B332,\"  \",Committenti!C332,\"  CF: \",Committenti!D332),\"\")","v":""}]
["",null,null,null,null,null,null,null,null,null,null,null,null,null,null,null,{"$f":"IF(Committenti!D333<>\"\",CONCATENATE(Committenti!B333,\"  \",Committenti!C333,\"  CF: \",Committenti!D333),\"\")","v":""}]
["",null,null,null,null,null,null,null,null,null,null,null,null,null,null,null,{"$f":"IF(Committenti!D334<>\"\",CONCATENATE(Committenti!B334,\"  \",Committenti!C334,\"  CF: \",Committenti!D334),\"\")","v":""}]
["",null,null,null,null,null,null,null,null,null,null,null,null,null,null,null,{"$f":"IF(Committenti!D335<>\"\",CONCATENATE(Committenti!B335,\"  \",Committenti!C335,\"  CF: \",Committenti!D335),\"\")","v":""}]
["",null,null,null,null,null,null,null,null,null,null,null,null,null,null,null,{"$f":"IF(Committenti!D336<>\"\",CONCATENATE(Committenti!B336,\"  \",Committenti!C336,\"  CF: \",Committenti!D336),\"\")","v":""}]
["",null,null,null,null,null,null,null,null,null,null,null,null,null,null,null,{"$f":"IF(Committenti!D337<>\"\",CONCATENATE(Committenti!B337,\"  \",Committenti!C337,\"  CF: \",Committenti!D337),\"\")","v":""}]
["",null,null,null,null,null,null,null,null,null,null,null,null,null,null,null,{"$f":"IF(Committenti!D338<>\"\",CONCATENATE(Committenti!B338,\"  \",Committenti!C338,\"  CF: \",Committenti!D338),\"\")","v":""}]
["",null,null,null,null,null,null,null,null,null,null,null,null,null,null,null,{"$f":"IF(Committenti!D339<>\"\",CONCATENATE(Committenti!B339,\"  \",Committenti!C339,\"  CF: \",Committenti!D339),\"\")","v":""}]
["",null,null,null,null,null,null,null,null,null,null,null,null,null,null,null,{"$f":"IF(Committenti!D340<>\"\",CONCATENATE(Committenti!B340,\"  \",Committenti!C340,\"  CF: \",Committenti!D340),\"\")","v":""}]
["",null,null,null,null,null,null,null,null,null,null,null,null,null,null,null,{"$f":"IF(Committenti!D341<>\"\",CONCATENATE(Committenti!B341,\"  \",Committenti!C341,\"  CF: \",Committenti!D341),\"\")","v":""}]
["",null,null,null,null,null,null,null,null,null,null,null,null,null,null,null,{"$f":"IF(Committenti!D342<>\"\",CONCATENATE(Committenti!B342,\"  \",Committenti!C342,\"  CF: \",Committenti!D342),\"\")","v":""}]
["",null,null,null,null,null,null,null,null,null,null,null,null,null,null,null,{"$f":"IF(Committenti!D343<>\"\",CONCATENATE(Committenti!B343,\"  \",Committenti!C343,\"  CF: \",Committenti!D343),\"\")","v":""}]
["",null,null,null,null,null,null,null,null,null,null,null,null,null,null,null,{"$f":"IF(Committenti!D344<>\"\",CONCATENATE(Committenti!B344,\"  \",Committenti!C344,\"  CF: \",Committenti!D344),\"\")","v":""}]
["",null,null,null,null,null,null,null,null,null,null,null,null,null,null,null,{"$f":"IF(Committenti!D345<>\"\",CONCATENATE(Committenti!B345,\"  \",Committenti!C345,\"  CF: \",Committenti!D345),\"\")","v":""}]
["",null,null,null,null,null,null,null,null,null,null,null,null,null,null,null,{"$f":"IF(Committenti!D346<>\"\",CONCATENATE(Committenti!B346,\"  \",Committenti!C346,\"  CF: \",Committenti!D346),\"\")","v":""}]
["",null,null,null,null,null,null,null,null,null,null,null,null,null,null,null,{"$f":"IF(Committenti!D347<>\"\",CONCATENATE(Committenti!B347,\"  \",Committenti!C347,\"  CF: \",Committenti!D347),\"\")","v":""}]
["",null,null,null,null,null,null,null,null,null,null,null,null,null,null,null,{"$f":"IF(Committenti!D348<>\"\",CONCATENATE(Committenti!B348,\"  \",Committenti!C348,\"  CF: \",Committenti!D348),\"\")","v":""}]
["",null,null,null,null,null,null,null,null,null,null,null,null,null,null,null,{"$f":"IF(Committenti!D349<>\"\",CONCATENATE(Committenti!B349,\"  \",Committenti!C349,\"  CF: \",Committenti!D349),\"\")","v":""}]
["",null,null,null,null,null,null,null,null,null,null,null,null,null,null,null,{"$f":"IF(Committenti!D350<>\"\",CONCATENATE(Committenti!B350,\"  \",Committenti!C350,\"  CF: \",Committenti!D350),\"\")","v":""}]
["",null,null,null,null,null,null,null,null,null,null,null,null,null,null,null,{"$f":"IF(Committenti!D351<>\"\",CONCATENATE(Committenti!B351,\"  \",Committenti!C351,\"  CF: \",Committenti!D351),\"\")","v":""}]
["",null,null,null,null,null,null,null,null,null,null,null,null,null,null,null,{"$f":"IF(Committenti!D352<>\"\",CONCATENATE(Committenti!B352,\"  \",Committenti!C352,\"  CF: \",Committenti!D352),\"\")","v":""}]
["",null,null,null,null,null,null,null,null,null,null,null,null,null,null,null,{"$f":"IF(Committenti!D353<>\"\",CONCATENATE(Committenti!B353,\"  \",Committenti!C353,\"  CF: \",Committenti!D353),\"\")","v":""}]
["",null,null,null,null,null,null,null,null,null,null,null,null,null,null,null,{"$f":"IF(Committenti!D354<>\"\",CONCATENATE(Committenti!B354,\"  \",Committenti!C354,\"  CF: \",Committenti!D354),\"\")","v":""}]
["",null,null,null,null,null,null,null,null,null,null,null,null,null,null,null,{"$f":"IF(Committenti!D355<>\"\",CONCATENATE(Committenti!B355,\"  \",Committenti!C355,\"  CF: \",Committenti!D355),\"\")","v":""}]
["",null,null,null,null,null,null,null,null,null,null,null,null,null,null,null,{"$f":"IF(Committenti!D356<>\"\",CONCATENATE(Committenti!B356,\"  \",Committenti!C356,\"  CF: \",Committenti!D356),\"\")","v":""}]
["",null,null,null,null,null,null,null,null,null,null,null,null,null,null,null,{"$f":"IF(Committenti!D357<>\"\",CONCATENATE(Committenti!B357,\"  \",Committenti!C357,\"  CF: \",Committenti!D357),\"\")","v":""}]
["",null,null,null,null,null,null,null,null,null,null,null,null,null,null,null,{"$f":"IF(Committenti!D358<>\"\",CONCATENATE(Committenti!B358,\"  \",Committenti!C358,\"  CF: \",Committenti!D358),\"\")","v":""}]
["",null,null,null,null,null,null,null,null,null,null,null,null,null,null,null,{"$f":"IF(Committenti!D359<>\"\",CONCATENATE(Committenti!B359,\"  \",Committenti!C359,\"  CF: \",Committenti!D359),\"\")","v":""}]
["",null,null,null,null,null,null,null,null,null,null,null,null,null,null,null,{"$f":"IF(Committenti!D360<>\"\",CONCATENATE(Committenti!B360,\"  \",Committenti!C360,\"  CF: \",Committenti!D360),\"\")","v":""}]
["",null,null,null,null,null,null,null,null,null,null,null,null,null,null,null,{"$f":"IF(Committenti!D361<>\"\",CONCATENATE(Committenti!B361,\"  \",Committenti!C361,\"  CF: \",Committenti!D361),\"\")","v":""}]
["",null,null,null,null,null,null,null,null,null,null,null,null,null,null,null,{"$f":"IF(Committenti!D362<>\"\",CONCATENATE(Committenti!B362,\"  \",Committenti!C362,\"  CF: \",Committenti!D362),\"\")","v":""}]
["",null,null,null,null,null,null,null,null,null,null,null,null,null,null,null,{"$f":"IF(Committenti!D363<>\"\",CONCATENATE(Committenti!B363,\"  \",Committenti!C363,\"  CF: \",Committenti!D363),\"\")","v":""}]
["",null,null,null,null,null,null,null,null,null,null,null,null,null,null,null,{"$f":"IF(Committenti!D364<>\"\",CONCATENATE(Committenti!B364,\"  \",Committenti!C364,\"  CF: \",Committenti!D364),\"\")","v":""}]
["",null,null,null,null,null,null,null,null,null,null,null,null,null,null,null,{"$f":"IF(Committenti!D365<>\"\",CONCATENATE(Committenti!B365,\"  \",Committenti!C365,\"  CF: \",Committenti!D365),\"\")","v":""}]
["",null,null,null,null,null,null,null,null,null,null,null,null,null,null,null,{"$f":"IF(Committenti!D366<>\"\",CONCATENATE(Committenti!B366,\"  \",Committenti!C366,\"  CF: \",Committenti!D366),\"\")","v":""}]
["",null,null,null,null,null,null,null,null,null,null,null,null,null,null,null,{"$f":"IF(Committenti!D367<>\"\",CONCATENATE(Committenti!B367,\"  \",Committenti!C367,\"  CF: \",Committenti!D367),\"\")","v":""}]
["",null,null,null,null,null,null,null,null,null,null,null,null,null,null,null,{"$f":"IF(Committenti!D368<>\"\",CONCATENATE(Committenti!B368,\"  \",Committenti!C368,\"  CF: \",Committenti!D368),\"\")","v":""}]
["",null,null,null,null,null,null,null,null,null,null,null,null,null,null,null,{"$f":"IF(Committenti!D369<>\"\",CONCATENATE(Committenti!B369,\"  \",Committenti!C369,\"  CF: \",Committenti!D369),\"\")","v":""}]
["",null,null,null,null,null,null,null,null,null,null,null,null,null,null,null,{"$f":"IF(Committenti!D370<>\"\",CONCATENATE(Committenti!B370,\"  \",Committenti!C370,\"  CF: \",Committenti!D370),\"\")","v":""}]
["",null,null,null,null,null,null,null,null,null,null,null,null,null,null,null,{"$f":"IF(Committenti!D371<>\"\",CONCATENATE(Committenti!B371,\"  \",Committenti!C371,\"  CF: \",Committenti!D371),\"\")","v":""}]
["",null,null,null,null,null,null,null,null,null,null,null,null,null,null,null,{"$f":"IF(Committenti!D372<>\"\",CONCATENATE(Committenti!B372,\"  \",Committenti!C372,\"  CF: \",Committenti!D372),\"\")","v":""}]
["",null,null,null,null,null,null,null,null,null,null,null,null,null,null,null,{"$f":"IF(Committenti!D373<>\"\",CONCATENATE(Committenti!B373,\"  \",Committenti!C373,\"  CF: \",Committenti!D373),\"\")","v":""}]
["",null,null,null,null,null,null,null,null,null,null,null,null,null,null,null,{"$f":"IF(Committenti!D374<>\"\",CONCATENATE(Committenti!B374,\"  \",Committenti!C374,\"  CF: \",Committenti!D374),\"\")","v":""}]
["",null,null,null,null,null,null,null,null,null,null,null,null,null,null,null,{"$f":"IF(Committenti!D375<>\"\",CONCATENATE(Committenti!B375,\"  \",Committenti!C375,\"  CF: \",Committenti!D375),\"\")","v":""}]
["",null,null,null,null,null,null,null,null,null,null,null,null,null,null,null,{"$f":"IF(Committenti!D376<>\"\",CONCATENATE(Committenti!B376,\"  \",Committenti!C376,\"  CF: \",Committenti!D376),\"\")","v":""}]
["",null,null,null,null,null,null,null,null,null,null,null,null,null,null,null,{"$f":"IF(Committenti!D377<>\"\",CONCATENATE(Committenti!B377,\"  \",Committenti!C377,\"  CF: \",Committenti!D377),\"\")","v":""}]
["",null,null,null,null,null,null,null,null,null,null,null,null,null,null,null,{"$f":"IF(Committenti!D378<>\"\",CONCATENATE(Committenti!B378,\"  \",Committenti!C378,\"  CF: \",Committenti!D378),\"\")","v":""}]
["",null,null,null,null,null,null,null,null,null,null,null,null,null,null,null,{"$f":"IF(Committenti!D379<>\"\",CONCATENATE(Committenti!B379,\"  \",Committenti!C379,\"  CF: \",Committenti!D379),\"\")","v":""}]
["",null,null,null,null,null,null,null,null,null,null,null,null,null,null,null,{"$f":"IF(Committenti!D380<>\"\",CONCATENATE(Committenti!B380,\"  \",Committenti!C380,\"  CF: \",Committenti!D380),\"\")","v":""}]
["",null,null,null,null,null,null,null,null,null,null,null,null,null,null,null,{"$f":"IF(Committenti!D381<>\"\",CONCATENATE(Committenti!B381,\"  \",Committenti!C381,\"  CF: \",Committenti!D381),\"\")","v":""}]
["",null,null,null,null,null,null,null,null,null,null,null,null,null,null,null,{"$f":"IF(Committenti!D382<>\"\",CONCATENATE(Committenti!B382,\"  \",Committenti!C382,\"  CF: \",Committenti!D382),\"\")","v":""}]
["",null,null,null,null,null,null,null,null,null,null,null,null,null,null,null,{"$f":"IF(Committenti!D383<>\"\",CONCATENATE(Committenti!B383,\"  \",Committenti!C383,\"  CF: \",Committenti!D383),\"\")","v":""}]
["",null,null,null,null,null,null,null,null,null,null,null,null,null,null,null,{"$f":"IF(Committenti!D384<>\"\",CONCATENATE(Committenti!B384,\"  \",Committenti!C384,\"  CF: \",Committenti!D384),\"\")","v":""}]
["",null,null,null,null,null,null,null,null,null,null,null,null,null,null,null,{"$f":"IF(Committenti!D385<>\"\",CONCATENATE(Committenti!B385,\"  \",Committenti!C385,\"  CF: \",Committenti!D385),\"\")","v":""}]
["",null,null,null,null,null,null,null,null,null,null,null,null,null,null,null,{"$f":"IF(Committenti!D386<>\"\",CONCATENATE(Committenti!B386,\"  \",Committenti!C386,\"  CF: \",Committenti!D386),\"\")","v":""}]
["",null,null,null,null,null,null,null,null,null,null,null,null,null,null,null,{"$f":"IF(Committenti!D387<>\"\",CONCATENATE(Committenti!B387,\"  \",Committenti!C387,\"  CF: \",Committenti!D387),\"\")","v":""}]
["",null,null,null,null,null,null,null,null,null,null,null,null,null,null,null,{"$f":"IF(Committenti!D388<>\"\",CONCATENATE(Committenti!B388,\"  \",Committenti!C388,\"  CF: \",Committenti!D388),\"\")","v":""}]
[{"$f":"IF(B389<>\"\", IF(A388<>\"\",A388+1,\"\"),\"\")","v":""},null,null,null,null,null,null,null,null,null,null,null,null,null,null,null,{"$f":"IF(Committenti!D389<>\"\",CONCATENATE(Committenti!B389,\"  \",Committenti!C389,\"  CF: \",Committenti!D389),\"\")","v":""}]
["",null,null,null,null,null,null,null,null,null,null,null,null,null,null,null,{"$f":"IF(Committenti!D390<>\"\",CONCATENATE(Committenti!B390,\"  \",Committenti!C390,\"  CF: \",Committenti!D390),\"\")","v":""}]
["",null,null,null,null,null,null,null,null,null,null,null,null,null,null,null,{"$f":"IF(Committenti!D391<>\"\",CONCATENATE(Committenti!B391,\"  \",Committenti!C391,\"  CF: \",Committenti!D391),\"\")","v":""}]
["",null,null,null,null,null,null,null,null,null,null,null,null,null,null,null,{"$f":"IF(Committenti!D392<>\"\",CONCATENATE(Committenti!B392,\"  \",Committenti!C392,\"  CF: \",Committenti!D392),\"\")","v":""}]
["",null,null,null,null,null,null,null,null,null,null,null,null,null,null,null,{"$f":"IF(Committenti!D393<>\"\",CONCATENATE(Committenti!B393,\"  \",Committenti!C393,\"  CF: \",Committenti!D393),\"\")","v":""}]
["",null,null,null,null,null,null,null,null,null,null,null,null,null,null,null,{"$f":"IF(Committenti!D394<>\"\",CONCATENATE(Committenti!B394,\"  \",Committenti!C394,\"  CF: \",Committenti!D394),\"\")","v":""}]
["",null,null,null,null,null,null,null,null,null,null,null,null,null,null,null,{"$f":"IF(Committenti!D395<>\"\",CONCATENATE(Committenti!B395,\"  \",Committenti!C395,\"  CF: \",Committenti!D395),\"\")","v":""}]
["",null,null,null,null,null,null,null,null,null,null,null,null,null,null,null,{"$f":"IF(Committenti!D396<>\"\",CONCATENATE(Committenti!B396,\"  \",Committenti!C396,\"  CF: \",Committenti!D396),\"\")","v":""}]
["",null,null,null,null,null,null,null,null,null,null,null,null,null,null,null,{"$f":"IF(Committenti!D397<>\"\",CONCATENATE(Committenti!B397,\"  \",Committenti!C397,\"  CF: \",Committenti!D397),\"\")","v":""}]
["",null,null,null,null,null,null,null,null,null,null,null,null,null,null,null,{"$f":"IF(Committenti!D398<>\"\",CONCATENATE(Committenti!B398,\"  \",Committenti!C398,\"  CF: \",Committenti!D398),\"\")","v":""}]
["",null,null,null,null,null,null,null,null,null,null,null,null,null,null,null,{"$f":"IF(Committenti!D399<>\"\",CONCATENATE(Committenti!B399,\"  \",Committenti!C399,\"  CF: \",Committenti!D399),\"\")","v":""}]
["",null,null,null,null,null,null,null,null,null,null,null,null,null,null,null,{"$f":"IF(Committenti!D400<>\"\",CONCATENATE(Committenti!B400,\"  \",Committenti!C400,\"  CF: \",Committenti!D400),\"\")","v":""}]
["",null,null,null,null,null,null,null,null,null,null,null,null,null,null,null,{"$f":"IF(Committenti!D401<>\"\",CONCATENATE(Committenti!B401,\"  \",Committenti!C401,\"  CF: \",Committenti!D401),\"\")","v":""}]
["",null,null,null,null,null,null,null,null,null,null,null,null,null,null,null,{"$f":"IF(Committenti!D402<>\"\",CONCATENATE(Committenti!B402,\"  \",Committenti!C402,\"  CF: \",Committenti!D402),\"\")","v":""}]
["",null,null,null,null,null,null,null,null,null,null,null,null,null,null,null,{"$f":"IF(Committenti!D403<>\"\",CONCATENATE(Committenti!B403,\"  \",Committenti!C403,\"  CF: \",Committenti!D403),\"\")","v":""}]
["",null,null,null,null,null,null,null,null,null,null,null,null,null,null,null,{"$f":"IF(Committenti!D404<>\"\",CONCATENATE(Committenti!B404,\"  \",Committenti!C404,\"  CF: \",Committenti!D404),\"\")","v":""}]
["",null,null,null,null,null,null,null,null,null,null,null,null,null,null,null,{"$f":"IF(Committenti!D405<>\"\",CONCATENATE(Committenti!B405,\"  \",Committenti!C405,\"  CF: \",Committenti!D405),\"\")","v":""}]
["",null,null,null,null,null,null,null,null,null,null,null,null,null,null,null,{"$f":"IF(Committenti!D406<>\"\",CONCATENATE(Committenti!B406,\"  \",Committenti!C406,\"  CF: \",Committenti!D406),\"\")","v":""}]
["",null,null,null,null,null,null,null,null,null,null,null,null,null,null,null,{"$f":"IF(Committenti!D407<>\"\",CONCATENATE(Committenti!B407,\"  \",Committenti!C407,\"  CF: \",Committenti!D407),\"\")","v":""}]
["",null,null,null,null,null,null,null,null,null,null,null,null,null,null,null,{"$f":"IF(Committenti!D408<>\"\",CONCATENATE(Committenti!B408,\"  \",Committenti!C408,\"  CF: \",Committenti!D408),\"\")","v":""}]
["",null,null,null,null,null,null,null,null,null,null,null,null,null,null,null,{"$f":"IF(Committenti!D409<>\"\",CONCATENATE(Committenti!B409,\"  \",Committenti!C409,\"  CF: \",Committenti!D409),\"\")","v":""}]
["",null,null,null,null,null,null,null,null,null,null,null,null,null,null,null,{"$f":"IF(Committenti!D410<>\"\",CONCATENATE(Committenti!B410,\"  \",Committenti!C410,\"  CF: \",Committenti!D410),\"\")","v":""}]
["",null,null,null,null,null,null,null,null,null,null,null,null,null,null,null,{"$f":"IF(Committenti!D411<>\"\",CONCATENATE(Committenti!B411,\"  \",Committenti!C411,\"  CF: \",Committenti!D411),\"\")","v":""}]
["",null,null,null,null,null,null,null,null,null,null,null,null,null,null,null,{"$f":"IF(Committenti!D412<>\"\",CONCATENATE(Committenti!B412,\"  \",Committenti!C412,\"  CF: \",Committenti!D412),\"\")","v":""}]
["",null,null,null,null,null,null,null,null,null,null,null,null,null,null,null,{"$f":"IF(Committenti!D413<>\"\",CONCATENATE(Committenti!B413,\"  \",Committenti!C413,\"  CF: \",Committenti!D413),\"\")","v":""}]
["",null,null,null,null,null,null,null,null,null,null,null,null,null,null,null,{"$f":"IF(Committenti!D414<>\"\",CONCATENATE(Committenti!B414,\"  \",Committenti!C414,\"  CF: \",Committenti!D414),\"\")","v":""}]
["",null,null,null,null,null,null,null,null,null,null,null,null,null,null,null,{"$f":"IF(Committenti!D415<>\"\",CONCATENATE(Committenti!B415,\"  \",Committenti!C415,\"  CF: \",Committenti!D415),\"\")","v":""}]
["",null,null,null,null,null,null,null,null,null,null,null,null,null,null,null,{"$f":"IF(Committenti!D416<>\"\",CONCATENATE(Committenti!B416,\"  \",Committenti!C416,\"  CF: \",Committenti!D416),\"\")","v":""}]
["",null,null,null,null,null,null,null,null,null,null,null,null,null,null,null,{"$f":"IF(Committenti!D417<>\"\",CONCATENATE(Committenti!B417,\"  \",Committenti!C417,\"  CF: \",Committenti!D417),\"\")","v":""}]
["",null,null,null,null,null,null,null,null,null,null,null,null,null,null,null,{"$f":"IF(Committenti!D418<>\"\",CONCATENATE(Committenti!B418,\"  \",Committenti!C418,\"  CF: \",Committenti!D418),\"\")","v":""}]
["",null,null,null,null,null,null,null,null,null,null,null,null,null,null,null,{"$f":"IF(Committenti!D419<>\"\",CONCATENATE(Committenti!B419,\"  \",Committenti!C419,\"  CF: \",Committenti!D419),\"\")","v":""}]
["",null,null,null,null,null,null,null,null,null,null,null,null,null,null,null,{"$f":"IF(Committenti!D420<>\"\",CONCATENATE(Committenti!B420,\"  \",Committenti!C420,\"  CF: \",Committenti!D420),\"\")","v":""}]
["",null,null,null,null,null,null,null,null,null,null,null,null,null,null,null,{"$f":"IF(Committenti!D421<>\"\",CONCATENATE(Committenti!B421,\"  \",Committenti!C421,\"  CF: \",Committenti!D421),\"\")","v":""}]
["",null,null,null,null,null,null,null,null,null,null,null,null,null,null,null,{"$f":"IF(Committenti!D422<>\"\",CONCATENATE(Committenti!B422,\"  \",Committenti!C422,\"  CF: \",Committenti!D422),\"\")","v":""}]
["",null,null,null,null,null,null,null,null,null,null,null,null,null,null,null,{"$f":"IF(Committenti!D423<>\"\",CONCATENATE(Committenti!B423,\"  \",Committenti!C423,\"  CF: \",Committenti!D423),\"\")","v":""}]
["",null,null,null,null,null,null,null,null,null,null,null,null,null,null,null,{"$f":"IF(Committenti!D424<>\"\",CONCATENATE(Committenti!B424,\"  \",Committenti!C424,\"  CF: \",Committenti!D424),\"\")","v":""}]
["",null,null,null,null,null,null,null,null,null,null,null,null,null,null,null,{"$f":"IF(Committenti!D425<>\"\",CONCATENATE(Committenti!B425,\"  \",Committenti!C425,\"  CF: \",Committenti!D425),\"\")","v":""}]
["",null,null,null,null,null,null,null,null,null,null,null,null,null,null,null,{"$f":"IF(Committenti!D426<>\"\",CONCATENATE(Committenti!B426,\"  \",Committenti!C426,\"  CF: \",Committenti!D426),\"\")","v":""}]
["",null,null,null,null,null,null,null,null,null,null,null,null,null,null,null,{"$f":"IF(Committenti!D427<>\"\",CONCATENATE(Committenti!B427,\"  \",Committenti!C427,\"  CF: \",Committenti!D427),\"\")","v":""}]
["",null,null,null,null,null,null,null,null,null,null,null,null,null,null,null,{"$f":"IF(Committenti!D428<>\"\",CONCATENATE(Committenti!B428,\"  \",Committenti!C428,\"  CF: \",Committenti!D428),\"\")","v":""}]
["",null,null,null,null,null,null,null,null,null,null,null,null,null,null,null,{"$f":"IF(Committenti!D429<>\"\",CONCATENATE(Committenti!B429,\"  \",Committenti!C429,\"  CF: \",Committenti!D429),\"\")","v":""}]
["",null,null,null,null,null,null,null,null,null,null,null,null,null,null,null,{"$f":"IF(Committenti!D430<>\"\",CONCATENATE(Committenti!B430,\"  \",Committenti!C430,\"  CF: \",Committenti!D430),\"\")","v":""}]
["",null,null,null,null,null,null,null,null,null,null,null,null,null,null,null,{"$f":"IF(Committenti!D431<>\"\",CONCATENATE(Committenti!B431,\"  \",Committenti!C431,\"  CF: \",Committenti!D431),\"\")","v":""}]
["",null,null,null,null,null,null,null,null,null,null,null,null,null,null,null,{"$f":"IF(Committenti!D432<>\"\",CONCATENATE(Committenti!B432,\"  \",Committenti!C432,\"  CF: \",Committenti!D432),\"\")","v":""}]
["",null,null,null,null,null,null,null,null,null,null,null,null,null,null,null,{"$f":"IF(Committenti!D433<>\"\",CONCATENATE(Committenti!B433,\"  \",Committenti!C433,\"  CF: \",Committenti!D433),\"\")","v":""}]
["",null,null,null,null,null,null,null,null,null,null,null,null,null,null,null,{"$f":"IF(Committenti!D434<>\"\",CONCATENATE(Committenti!B434,\"  \",Committenti!C434,\"  CF: \",Committenti!D434),\"\")","v":""}]
["",null,null,null,null,null,null,null,null,null,null,null,null,null,null,null,{"$f":"IF(Committenti!D435<>\"\",CONCATENATE(Committenti!B435,\"  \",Committenti!C435,\"  CF: \",Committenti!D435),\"\")","v":""}]
["",null,null,null,null,null,null,null,null,null,null,null,null,null,null,null,{"$f":"IF(Committenti!D436<>\"\",CONCATENATE(Committenti!B436,\"  \",Committenti!C436,\"  CF: \",Committenti!D436),\"\")","v":""}]
["",null,null,null,null,null,null,null,null,null,null,null,null,null,null,null,{"$f":"IF(Committenti!D437<>\"\",CONCATENATE(Committenti!B437,\"  \",Committenti!C437,\"  CF: \",Committenti!D437),\"\")","v":""}]
["",null,null,null,null,null,null,null,null,null,null,null,null,null,null,null,{"$f":"IF(Committenti!D438<>\"\",CONCATENATE(Committenti!B438,\"  \",Committenti!C438,\"  CF: \",Committenti!D438),\"\")","v":""}]
["",null,null,null,null,null,null,null,null,null,null,null,null,null,null,null,{"$f":"IF(Committenti!D439<>\"\",CONCATENATE(Committenti!B439,\"  \",Committenti!C439,\"  CF: \",Committenti!D439),\"\")","v":""}]
["",null,null,null,null,null,null,null,null,null,null,null,null,null,null,null,{"$f":"IF(Committenti!D440<>\"\",CONCATENATE(Committenti!B440,\"  \",Committenti!C440,\"  CF: \",Committenti!D440),\"\")","v":""}]
["",null,null,null,null,null,null,null,null,null,null,null,null,null,null,null,{"$f":"IF(Committenti!D441<>\"\",CONCATENATE(Committenti!B441,\"  \",Committenti!C441,\"  CF: \",Committenti!D441),\"\")","v":""}]
["",null,null,null,null,null,null,null,null,null,null,null,null,null,null,null,{"$f":"IF(Committenti!D442<>\"\",CONCATENATE(Committenti!B442,\"  \",Committenti!C442,\"  CF: \",Committenti!D442),\"\")","v":""}]
["",null,null,null,null,null,null,null,null,null,null,null,null,null,null,null,{"$f":"IF(Committenti!D443<>\"\",CONCATENATE(Committenti!B443,\"  \",Committenti!C443,\"  CF: \",Committenti!D443),\"\")","v":""}]
["",null,null,null,null,null,null,null,null,null,null,null,null,null,null,null,{"$f":"IF(Committenti!D444<>\"\",CONCATENATE(Committenti!B444,\"  \",Committenti!C444,\"  CF: \",Committenti!D444),\"\")","v":""}]
["",null,null,null,null,null,null,null,null,null,null,null,null,null,null,null,{"$f":"IF(Committenti!D445<>\"\",CONCATENATE(Committenti!B445,\"  \",Committenti!C445,\"  CF: \",Committenti!D445),\"\")","v":""}]
["",null,null,null,null,null,null,null,null,null,null,null,null,null,null,null,{"$f":"IF(Committenti!D446<>\"\",CONCATENATE(Committenti!B446,\"  \",Committenti!C446,\"  CF: \",Committenti!D446),\"\")","v":""}]
["",null,null,null,null,null,null,null,null,null,null,null,null,null,null,null,{"$f":"IF(Committenti!D447<>\"\",CONCATENATE(Committenti!B447,\"  \",Committenti!C447,\"  CF: \",Committenti!D447),\"\")","v":""}]
["",null,null,null,null,null,null,null,null,null,null,null,null,null,null,null,{"$f":"IF(Committenti!D448<>\"\",CONCATENATE(Committenti!B448,\"  \",Committenti!C448,\"  CF: \",Committenti!D448),\"\")","v":""}]
["",null,null,null,null,null,null,null,null,null,null,null,null,null,null,null,{"$f":"IF(Committenti!D449<>\"\",CONCATENATE(Committenti!B449,\"  \",Committenti!C449,\"  CF: \",Committenti!D449),\"\")","v":""}]
["",null,null,null,null,null,null,null,null,null,null,null,null,null,null,null,{"$f":"IF(Committenti!D450<>\"\",CONCATENATE(Committenti!B450,\"  \",Committenti!C450,\"  CF: \",Committenti!D450),\"\")","v":""}]
["",null,null,null,null,null,null,null,null,null,null,null,null,null,null,null,{"$f":"IF(Committenti!D451<>\"\",CONCATENATE(Committenti!B451,\"  \",Committenti!C451,\"  CF: \",Committenti!D451),\"\")","v":""}]
["",null,null,null,null,null,null,null,null,null,null,null,null,null,null,null,{"$f":"IF(Committenti!D452<>\"\",CONCATENATE(Committenti!B452,\"  \",Committenti!C452,\"  CF: \",Committenti!D452),\"\")","v":""}]
[{"$f":"IF(B453<>\"\", IF(A452<>\"\",A452+1,\"\"),\"\")","v":""},null,null,null,null,null,null,null,null,null,null,null,null,null,null,null,{"$f":"IF(Committenti!D453<>\"\",CONCATENATE(Committenti!B453,\"  \",Committenti!C453,\"  CF: \",Committenti!D453),\"\")","v":""}]
["",null,null,null,null,null,null,null,null,null,null,null,null,null,null,null,{"$f":"IF(Committenti!D454<>\"\",CONCATENATE(Committenti!B454,\"  \",Committenti!C454,\"  CF: \",Committenti!D454),\"\")","v":""}]
["",null,null,null,null,null,null,null,null,null,null,null,null,null,null,null,{"$f":"IF(Committenti!D455<>\"\",CONCATENATE(Committenti!B455,\"  \",Committenti!C455,\"  CF: \",Committenti!D455),\"\")","v":""}]
["",null,null,null,null,null,null,null,null,null,null,null,null,null,null,null,{"$f":"IF(Committenti!D456<>\"\",CONCATENATE(Committenti!B456,\"  \",Committenti!C456,\"  CF: \",Committenti!D456),\"\")","v":""}]
["",null,null,null,null,null,null,null,null,null,null,null,null,null,null,null,{"$f":"IF(Committenti!D457<>\"\",CONCATENATE(Committenti!B457,\"  \",Committenti!C457,\"  CF: \",Committenti!D457),\"\")","v":""}]
["",null,null,null,null,null,null,null,null,null,null,null,null,null,null,null,{"$f":"IF(Committenti!D458<>\"\",CONCATENATE(Committenti!B458,\"  \",Committenti!C458,\"  CF: \",Committenti!D458),\"\")","v":""}]
["",null,null,null,null,null,null,null,null,null,null,null,null,null,null,null,{"$f":"IF(Committenti!D459<>\"\",CONCATENATE(Committenti!B459,\"  \",Committenti!C459,\"  CF: \",Committenti!D459),\"\")","v":""}]
["",null,null,null,null,null,null,null,null,null,null,null,null,null,null,null,{"$f":"IF(Committenti!D460<>\"\",CONCATENATE(Committenti!B460,\"  \",Committenti!C460,\"  CF: \",Committenti!D460),\"\")","v":""}]
["",null,null,null,null,null,null,null,null,null,null,null,null,null,null,null,{"$f":"IF(Committenti!D461<>\"\",CONCATENATE(Committenti!B461,\"  \",Committenti!C461,\"  CF: \",Committenti!D461),\"\")","v":""}]
["",null,null,null,null,null,null,null,null,null,null,null,null,null,null,null,{"$f":"IF(Committenti!D462<>\"\",CONCATENATE(Committenti!B462,\"  \",Committenti!C462,\"  CF: \",Committenti!D462),\"\")","v":""}]
["",null,null,null,null,null,null,null,null,null,null,null,null,null,null,null,{"$f":"IF(Committenti!D463<>\"\",CONCATENATE(Committenti!B463,\"  \",Committenti!C463,\"  CF: \",Committenti!D463),\"\")","v":""}]
["",null,null,null,null,null,null,null,null,null,null,null,null,null,null,null,{"$f":"IF(Committenti!D464<>\"\",CONCATENATE(Committenti!B464,\"  \",Committenti!C464,\"  CF: \",Committenti!D464),\"\")","v":""}]
["",null,null,null,null,null,null,null,null,null,null,null,null,null,null,null,{"$f":"IF(Committenti!D465<>\"\",CONCATENATE(Committenti!B465,\"  \",Committenti!C465,\"  CF: \",Committenti!D465),\"\")","v":""}]
["",null,null,null,null,null,null,null,null,null,null,null,null,null,null,null,{"$f":"IF(Committenti!D466<>\"\",CONCATENATE(Committenti!B466,\"  \",Committenti!C466,\"  CF: \",Committenti!D466),\"\")","v":""}]
["",null,null,null,null,null,null,null,null,null,null,null,null,null,null,null,{"$f":"IF(Committenti!D467<>\"\",CONCATENATE(Committenti!B467,\"  \",Committenti!C467,\"  CF: \",Committenti!D467),\"\")","v":""}]
["",null,null,null,null,null,null,null,null,null,null,null,null,null,null,null,{"$f":"IF(Committenti!D468<>\"\",CONCATENATE(Committenti!B468,\"  \",Committenti!C468,\"  CF: \",Committenti!D468),\"\")","v":""}]
["",null,null,null,null,null,null,null,null,null,null,null,null,null,null,null,{"$f":"IF(Committenti!D469<>\"\",CONCATENATE(Committenti!B469,\"  \",Committenti!C469,\"  CF: \",Committenti!D469),\"\")","v":""}]
["",null,null,null,null,null,null,null,null,null,null,null,null,null,null,null,{"$f":"IF(Committenti!D470<>\"\",CONCATENATE(Committenti!B470,\"  \",Committenti!C470,\"  CF: \",Committenti!D470),\"\")","v":""}]
["",null,null,null,null,null,null,null,null,null,null,null,null,null,null,null,{"$f":"IF(Committenti!D471<>\"\",CONCATENATE(Committenti!B471,\"  \",Committenti!C471,\"  CF: \",Committenti!D471),\"\")","v":""}]
["",null,null,null,null,null,null,null,null,null,null,null,null,null,null,null,{"$f":"IF(Committenti!D472<>\"\",CONCATENATE(Committenti!B472,\"  \",Committenti!C472,\"  CF: \",Committenti!D472),\"\")","v":""}]
["",null,null,null,null,null,null,null,null,null,null,null,null,null,null,null,{"$f":"IF(Committenti!D473<>\"\",CONCATENATE(Committenti!B473,\"  \",Committenti!C473,\"  CF: \",Committenti!D473),\"\")","v":""}]
["",null,null,null,null,null,null,null,null,null,null,null,null,null,null,null,{"$f":"IF(Committenti!D474<>\"\",CONCATENATE(Committenti!B474,\"  \",Committenti!C474,\"  CF: \",Committenti!D474),\"\")","v":""}]
["",null,null,null,null,null,null,null,null,null,null,null,null,null,null,null,{"$f":"IF(Committenti!D475<>\"\",CONCATENATE(Committenti!B475,\"  \",Committenti!C475,\"  CF: \",Committenti!D475),\"\")","v":""}]
["",null,null,null,null,null,null,null,null,null,null,null,null,null,null,null,{"$f":"IF(Committenti!D476<>\"\",CONCATENATE(Committenti!B476,\"  \",Committenti!C476,\"  CF: \",Committenti!D476),\"\")","v":""}]
["",null,null,null,null,null,null,null,null,null,null,null,null,null,null,null,{"$f":"IF(Committenti!D477<>\"\",CONCATENATE(Committenti!B477,\"  \",Committenti!C477,\"  CF: \",Committenti!D477),\"\")","v":""}]
["",null,null,null,null,null,null,null,null,null,null,null,null,null,null,null,{"$f":"IF(Committenti!D478<>\"\",CONCATENATE(Committenti!B478,\"  \",Committenti!C478,\"  CF: \",Committenti!D478),\"\")","v":""}]
["",null,null,null,null,null,null,null,null,null,null,null,null,null,null,null,{"$f":"IF(Committenti!D479<>\"\",CONCATENATE(Committenti!B479,\"  \",Committenti!C479,\"  CF: \",Committenti!D479),\"\")","v":""}]
["",null,null,null,null,null,null,null,null,null,null,null,null,null,null,null,{"$f":"IF(Committenti!D480<>\"\",CONCATENATE(Committenti!B480,\"  \",Committenti!C480,\"  CF: \",Committenti!D480),\"\")","v":""}]
["",null,null,null,null,null,null,null,null,null,null,null,null,null,null,null,{"$f":"IF(Committenti!D481<>\"\",CONCATENATE(Committenti!B481,\"  \",Committenti!C481,\"  CF: \",Committenti!D481),\"\")","v":""}]
["",null,null,null,null,null,null,null,null,null,null,null,null,null,null,null,{"$f":"IF(Committenti!D482<>\"\",CONCATENATE(Committenti!B482,\"  \",Committenti!C482,\"  CF: \",Committenti!D482),\"\")","v":""}]
["",null,null,null,null,null,null,null,null,null,null,null,null,null,null,null,{"$f":"IF(Committenti!D483<>\"\",CONCATENATE(Committenti!B483,\"  \",Committenti!C483,\"  CF: \",Committenti!D483),\"\")","v":""}]
["",null,null,null,null,null,null,null,null,null,null,null,null,null,null,null,{"$f":"IF(Committenti!D484<>\"\",CONCATENATE(Committenti!B484,\"  \",Committenti!C484,\"  CF: \",Committenti!D484),\"\")","v":""}]
["",null,null,null,null,null,null,null,null,null,null,null,null,null,null,null,{"$f":"IF(Committenti!D485<>\"\",CONCATENATE(Committenti!B485,\"  \",Committenti!C485,\"  CF: \",Committenti!D485),\"\")","v":""}]
["",null,null,null,null,null,null,null,null,null,null,null,null,null,null,null,{"$f":"IF(Committenti!D486<>\"\",CONCATENATE(Committenti!B486,\"  \",Committenti!C486,\"  CF: \",Committenti!D486),\"\")","v":""}]
["",null,null,null,null,null,null,null,null,null,null,null,null,null,null,null,{"$f":"IF(Committenti!D487<>\"\",CONCATENATE(Committenti!B487,\"  \",Committenti!C487,\"  CF: \",Committenti!D487),\"\")","v":""}]
["",null,null,null,null,null,null,null,null,null,null,null,null,null,null,null,{"$f":"IF(Committenti!D488<>\"\",CONCATENATE(Committenti!B488,\"  \",Committenti!C488,\"  CF: \",Committenti!D488),\"\")","v":""}]
["",null,null,null,null,null,null,null,null,null,null,null,null,null,null,null,{"$f":"IF(Committenti!D489<>\"\",CONCATENATE(Committenti!B489,\"  \",Committenti!C489,\"  CF: \",Committenti!D489),\"\")","v":""}]
["",null,null,null,null,null,null,null,null,null,null,null,null,null,null,null,{"$f":"IF(Committenti!D490<>\"\",CONCATENATE(Committenti!B490,\"  \",Committenti!C490,\"  CF: \",Committenti!D490),\"\")","v":""}]
["",null,null,null,null,null,null,null,null,null,null,null,null,null,null,null,{"$f":"IF(Committenti!D491<>\"\",CONCATENATE(Committenti!B491,\"  \",Committenti!C491,\"  CF: \",Committenti!D491),\"\")","v":""}]
["",null,null,null,null,null,null,null,null,null,null,null,null,null,null,null,{"$f":"IF(Committenti!D492<>\"\",CONCATENATE(Committenti!B492,\"  \",Committenti!C492,\"  CF: \",Committenti!D492),\"\")","v":""}]
["",null,null,null,null,null,null,null,null,null,null,null,null,null,null,null,{"$f":"IF(Committenti!D493<>\"\",CONCATENATE(Committenti!B493,\"  \",Committenti!C493,\"  CF: \",Committenti!D493),\"\")","v":""}]
["",null,null,null,null,null,null,null,null,null,null,null,null,null,null,null,{"$f":"IF(Committenti!D494<>\"\",CONCATENATE(Committenti!B494,\"  \",Committenti!C494,\"  CF: \",Committenti!D494),\"\")","v":""}]
["",null,null,null,null,null,null,null,null,null,null,null,null,null,null,null,{"$f":"IF(Committenti!D495<>\"\",CONCATENATE(Committenti!B495,\"  \",Committenti!C495,\"  CF: \",Committenti!D495),\"\")","v":""}]
["",null,null,null,null,null,null,null,null,null,null,null,null,null,null,null,{"$f":"IF(Committenti!D496<>\"\",CONCATENATE(Committenti!B496,\"  \",Committenti!C496,\"  CF: \",Committenti!D496),\"\")","v":""}]
["",null,null,null,null,null,null,null,null,null,null,null,null,null,null,null,{"$f":"IF(Committenti!D497<>\"\",CONCATENATE(Committenti!B497,\"  \",Committenti!C497,\"  CF: \",Committenti!D497),\"\")","v":""}]
["",null,null,null,null,null,null,null,null,null,null,null,null,null,null,null,{"$f":"IF(Committenti!D498<>\"\",CONCATENATE(Committenti!B498,\"  \",Committenti!C498,\"  CF: \",Committenti!D498),\"\")","v":""}]
["",null,null,null,null,null,null,null,null,null,null,null,null,null,null,null,{"$f":"IF(Committenti!D499<>\"\",CONCATENATE(Committenti!B499,\"  \",Committenti!C499,\"  CF: \",Committenti!D499),\"\")","v":""}]
["",null,null,null,null,null,null,null,null,null,null,null,null,null,null,null,{"$f":"IF(Committenti!D500<>\"\",CONCATENATE(Committenti!B500,\"  \",Committenti!C500,\"  CF: \",Committenti!D500),\"\")","v":""}]
["",null,null,null,null,null,null,null,null,null,null,null,null,null,null,null,{"$f":"IF(Committenti!D501<>\"\",CONCATENATE(Committenti!B501,\"  \",Committenti!C501,\"  CF: \",Committenti!D501),\"\")","v":""}]
["",null,null,null,null,null,null,null,null,null,null,null,null,null,null,null,{"$f":"IF(Committenti!D502<>\"\",CONCATENATE(Committenti!B502,\"  \",Committenti!C502,\"  CF: \",Committenti!D502),\"\")","v":""}]
["",null,null,null,null,null,null,null,null,null,null,null,null,null,null,null,{"$f":"IF(Committenti!D503<>\"\",CONCATENATE(Committenti!B503,\"  \",Committenti!C503,\"  CF: \",Committenti!D503),\"\")","v":""}]
["",null,null,null,null,null,null,null,null,null,null,null,null,null,null,null,{"$f":"IF(Committenti!D504<>\"\",CONCATENATE(Committenti!B504,\"  \",Committenti!C504,\"  CF: \",Committenti!D504),\"\")","v":""}]
["",null,null,null,null,null,null,null,null,null,null,null,null,null,null,null,{"$f":"IF(Committenti!D505<>\"\",CONCATENATE(Committenti!B505,\"  \",Committenti!C505,\"  CF: \",Committenti!D505),\"\")","v":""}]
["",null,null,null,null,null,null,null,null,null,null,null,null,null,null,null,{"$f":"IF(Committenti!D506<>\"\",CONCATENATE(Committenti!B506,\"  \",Committenti!C506,\"  CF: \",Committenti!D506),\"\")","v":""}]
["",null,null,null,null,null,null,null,null,null,null,null,null,null,null,null,{"$f":"IF(Committenti!D507<>\"\",CONCATENATE(Committenti!B507,\"  \",Committenti!C507,\"  CF: \",Committenti!D507),\"\")","v":""}]
["",null,null,null,null,null,null,null,null,null,null,null,null,null,null,null,{"$f":"IF(Committenti!D508<>\"\",CONCATENATE(Committenti!B508,\"  \",Committenti!C508,\"  CF: \",Committenti!D508),\"\")","v":""}]
["",null,null,null,null,null,null,null,null,null,null,null,null,null,null,null,{"$f":"IF(Committenti!D509<>\"\",CONCATENATE(Committenti!B509,\"  \",Committenti!C509,\"  CF: \",Committenti!D509),\"\")","v":""}]
["",null,null,null,null,null,null,null,null,null,null,null,null,null,null,null,{"$f":"IF(Committenti!D510<>\"\",CONCATENATE(Committenti!B510,\"  \",Committenti!C510,\"  CF: \",Committenti!D510),\"\")","v":""}]
["",null,null,null,null,null,null,null,null,null,null,null,null,null,null,null,{"$f":"IF(Committenti!D511<>\"\",CONCATENATE(Committenti!B511,\"  \",Committenti!C511,\"  CF: \",Committenti!D511),\"\")","v":""}]
["",null,null,null,null,null,null,null,null,null,null,null,null,null,null,null,{"$f":"IF(Committenti!D512<>\"\",CONCATENATE(Committenti!B512,\"  \",Committenti!C512,\"  CF: \",Committenti!D512),\"\")","v":""}]
["",null,null,null,null,null,null,null,null,null,null,null,null,null,null,null,{"$f":"IF(Committenti!D513<>\"\",CONCATENATE(Committenti!B513,\"  \",Committenti!C513,\"  CF: \",Committenti!D513),\"\")","v":""}]
["",null,null,null,null,null,null,null,null,null,null,null,null,null,null,null,{"$f":"IF(Committenti!D514<>\"\",CONCATENATE(Committenti!B514,\"  \",Committenti!C514,\"  CF: \",Committenti!D514),\"\")","v":""}]
["",null,null,null,null,null,null,null,null,null,null,null,null,null,null,null,{"$f":"IF(Committenti!D515<>\"\",CONCATENATE(Committenti!B515,\"  \",Committenti!C515,\"  CF: \",Committenti!D515),\"\")","v":""}]
["",null,null,null,null,null,null,null,null,null,null,null,null,null,null,null,{"$f":"IF(Committenti!D516<>\"\",CONCATENATE(Committenti!B516,\"  \",Committenti!C516,\"  CF: \",Committenti!D516),\"\")","v":""}]
[{"$f":"IF(B517<>\"\", IF(A516<>\"\",A516+1,\"\"),\"\")","v":""},null,null,null,null,null,null,null,null,null,null,null,null,null,null,null,{"$f":"IF(Committenti!D517<>\"\",CONCATENATE(Committenti!B517,\"  \",Committenti!C517,\"  CF: \",Committenti!D517),\"\")","v":""}]
["",null,null,null,null,null,null,null,null,null,null,null,null,null,null,null,{"$f":"IF(Committenti!D518<>\"\",CONCATENATE(Committenti!B518,\"  \",Committenti!C518,\"  CF: \",Committenti!D518),\"\")","v":""}]
["",null,null,null,null,null,null,null,null,null,null,null,null,null,null,null,{"$f":"IF(Committenti!D519<>\"\",CONCATENATE(Committenti!B519,\"  \",Committenti!C519,\"  CF: \",Committenti!D519),\"\")","v":""}]
["",null,null,null,null,null,null,null,null,null,null,null,null,null,null,null,{"$f":"IF(Committenti!D520<>\"\",CONCATENATE(Committenti!B520,\"  \",Committenti!C520,\"  CF: \",Committenti!D520),\"\")","v":""}]
["",null,null,null,null,null,null,null,null,null,null,null,null,null,null,null,{"$f":"IF(Committenti!D521<>\"\",CONCATENATE(Committenti!B521,\"  \",Committenti!C521,\"  CF: \",Committenti!D521),\"\")","v":""}]
["",null,null,null,null,null,null,null,null,null,null,null,null,null,null,null,{"$f":"IF(Committenti!D522<>\"\",CONCATENATE(Committenti!B522,\"  \",Committenti!C522,\"  CF: \",Committenti!D522),\"\")","v":""}]
["",null,null,null,null,null,null,null,null,null,null,null,null,null,null,null,{"$f":"IF(Committenti!D523<>\"\",CONCATENATE(Committenti!B523,\"  \",Committenti!C523,\"  CF: \",Committenti!D523),\"\")","v":""}]
["",null,null,null,null,null,null,null,null,null,null,null,null,null,null,null,{"$f":"IF(Committenti!D524<>\"\",CONCATENATE(Committenti!B524,\"  \",Committenti!C524,\"  CF: \",Committenti!D524),\"\")","v":""}]
["",null,null,null,null,null,null,null,null,null,null,null,null,null,null,null,{"$f":"IF(Committenti!D525<>\"\",CONCATENATE(Committenti!B525,\"  \",Committenti!C525,\"  CF: \",Committenti!D525),\"\")","v":""}]
["",null,null,null,null,null,null,null,null,null,null,null,null,null,null,null,{"$f":"IF(Committenti!D526<>\"\",CONCATENATE(Committenti!B526,\"  \",Committenti!C526,\"  CF: \",Committenti!D526),\"\")","v":""}]
["",null,null,null,null,null,null,null,null,null,null,null,null,null,null,null,{"$f":"IF(Committenti!D527<>\"\",CONCATENATE(Committenti!B527,\"  \",Committenti!C527,\"  CF: \",Committenti!D527),\"\")","v":""}]
["",null,null,null,null,null,null,null,null,null,null,null,null,null,null,null,{"$f":"IF(Committenti!D528<>\"\",CONCATENATE(Committenti!B528,\"  \",Committenti!C528,\"  CF: \",Committenti!D528),\"\")","v":""}]
["",null,null,null,null,null,null,null,null,null,null,null,null,null,null,null,{"$f":"IF(Committenti!D529<>\"\",CONCATENATE(Committenti!B529,\"  \",Committenti!C529,\"  CF: \",Committenti!D529),\"\")","v":""}]
["",null,null,null,null,null,null,null,null,null,null,null,null,null,null,null,{"$f":"IF(Committenti!D530<>\"\",CONCATENATE(Committenti!B530,\"  \",Committenti!C530,\"  CF: \",Committenti!D530),\"\")","v":""}]
["",null,null,null,null,null,null,null,null,null,null,null,null,null,null,null,{"$f":"IF(Committenti!D531<>\"\",CONCATENATE(Committenti!B531,\"  \",Committenti!C531,\"  CF: \",Committenti!D531),\"\")","v":""}]
["",null,null,null,null,null,null,null,null,null,null,null,null,null,null,null,{"$f":"IF(Committenti!D532<>\"\",CONCATENATE(Committenti!B532,\"  \",Committenti!C532,\"  CF: \",Committenti!D532),\"\")","v":""}]
["",null,null,null,null,null,null,null,null,null,null,null,null,null,null,null,{"$f":"IF(Committenti!D533<>\"\",CONCATENATE(Committenti!B533,\"  \",Committenti!C533,\"  CF: \",Committenti!D533),\"\")","v":""}]
["",null,null,null,null,null,null,null,null,null,null,null,null,null,null,null,{"$f":"IF(Committenti!D534<>\"\",CONCATENATE(Committenti!B534,\"  \",Committenti!C534,\"  CF: \",Committenti!D534),\"\")","v":""}]
["",null,null,null,null,null,null,null,null,null,null,null,null,null,null,null,{"$f":"IF(Committenti!D535<>\"\",CONCATENATE(Committenti!B535,\"  \",Committenti!C535,\"  CF: \",Committenti!D535),\"\")","v":""}]
["",null,null,null,null,null,null,null,null,null,null,null,null,null,null,null,{"$f":"IF(Committenti!D536<>\"\",CONCATENATE(Committenti!B536,\"  \",Committenti!C536,\"  CF: \",Committenti!D536),\"\")","v":""}]
["",null,null,null,null,null,null,null,null,null,null,null,null,null,null,null,{"$f":"IF(Committenti!D537<>\"\",CONCATENATE(Committenti!B537,\"  \",Committenti!C537,\"  CF: \",Committenti!D537),\"\")","v":""}]
["",null,null,null,null,null,null,null,null,null,null,null,null,null,null,null,{"$f":"IF(Committenti!D538<>\"\",CONCATENATE(Committenti!B538,\"  \",Committenti!C538,\"  CF: \",Committenti!D538),\"\")","v":""}]
["",null,null,null,null,null,null,null,null,null,null,null,null,null,null,null,{"$f":"IF(Committenti!D539<>\"\",CONCATENATE(Committenti!B539,\"  \",Committenti!C539,\"  CF: \",Committenti!D539),\"\")","v":""}]
["",null,null,null,null,null,null,null,null,null,null,null,null,null,null,null,{"$f":"IF(Committenti!D540<>\"\",CONCATENATE(Committenti!B540,\"  \",Committenti!C540,\"  CF: \",Committenti!D540),\"\")","v":""}]
["",null,null,null,null,null,null,null,null,null,null,null,null,null,null,null,{"$f":"IF(Committenti!D541<>\"\",CONCATENATE(Committenti!B541,\"  \",Committenti!C541,\"  CF: \",Committenti!D541),\"\")","v":""}]
["",null,null,null,null,null,null,null,null,null,null,null,null,null,null,null,{"$f":"IF(Committenti!D542<>\"\",CONCATENATE(Committenti!B542,\"  \",Committenti!C542,\"  CF: \",Committenti!D542),\"\")","v":""}]
["",null,null,null,null,null,null,null,null,null,null,null,null,null,null,null,{"$f":"IF(Committenti!D543<>\"\",CONCATENATE(Committenti!B543,\"  \",Committenti!C543,\"  CF: \",Committenti!D543),\"\")","v":""}]
["",null,null,null,null,null,null,null,null,null,null,null,null,null,null,null,{"$f":"IF(Committenti!D544<>\"\",CONCATENATE(Committenti!B544,\"  \",Committenti!C544,\"  CF: \",Committenti!D544),\"\")","v":""}]
["",null,null,null,null,null,null,null,null,null,null,null,null,null,null,null,{"$f":"IF(Committenti!D545<>\"\",CONCATENATE(Committenti!B545,\"  \",Committenti!C545,\"  CF: \",Committenti!D545),\"\")","v":""}]
["",null,null,null,null,null,null,null,null,null,null,null,null,null,null,null,{"$f":"IF(Committenti!D546<>\"\",CONCATENATE(Committenti!B546,\"  \",Committenti!C546,\"  CF: \",Committenti!D546),\"\")","v":""}]
["",null,null,null,null,null,null,null,null,null,null,null,null,null,null,null,{"$f":"IF(Committenti!D547<>\"\",CONCATENATE(Committenti!B547,\"  \",Committenti!C547,\"  CF: \",Committenti!D547),\"\")","v":""}]
["",null,null,null,null,null,null,null,null,null,null,null,null,null,null,null,{"$f":"IF(Committenti!D548<>\"\",CONCATENATE(Committenti!B548,\"  \",Committenti!C548,\"  CF: \",Committenti!D548),\"\")","v":""}]
["",null,null,null,null,null,null,null,null,null,null,null,null,null,null,null,{"$f":"IF(Committenti!D549<>\"\",CONCATENATE(Committenti!B549,\"  \",Committenti!C549,\"  CF: \",Committenti!D549),\"\")","v":""}]
["",null,null,null,null,null,null,null,null,null,null,null,null,null,null,null,{"$f":"IF(Committenti!D550<>\"\",CONCATENATE(Committenti!B550,\"  \",Committenti!C550,\"  CF: \",Committenti!D550),\"\")","v":""}]
["",null,null,null,null,null,null,null,null,null,null,null,null,null,null,null,{"$f":"IF(Committenti!D551<>\"\",CONCATENATE(Committenti!B551,\"  \",Committenti!C551,\"  CF: \",Committenti!D551),\"\")","v":""}]
["",null,null,null,null,null,null,null,null,null,null,null,null,null,null,null,{"$f":"IF(Committenti!D552<>\"\",CONCATENATE(Committenti!B552,\"  \",Committenti!C552,\"  CF: \",Committenti!D552),\"\")","v":""}]
["",null,null,null,null,null,null,null,null,null,null,null,null,null,null,null,{"$f":"IF(Committenti!D553<>\"\",CONCATENATE(Committenti!B553,\"  \",Committenti!C553,\"  CF: \",Committenti!D553),\"\")","v":""}]
["",null,null,null,null,null,null,null,null,null,null,null,null,null,null,null,{"$f":"IF(Committenti!D554<>\"\",CONCATENATE(Committenti!B554,\"  \",Committenti!C554,\"  CF: \",Committenti!D554),\"\")","v":""}]
["",null,null,null,null,null,null,null,null,null,null,null,null,null,null,null,{"$f":"IF(Committenti!D555<>\"\",CONCATENATE(Committenti!B555,\"  \",Committenti!C555,\"  CF: \",Committenti!D555),\"\")","v":""}]
["",null,null,null,null,null,null,null,null,null,null,null,null,null,null,null,{"$f":"IF(Committenti!D556<>\"\",CONCATENATE(Committenti!B556,\"  \",Committenti!C556,\"  CF: \",Committenti!D556),\"\")","v":""}]
["",null,null,null,null,null,null,null,null,null,null,null,null,null,null,null,{"$f":"IF(Committenti!D557<>\"\",CONCATENATE(Committenti!B557,\"  \",Committenti!C557,\"  CF: \",Committenti!D557),\"\")","v":""}]
["",null,null,null,null,null,null,null,null,null,null,null,null,null,null,null,{"$f":"IF(Committenti!D558<>\"\",CONCATENATE(Committenti!B558,\"  \",Committenti!C558,\"  CF: \",Committenti!D558),\"\")","v":""}]
["",null,null,null,null,null,null,null,null,null,null,null,null,null,null,null,{"$f":"IF(Committenti!D559<>\"\",CONCATENATE(Committenti!B559,\"  \",Committenti!C559,\"  CF: \",Committenti!D559),\"\")","v":""}]
["",null,null,null,null,null,null,null,null,null,null,null,null,null,null,null,{"$f":"IF(Committenti!D560<>\"\",CONCATENATE(Committenti!B560,\"  \",Committenti!C560,\"  CF: \",Committenti!D560),\"\")","v":""}]
["",null,null,null,null,null,null,null,null,null,null,null,null,null,null,null,{"$f":"IF(Committenti!D561<>\"\",CONCATENATE(Committenti!B561,\"  \",Committenti!C561,\"  CF: \",Committenti!D561),\"\")","v":""}]
["",null,null,null,null,null,null,null,null,null,null,null,null,null,null,null,{"$f":"IF(Committenti!D562<>\"\",CONCATENATE(Committenti!B562,\"  \",Committenti!C562,\"  CF: \",Committenti!D562),\"\")","v":""}]
["",null,null,null,null,null,null,null,null,null,null,null,null,null,null,null,{"$f":"IF(Committenti!D563<>\"\",CONCATENATE(Committenti!B563,\"  \",Committenti!C563,\"  CF: \",Committenti!D563),\"\")","v":""}]
["",null,null,null,null,null,null,null,null,null,null,null,null,null,null,null,{"$f":"IF(Committenti!D564<>\"\",CONCATENATE(Committenti!B564,\"  \",Committenti!C564,\"  CF: \",Committenti!D564),\"\")","v":""}]
["",null,null,null,null,null,null,null,null,null,null,null,null,null,null,null,{"$f":"IF(Committenti!D565<>\"\",CONCATENATE(Committenti!B565,\"  \",Committenti!C565,\"  CF: \",Committenti!D565),\"\")","v":""}]
["",null,null,null,null,null,null,null,null,null,null,null,null,null,null,null,{"$f":"IF(Committenti!D566<>\"\",CONCATENATE(Committenti!B566,\"  \",Committenti!C566,\"  CF: \",Committenti!D566),\"\")","v":""}]
["",null,null,null,null,null,null,null,null,null,null,null,null,null,null,null,{"$f":"IF(Committenti!D567<>\"\",CONCATENATE(Committenti!B567,\"  \",Committenti!C567,\"  CF: \",Committenti!D567),\"\")","v":""}]
["",null,null,null,null,null,null,null,null,null,null,null,null,null,null,null,{"$f":"IF(Committenti!D568<>\"\",CONCATENATE(Committenti!B568,\"  \",Committenti!C568,\"  CF: \",Committenti!D568),\"\")","v":""}]
["",null,null,null,null,null,null,null,null,null,null,null,null,null,null,null,{"$f":"IF(Committenti!D569<>\"\",CONCATENATE(Committenti!B569,\"  \",Committenti!C569,\"  CF: \",Committenti!D569),\"\")","v":""}]
["",null,null,null,null,null,null,null,null,null,null,null,null,null,null,null,{"$f":"IF(Committenti!D570<>\"\",CONCATENATE(Committenti!B570,\"  \",Committenti!C570,\"  CF: \",Committenti!D570),\"\")","v":""}]
["",null,null,null,null,null,null,null,null,null,null,null,null,null,null,null,{"$f":"IF(Committenti!D571<>\"\",CONCATENATE(Committenti!B571,\"  \",Committenti!C571,\"  CF: \",Committenti!D571),\"\")","v":""}]
["",null,null,null,null,null,null,null,null,null,null,null,null,null,null,null,{"$f":"IF(Committenti!D572<>\"\",CONCATENATE(Committenti!B572,\"  \",Committenti!C572,\"  CF: \",Committenti!D572),\"\")","v":""}]
["",null,null,null,null,null,null,null,null,null,null,null,null,null,null,null,{"$f":"IF(Committenti!D573<>\"\",CONCATENATE(Committenti!B573,\"  \",Committenti!C573,\"  CF: \",Committenti!D573),\"\")","v":""}]
["",null,null,null,null,null,null,null,null,null,null,null,null,null,null,null,{"$f":"IF(Committenti!D574<>\"\",CONCATENATE(Committenti!B574,\"  \",Committenti!C574,\"  CF: \",Committenti!D574),\"\")","v":""}]
["",null,null,null,null,null,null,null,null,null,null,null,null,null,null,null,{"$f":"IF(Committenti!D575<>\"\",CONCATENATE(Committenti!B575,\"  \",Committenti!C575,\"  CF: \",Committenti!D575),\"\")","v":""}]
["",null,null,null,null,null,null,null,null,null,null,null,null,null,null,null,{"$f":"IF(Committenti!D576<>\"\",CONCATENATE(Committenti!B576,\"  \",Committenti!C576,\"  CF: \",Committenti!D576),\"\")","v":""}]
["",null,null,null,null,null,null,null,null,null,null,null,null,null,null,null,{"$f":"IF(Committenti!D577<>\"\",CONCATENATE(Committenti!B577,\"  \",Committenti!C577,\"  CF: \",Committenti!D577),\"\")","v":""}]
["",null,null,null,null,null,null,null,null,null,null,null,null,null,null,null,{"$f":"IF(Committenti!D578<>\"\",CONCATENATE(Committenti!B578,\"  \",Committenti!C578,\"  CF: \",Committenti!D578),\"\")","v":""}]
["",null,null,null,null,null,null,null,null,null,null,null,null,null,null,null,{"$f":"IF(Committenti!D579<>\"\",CONCATENATE(Committenti!B579,\"  \",Committenti!C579,\"  CF: \",Committenti!D579),\"\")","v":""}]
["",null,null,null,null,null,null,null,null,null,null,null,null,null,null,null,{"$f":"IF(Committenti!D580<>\"\",CONCATENATE(Committenti!B580,\"  \",Committenti!C580,\"  CF: \",Committenti!D580),\"\")","v":""}]
[{"$f":"IF(B581<>\"\", IF(A580<>\"\",A580+1,\"\"),\"\")","v":""},null,null,null,null,null,null,null,null,null,null,null,null,null,null,null,{"$f":"IF(Committenti!D581<>\"\",CONCATENATE(Committenti!B581,\"  \",Committenti!C581,\"  CF: \",Committenti!D581),\"\")","v":""}]
["",null,null,null,null,null,null,null,null,null,null,null,null,null,null,null,{"$f":"IF(Committenti!D582<>\"\",CONCATENATE(Committenti!B582,\"  \",Committenti!C582,\"  CF: \",Committenti!D582),\"\")","v":""}]
["",null,null,null,null,null,null,null,null,null,null,null,null,null,null,null,{"$f":"IF(Committenti!D583<>\"\",CONCATENATE(Committenti!B583,\"  \",Committenti!C583,\"  CF: \",Committenti!D583),\"\")","v":""}]
["",null,null,null,null,null,null,null,null,null,null,null,null,null,null,null,{"$f":"IF(Committenti!D584<>\"\",CONCATENATE(Committenti!B584,\"  \",Committenti!C584,\"  CF: \",Committenti!D584),\"\")","v":""}]
["",null,null,null,null,null,null,null,null,null,null,null,null,null,null,null,{"$f":"IF(Committenti!D585<>\"\",CONCATENATE(Committenti!B585,\"  \",Committenti!C585,\"  CF: \",Committenti!D585),\"\")","v":""}]
["",null,null,null,null,null,null,null,null,null,null,null,null,null,null,null,{"$f":"IF(Committenti!D586<>\"\",CONCATENATE(Committenti!B586,\"  \",Committenti!C586,\"  CF: \",Committenti!D586),\"\")","v":""}]
["",null,null,null,null,null,null,null,null,null,null,null,null,null,null,null,{"$f":"IF(Committenti!D587<>\"\",CONCATENATE(Committenti!B587,\"  \",Committenti!C587,\"  CF: \",Committenti!D587),\"\")","v":""}]
["",null,null,null,null,null,null,null,null,null,null,null,null,null,null,null,{"$f":"IF(Committenti!D588<>\"\",CONCATENATE(Committenti!B588,\"  \",Committenti!C588,\"  CF: \",Committenti!D588),\"\")","v":""}]
["",null,null,null,null,null,null,null,null,null,null,null,null,null,null,null,{"$f":"IF(Committenti!D589<>\"\",CONCATENATE(Committenti!B589,\"  \",Committenti!C589,\"  CF: \",Committenti!D589),\"\")","v":""}]
["",null,null,null,null,null,null,null,null,null,null,null,null,null,null,null,{"$f":"IF(Committenti!D590<>\"\",CONCATENATE(Committenti!B590,\"  \",Committenti!C590,\"  CF: \",Committenti!D590),\"\")","v":""}]
["",null,null,null,null,null,null,null,null,null,null,null,null,null,null,null,{"$f":"IF(Committenti!D591<>\"\",CONCATENATE(Committenti!B591,\"  \",Committenti!C591,\"  CF: \",Committenti!D591),\"\")","v":""}]
["",null,null,null,null,null,null,null,null,null,null,null,null,null,null,null,{"$f":"IF(Committenti!D592<>\"\",CONCATENATE(Committenti!B592,\"  \",Committenti!C592,\"  CF: \",Committenti!D592),\"\")","v":""}]
["",null,null,null,null,null,null,null,null,null,null,null,null,null,null,null,{"$f":"IF(Committenti!D593<>\"\",CONCATENATE(Committenti!B593,\"  \",Committenti!C593,\"  CF: \",Committenti!D593),\"\")","v":""}]
["",null,null,null,null,null,null,null,null,null,null,null,null,null,null,null,{"$f":"IF(Committenti!D594<>\"\",CONCATENATE(Committenti!B594,\"  \",Committenti!C594,\"  CF: \",Committenti!D594),\"\")","v":""}]
["",null,null,null,null,null,null,null,null,null,null,null,null,null,null,null,{"$f":"IF(Committenti!D595<>\"\",CONCATENATE(Committenti!B595,\"  \",Committenti!C595,\"  CF: \",Committenti!D595),\"\")","v":""}]
["",null,null,null,null,null,null,null,null,null,null,null,null,null,null,null,{"$f":"IF(Committenti!D596<>\"\",CONCATENATE(Committenti!B596,\"  \",Committenti!C596,\"  CF: \",Committenti!D596),\"\")","v":""}]
["",null,null,null,null,null,null,null,null,null,null,null,null,null,null,null,{"$f":"IF(Committenti!D597<>\"\",CONCATENATE(Committenti!B597,\"  \",Committenti!C597,\"  CF: \",Committenti!D597),\"\")","v":""}]
["",null,null,null,null,null,null,null,null,null,null,null,null,null,null,null,{"$f":"IF(Committenti!D598<>\"\",CONCATENATE(Committenti!B598,\"  \",Committenti!C598,\"  CF: \",Committenti!D598),\"\")","v":""}]
["",null,null,null,null,null,null,null,null,null,null,null,null,null,null,null,{"$f":"IF(Committenti!D599<>\"\",CONCATENATE(Committenti!B599,\"  \",Committenti!C599,\"  CF: \",Committenti!D599),\"\")","v":""}]
["",null,null,null,null,null,null,null,null,null,null,null,null,null,null,null,{"$f":"IF(Committenti!D600<>\"\",CONCATENATE(Committenti!B600,\"  \",Committenti!C600,\"  CF: \",Committenti!D600),\"\")","v":""}]
["",null,null,null,null,null,null,null,null,null,null,null,null,null,null,null,{"$f":"IF(Committenti!D601<>\"\",CONCATENATE(Committenti!B601,\"  \",Committenti!C601,\"  CF: \",Committenti!D601),\"\")","v":""}]
["",null,null,null,null,null,null,null,null,null,null,null,null,null,null,null,{"$f":"IF(Committenti!D602<>\"\",CONCATENATE(Committenti!B602,\"  \",Committenti!C602,\"  CF: \",Committenti!D602),\"\")","v":""}]
["",null,null,null,null,null,null,null,null,null,null,null,null,null,null,null,{"$f":"IF(Committenti!D603<>\"\",CONCATENATE(Committenti!B603,\"  \",Committenti!C603,\"  CF: \",Committenti!D603),\"\")","v":""}]
["",null,null,null,null,null,null,null,null,null,null,null,null,null,null,null,{"$f":"IF(Committenti!D604<>\"\",CONCATENATE(Committenti!B604,\"  \",Committenti!C604,\"  CF: \",Committenti!D604),\"\")","v":""}]
["",null,null,null,null,null,null,null,null,null,null,null,null,null,null,null,{"$f":"IF(Committenti!D605<>\"\",CONCATENATE(Committenti!B605,\"  \",Committenti!C605,\"  CF: \",Committenti!D605),\"\")","v":""}]
["",null,null,null,null,null,null,null,null,null,null,null,null,null,null,null,{"$f":"IF(Committenti!D606<>\"\",CONCATENATE(Committenti!B606,\"  \",Committenti!C606,\"  CF: \",Committenti!D606),\"\")","v":""}]
["",null,null,null,null,null,null,null,null,null,null,null,null,null,null,null,{"$f":"IF(Committenti!D607<>\"\",CONCATENATE(Committenti!B607,\"  \",Committenti!C607,\"  CF: \",Committenti!D607),\"\")","v":""}]
["",null,null,null,null,null,null,null,null,null,null,null,null,null,null,null,{"$f":"IF(Committenti!D608<>\"\",CONCATENATE(Committenti!B608,\"  \",Committenti!C608,\"  CF: \",Committenti!D608),\"\")","v":""}]
["",null,null,null,null,null,null,null,null,null,null,null,null,null,null,null,{"$f":"IF(Committenti!D609<>\"\",CONCATENATE(Committenti!B609,\"  \",Committenti!C609,\"  CF: \",Committenti!D609),\"\")","v":""}]
["",null,null,null,null,null,null,null,null,null,null,null,null,null,null,null,{"$f":"IF(Committenti!D610<>\"\",CONCATENATE(Committenti!B610,\"  \",Committenti!C610,\"  CF: \",Committenti!D610),\"\")","v":""}]
["",null,null,null,null,null,null,null,null,null,null,null,null,null,null,null,{"$f":"IF(Committenti!D611<>\"\",CONCATENATE(Committenti!B611,\"  \",Committenti!C611,\"  CF: \",Committenti!D611),\"\")","v":""}]
["",null,null,null,null,null,null,null,null,null,null,null,null,null,null,null,{"$f":"IF(Committenti!D612<>\"\",CONCATENATE(Committenti!B612,\"  \",Committenti!C612,\"  CF: \",Committenti!D612),\"\")","v":""}]
["",null,null,null,null,null,null,null,null,null,null,null,null,null,null,null,{"$f":"IF(Committenti!D613<>\"\",CONCATENATE(Committenti!B613,\"  \",Committenti!C613,\"  CF: \",Committenti!D613),\"\")","v":""}]
["",null,null,null,null,null,null,null,null,null,null,null,null,null,null,null,{"$f":"IF(Committenti!D614<>\"\",CONCATENATE(Committenti!B614,\"  \",Committenti!C614,\"  CF: \",Committenti!D614),\"\")","v":""}]
["",null,null,null,null,null,null,null,null,null,null,null,null,null,null,null,{"$f":"IF(Committenti!D615<>\"\",CONCATENATE(Committenti!B615,\"  \",Committenti!C615,\"  CF: \",Committenti!D615),\"\")","v":""}]
["",null,null,null,null,null,null,null,null,null,null,null,null,null,null,null,{"$f":"IF(Committenti!D616<>\"\",CONCATENATE(Committenti!B616,\"  \",Committenti!C616,\"  CF: \",Committenti!D616),\"\")","v":""}]
["",null,null,null,null,null,null,null,null,null,null,null,null,null,null,null,{"$f":"IF(Committenti!D617<>\"\",CONCATENATE(Committenti!B617,\"  \",Committenti!C617,\"  CF: \",Committenti!D617),\"\")","v":""}]
["",null,null,null,null,null,null,null,null,null,null,null,null,null,null,null,{"$f":"IF(Committenti!D618<>\"\",CONCATENATE(Committenti!B618,\"  \",Committenti!C618,\"  CF: \",Committenti!D618),\"\")","v":""}]
["",null,null,null,null,null,null,null,null,null,null,null,null,null,null,null,{"$f":"IF(Committenti!D619<>\"\",CONCATENATE(Committenti!B619,\"  \",Committenti!C619,\"  CF: \",Committenti!D619),\"\")","v":""}]
["",null,null,null,null,null,null,null,null,null,null,null,null,null,null,null,{"$f":"IF(Committenti!D620<>\"\",CONCATENATE(Committenti!B620,\"  \",Committenti!C620,\"  CF: \",Committenti!D620),\"\")","v":""}]
["",null,null,null,null,null,null,null,null,null,null,null,null,null,null,null,{"$f":"IF(Committenti!D621<>\"\",CONCATENATE(Committenti!B621,\"  \",Committenti!C621,\"  CF: \",Committenti!D621),\"\")","v":""}]
["",null,null,null,null,null,null,null,null,null,null,null,null,null,null,null,{"$f":"IF(Committenti!D622<>\"\",CONCATENATE(Committenti!B622,\"  \",Committenti!C622,\"  CF: \",Committenti!D622),\"\")","v":""}]
["",null,null,null,null,null,null,null,null,null,null,null,null,null,null,null,{"$f":"IF(Committenti!D623<>\"\",CONCATENATE(Committenti!B623,\"  \",Committenti!C623,\"  CF: \",Committenti!D623),\"\")","v":""}]
["",null,null,null,null,null,null,null,null,null,null,null,null,null,null,null,{"$f":"IF(Committenti!D624<>\"\",CONCATENATE(Committenti!B624,\"  \",Committenti!C624,\"  CF: \",Committenti!D624),\"\")","v":""}]
["",null,null,null,null,null,null,null,null,null,null,null,null,null,null,null,{"$f":"IF(Committenti!D625<>\"\",CONCATENATE(Committenti!B625,\"  \",Committenti!C625,\"  CF: \",Committenti!D625),\"\")","v":""}]
["",null,null,null,null,null,null,null,null,null,null,null,null,null,null,null,{"$f":"IF(Committenti!D626<>\"\",CONCATENATE(Committenti!B626,\"  \",Committenti!C626,\"  CF: \",Committenti!D626),\"\")","v":""}]
["",null,null,null,null,null,null,null,null,null,null,null,null,null,null,null,{"$f":"IF(Committenti!D627<>\"\",CONCATENATE(Committenti!B627,\"  \",Committenti!C627,\"  CF: \",Committenti!D627),\"\")","v":""}]
["",null,null,null,null,null,null,null,null,null,null,null,null,null,null,null,{"$f":"IF(Committenti!D628<>\"\",CONCATENATE(Committenti!B628,\"  \",Committenti!C628,\"  CF: \",Committenti!D628),\"\")","v":""}]
["",null,null,null,null,null,null,null,null,null,null,null,null,null,null,null,{"$f":"IF(Committenti!D629<>\"\",CONCATENATE(Committenti!B629,\"  \",Committenti!C629,\"  CF: \",Committenti!D629),\"\")","v":""}]
["",null,null,null,null,null,null,null,null,null,null,null,null,null,null,null,{"$f":"IF(Committenti!D630<>\"\",CONCATENATE(Committenti!B630,\"  \",Committenti!C630,\"  CF: \",Committenti!D630),\"\")","v":""}]
["",null,null,null,null,null,null,null,null,null,null,null,null,null,null,null,{"$f":"IF(Committenti!D631<>\"\",CONCATENATE(Committenti!B631,\"  \",Committenti!C631,\"  CF: \",Committenti!D631),\"\")","v":""}]
["",null,null,null,null,null,null,null,null,null,null,null,null,null,null,null,{"$f":"IF(Committenti!D632<>\"\",CONCATENATE(Committenti!B632,\"  \",Committenti!C632,\"  CF: \",Committenti!D632),\"\")","v":""}]
["",null,null,null,null,null,null,null,null,null,null,null,null,null,null,null,{"$f":"IF(Committenti!D633<>\"\",CONCATENATE(Committenti!B633,\"  \",Committenti!C633,\"  CF: \",Committenti!D633),\"\")","v":""}]
["",null,null,null,null,null,null,null,null,null,null,null,null,null,null,null,{"$f":"IF(Committenti!D634<>\"\",CONCATENATE(Committenti!B634,\"  \",Committenti!C634,\"  CF: \",Committenti!D634),\"\")","v":""}]
["",null,null,null,null,null,null,null,null,null,null,null,null,null,null,null,{"$f":"IF(Committenti!D635<>\"\",CONCATENATE(Committenti!B635,\"  \",Committenti!C635,\"  CF: \",Committenti!D635),\"\")","v":""}]
["",null,null,null,null,null,null,null,null,null,null,null,null,null,null,null,{"$f":"IF(Committenti!D636<>\"\",CONCATENATE(Committenti!B636,\"  \",Committenti!C636,\"  CF: \",Committenti!D636),\"\")","v":""}]
["",null,null,null,null,null,null,null,null,null,null,null,null,null,null,null,{"$f":"IF(Committenti!D637<>\"\",CONCATENATE(Committenti!B637,\"  \",Committenti!C637,\"  CF: \",Committenti!D637),\"\")","v":""}]
["",null,null,null,null,null,null,null,null,null,null,null,null,null,null,null,{"$f":"IF(Committenti!D638<>\"\",CONCATENATE(Committenti!B638,\"  \",Committenti!C638,\"  CF: \",Committenti!D638),\"\")","v":""}]
["",null,null,null,null,null,null,null,null,null,null,null,null,null,null,null,{"$f":"IF(Committenti!D639<>\"\",CONCATENATE(Committenti!B639,\"  \",Committenti!C639,\"  CF: \",Committenti!D639),\"\")","v":""}]
["",null,null,null,null,null,null,null,null,null,null,null,null,null,null,null,{"$f":"IF(Committenti!D640<>\"\",CONCATENATE(Committenti!B640,\"  \",Committenti!C640,\"  CF: \",Committenti!D640),\"\")","v":""}]
["",null,null,null,null,null,null,null,null,null,null,null,null,null,null,null,{"$f":"IF(Committenti!D641<>\"\",CONCATENATE(Committenti!B641,\"  \",Committenti!C641,\"  CF: \",Committenti!D641),\"\")","v":""}]
["",null,null,null,null,null,null,null,null,null,null,null,null,null,null,null,{"$f":"IF(Committenti!D642<>\"\",CONCATENATE(Committenti!B642,\"  \",Committenti!C642,\"  CF: \",Committenti!D642),\"\")","v":""}]
["",null,null,null,null,null,null,null,null,null,null,null,null,null,null,null,{"$f":"IF(Committenti!D643<>\"\",CONCATENATE(Committenti!B643,\"  \",Committenti!C643,\"  CF: \",Committenti!D643),\"\")","v":""}]
["",null,null,null,null,null,null,null,null,null,null,null,null,null,null,null,{"$f":"IF(Committenti!D644<>\"\",CONCATENATE(Committenti!B644,\"  \",Committenti!C644,\"  CF: \",Committenti!D644),\"\")","v":""}]
[{"$f":"IF(B645<>\"\", IF(A644<>\"\",A644+1,\"\"),\"\")","v":""},null,null,null,null,null,null,null,null,null,null,null,null,null,null,null,{"$f":"IF(Committenti!D645<>\"\",CONCATENATE(Committenti!B645,\"  \",Committenti!C645,\"  CF: \",Committenti!D645),\"\")","v":""}]
["",null,null,null,null,null,null,null,null,null,null,null,null,null,null,null,{"$f":"IF(Committenti!D646<>\"\",CONCATENATE(Committenti!B646,\"  \",Committenti!C646,\"  CF: \",Committenti!D646),\"\")","v":""}]
["",null,null,null,null,null,null,null,null,null,null,null,null,null,null,null,{"$f":"IF(Committenti!D647<>\"\",CONCATENATE(Committenti!B647,\"  \",Committenti!C647,\"  CF: \",Committenti!D647),\"\")","v":""}]
["",null,null,null,null,null,null,null,null,null,null,null,null,null,null,null,{"$f":"IF(Committenti!D648<>\"\",CONCATENATE(Committenti!B648,\"  \",Committenti!C648,\"  CF: \",Committenti!D648),\"\")","v":""}]
["",null,null,null,null,null,null,null,null,null,null,null,null,null,null,null,{"$f":"IF(Committenti!D649<>\"\",CONCATENATE(Committenti!B649,\"  \",Committenti!C649,\"  CF: \",Committenti!D649),\"\")","v":""}]
["",null,null,null,null,null,null,null,null,null,null,null,null,null,null,null,{"$f":"IF(Committenti!D650<>\"\",CONCATENATE(Committenti!B650,\"  \",Committenti!C650,\"  CF: \",Committenti!D650),\"\")","v":""}]
["",null,null,null,null,null,null,null,null,null,null,null,null,null,null,null,{"$f":"IF(Committenti!D651<>\"\",CONCATENATE(Committenti!B651,\"  \",Committenti!C651,\"  CF: \",Committenti!D651),\"\")","v":""}]
["",null,null,null,null,null,null,null,null,null,null,null,null,null,null,null,{"$f":"IF(Committenti!D652<>\"\",CONCATENATE(Committenti!B652,\"  \",Committenti!C652,\"  CF: \",Committenti!D652),\"\")","v":""}]
["",null,null,null,null,null,null,null,null,null,null,null,null,null,null,null,{"$f":"IF(Committenti!D653<>\"\",CONCATENATE(Committenti!B653,\"  \",Committenti!C653,\"  CF: \",Committenti!D653),\"\")","v":""}]
["",null,null,null,null,null,null,null,null,null,null,null,null,null,null,null,{"$f":"IF(Committenti!D654<>\"\",CONCATENATE(Committenti!B654,\"  \",Committenti!C654,\"  CF: \",Committenti!D654),\"\")","v":""}]
["",null,null,null,null,null,null,null,null,null,null,null,null,null,null,null,{"$f":"IF(Committenti!D655<>\"\",CONCATENATE(Committenti!B655,\"  \",Committenti!C655,\"  CF: \",Committenti!D655),\"\")","v":""}]
["",null,null,null,null,null,null,null,null,null,null,null,null,null,null,null,{"$f":"IF(Committenti!D656<>\"\",CONCATENATE(Committenti!B656,\"  \",Committenti!C656,\"  CF: \",Committenti!D656),\"\")","v":""}]
["",null,null,null,null,null,null,null,null,null,null,null,null,null,null,null,{"$f":"IF(Committenti!D657<>\"\",CONCATENATE(Committenti!B657,\"  \",Committenti!C657,\"  CF: \",Committenti!D657),\"\")","v":""}]
["",null,null,null,null,null,null,null,null,null,null,null,null,null,null,null,{"$f":"IF(Committenti!D658<>\"\",CONCATENATE(Committenti!B658,\"  \",Committenti!C658,\"  CF: \",Committenti!D658),\"\")","v":""}]
["",null,null,null,null,null,null,null,null,null,null,null,null,null,null,null,{"$f":"IF(Committenti!D659<>\"\",CONCATENATE(Committenti!B659,\"  \",Committenti!C659,\"  CF: \",Committenti!D659),\"\")","v":""}]
["",null,null,null,null,null,null,null,null,null,null,null,null,null,null,null,{"$f":"IF(Committenti!D660<>\"\",CONCATENATE(Committenti!B660,\"  \",Committenti!C660,\"  CF: \",Committenti!D660),\"\")","v":""}]
["",null,null,null,null,null,null,null,null,null,null,null,null,null,null,null,{"$f":"IF(Committenti!D661<>\"\",CONCATENATE(Committenti!B661,\"  \",Committenti!C661,\"  CF: \",Committenti!D661),\"\")","v":""}]
["",null,null,null,null,null,null,null,null,null,null,null,null,null,null,null,{"$f":"IF(Committenti!D662<>\"\",CONCATENATE(Committenti!B662,\"  \",Committenti!C662,\"  CF: \",Committenti!D662),\"\")","v":""}]
["",null,null,null,null,null,null,null,null,null,null,null,null,null,null,null,{"$f":"IF(Committenti!D663<>\"\",CONCATENATE(Committenti!B663,\"  \",Committenti!C663,\"  CF: \",Committenti!D663),\"\")","v":""}]
["",null,null,null,null,null,null,null,null,null,null,null,null,null,null,null,{"$f":"IF(Committenti!D664<>\"\",CONCATENATE(Committenti!B664,\"  \",Committenti!C664,\"  CF: \",Committenti!D664),\"\")","v":""}]
["",null,null,null,null,null,null,null,null,null,null,null,null,null,null,null,{"$f":"IF(Committenti!D665<>\"\",CONCATENATE(Committenti!B665,\"  \",Committenti!C665,\"  CF: \",Committenti!D665),\"\")","v":""}]
["",null,null,null,null,null,null,null,null,null,null,null,null,null,null,null,{"$f":"IF(Committenti!D666<>\"\",CONCATENATE(Committenti!B666,\"  \",Committenti!C666,\"  CF: \",Committenti!D666),\"\")","v":""}]
["",null,null,null,null,null,null,null,null,null,null,null,null,null,null,null,{"$f":"IF(Committenti!D667<>\"\",CONCATENATE(Committenti!B667,\"  \",Committenti!C667,\"  CF: \",Committenti!D667),\"\")","v":""}]
["",null,null,null,null,null,null,null,null,null,null,null,null,null,null,null,{"$f":"IF(Committenti!D668<>\"\",CONCATENATE(Committenti!B668,\"  \",Committenti!C668,\"  CF: \",Committenti!D668),\"\")","v":""}]
["",null,null,null,null,null,null,null,null,null,null,null,null,null,null,null,{"$f":"IF(Committenti!D669<>\"\",CONCATENATE(Committenti!B669,\"  \",Committenti!C669,\"  CF: \",Committenti!D669),\"\")","v":""}]
["",null,null,null,null,null,null,null,null,null,null,null,null,null,null,null,{"$f":"IF(Committenti!D670<>\"\",CONCATENATE(Committenti!B670,\"  \",Committenti!C670,\"  CF: \",Committenti!D670),\"\")","v":""}]
["",null,null,null,null,null,null,null,null,null,null,null,null,null,null,null,{"$f":"IF(Committenti!D671<>\"\",CONCATENATE(Committenti!B671,\"  \",Committenti!C671,\"  CF: \",Committenti!D671),\"\")","v":""}]
["",null,null,null,null,null,null,null,null,null,null,null,null,null,null,null,{"$f":"IF(Committenti!D672<>\"\",CONCATENATE(Committenti!B672,\"  \",Committenti!C672,\"  CF: \",Committenti!D672),\"\")","v":""}]
["",null,null,null,null,null,null,null,null,null,null,null,null,null,null,null,{"$f":"IF(Committenti!D673<>\"\",CONCATENATE(Committenti!B673,\"  \",Committenti!C673,\"  CF: \",Committenti!D673),\"\")","v":""}]
["",null,null,null,null,null,null,null,null,null,null,null,null,null,null,null,{"$f":"IF(Committenti!D674<>\"\",CONCATENATE(Committenti!B674,\"  \",Committenti!C674,\"  CF: \",Committenti!D674),\"\")","v":""}]
["",null,null,null,null,null,null,null,null,null,null,null,null,null,null,null,{"$f":"IF(Committenti!D675<>\"\",CONCATENATE(Committenti!B675,\"  \",Committenti!C675,\"  CF: \",Committenti!D675),\"\")","v":""}]
["",null,null,null,null,null,null,null,null,null,null,null,null,null,null,null,{"$f":"IF(Committenti!D676<>\"\",CONCATENATE(Committenti!B676,\"  \",Committenti!C676,\"  CF: \",Committenti!D676),\"\")","v":""}]
["",null,null,null,null,null,null,null,null,null,null,null,null,null,null,null,{"$f":"IF(Committenti!D677<>\"\",CONCATENATE(Committenti!B677,\"  \",Committenti!C677,\"  CF: \",Committenti!D677),\"\")","v":""}]
["",null,null,null,null,null,null,null,null,null,null,null,null,null,null,null,{"$f":"IF(Committenti!D678<>\"\",CONCATENATE(Committenti!B678,\"  \",Committenti!C678,\"  CF: \",Committenti!D678),\"\")","v":""}]
["",null,null,null,null,null,null,null,null,null,null,null,null,null,null,null,{"$f":"IF(Committenti!D679<>\"\",CONCATENATE(Committenti!B679,\"  \",Committenti!C679,\"  CF: \",Committenti!D679),\"\")","v":""}]
["",null,null,null,null,null,null,null,null,null,null,null,null,null,null,null,{"$f":"IF(Committenti!D680<>\"\",CONCATENATE(Committenti!B680,\"  \",Committenti!C680,\"  CF: \",Committenti!D680),\"\")","v":""}]
["",null,null,null,null,null,null,null,null,null,null,null,null,null,null,null,{"$f":"IF(Committenti!D681<>\"\",CONCATENATE(Committenti!B681,\"  \",Committenti!C681,\"  CF: \",Committenti!D681),\"\")","v":""}]
["",null,null,null,null,null,null,null,null,null,null,null,null,null,null,null,{"$f":"IF(Committenti!D682<>\"\",CONCATENATE(Committenti!B682,\"  \",Committenti!C682,\"  CF: \",Committenti!D682),\"\")","v":""}]
["",null,null,null,null,null,null,null,null,null,null,null,null,null,null,null,{"$f":"IF(Committenti!D683<>\"\",CONCATENATE(Committenti!B683,\"  \",Committenti!C683,\"  CF: \",Committenti!D683),\"\")","v":""}]
["",null,null,null,null,null,null,null,null,null,null,null,null,null,null,null,{"$f":"IF(Committenti!D684<>\"\",CONCATENATE(Committenti!B684,\"  \",Committenti!C684,\"  CF: \",Committenti!D684),\"\")","v":""}]
["",null,null,null,null,null,null,null,null,null,null,null,null,null,null,null,{"$f":"IF(Committenti!D685<>\"\",CONCATENATE(Committenti!B685,\"  \",Committenti!C685,\"  CF: \",Committenti!D685),\"\")","v":""}]
["",null,null,null,null,null,null,null,null,null,null,null,null,null,null,null,{"$f":"IF(Committenti!D686<>\"\",CONCATENATE(Committenti!B686,\"  \",Committenti!C686,\"  CF: \",Committenti!D686),\"\")","v":""}]
["",null,null,null,null,null,null,null,null,null,null,null,null,null,null,null,{"$f":"IF(Committenti!D687<>\"\",CONCATENATE(Committenti!B687,\"  \",Committenti!C687,\"  CF: \",Committenti!D687),\"\")","v":""}]
["",null,null,null,null,null,null,null,null,null,null,null,null,null,null,null,{"$f":"IF(Committenti!D688<>\"\",CONCATENATE(Committenti!B688,\"  \",Committenti!C688,\"  CF: \",Committenti!D688),\"\")","v":""}]
["",null,null,null,null,null,null,null,null,null,null,null,null,null,null,null,{"$f":"IF(Committenti!D689<>\"\",CONCATENATE(Committenti!B689,\"  \",Committenti!C689,\"  CF: \",Committenti!D689),\"\")","v":""}]
["",null,null,null,null,null,null,null,null,null,null,null,null,null,null,null,{"$f":"IF(Committenti!D690<>\"\",CONCATENATE(Committenti!B690,\"  \",Committenti!C690,\"  CF: \",Committenti!D690),\"\")","v":""}]
["",null,null,null,null,null,null,null,null,null,null,null,null,null,null,null,{"$f":"IF(Committenti!D691<>\"\",CONCATENATE(Committenti!B691,\"  \",Committenti!C691,\"  CF: \",Committenti!D691),\"\")","v":""}]
["",null,null,null,null,null,null,null,null,null,null,null,null,null,null,null,{"$f":"IF(Committenti!D692<>\"\",CONCATENATE(Committenti!B692,\"  \",Committenti!C692,\"  CF: \",Committenti!D692),\"\")","v":""}]
["",null,null,null,null,null,null,null,null,null,null,null,null,null,null,null,{"$f":"IF(Committenti!D693<>\"\",CONCATENATE(Committenti!B693,\"  \",Committenti!C693,\"  CF: \",Committenti!D693),\"\")","v":""}]
["",null,null,null,null,null,null,null,null,null,null,null,null,null,null,null,{"$f":"IF(Committenti!D694<>\"\",CONCATENATE(Committenti!B694,\"  \",Committenti!C694,\"  CF: \",Committenti!D694),\"\")","v":""}]
["",null,null,null,null,null,null,null,null,null,null,null,null,null,null,null,{"$f":"IF(Committenti!D695<>\"\",CONCATENATE(Committenti!B695,\"  \",Committenti!C695,\"  CF: \",Committenti!D695),\"\")","v":""}]
["",null,null,null,null,null,null,null,null,null,null,null,null,null,null,null,{"$f":"IF(Committenti!D696<>\"\",CONCATENATE(Committenti!B696,\"  \",Committenti!C696,\"  CF: \",Committenti!D696),\"\")","v":""}]
["",null,null,null,null,null,null,null,null,null,null,null,null,null,null,null,{"$f":"IF(Committenti!D697<>\"\",CONCATENATE(Committenti!B697,\"  \",Committenti!C697,\"  CF: \",Committenti!D697),\"\")","v":""}]
["",null,null,null,null,null,null,null,null,null,null,null,null,null,null,null,{"$f":"IF(Committenti!D698<>\"\",CONCATENATE(Committenti!B698,\"  \",Committenti!C698,\"  CF: \",Committenti!D698),\"\")","v":""}]
["",null,null,null,null,null,null,null,null,null,null,null,null,null,null,null,{"$f":"IF(Committenti!D699<>\"\",CONCATENATE(Committenti!B699,\"  \",Committenti!C699,\"  CF: \",Committenti!D699),\"\")","v":""}]
["",null,null,null,null,null,null,null,null,null,null,null,null,null,null,null,{"$f":"IF(Committenti!D700<>\"\",CONCATENATE(Committenti!B700,\"  \",Committenti!C700,\"  CF: \",Committenti!D700),\"\")","v":""}]
["",null,null,null,null,null,null,null,null,null,null,null,null,null,null,null,{"$f":"IF(Committenti!D701<>\"\",CONCATENATE(Committenti!B701,\"  \",Committenti!C701,\"  CF: \",Committenti!D701),\"\")","v":""}]
["",null,null,null,null,null,null,null,null,null,null,null,null,null,null,null,{"$f":"IF(Committenti!D702<>\"\",CONCATENATE(Committenti!B702,\"  \",Committenti!C702,\"  CF: \",Committenti!D702),\"\")","v":""}]
["",null,null,null,null,null,null,null,null,null,null,null,null,null,null,null,{"$f":"IF(Committenti!D703<>\"\",CONCATENATE(Committenti!B703,\"  \",Committenti!C703,\"  CF: \",Committenti!D703),\"\")","v":""}]
["",null,null,null,null,null,null,null,null,null,null,null,null,null,null,null,{"$f":"IF(Committenti!D704<>\"\",CONCATENATE(Committenti!B704,\"  \",Committenti!C704,\"  CF: \",Committenti!D704),\"\")","v":""}]
["",null,null,null,null,null,null,null,null,null,null,null,null,null,null,null,{"$f":"IF(Committenti!D705<>\"\",CONCATENATE(Committenti!B705,\"  \",Committenti!C705,\"  CF: \",Committenti!D705),\"\")","v":""}]
["",null,null,null,null,null,null,null,null,null,null,null,null,null,null,null,{"$f":"IF(Committenti!D706<>\"\",CONCATENATE(Committenti!B706,\"  \",Committenti!C706,\"  CF: \",Committenti!D706),\"\")","v":""}]
["",null,null,null,null,null,null,null,null,null,null,null,null,null,null,null,{"$f":"IF(Committenti!D707<>\"\",CONCATENATE(Committenti!B707,\"  \",Committenti!C707,\"  CF: \",Committenti!D707),\"\")","v":""}]
["",null,null,null,null,null,null,null,null,null,null,null,null,null,null,null,{"$f":"IF(Committenti!D708<>\"\",CONCATENATE(Committenti!B708,\"  \",Committenti!C708,\"  CF: \",Committenti!D708),\"\")","v":""}]
[{"$f":"IF(B709<>\"\", IF(A708<>\"\",A708+1,\"\"),\"\")","v":""},null,null,null,null,null,null,null,null,null,null,null,null,null,null,null,{"$f":"IF(Committenti!D709<>\"\",CONCATENATE(Committenti!B709,\"  \",Committenti!C709,\"  CF: \",Committenti!D709),\"\")","v":""}]
["",null,null,null,null,null,null,null,null,null,null,null,null,null,null,null,{"$f":"IF(Committenti!D710<>\"\",CONCATENATE(Committenti!B710,\"  \",Committenti!C710,\"  CF: \",Committenti!D710),\"\")","v":""}]
["",null,null,null,null,null,null,null,null,null,null,null,null,null,null,null,{"$f":"IF(Committenti!D711<>\"\",CONCATENATE(Committenti!B711,\"  \",Committenti!C711,\"  CF: \",Committenti!D711),\"\")","v":""}]
["",null,null,null,null,null,null,null,null,null,null,null,null,null,null,null,{"$f":"IF(Committenti!D712<>\"\",CONCATENATE(Committenti!B712,\"  \",Committenti!C712,\"  CF: \",Committenti!D712),\"\")","v":""}]
["",null,null,null,null,null,null,null,null,null,null,null,null,null,null,null,{"$f":"IF(Committenti!D713<>\"\",CONCATENATE(Committenti!B713,\"  \",Committenti!C713,\"  CF: \",Committenti!D713),\"\")","v":""}]
["",null,null,null,null,null,null,null,null,null,null,null,null,null,null,null,{"$f":"IF(Committenti!D714<>\"\",CONCATENATE(Committenti!B714,\"  \",Committenti!C714,\"  CF: \",Committenti!D714),\"\")","v":""}]
["",null,null,null,null,null,null,null,null,null,null,null,null,null,null,null,{"$f":"IF(Committenti!D715<>\"\",CONCATENATE(Committenti!B715,\"  \",Committenti!C715,\"  CF: \",Committenti!D715),\"\")","v":""}]
["",null,null,null,null,null,null,null,null,null,null,null,null,null,null,null,{"$f":"IF(Committenti!D716<>\"\",CONCATENATE(Committenti!B716,\"  \",Committenti!C716,\"  CF: \",Committenti!D716),\"\")","v":""}]
["",null,null,null,null,null,null,null,null,null,null,null,null,null,null,null,{"$f":"IF(Committenti!D717<>\"\",CONCATENATE(Committenti!B717,\"  \",Committenti!C717,\"  CF: \",Committenti!D717),\"\")","v":""}]
["",null,null,null,null,null,null,null,null,null,null,null,null,null,null,null,{"$f":"IF(Committenti!D718<>\"\",CONCATENATE(Committenti!B718,\"  \",Committenti!C718,\"  CF: \",Committenti!D718),\"\")","v":""}]
["",null,null,null,null,null,null,null,null,null,null,null,null,null,null,null,{"$f":"IF(Committenti!D719<>\"\",CONCATENATE(Committenti!B719,\"  \",Committenti!C719,\"  CF: \",Committenti!D719),\"\")","v":""}]
["",null,null,null,null,null,null,null,null,null,null,null,null,null,null,null,{"$f":"IF(Committenti!D720<>\"\",CONCATENATE(Committenti!B720,\"  \",Committenti!C720,\"  CF: \",Committenti!D720),\"\")","v":""}]
["",null,null,null,null,null,null,null,null,null,null,null,null,null,null,null,{"$f":"IF(Committenti!D721<>\"\",CONCATENATE(Committenti!B721,\"  \",Committenti!C721,\"  CF: \",Committenti!D721),\"\")","v":""}]
["",null,null,null,null,null,null,null,null,null,null,null,null,null,null,null,{"$f":"IF(Committenti!D722<>\"\",CONCATENATE(Committenti!B722,\"  \",Committenti!C722,\"  CF: \",Committenti!D722),\"\")","v":""}]
["",null,null,null,null,null,null,null,null,null,null,null,null,null,null,null,{"$f":"IF(Committenti!D723<>\"\",CONCATENATE(Committenti!B723,\"  \",Committenti!C723,\"  CF: \",Committenti!D723),\"\")","v":""}]
["",null,null,null,null,null,null,null,null,null,null,null,null,null,null,null,{"$f":"IF(Committenti!D724<>\"\",CONCATENATE(Committenti!B724,\"  \",Committenti!C724,\"  CF: \",Committenti!D724),\"\")","v":""}]
["",null,null,null,null,null,null,null,null,null,null,null,null,null,null,null,{"$f":"IF(Committenti!D725<>\"\",CONCATENATE(Committenti!B725,\"  \",Committenti!C725,\"  CF: \",Committenti!D725),\"\")","v":""}]
["",null,null,null,null,null,null,null,null,null,null,null,null,null,null,null,{"$f":"IF(Committenti!D726<>\"\",CONCATENATE(Committenti!B726,\"  \",Committenti!C726,\"  CF: \",Committenti!D726),\"\")","v":""}]
["",null,null,null,null,null,null,null,null,null,null,null,null,null,null,null,{"$f":"IF(Committenti!D727<>\"\",CONCATENATE(Committenti!B727,\"  \",Committenti!C727,\"  CF: \",Committenti!D727),\"\")","v":""}]
["",null,null,null,null,null,null,null,null,null,null,null,null,null,null,null,{"$f":"IF(Committenti!D728<>\"\",CONCATENATE(Committenti!B728,\"  \",Committenti!C728,\"  CF: \",Committenti!D728),\"\")","v":""}]
["",null,null,null,null,null,null,null,null,null,null,null,null,null,null,null,{"$f":"IF(Committenti!D729<>\"\",CONCATENATE(Committenti!B729,\"  \",Committenti!C729,\"  CF: \",Committenti!D729),\"\")","v":""}]
["",null,null,null,null,null,null,null,null,null,null,null,null,null,null,null,{"$f":"IF(Committenti!D730<>\"\",CONCATENATE(Committenti!B730,\"  \",Committenti!C730,\"  CF: \",Committenti!D730),\"\")","v":""}]
["",null,null,null,null,null,null,null,null,null,null,null,null,null,null,null,{"$f":"IF(Committenti!D731<>\"\",CONCATENATE(Committenti!B731,\"  \",Committenti!C731,\"  CF: \",Committenti!D731),\"\")","v":""}]
["",null,null,null,null,null,null,null,null,null,null,null,null,null,null,null,{"$f":"IF(Committenti!D732<>\"\",CONCATENATE(Committenti!B732,\"  \",Committenti!C732,\"  CF: \",Committenti!D732),\"\")","v":""}]
["",null,null,null,null,null,null,null,null,null,null,null,null,null,null,null,{"$f":"IF(Committenti!D733<>\"\",CONCATENATE(Committenti!B733,\"  \",Committenti!C733,\"  CF: \",Committenti!D733),\"\")","v":""}]
["",null,null,null,null,null,null,null,null,null,null,null,null,null,null,null,{"$f":"IF(Committenti!D734<>\"\",CONCATENATE(Committenti!B734,\"  \",Committenti!C734,\"  CF: \",Committenti!D734),\"\")","v":""}]
["",null,null,null,null,null,null,null,null,null,null,null,null,null,null,null,{"$f":"IF(Committenti!D735<>\"\",CONCATENATE(Committenti!B735,\"  \",Committenti!C735,\"  CF: \",Committenti!D735),\"\")","v":""}]
["",null,null,null,null,null,null,null,null,null,null,null,null,null,null,null,{"$f":"IF(Committenti!D736<>\"\",CONCATENATE(Committenti!B736,\"  \",Committenti!C736,\"  CF: \",Committenti!D736),\"\")","v":""}]
["",null,null,null,null,null,null,null,null,null,null,null,null,null,null,null,{"$f":"IF(Committenti!D737<>\"\",CONCATENATE(Committenti!B737,\"  \",Committenti!C737,\"  CF: \",Committenti!D737),\"\")","v":""}]
["",null,null,null,null,null,null,null,null,null,null,null,null,null,null,null,{"$f":"IF(Committenti!D738<>\"\",CONCATENATE(Committenti!B738,\"  \",Committenti!C738,\"  CF: \",Committenti!D738),\"\")","v":""}]
["",null,null,null,null,null,null,null,null,null,null,null,null,null,null,null,{"$f":"IF(Committenti!D739<>\"\",CONCATENATE(Committenti!B739,\"  \",Committenti!C739,\"  CF: \",Committenti!D739),\"\")","v":""}]
["",null,null,null,null,null,null,null,null,null,null,null,null,null,null,null,{"$f":"IF(Committenti!D740<>\"\",CONCATENATE(Committenti!B740,\"  \",Committenti!C740,\"  CF: \",Committenti!D740),\"\")","v":""}]
["",null,null,null,null,null,null,null,null,null,null,null,null,null,null,null,{"$f":"IF(Committenti!D741<>\"\",CONCATENATE(Committenti!B741,\"  \",Committenti!C741,\"  CF: \",Committenti!D741),\"\")","v":""}]
["",null,null,null,null,null,null,null,null,null,null,null,null,null,null,null,{"$f":"IF(Committenti!D742<>\"\",CONCATENATE(Committenti!B742,\"  \",Committenti!C742,\"  CF: \",Committenti!D742),\"\")","v":""}]
["",null,null,null,null,null,null,null,null,null,null,null,null,null,null,null,{"$f":"IF(Committenti!D743<>\"\",CONCATENATE(Committenti!B743,\"  \",Committenti!C743,\"  CF: \",Committenti!D743),\"\")","v":""}]
["",null,null,null,null,null,null,null,null,null,null,null,null,null,null,null,{"$f":"IF(Committenti!D744<>\"\",CONCATENATE(Committenti!B744,\"  \",Committenti!C744,\"  CF: \",Committenti!D744),\"\")","v":""}]
["",null,null,null,null,null,null,null,null,null,null,null,null,null,null,null,{"$f":"IF(Committenti!D745<>\"\",CONCATENATE(Committenti!B745,\"  \",Committenti!C745,\"  CF: \",Committenti!D745),\"\")","v":""}]
["",null,null,null,null,null,null,null,null,null,null,null,null,null,null,null,{"$f":"IF(Committenti!D746<>\"\",CONCATENATE(Committenti!B746,\"  \",Committenti!C746,\"  CF: \",Committenti!D746),\"\")","v":""}]
["",null,null,null,null,null,null,null,null,null,null,null,null,null,null,null,{"$f":"IF(Committenti!D747<>\"\",CONCATENATE(Committenti!B747,\"  \",Committenti!C747,\"  CF: \",Committenti!D747),\"\")","v":""}]
["",null,null,null,null,null,null,null,null,null,null,null,null,null,null,null,{"$f":"IF(Committenti!D748<>\"\",CONCATENATE(Committenti!B748,\"  \",Committenti!C748,\"  CF: \",Committenti!D748),\"\")","v":""}]
["",null,null,null,null,null,null,null,null,null,null,null,null,null,null,null,{"$f":"IF(Committenti!D749<>\"\",CONCATENATE(Committenti!B749,\"  \",Committenti!C749,\"  CF: \",Committenti!D749),\"\")","v":""}]
["",null,null,null,null,null,null,null,null,null,null,null,null,null,null,null,{"$f":"IF(Committenti!D750<>\"\",CONCATENATE(Committenti!B750,\"  \",Committenti!C750,\"  CF: \",Committenti!D750),\"\")","v":""}]
["",null,null,null,null,null,null,null,null,null,null,null,null,null,null,null,{"$f":"IF(Committenti!D751<>\"\",CONCATENATE(Committenti!B751,\"  \",Committenti!C751,\"  CF: \",Committenti!D751),\"\")","v":""}]
["",null,null,null,null,null,null,null,null,null,null,null,null,null,null,null,{"$f":"IF(Committenti!D752<>\"\",CONCATENATE(Committenti!B752,\"  \",Committenti!C752,\"  CF: \",Committenti!D752),\"\")","v":""}]
["",null,null,null,null,null,null,null,null,null,null,null,null,null,null,null,{"$f":"IF(Committenti!D753<>\"\",CONCATENATE(Committenti!B753,\"  \",Committenti!C753,\"  CF: \",Committenti!D753),\"\")","v":""}]
["",null,null,null,null,null,null,null,null,null,null,null,null,null,null,null,{"$f":"IF(Committenti!D754<>\"\",CONCATENATE(Committenti!B754,\"  \",Committenti!C754,\"  CF: \",Committenti!D754),\"\")","v":""}]
["",null,null,null,null,null,null,null,null,null,null,null,null,null,null,null,{"$f":"IF(Committenti!D755<>\"\",CONCATENATE(Committenti!B755,\"  \",Committenti!C755,\"  CF: \",Committenti!D755),\"\")","v":""}]
["",null,null,null,null,null,null,null,null,null,null,null,null,null,null,null,{"$f":"IF(Committenti!D756<>\"\",CONCATENATE(Committenti!B756,\"  \",Committenti!C756,\"  CF: \",Committenti!D756),\"\")","v":""}]
["",null,null,null,null,null,null,null,null,null,null,null,null,null,null,null,{"$f":"IF(Committenti!D757<>\"\",CONCATENATE(Committenti!B757,\"  \",Committenti!C757,\"  CF: \",Committenti!D757),\"\")","v":""}]
["",null,null,null,null,null,null,null,null,null,null,null,null,null,null,null,{"$f":"IF(Committenti!D758<>\"\",CONCATENATE(Committenti!B758,\"  \",Committenti!C758,\"  CF: \",Committenti!D758),\"\")","v":""}]
["",null,null,null,null,null,null,null,null,null,null,null,null,null,null,null,{"$f":"IF(Committenti!D759<>\"\",CONCATENATE(Committenti!B759,\"  \",Committenti!C759,\"  CF: \",Committenti!D759),\"\")","v":""}]
["",null,null,null,null,null,null,null,null,null,null,null,null,null,null,null,{"$f":"IF(Committenti!D760<>\"\",CONCATENATE(Committenti!B760,\"  \",Committenti!C760,\"  CF: \",Committenti!D760),\"\")","v":""}]
["",null,null,null,null,null,null,null,null,null,null,null,null,null,null,null,{"$f":"IF(Committenti!D761<>\"\",CONCATENATE(Committenti!B761,\"  \",Committenti!C761,\"  CF: \",Committenti!D761),\"\")","v":""}]
["",null,null,null,null,null,null,null,null,null,null,null,null,null,null,null,{"$f":"IF(Committenti!D762<>\"\",CONCATENATE(Committenti!B762,\"  \",Committenti!C762,\"  CF: \",Committenti!D762),\"\")","v":""}]
["",null,null,null,null,null,null,null,null,null,null,null,null,null,null,null,{"$f":"IF(Committenti!D763<>\"\",CONCATENATE(Committenti!B763,\"  \",Committenti!C763,\"  CF: \",Committenti!D763),\"\")","v":""}]
["",null,null,null,null,null,null,null,null,null,null,null,null,null,null,null,{"$f":"IF(Committenti!D764<>\"\",CONCATENATE(Committenti!B764,\"  \",Committenti!C764,\"  CF: \",Committenti!D764),\"\")","v":""}]
["",null,null,null,null,null,null,null,null,null,null,null,null,null,null,null,{"$f":"IF(Committenti!D765<>\"\",CONCATENATE(Committenti!B765,\"  \",Committenti!C765,\"  CF: \",Committenti!D765),\"\")","v":""}]
["",null,null,null,null,null,null,null,null,null,null,null,null,null,null,null,{"$f":"IF(Committenti!D766<>\"\",CONCATENATE(Committenti!B766,\"  \",Committenti!C766,\"  CF: \",Committenti!D766),\"\")","v":""}]
["",null,null,null,null,null,null,null,null,null,null,null,null,null,null,null,{"$f":"IF(Committenti!D767<>\"\",CONCATENATE(Committenti!B767,\"  \",Committenti!C767,\"  CF: \",Committenti!D767),\"\")","v":""}]
["",null,null,null,null,null,null,null,null,null,null,null,null,null,null,null,{"$f":"IF(Committenti!D768<>\"\",CONCATENATE(Committenti!B768,\"  \",Committenti!C768,\"  CF: \",Committenti!D768),\"\")","v":""}]
["",null,null,null,null,null,null,null,null,null,null,null,null,null,null,null,{"$f":"IF(Committenti!D769<>\"\",CONCATENATE(Committenti!B769,\"  \",Committenti!C769,\"  CF: \",Committenti!D769),\"\")","v":""}]
["",null,null,null,null,null,null,null,null,null,null,null,null,null,null,null,{"$f":"IF(Committenti!D770<>\"\",CONCATENATE(Committenti!B770,\"  \",Committenti!C770,\"  CF: \",Committenti!D770),\"\")","v":""}]
["",null,null,null,null,null,null,null,null,null,null,null,null,null,null,null,{"$f":"IF(Committenti!D771<>\"\",CONCATENATE(Committenti!B771,\"  \",Committenti!C771,\"  CF: \",Committenti!D771),\"\")","v":""}]
["",null,null,null,null,null,null,null,null,null,null,null,null,null,null,null,{"$f":"IF(Committenti!D772<>\"\",CONCATENATE(Committenti!B772,\"  \",Committenti!C772,\"  CF: \",Committenti!D772),\"\")","v":""}]
[{"$f":"IF(B773<>\"\", IF(A772<>\"\",A772+1,\"\"),\"\")","v":""},null,null,null,null,null,null,null,null,null,null,null,null,null,null,null,{"$f":"IF(Committenti!D773<>\"\",CONCATENATE(Committenti!B773,\"  \",Committenti!C773,\"  CF: \",Committenti!D773),\"\")","v":""}]
["",null,null,null,null,null,null,null,null,null,null,null,null,null,null,null,{"$f":"IF(Committenti!D774<>\"\",CONCATENATE(Committenti!B774,\"  \",Committenti!C774,\"  CF: \",Committenti!D774),\"\")","v":""}]
["",null,null,null,null,null,null,null,null,null,null,null,null,null,null,null,{"$f":"IF(Committenti!D775<>\"\",CONCATENATE(Committenti!B775,\"  \",Committenti!C775,\"  CF: \",Committenti!D775),\"\")","v":""}]
["",null,null,null,null,null,null,null,null,null,null,null,null,null,null,null,{"$f":"IF(Committenti!D776<>\"\",CONCATENATE(Committenti!B776,\"  \",Committenti!C776,\"  CF: \",Committenti!D776),\"\")","v":""}]
["",null,null,null,null,null,null,null,null,null,null,null,null,null,null,null,{"$f":"IF(Committenti!D777<>\"\",CONCATENATE(Committenti!B777,\"  \",Committenti!C777,\"  CF: \",Committenti!D777),\"\")","v":""}]
["",null,null,null,null,null,null,null,null,null,null,null,null,null,null,null,{"$f":"IF(Committenti!D778<>\"\",CONCATENATE(Committenti!B778,\"  \",Committenti!C778,\"  CF: \",Committenti!D778),\"\")","v":""}]
["",null,null,null,null,null,null,null,null,null,null,null,null,null,null,null,{"$f":"IF(Committenti!D779<>\"\",CONCATENATE(Committenti!B779,\"  \",Committenti!C779,\"  CF: \",Committenti!D779),\"\")","v":""}]
["",null,null,null,null,null,null,null,null,null,null,null,null,null,null,null,{"$f":"IF(Committenti!D780<>\"\",CONCATENATE(Committenti!B780,\"  \",Committenti!C780,\"  CF: \",Committenti!D780),\"\")","v":""}]
["",null,null,null,null,null,null,null,null,null,null,null,null,null,null,null,{"$f":"IF(Committenti!D781<>\"\",CONCATENATE(Committenti!B781,\"  \",Committenti!C781,\"  CF: \",Committenti!D781),\"\")","v":""}]
["",null,null,null,null,null,null,null,null,null,null,null,null,null,null,null,{"$f":"IF(Committenti!D782<>\"\",CONCATENATE(Committenti!B782,\"  \",Committenti!C782,\"  CF: \",Committenti!D782),\"\")","v":""}]
["",null,null,null,null,null,null,null,null,null,null,null,null,null,null,null,{"$f":"IF(Committenti!D783<>\"\",CONCATENATE(Committenti!B783,\"  \",Committenti!C783,\"  CF: \",Committenti!D783),\"\")","v":""}]
["",null,null,null,null,null,null,null,null,null,null,null,null,null,null,null,{"$f":"IF(Committenti!D784<>\"\",CONCATENATE(Committenti!B784,\"  \",Committenti!C784,\"  CF: \",Committenti!D784),\"\")","v":""}]
["",null,null,null,null,null,null,null,null,null,null,null,null,null,null,null,{"$f":"IF(Committenti!D785<>\"\",CONCATENATE(Committenti!B785,\"  \",Committenti!C785,\"  CF: \",Committenti!D785),\"\")","v":""}]
["",null,null,null,null,null,null,null,null,null,null,null,null,null,null,null,{"$f":"IF(Committenti!D786<>\"\",CONCATENATE(Committenti!B786,\"  \",Committenti!C786,\"  CF: \",Committenti!D786),\"\")","v":""}]
["",null,null,null,null,null,null,null,null,null,null,null,null,null,null,null,{"$f":"IF(Committenti!D787<>\"\",CONCATENATE(Committenti!B787,\"  \",Committenti!C787,\"  CF: \",Committenti!D787),\"\")","v":""}]
["",null,null,null,null,null,null,null,null,null,null,null,null,null,null,null,{"$f":"IF(Committenti!D788<>\"\",CONCATENATE(Committenti!B788,\"  \",Committenti!C788,\"  CF: \",Committenti!D788),\"\")","v":""}]
["",null,null,null,null,null,null,null,null,null,null,null,null,null,null,null,{"$f":"IF(Committenti!D789<>\"\",CONCATENATE(Committenti!B789,\"  \",Committenti!C789,\"  CF: \",Committenti!D789),\"\")","v":""}]
["",null,null,null,null,null,null,null,null,null,null,null,null,null,null,null,{"$f":"IF(Committenti!D790<>\"\",CONCATENATE(Committenti!B790,\"  \",Committenti!C790,\"  CF: \",Committenti!D790),\"\")","v":""}]
["",null,null,null,null,null,null,null,null,null,null,null,null,null,null,null,{"$f":"IF(Committenti!D791<>\"\",CONCATENATE(Committenti!B791,\"  \",Committenti!C791,\"  CF: \",Committenti!D791),\"\")","v":""}]
["",null,null,null,null,null,null,null,null,null,null,null,null,null,null,null,{"$f":"IF(Committenti!D792<>\"\",CONCATENATE(Committenti!B792,\"  \",Committenti!C792,\"  CF: \",Committenti!D792),\"\")","v":""}]
["",null,null,null,null,null,null,null,null,null,null,null,null,null,null,null,{"$f":"IF(Committenti!D793<>\"\",CONCATENATE(Committenti!B793,\"  \",Committenti!C793,\"  CF: \",Committenti!D793),\"\")","v":""}]
["",null,null,null,null,null,null,null,null,null,null,null,null,null,null,null,{"$f":"IF(Committenti!D794<>\"\",CONCATENATE(Committenti!B794,\"  \",Committenti!C794,\"  CF: \",Committenti!D794),\"\")","v":""}]
["",null,null,null,null,null,null,null,null,null,null,null,null,null,null,null,{"$f":"IF(Committenti!D795<>\"\",CONCATENATE(Committenti!B795,\"  \",Committenti!C795,\"  CF: \",Committenti!D795),\"\")","v":""}]
["",null,null,null,null,null,null,null,null,null,null,null,null,null,null,null,{"$f":"IF(Committenti!D796<>\"\",CONCATENATE(Committenti!B796,\"  \",Committenti!C796,\"  CF: \",Committenti!D796),\"\")","v":""}]
["",null,null,null,null,null,null,null,null,null,null,null,null,null,null,null,{"$f":"IF(Committenti!D797<>\"\",CONCATENATE(Committenti!B797,\"  \",Committenti!C797,\"  CF: \",Committenti!D797),\"\")","v":""}]
["",null,null,null,null,null,null,null,null,null,null,null,null,null,null,null,{"$f":"IF(Committenti!D798<>\"\",CONCATENATE(Committenti!B798,\"  \",Committenti!C798,\"  CF: \",Committenti!D798),\"\")","v":""}]
["",null,null,null,null,null,null,null,null,null,null,null,null,null,null,null,{"$f":"IF(Committenti!D799<>\"\",CONCATENATE(Committenti!B799,\"  \",Committenti!C799,\"  CF: \",Committenti!D799),\"\")","v":""}]
["",null,null,null,null,null,null,null,null,null,null,null,null,null,null,null,{"$f":"IF(Committenti!D800<>\"\",CONCATENATE(Committenti!B800,\"  \",Committenti!C800,\"  CF: \",Committenti!D800),\"\")","v":""}]
["",null,null,null,null,null,null,null,null,null,null,null,null,null,null,null,{"$f":"IF(Committenti!D801<>\"\",CONCATENATE(Committenti!B801,\"  \",Committenti!C801,\"  CF: \",Committenti!D801),\"\")","v":""}]
["",null,null,null,null,null,null,null,null,null,null,null,null,null,null,null,{"$f":"IF(Committenti!D802<>\"\",CONCATENATE(Committenti!B802,\"  \",Committenti!C802,\"  CF: \",Committenti!D802),\"\")","v":""}]
["",null,null,null,null,null,null,null,null,null,null,null,null,null,null,null,{"$f":"IF(Committenti!D803<>\"\",CONCATENATE(Committenti!B803,\"  \",Committenti!C803,\"  CF: \",Committenti!D803),\"\")","v":""}]
["",null,null,null,null,null,null,null,null,null,null,null,null,null,null,null,{"$f":"IF(Committenti!D804<>\"\",CONCATENATE(Committenti!B804,\"  \",Committenti!C804,\"  CF: \",Committenti!D804),\"\")","v":""}]
["",null,null,null,null,null,null,null,null,null,null,null,null,null,null,null,{"$f":"IF(Committenti!D805<>\"\",CONCATENATE(Committenti!B805,\"  \",Committenti!C805,\"  CF: \",Committenti!D805),\"\")","v":""}]
["",null,null,null,null,null,null,null,null,null,null,null,null,null,null,null,{"$f":"IF(Committenti!D806<>\"\",CONCATENATE(Committenti!B806,\"  \",Committenti!C806,\"  CF: \",Committenti!D806),\"\")","v":""}]
["",null,null,null,null,null,null,null,null,null,null,null,null,null,null,null,{"$f":"IF(Committenti!D807<>\"\",CONCATENATE(Committenti!B807,\"  \",Committenti!C807,\"  CF: \",Committenti!D807),\"\")","v":""}]
["",null,null,null,null,null,null,null,null,null,null,null,null,null,null,null,{"$f":"IF(Committenti!D808<>\"\",CONCATENATE(Committenti!B808,\"  \",Committenti!C808,\"  CF: \",Committenti!D808),\"\")","v":""}]
["",null,null,null,null,null,null,null,null,null,null,null,null,null,null,null,{"$f":"IF(Committenti!D809<>\"\",CONCATENATE(Committenti!B809,\"  \",Committenti!C809,\"  CF: \",Committenti!D809),\"\")","v":""}]
["",null,null,null,null,null,null,null,null,null,null,null,null,null,null,null,{"$f":"IF(Committenti!D810<>\"\",CONCATENATE(Committenti!B810,\"  \",Committenti!C810,\"  CF: \",Committenti!D810),\"\")","v":""}]
["",null,null,null,null,null,null,null,null,null,null,null,null,null,null,null,{"$f":"IF(Committenti!D811<>\"\",CONCATENATE(Committenti!B811,\"  \",Committenti!C811,\"  CF: \",Committenti!D811),\"\")","v":""}]
["",null,null,null,null,null,null,null,null,null,null,null,null,null,null,null,{"$f":"IF(Committenti!D812<>\"\",CONCATENATE(Committenti!B812,\"  \",Committenti!C812,\"  CF: \",Committenti!D812),\"\")","v":""}]
["",null,null,null,null,null,null,null,null,null,null,null,null,null,null,null,{"$f":"IF(Committenti!D813<>\"\",CONCATENATE(Committenti!B813,\"  \",Committenti!C813,\"  CF: \",Committenti!D813),\"\")","v":""}]
["",null,null,null,null,null,null,null,null,null,null,null,null,null,null,null,{"$f":"IF(Committenti!D814<>\"\",CONCATENATE(Committenti!B814,\"  \",Committenti!C814,\"  CF: \",Committenti!D814),\"\")","v":""}]
["",null,null,null,null,null,null,null,null,null,null,null,null,null,null,null,{"$f":"IF(Committenti!D815<>\"\",CONCATENATE(Committenti!B815,\"  \",Committenti!C815,\"  CF: \",Committenti!D815),\"\")","v":""}]
["",null,null,null,null,null,null,null,null,null,null,null,null,null,null,null,{"$f":"IF(Committenti!D816<>\"\",CONCATENATE(Committenti!B816,\"  \",Committenti!C816,\"  CF: \",Committenti!D816),\"\")","v":""}]
["",null,null,null,null,null,null,null,null,null,null,null,null,null,null,null,{"$f":"IF(Committenti!D817<>\"\",CONCATENATE(Committenti!B817,\"  \",Committenti!C817,\"  CF: \",Committenti!D817),\"\")","v":""}]
["",null,null,null,null,null,null,null,null,null,null,null,null,null,null,null,{"$f":"IF(Committenti!D818<>\"\",CONCATENATE(Committenti!B818,\"  \",Committenti!C818,\"  CF: \",Committenti!D818),\"\")","v":""}]
["",null,null,null,null,null,null,null,null,null,null,null,null,null,null,null,{"$f":"IF(Committenti!D819<>\"\",CONCATENATE(Committenti!B819,\"  \",Committenti!C819,\"  CF: \",Committenti!D819),\"\")","v":""}]
["",null,null,null,null,null,null,null,null,null,null,null,null,null,null,null,{"$f":"IF(Committenti!D820<>\"\",CONCATENATE(Committenti!B820,\"  \",Committenti!C820,\"  CF: \",Committenti!D820),\"\")","v":""}]
["",null,null,null,null,null,null,null,null,null,null,null,null,null,null,null,{"$f":"IF(Committenti!D821<>\"\",CONCATENATE(Committenti!B821,\"  \",Committenti!C821,\"  CF: \",Committenti!D821),\"\")","v":""}]
["",null,null,null,null,null,null,null,null,null,null,null,null,null,null,null,{"$f":"IF(Committenti!D822<>\"\",CONCATENATE(Committenti!B822,\"  \",Committenti!C822,\"  CF: \",Committenti!D822),\"\")","v":""}]
["",null,null,null,null,null,null,null,null,null,null,null,null,null,null,null,{"$f":"IF(Committenti!D823<>\"\",CONCATENATE(Committenti!B823,\"  \",Committenti!C823,\"  CF: \",Committenti!D823),\"\")","v":""}]
["",null,null,null,null,null,null,null,null,null,null,null,null,null,null,null,{"$f":"IF(Committenti!D824<>\"\",CONCATENATE(Committenti!B824,\"  \",Committenti!C824,\"  CF: \",Committenti!D824),\"\")","v":""}]
["",null,null,null,null,null,null,null,null,null,null,null,null,null,null,null,{"$f":"IF(Committenti!D825<>\"\",CONCATENATE(Committenti!B825,\"  \",Committenti!C825,\"  CF: \",Committenti!D825),\"\")","v":""}]
["",null,null,null,null,null,null,null,null,null,null,null,null,null,null,null,{"$f":"IF(Committenti!D826<>\"\",CONCATENATE(Committenti!B826,\"  \",Committenti!C826,\"  CF: \",Committenti!D826),\"\")","v":""}]
["",null,null,null,null,null,null,null,null,null,null,null,null,null,null,null,{"$f":"IF(Committenti!D827<>\"\",CONCATENATE(Committenti!B827,\"  \",Committenti!C827,\"  CF: \",Committenti!D827),\"\")","v":""}]
["",null,null,null,null,null,null,null,null,null,null,null,null,null,null,null,{"$f":"IF(Committenti!D828<>\"\",CONCATENATE(Committenti!B828,\"  \",Committenti!C828,\"  CF: \",Committenti!D828),\"\")","v":""}]
["",null,null,null,null,null,null,null,null,null,null,null,null,null,null,null,{"$f":"IF(Committenti!D829<>\"\",CONCATENATE(Committenti!B829,\"  \",Committenti!C829,\"  CF: \",Committenti!D829),\"\")","v":""}]
["",null,null,null,null,null,null,null,null,null,null,null,null,null,null,null,{"$f":"IF(Committenti!D830<>\"\",CONCATENATE(Committenti!B830,\"  \",Committenti!C830,\"  CF: \",Committenti!D830),\"\")","v":""}]
["",null,null,null,null,null,null,null,null,null,null,null,null,null,null,null,{"$f":"IF(Committenti!D831<>\"\",CONCATENATE(Committenti!B831,\"  \",Committenti!C831,\"  CF: \",Committenti!D831),\"\")","v":""}]
["",null,null,null,null,null,null,null,null,null,null,null,null,null,null,null,{"$f":"IF(Committenti!D832<>\"\",CONCATENATE(Committenti!B832,\"  \",Committenti!C832,\"  CF: \",Committenti!D832),\"\")","v":""}]
["",null,null,null,null,null,null,null,null,null,null,null,null,null,null,null,{"$f":"IF(Committenti!D833<>\"\",CONCATENATE(Committenti!B833,\"  \",Committenti!C833,\"  CF: \",Committenti!D833),\"\")","v":""}]
["",null,null,null,null,null,null,null,null,null,null,null,null,null,null,null,{"$f":"IF(Committenti!D834<>\"\",CONCATENATE(Committenti!B834,\"  \",Committenti!C834,\"  CF: \",Committenti!D834),\"\")","v":""}]
["",null,null,null,null,null,null,null,null,null,null,null,null,null,null,null,{"$f":"IF(Committenti!D835<>\"\",CONCATENATE(Committenti!B835,\"  \",Committenti!C835,\"  CF: \",Committenti!D835),\"\")","v":""}]
["",null,null,null,null,null,null,null,null,null,null,null,null,null,null,null,{"$f":"IF(Committenti!D836<>\"\",CONCATENATE(Committenti!B836,\"  \",Committenti!C836,\"  CF: \",Committenti!D836),\"\")","v":""}]
[{"$f":"IF(B837<>\"\", IF(A836<>\"\",A836+1,\"\"),\"\")","v":""},null,null,null,null,null,null,null,null,null,null,null,null,null,null,null,{"$f":"IF(Committenti!D837<>\"\",CONCATENATE(Committenti!B837,\"  \",Committenti!C837,\"  CF: \",Committenti!D837),\"\")","v":""}]
["",null,null,null,null,null,null,null,null,null,null,null,null,null,null,null,{"$f":"IF(Committenti!D838<>\"\",CONCATENATE(Committenti!B838,\"  \",Committenti!C838,\"  CF: \",Committenti!D838),\"\")","v":""}]
["",null,null,null,null,null,null,null,null,null,null,null,null,null,null,null,{"$f":"IF(Committenti!D839<>\"\",CONCATENATE(Committenti!B839,\"  \",Committenti!C839,\"  CF: \",Committenti!D839),\"\")","v":""}]
["",null,null,null,null,null,null,null,null,null,null,null,null,null,null,null,{"$f":"IF(Committenti!D840<>\"\",CONCATENATE(Committenti!B840,\"  \",Committenti!C840,\"  CF: \",Committenti!D840),\"\")","v":""}]
["",null,null,null,null,null,null,null,null,null,null,null,null,null,null,null,{"$f":"IF(Committenti!D841<>\"\",CONCATENATE(Committenti!B841,\"  \",Committenti!C841,\"  CF: \",Committenti!D841),\"\")","v":""}]
["",null,null,null,null,null,null,null,null,null,null,null,null,null,null,null,{"$f":"IF(Committenti!D842<>\"\",CONCATENATE(Committenti!B842,\"  \",Committenti!C842,\"  CF: \",Committenti!D842),\"\")","v":""}]
["",null,null,null,null,null,null,null,null,null,null,null,null,null,null,null,{"$f":"IF(Committenti!D843<>\"\",CONCATENATE(Committenti!B843,\"  \",Committenti!C843,\"  CF: \",Committenti!D843),\"\")","v":""}]
["",null,null,null,null,null,null,null,null,null,null,null,null,null,null,null,{"$f":"IF(Committenti!D844<>\"\",CONCATENATE(Committenti!B844,\"  \",Committenti!C844,\"  CF: \",Committenti!D844),\"\")","v":""}]
["",null,null,null,null,null,null,null,null,null,null,null,null,null,null,null,{"$f":"IF(Committenti!D845<>\"\",CONCATENATE(Committenti!B845,\"  \",Committenti!C845,\"  CF: \",Committenti!D845),\"\")","v":""}]
["",null,null,null,null,null,null,null,null,null,null,null,null,null,null,null,{"$f":"IF(Committenti!D846<>\"\",CONCATENATE(Committenti!B846,\"  \",Committenti!C846,\"  CF: \",Committenti!D846),\"\")","v":""}]
["",null,null,null,null,null,null,null,null,null,null,null,null,null,null,null,{"$f":"IF(Committenti!D847<>\"\",CONCATENATE(Committenti!B847,\"  \",Committenti!C847,\"  CF: \",Committenti!D847),\"\")","v":""}]
["",null,null,null,null,null,null,null,null,null,null,null,null,null,null,null,{"$f":"IF(Committenti!D848<>\"\",CONCATENATE(Committenti!B848,\"  \",Committenti!C848,\"  CF: \",Committenti!D848),\"\")","v":""}]
["",null,null,null,null,null,null,null,null,null,null,null,null,null,null,null,{"$f":"IF(Committenti!D849<>\"\",CONCATENATE(Committenti!B849,\"  \",Committenti!C849,\"  CF: \",Committenti!D849),\"\")","v":""}]
["",null,null,null,null,null,null,null,null,null,null,null,null,null,null,null,{"$f":"IF(Committenti!D850<>\"\",CONCATENATE(Committenti!B850,\"  \",Committenti!C850,\"  CF: \",Committenti!D850),\"\")","v":""}]
["",null,null,null,null,null,null,null,null,null,null,null,null,null,null,null,{"$f":"IF(Committenti!D851<>\"\",CONCATENATE(Committenti!B851,\"  \",Committenti!C851,\"  CF: \",Committenti!D851),\"\")","v":""}]
["",null,null,null,null,null,null,null,null,null,null,null,null,null,null,null,{"$f":"IF(Committenti!D852<>\"\",CONCATENATE(Committenti!B852,\"  \",Committenti!C852,\"  CF: \",Committenti!D852),\"\")","v":""}]
["",null,null,null,null,null,null,null,null,null,null,null,null,null,null,null,{"$f":"IF(Committenti!D853<>\"\",CONCATENATE(Committenti!B853,\"  \",Committenti!C853,\"  CF: \",Committenti!D853),\"\")","v":""}]
["",null,null,null,null,null,null,null,null,null,null,null,null,null,null,null,{"$f":"IF(Committenti!D854<>\"\",CONCATENATE(Committenti!B854,\"  \",Committenti!C854,\"  CF: \",Committenti!D854),\"\")","v":""}]
["",null,null,null,null,null,null,null,null,null,null,null,null,null,null,null,{"$f":"IF(Committenti!D855<>\"\",CONCATENATE(Committenti!B855,\"  \",Committenti!C855,\"  CF: \",Committenti!D855),\"\")","v":""}]
["",null,null,null,null,null,null,null,null,null,null,null,null,null,null,null,{"$f":"IF(Committenti!D856<>\"\",CONCATENATE(Committenti!B856,\"  \",Committenti!C856,\"  CF: \",Committenti!D856),\"\")","v":""}]
["",null,null,null,null,null,null,null,null,null,null,null,null,null,null,null,{"$f":"IF(Committenti!D857<>\"\",CONCATENATE(Committenti!B857,\"  \",Committenti!C857,\"  CF: \",Committenti!D857),\"\")","v":""}]
["",null,null,null,null,null,null,null,null,null,null,null,null,null,null,null,{"$f":"IF(Committenti!D858<>\"\",CONCATENATE(Committenti!B858,\"  \",Committenti!C858,\"  CF: \",Committenti!D858),\"\")","v":""}]
["",null,null,null,null,null,null,null,null,null,null,null,null,null,null,null,{"$f":"IF(Committenti!D859<>\"\",CONCATENATE(Committenti!B859,\"  \",Committenti!C859,\"  CF: \",Committenti!D859),\"\")","v":""}]
["",null,null,null,null,null,null,null,null,null,null,null,null,null,null,null,{"$f":"IF(Committenti!D860<>\"\",CONCATENATE(Committenti!B860,\"  \",Committenti!C860,\"  CF: \",Committenti!D860),\"\")","v":""}]
["",null,null,null,null,null,null,null,null,null,null,null,null,null,null,null,{"$f":"IF(Committenti!D861<>\"\",CONCATENATE(Committenti!B861,\"  \",Committenti!C861,\"  CF: \",Committenti!D861),\"\")","v":""}]
["",null,null,null,null,null,null,null,null,null,null,null,null,null,null,null,{"$f":"IF(Committenti!D862<>\"\",CONCATENATE(Committenti!B862,\"  \",Committenti!C862,\"  CF: \",Committenti!D862),\"\")","v":""}]
["",null,null,null,null,null,null,null,null,null,null,null,null,null,null,null,{"$f":"IF(Committenti!D863<>\"\",CONCATENATE(Committenti!B863,\"  \",Committenti!C863,\"  CF: \",Committenti!D863),\"\")","v":""}]
["",null,null,null,null,null,null,null,null,null,null,null,null,null,null,null,{"$f":"IF(Committenti!D864<>\"\",CONCATENATE(Committenti!B864,\"  \",Committenti!C864,\"  CF: \",Committenti!D864),\"\")","v":""}]
["",null,null,null,null,null,null,null,null,null,null,null,null,null,null,null,{"$f":"IF(Committenti!D865<>\"\",CONCATENATE(Committenti!B865,\"  \",Committenti!C865,\"  CF: \",Committenti!D865),\"\")","v":""}]
["",null,null,null,null,null,null,null,null,null,null,null,null,null,null,null,{"$f":"IF(Committenti!D866<>\"\",CONCATENATE(Committenti!B866,\"  \",Committenti!C866,\"  CF: \",Committenti!D866),\"\")","v":""}]
["",null,null,null,null,null,null,null,null,null,null,null,null,null,null,null,{"$f":"IF(Committenti!D867<>\"\",CONCATENATE(Committenti!B867,\"  \",Committenti!C867,\"  CF: \",Committenti!D867),\"\")","v":""}]
["",null,null,null,null,null,null,null,null,null,null,null,null,null,null,null,{"$f":"IF(Committenti!D868<>\"\",CONCATENATE(Committenti!B868,\"  \",Committenti!C868,\"  CF: \",Committenti!D868),\"\")","v":""}]
["",null,null,null,null,null,null,null,null,null,null,null,null,null,null,null,{"$f":"IF(Committenti!D869<>\"\",CONCATENATE(Committenti!B869,\"  \",Committenti!C869,\"  CF: \",Committenti!D869),\"\")","v":""}]
["",null,null,null,null,null,null,null,null,null,null,null,null,null,null,null,{"$f":"IF(Committenti!D870<>\"\",CONCATENATE(Committenti!B870,\"  \",Committenti!C870,\"  CF: \",Committenti!D870),\"\")","v":""}]
["",null,null,null,null,null,null,null,null,null,null,null,null,null,null,null,{"$f":"IF(Committenti!D871<>\"\",CONCATENATE(Committenti!B871,\"  \",Committenti!C871,\"  CF: \",Committenti!D871),\"\")","v":""}]
["",null,null,null,null,null,null,null,null,null,null,null,null,null,null,null,{"$f":"IF(Committenti!D872<>\"\",CONCATENATE(Committenti!B872,\"  \",Committenti!C872,\"  CF: \",Committenti!D872),\"\")","v":""}]
["",null,null,null,null,null,null,null,null,null,null,null,null,null,null,null,{"$f":"IF(Committenti!D873<>\"\",CONCATENATE(Committenti!B873,\"  \",Committenti!C873,\"  CF: \",Committenti!D873),\"\")","v":""}]
["",null,null,null,null,null,null,null,null,null,null,null,null,null,null,null,{"$f":"IF(Committenti!D874<>\"\",CONCATENATE(Committenti!B874,\"  \",Committenti!C874,\"  CF: \",Committenti!D874),\"\")","v":""}]
["",null,null,null,null,null,null,null,null,null,null,null,null,null,null,null,{"$f":"IF(Committenti!D875<>\"\",CONCATENATE(Committenti!B875,\"  \",Committenti!C875,\"  CF: \",Committenti!D875),\"\")","v":""}]
["",null,null,null,null,null,null,null,null,null,null,null,null,null,null,null,{"$f":"IF(Committenti!D876<>\"\",CONCATENATE(Committenti!B876,\"  \",Committenti!C876,\"  CF: \",Committenti!D876),\"\")","v":""}]
["",null,null,null,null,null,null,null,null,null,null,null,null,null,null,null,{"$f":"IF(Committenti!D877<>\"\",CONCATENATE(Committenti!B877,\"  \",Committenti!C877,\"  CF: \",Committenti!D877),\"\")","v":""}]
["",null,null,null,null,null,null,null,null,null,null,null,null,null,null,null,{"$f":"IF(Committenti!D878<>\"\",CONCATENATE(Committenti!B878,\"  \",Committenti!C878,\"  CF: \",Committenti!D878),\"\")","v":""}]
["",null,null,null,null,null,null,null,null,null,null,null,null,null,null,null,{"$f":"IF(Committenti!D879<>\"\",CONCATENATE(Committenti!B879,\"  \",Committenti!C879,\"  CF: \",Committenti!D879),\"\")","v":""}]
["",null,null,null,null,null,null,null,null,null,null,null,null,null,null,null,{"$f":"IF(Committenti!D880<>\"\",CONCATENATE(Committenti!B880,\"  \",Committenti!C880,\"  CF: \",Committenti!D880),\"\")","v":""}]
["",null,null,null,null,null,null,null,null,null,null,null,null,null,null,null,{"$f":"IF(Committenti!D881<>\"\",CONCATENATE(Committenti!B881,\"  \",Committenti!C881,\"  CF: \",Committenti!D881),\"\")","v":""}]
["",null,null,null,null,null,null,null,null,null,null,null,null,null,null,null,{"$f":"IF(Committenti!D882<>\"\",CONCATENATE(Committenti!B882,\"  \",Committenti!C882,\"  CF: \",Committenti!D882),\"\")","v":""}]
["",null,null,null,null,null,null,null,null,null,null,null,null,null,null,null,{"$f":"IF(Committenti!D883<>\"\",CONCATENATE(Committenti!B883,\"  \",Committenti!C883,\"  CF: \",Committenti!D883),\"\")","v":""}]
["",null,null,null,null,null,null,null,null,null,null,null,null,null,null,null,{"$f":"IF(Committenti!D884<>\"\",CONCATENATE(Committenti!B884,\"  \",Committenti!C884,\"  CF: \",Committenti!D884),\"\")","v":""}]
["",null,null,null,null,null,null,null,null,null,null,null,null,null,null,null,{"$f":"IF(Committenti!D885<>\"\",CONCATENATE(Committenti!B885,\"  \",Committenti!C885,\"  CF: \",Committenti!D885),\"\")","v":""}]
["",null,null,null,null,null,null,null,null,null,null,null,null,null,null,null,{"$f":"IF(Committenti!D886<>\"\",CONCATENATE(Committenti!B886,\"  \",Committenti!C886,\"  CF: \",Committenti!D886),\"\")","v":""}]
["",null,null,null,null,null,null,null,null,null,null,null,null,null,null,null,{"$f":"IF(Committenti!D887<>\"\",CONCATENATE(Committenti!B887,\"  \",Committenti!C887,\"  CF: \",Committenti!D887),\"\")","v":""}]
["",null,null,null,null,null,null,null,null,null,null,null,null,null,null,null,{"$f":"IF(Committenti!D888<>\"\",CONCATENATE(Committenti!B888,\"  \",Committenti!C888,\"  CF: \",Committenti!D888),\"\")","v":""}]
["",null,null,null,null,null,null,null,null,null,null,null,null,null,null,null,{"$f":"IF(Committenti!D889<>\"\",CONCATENATE(Committenti!B889,\"  \",Committenti!C889,\"  CF: \",Committenti!D889),\"\")","v":""}]
["",null,null,null,null,null,null,null,null,null,null,null,null,null,null,null,{"$f":"IF(Committenti!D890<>\"\",CONCATENATE(Committenti!B890,\"  \",Committenti!C890,\"  CF: \",Committenti!D890),\"\")","v":""}]
["",null,null,null,null,null,null,null,null,null,null,null,null,null,null,null,{"$f":"IF(Committenti!D891<>\"\",CONCATENATE(Committenti!B891,\"  \",Committenti!C891,\"  CF: \",Committenti!D891),\"\")","v":""}]
["",null,null,null,null,null,null,null,null,null,null,null,null,null,null,null,{"$f":"IF(Committenti!D892<>\"\",CONCATENATE(Committenti!B892,\"  \",Committenti!C892,\"  CF: \",Committenti!D892),\"\")","v":""}]
["",null,null,null,null,null,null,null,null,null,null,null,null,null,null,null,{"$f":"IF(Committenti!D893<>\"\",CONCATENATE(Committenti!B893,\"  \",Committenti!C893,\"  CF: \",Committenti!D893),\"\")","v":""}]
["",null,null,null,null,null,null,null,null,null,null,null,null,null,null,null,{"$f":"IF(Committenti!D894<>\"\",CONCATENATE(Committenti!B894,\"  \",Committenti!C894,\"  CF: \",Committenti!D894),\"\")","v":""}]
["",null,null,null,null,null,null,null,null,null,null,null,null,null,null,null,{"$f":"IF(Committenti!D895<>\"\",CONCATENATE(Committenti!B895,\"  \",Committenti!C895,\"  CF: \",Committenti!D895),\"\")","v":""}]
["",null,null,null,null,null,null,null,null,null,null,null,null,null,null,null,{"$f":"IF(Committenti!D896<>\"\",CONCATENATE(Committenti!B896,\"  \",Committenti!C896,\"  CF: \",Committenti!D896),\"\")","v":""}]
["",null,null,null,null,null,null,null,null,null,null,null,null,null,null,null,{"$f":"IF(Committenti!D897<>\"\",CONCATENATE(Committenti!B897,\"  \",Committenti!C897,\"  CF: \",Committenti!D897),\"\")","v":""}]
["",null,null,null,null,null,null,null,null,null,null,null,null,null,null,null,{"$f":"IF(Committenti!D898<>\"\",CONCATENATE(Committenti!B898,\"  \",Committenti!C898,\"  CF: \",Committenti!D898),\"\")","v":""}]
["",null,null,null,null,null,null,null,null,null,null,null,null,null,null,null,{"$f":"IF(Committenti!D899<>\"\",CONCATENATE(Committenti!B899,\"  \",Committenti!C899,\"  CF: \",Committenti!D899),\"\")","v":""}]
["",null,null,null,null,null,null,null,null,null,null,null,null,null,null,null,{"$f":"IF(Committenti!D900<>\"\",CONCATENATE(Committenti!B900,\"  \",Committenti!C900,\"  CF: \",Committenti!D900),\"\")","v":""}]
[{"$f":"IF(B901<>\"\", IF(A900<>\"\",A900+1,\"\"),\"\")","v":""},null,null,null,null,null,null,null,null,null,null,null,null,null,null,null,{"$f":"IF(Committenti!D901<>\"\",CONCATENATE(Committenti!B901,\"  \",Committenti!C901,\"  CF: \",Committenti!D901),\"\")","v":""}]
["",null,null,null,null,null,null,null,null,null,null,null,null,null,null,null,{"$f":"IF(Committenti!D902<>\"\",CONCATENATE(Committenti!B902,\"  \",Committenti!C902,\"  CF: \",Committenti!D902),\"\")","v":""}]
["",null,null,null,null,null,null,null,null,null,null,null,null,null,null,null,{"$f":"IF(Committenti!D903<>\"\",CONCATENATE(Committenti!B903,\"  \",Committenti!C903,\"  CF: \",Committenti!D903),\"\")","v":""}]
["",null,null,null,null,null,null,null,null,null,null,null,null,null,null,null,{"$f":"IF(Committenti!D904<>\"\",CONCATENATE(Committenti!B904,\"  \",Committenti!C904,\"  CF: \",Committenti!D904),\"\")","v":""}]
["",null,null,null,null,null,null,null,null,null,null,null,null,null,null,null,{"$f":"IF(Committenti!D905<>\"\",CONCATENATE(Committenti!B905,\"  \",Committenti!C905,\"  CF: \",Committenti!D905),\"\")","v":""}]
["",null,null,null,null,null,null,null,null,null,null,null,null,null,null,null,{"$f":"IF(Committenti!D906<>\"\",CONCATENATE(Committenti!B906,\"  \",Committenti!C906,\"  CF: \",Committenti!D906),\"\")","v":""}]
["",null,null,null,null,null,null,null,null,null,null,null,null,null,null,null,{"$f":"IF(Committenti!D907<>\"\",CONCATENATE(Committenti!B907,\"  \",Committenti!C907,\"  CF: \",Committenti!D907),\"\")","v":""}]
["",null,null,null,null,null,null,null,null,null,null,null,null,null,null,null,{"$f":"IF(Committenti!D908<>\"\",CONCATENATE(Committenti!B908,\"  \",Committenti!C908,\"  CF: \",Committenti!D908),\"\")","v":""}]
["",null,null,null,null,null,null,null,null,null,null,null,null,null,null,null,{"$f":"IF(Committenti!D909<>\"\",CONCATENATE(Committenti!B909,\"  \",Committenti!C909,\"  CF: \",Committenti!D909),\"\")","v":""}]
["",null,null,null,null,null,null,null,null,null,null,null,null,null,null,null,{"$f":"IF(Committenti!D910<>\"\",CONCATENATE(Committenti!B910,\"  \",Committenti!C910,\"  CF: \",Committenti!D910),\"\")","v":""}]
["",null,null,null,null,null,null,null,null,null,null,null,null,null,null,null,{"$f":"IF(Committenti!D911<>\"\",CONCATENATE(Committenti!B911,\"  \",Committenti!C911,\"  CF: \",Committenti!D911),\"\")","v":""}]
["",null,null,null,null,null,null,null,null,null,null,null,null,null,null,null,{"$f":"IF(Committenti!D912<>\"\",CONCATENATE(Committenti!B912,\"  \",Committenti!C912,\"  CF: \",Committenti!D912),\"\")","v":""}]
["",null,null,null,null,null,null,null,null,null,null,null,null,null,null,null,{"$f":"IF(Committenti!D913<>\"\",CONCATENATE(Committenti!B913,\"  \",Committenti!C913,\"  CF: \",Committenti!D913),\"\")","v":""}]
["",null,null,null,null,null,null,null,null,null,null,null,null,null,null,null,{"$f":"IF(Committenti!D914<>\"\",CONCATENATE(Committenti!B914,\"  \",Committenti!C914,\"  CF: \",Committenti!D914),\"\")","v":""}]
["",null,null,null,null,null,null,null,null,null,null,null,null,null,null,null,{"$f":"IF(Committenti!D915<>\"\",CONCATENATE(Committenti!B915,\"  \",Committenti!C915,\"  CF: \",Committenti!D915),\"\")","v":""}]
["",null,null,null,null,null,null,null,null,null,null,null,null,null,null,null,{"$f":"IF(Committenti!D916<>\"\",CONCATENATE(Committenti!B916,\"  \",Committenti!C916,\"  CF: \",Committenti!D916),\"\")","v":""}]
["",null,null,null,null,null,null,null,null,null,null,null,null,null,null,null,{"$f":"IF(Committenti!D917<>\"\",CONCATENATE(Committenti!B917,\"  \",Committenti!C917,\"  CF: \",Committenti!D917),\"\")","v":""}]
["",null,null,null,null,null,null,null,null,null,null,null,null,null,null,null,{"$f":"IF(Committenti!D918<>\"\",CONCATENATE(Committenti!B918,\"  \",Committenti!C918,\"  CF: \",Committenti!D918),\"\")","v":""}]
["",null,null,null,null,null,null,null,null,null,null,null,null,null,null,null,{"$f":"IF(Committenti!D919<>\"\",CONCATENATE(Committenti!B919,\"  \",Committenti!C919,\"  CF: \",Committenti!D919),\"\")","v":""}]
["",null,null,null,null,null,null,null,null,null,null,null,null,null,null,null,{"$f":"IF(Committenti!D920<>\"\",CONCATENATE(Committenti!B920,\"  \",Committenti!C920,\"  CF: \",Committenti!D920),\"\")","v":""}]
["",null,null,null,null,null,null,null,null,null,null,null,null,null,null,null,{"$f":"IF(Committenti!D921<>\"\",CONCATENATE(Committenti!B921,\"  \",Committenti!C921,\"  CF: \",Committenti!D921),\"\")","v":""}]
["",null,null,null,null,null,null,null,null,null,null,null,null,null,null,null,{"$f":"IF(Committenti!D922<>\"\",CONCATENATE(Committenti!B922,\"  \",Committenti!C922,\"  CF: \",Committenti!D922),\"\")","v":""}]
["",null,null,null,null,null,null,null,null,null,null,null,null,null,null,null,{"$f":"IF(Committenti!D923<>\"\",CONCATENATE(Committenti!B923,\"  \",Committenti!C923,\"  CF: \",Committenti!D923),\"\")","v":""}]
["",null,null,null,null,null,null,null,null,null,null,null,null,null,null,null,{"$f":"IF(Committenti!D924<>\"\",CONCATENATE(Committenti!B924,\"  \",Committenti!C924,\"  CF: \",Committenti!D924),\"\")","v":""}]
["",null,null,null,null,null,null,null,null,null,null,null,null,null,null,null,{"$f":"IF(Committenti!D925<>\"\",CONCATENATE(Committenti!B925,\"  \",Committenti!C925,\"  CF: \",Committenti!D925),\"\")","v":""}]
["",null,null,null,null,null,null,null,null,null,null,null,null,null,null,null,{"$f":"IF(Committenti!D926<>\"\",CONCATENATE(Committenti!B926,\"  \",Committenti!C926,\"  CF: \",Committenti!D926),\"\")","v":""}]
["",null,null,null,null,null,null,null,null,null,null,null,null,null,null,null,{"$f":"IF(Committenti!D927<>\"\",CONCATENATE(Committenti!B927,\"  \",Committenti!C927,\"  CF: \",Committenti!D927),\"\")","v":""}]
["",null,null,null,null,null,null,null,null,null,null,null,null,null,null,null,{"$f":"IF(Committenti!D928<>\"\",CONCATENATE(Committenti!B928,\"  \",Committenti!C928,\"  CF: \",Committenti!D928),\"\")","v":""}]
["",null,null,null,null,null,null,null,null,null,null,null,null,null,null,null,{"$f":"IF(Committenti!D929<>\"\",CONCATENATE(Committenti!B929,\"  \",Committenti!C929,\"  CF: \",Committenti!D929),\"\")","v":""}]
["",null,null,null,null,null,null,null,null,null,null,null,null,null,null,null,{"$f":"IF(Committenti!D930<>\"\",CONCATENATE(Committenti!B930,\"  \",Committenti!C930,\"  CF: \",Committenti!D930),\"\")","v":""}]
["",null,null,null,null,null,null,null,null,null,null,null,null,null,null,null,{"$f":"IF(Committenti!D931<>\"\",CONCATENATE(Committenti!B931,\"  \",Committenti!C931,\"  CF: \",Committenti!D931),\"\")","v":""}]
["",null,null,null,null,null,null,null,null,null,null,null,null,null,null,null,{"$f":"IF(Committenti!D932<>\"\",CONCATENATE(Committenti!B932,\"  \",Committenti!C932,\"  CF: \",Committenti!D932),\"\")","v":""}]
["",null,null,null,null,null,null,null,null,null,null,null,null,null,null,null,{"$f":"IF(Committenti!D933<>\"\",CONCATENATE(Committenti!B933,\"  \",Committenti!C933,\"  CF: \",Committenti!D933),\"\")","v":""}]
["",null,null,null,null,null,null,null,null,null,null,null,null,null,null,null,{"$f":"IF(Committenti!D934<>\"\",CONCATENATE(Committenti!B934,\"  \",Committenti!C934,\"  CF: \",Committenti!D934),\"\")","v":""}]
["",null,null,null,null,null,null,null,null,null,null,null,null,null,null,null,{"$f":"IF(Committenti!D935<>\"\",CONCATENATE(Committenti!B935,\"  \",Committenti!C935,\"  CF: \",Committenti!D935),\"\")","v":""}]
["",null,null,null,null,null,null,null,null,null,null,null,null,null,null,null,{"$f":"IF(Committenti!D936<>\"\",CONCATENATE(Committenti!B936,\"  \",Committenti!C936,\"  CF: \",Committenti!D936),\"\")","v":""}]
["",null,null,null,null,null,null,null,null,null,null,null,null,null,null,null,{"$f":"IF(Committenti!D937<>\"\",CONCATENATE(Committenti!B937,\"  \",Committenti!C937,\"  CF: \",Committenti!D937),\"\")","v":""}]
["",null,null,null,null,null,null,null,null,null,null,null,null,null,null,null,{"$f":"IF(Committenti!D938<>\"\",CONCATENATE(Committenti!B938,\"  \",Committenti!C938,\"  CF: \",Committenti!D938),\"\")","v":""}]
["",null,null,null,null,null,null,null,null,null,null,null,null,null,null,null,{"$f":"IF(Committenti!D939<>\"\",CONCATENATE(Committenti!B939,\"  \",Committenti!C939,\"  CF: \",Committenti!D939),\"\")","v":""}]
["",null,null,null,null,null,null,null,null,null,null,null,null,null,null,null,{"$f":"IF(Committenti!D940<>\"\",CONCATENATE(Committenti!B940,\"  \",Committenti!C940,\"  CF: \",Committenti!D940),\"\")","v":""}]
["",null,null,null,null,null,null,null,null,null,null,null,null,null,null,null,{"$f":"IF(Committenti!D941<>\"\",CONCATENATE(Committenti!B941,\"  \",Committenti!C941,\"  CF: \",Committenti!D941),\"\")","v":""}]
["",null,null,null,null,null,null,null,null,null,null,null,null,null,null,null,{"$f":"IF(Committenti!D942<>\"\",CONCATENATE(Committenti!B942,\"  \",Committenti!C942,\"  CF: \",Committenti!D942),\"\")","v":""}]
["",null,null,null,null,null,null,null,null,null,null,null,null,null,null,null,{"$f":"IF(Committenti!D943<>\"\",CONCATENATE(Committenti!B943,\"  \",Committenti!C943,\"  CF: \",Committenti!D943),\"\")","v":""}]
["",null,null,null,null,null,null,null,null,null,null,null,null,null,null,null,{"$f":"IF(Committenti!D944<>\"\",CONCATENATE(Committenti!B944,\"  \",Committenti!C944,\"  CF: \",Committenti!D944),\"\")","v":""}]
["",null,null,null,null,null,null,null,null,null,null,null,null,null,null,null,{"$f":"IF(Committenti!D945<>\"\",CONCATENATE(Committenti!B945,\"  \",Committenti!C945,\"  CF: \",Committenti!D945),\"\")","v":""}]
["",null,null,null,null,null,null,null,null,null,null,null,null,null,null,null,{"$f":"IF(Committenti!D946<>\"\",CONCATENATE(Committenti!B946,\"  \",Committenti!C946,\"  CF: \",Committenti!D946),\"\")","v":""}]
["",null,null,null,null,null,null,null,null,null,null,null,null,null,null,null,{"$f":"IF(Committenti!D947<>\"\",CONCATENATE(Committenti!B947,\"  \",Committenti!C947,\"  CF: \",Committenti!D947),\"\")","v":""}]
["",null,null,null,null,null,null,null,null,null,null,null,null,null,null,null,{"$f":"IF(Committenti!D948<>\"\",CONCATENATE(Committenti!B948,\"  \",Committenti!C948,\"  CF: \",Committenti!D948),\"\")","v":""}]
["",null,null,null,null,null,null,null,null,null,null,null,null,null,null,null,{"$f":"IF(Committenti!D949<>\"\",CONCATENATE(Committenti!B949,\"  \",Committenti!C949,\"  CF: \",Committenti!D949),\"\")","v":""}]
["",null,null,null,null,null,null,null,null,null,null,null,null,null,null,null,{"$f":"IF(Committenti!D950<>\"\",CONCATENATE(Committenti!B950,\"  \",Committenti!C950,\"  CF: \",Committenti!D950),\"\")","v":""}]
["",null,null,null,null,null,null,null,null,null,null,null,null,null,null,null,{"$f":"IF(Committenti!D951<>\"\",CONCATENATE(Committenti!B951,\"  \",Committenti!C951,\"  CF: \",Committenti!D951),\"\")","v":""}]
["",null,null,null,null,null,null,null,null,null,null,null,null,null,null,null,{"$f":"IF(Committenti!D952<>\"\",CONCATENATE(Committenti!B952,\"  \",Committenti!C952,\"  CF: \",Committenti!D952),\"\")","v":""}]
["",null,null,null,null,null,null,null,null,null,null,null,null,null,null,null,{"$f":"IF(Committenti!D953<>\"\",CONCATENATE(Committenti!B953,\"  \",Committenti!C953,\"  CF: \",Committenti!D953),\"\")","v":""}]
["",null,null,null,null,null,null,null,null,null,null,null,null,null,null,null,{"$f":"IF(Committenti!D954<>\"\",CONCATENATE(Committenti!B954,\"  \",Committenti!C954,\"  CF: \",Committenti!D954),\"\")","v":""}]
["",null,null,null,null,null,null,null,null,null,null,null,null,null,null,null,{"$f":"IF(Committenti!D955<>\"\",CONCATENATE(Committenti!B955,\"  \",Committenti!C955,\"  CF: \",Committenti!D955),\"\")","v":""}]
["",null,null,null,null,null,null,null,null,null,null,null,null,null,null,null,{"$f":"IF(Committenti!D956<>\"\",CONCATENATE(Committenti!B956,\"  \",Committenti!C956,\"  CF: \",Committenti!D956),\"\")","v":""}]
["",null,null,null,null,null,null,null,null,null,null,null,null,null,null,null,{"$f":"IF(Committenti!D957<>\"\",CONCATENATE(Committenti!B957,\"  \",Committenti!C957,\"  CF: \",Committenti!D957),\"\")","v":""}]
["",null,null,null,null,null,null,null,null,null,null,null,null,null,null,null,{"$f":"IF(Committenti!D958<>\"\",CONCATENATE(Committenti!B958,\"  \",Committenti!C958,\"  CF: \",Committenti!D958),\"\")","v":""}]
["",null,null,null,null,null,null,null,null,null,null,null,null,null,null,null,{"$f":"IF(Committenti!D959<>\"\",CONCATENATE(Committenti!B959,\"  \",Committenti!C959,\"  CF: \",Committenti!D959),\"\")","v":""}]
["",null,null,null,null,null,null,null,null,null,null,null,null,null,null,null,{"$f":"IF(Committenti!D960<>\"\",CONCATENATE(Committenti!B960,\"  \",Committenti!C960,\"  CF: \",Committenti!D960),\"\")","v":""}]
["",null,null,null,null,null,null,null,null,null,null,null,null,null,null,null,{"$f":"IF(Committenti!D961<>\"\",CONCATENATE(Committenti!B961,\"  \",Committenti!C961,\"  CF: \",Committenti!D961),\"\")","v":""}]
["",null,null,null,null,null,null,null,null,null,null,null,null,null,null,null,{"$f":"IF(Committenti!D962<>\"\",CONCATENATE(Committenti!B962,\"  \",Committenti!C962,\"  CF: \",Committenti!D962),\"\")","v":""}]
["",null,null,null,null,null,null,null,null,null,null,null,null,null,null,null,{"$f":"IF(Committenti!D963<>\"\",CONCATENATE(Committenti!B963,\"  \",Committenti!C963,\"  CF: \",Committenti!D963),\"\")","v":""}]
["",null,null,null,null,null,null,null,null,null,null,null,null,null,null,null,{"$f":"IF(Committenti!D964<>\"\",CONCATENATE(Committenti!B964,\"  \",Committenti!C964,\"  CF: \",Committenti!D964),\"\")","v":""}]
[{"$f":"IF(B965<>\"\", IF(A964<>\"\",A964+1,\"\"),\"\")","v":""},null,null,null,null,null,null,null,null,null,null,null,null,null,null,null,{"$f":"IF(Committenti!D965<>\"\",CONCATENATE(Committenti!B965,\"  \",Committenti!C965,\"  CF: \",Committenti!D965),\"\")","v":""}]
["",null,null,null,null,null,null,null,null,null,null,null,null,null,null,null,{"$f":"IF(Committenti!D966<>\"\",CONCATENATE(Committenti!B966,\"  \",Committenti!C966,\"  CF: \",Committenti!D966),\"\")","v":""}]
["",null,null,null,null,null,null,null,null,null,null,null,null,null,null,null,{"$f":"IF(Committenti!D967<>\"\",CONCATENATE(Committenti!B967,\"  \",Committenti!C967,\"  CF: \",Committenti!D967),\"\")","v":""}]
["",null,null,null,null,null,null,null,null,null,null,null,null,null,null,null,{"$f":"IF(Committenti!D968<>\"\",CONCATENATE(Committenti!B968,\"  \",Committenti!C968,\"  CF: \",Committenti!D968),\"\")","v":""}]
["",null,null,null,null,null,null,null,null,null,null,null,null,null,null,null,{"$f":"IF(Committenti!D969<>\"\",CONCATENATE(Committenti!B969,\"  \",Committenti!C969,\"  CF: \",Committenti!D969),\"\")","v":""}]
["",null,null,null,null,null,null,null,null,null,null,null,null,null,null,null,{"$f":"IF(Committenti!D970<>\"\",CONCATENATE(Committenti!B970,\"  \",Committenti!C970,\"  CF: \",Committenti!D970),\"\")","v":""}]
["",null,null,null,null,null,null,null,null,null,null,null,null,null,null,null,{"$f":"IF(Committenti!D971<>\"\",CONCATENATE(Committenti!B971,\"  \",Committenti!C971,\"  CF: \",Committenti!D971),\"\")","v":""}]
["",null,null,null,null,null,null,null,null,null,null,null,null,null,null,null,{"$f":"IF(Committenti!D972<>\"\",CONCATENATE(Committenti!B972,\"  \",Committenti!C972,\"  CF: \",Committenti!D972),\"\")","v":""}]
["",null,null,null,null,null,null,null,null,null,null,null,null,null,null,null,{"$f":"IF(Committenti!D973<>\"\",CONCATENATE(Committenti!B973,\"  \",Committenti!C973,\"  CF: \",Committenti!D973),\"\")","v":""}]
["",null,null,null,null,null,null,null,null,null,null,null,null,null,null,null,{"$f":"IF(Committenti!D974<>\"\",CONCATENATE(Committenti!B974,\"  \",Committenti!C974,\"  CF: \",Committenti!D974),\"\")","v":""}]
["",null,null,null,null,null,null,null,null,null,null,null,null,null,null,null,{"$f":"IF(Committenti!D975<>\"\",CONCATENATE(Committenti!B975,\"  \",Committenti!C975,\"  CF: \",Committenti!D975),\"\")","v":""}]
["",null,null,null,null,null,null,null,null,null,null,null,null,null,null,null,{"$f":"IF(Committenti!D976<>\"\",CONCATENATE(Committenti!B976,\"  \",Committenti!C976,\"  CF: \",Committenti!D976),\"\")","v":""}]
["",null,null,null,null,null,null,null,null,null,null,null,null,null,null,null,{"$f":"IF(Committenti!D977<>\"\",CONCATENATE(Committenti!B977,\"  \",Committenti!C977,\"  CF: \",Committenti!D977),\"\")","v":""}]
["",null,null,null,null,null,null,null,null,null,null,null,null,null,null,null,{"$f":"IF(Committenti!D978<>\"\",CONCATENATE(Committenti!B978,\"  \",Committenti!C978,\"  CF: \",Committenti!D978),\"\")","v":""}]
["",null,null,null,null,null,null,null,null,null,null,null,null,null,null,null,{"$f":"IF(Committenti!D979<>\"\",CONCATENATE(Committenti!B979,\"  \",Committenti!C979,\"  CF: \",Committenti!D979),\"\")","v":""}]
["",null,null,null,null,null,null,null,null,null,null,null,null,null,null,null,{"$f":"IF(Committenti!D980<>\"\",CONCATENATE(Committenti!B980,\"  \",Committenti!C980,\"  CF: \",Committenti!D980),\"\")","v":""}]
["",null,null,null,null,null,null,null,null,null,null,null,null,null,null,null,{"$f":"IF(Committenti!D981<>\"\",CONCATENATE(Committenti!B981,\"  \",Committenti!C981,\"  CF: \",Committenti!D981),\"\")","v":""}]
["",null,null,null,null,null,null,null,null,null,null,null,null,null,null,null,{"$f":"IF(Committenti!D982<>\"\",CONCATENATE(Committenti!B982,\"  \",Committenti!C982,\"  CF: \",Committenti!D982),\"\")","v":""}]
["",null,null,null,null,null,null,null,null,null,null,null,null,null,null,null,{"$f":"IF(Committenti!D983<>\"\",CONCATENATE(Committenti!B983,\"  \",Committenti!C983,\"  CF: \",Committenti!D983),\"\")","v":""}]
["",null,null,null,null,null,null,null,null,null,null,null,null,null,null,null,{"$f":"IF(Committenti!D984<>\"\",CONCATENATE(Committenti!B984,\"  \",Committenti!C984,\"  CF: \",Committenti!D984),\"\")","v":""}]
["",null,null,null,null,null,null,null,null,null,null,null,null,null,null,null,{"$f":"IF(Committenti!D985<>\"\",CONCATENATE(Committenti!B985,\"  \",Committenti!C985,\"  CF: \",Committenti!D985),\"\")","v":""}]
["",null,null,null,null,null,null,null,null,null,null,null,null,null,null,null,{"$f":"IF(Committenti!D986<>\"\",CONCATENATE(Committenti!B986,\"  \",Committenti!C986,\"  CF: \",Committenti!D986),\"\")","v":""}]
["",null,null,null,null,null,null,null,null,null,null,null,null,null,null,null,{"$f":"IF(Committenti!D987<>\"\",CONCATENATE(Committenti!B987,\"  \",Committenti!C987,\"  CF: \",Committenti!D987),\"\")","v":""}]
["",null,null,null,null,null,null,null,null,null,null,null,null,null,null,null,{"$f":"IF(Committenti!D988<>\"\",CONCATENATE(Committenti!B988,\"  \",Committenti!C988,\"  CF: \",Committenti!D988),\"\")","v":""}]
["",null,null,null,null,null,null,null,null,null,null,null,null,null,null,null,{"$f":"IF(Committenti!D989<>\"\",CONCATENATE(Committenti!B989,\"  \",Committenti!C989,\"  CF: \",Committenti!D989),\"\")","v":""}]
["",null,null,null,null,null,null,null,null,null,null,null,null,null,null,null,{"$f":"IF(Committenti!D990<>\"\",CONCATENATE(Committenti!B990,\"  \",Committenti!C990,\"  CF: \",Committenti!D990),\"\")","v":""}]
["",null,null,null,null,null,null,null,null,null,null,null,null,null,null,null,{"$f":"IF(Committenti!D991<>\"\",CONCATENATE(Committenti!B991,\"  \",Committenti!C991,\"  CF: \",Committenti!D991),\"\")","v":""}]
["",null,null,null,null,null,null,null,null,null,null,null,null,null,null,null,{"$f":"IF(Committenti!D992<>\"\",CONCATENATE(Committenti!B992,\"  \",Committenti!C992,\"  CF: \",Committenti!D992),\"\")","v":""}]
["",null,null,null,null,null,null,null,null,null,null,null,null,null,null,null,{"$f":"IF(Committenti!D993<>\"\",CONCATENATE(Committenti!B993,\"  \",Committenti!C993,\"  CF: \",Committenti!D993),\"\")","v":""}]
["",null,null,null,null,null,null,null,null,null,null,null,null,null,null,null,{"$f":"IF(Committenti!D994<>\"\",CONCATENATE(Committenti!B994,\"  \",Committenti!C994,\"  CF: \",Committenti!D994),\"\")","v":""}]
["",null,null,null,null,null,null,null,null,null,null,null,null,null,null,null,{"$f":"IF(Committenti!D995<>\"\",CONCATENATE(Committenti!B995,\"  \",Committenti!C995,\"  CF: \",Committenti!D995),\"\")","v":""}]
["",null,null,null,null,null,null,null,null,null,null,null,null,null,null,null,{"$f":"IF(Committenti!D996<>\"\",CONCATENATE(Committenti!B996,\"  \",Committenti!C996,\"  CF: \",Committenti!D996),\"\")","v":""}]
["",null,null,null,null,null,null,null,null,null,null,null,null,null,null,null,{"$f":"IF(Committenti!D997<>\"\",CONCATENATE(Committenti!B997,\"  \",Committenti!C997,\"  CF: \",Committenti!D997),\"\")","v":""}]
["",null,null,null,null,null,null,null,null,null,null,null,null,null,null,null,{"$f":"IF(Committenti!D998<>\"\",CONCATENATE(Committenti!B998,\"  \",Committenti!C998,\"  CF: \",Committenti!D998),\"\")","v":""}]
["",null,null,null,null,null,null,null,null,null,null,null,null,null,null,null,{"$f":"IF(Committenti!D999<>\"\",CONCATENATE(Committenti!B999,\"  \",Committenti!C999,\"  CF: \",Committenti!D999),\"\")","v":""}]
["",null,null,null,null,null,null,null,null,null,null,null,null,null,null,null,{"$f":"IF(Committenti!D1000<>\"\",CONCATENATE(Committenti!B1000,\"  \",Committenti!C1000,\"  CF: \",Committenti!D1000),\"\")","v":""}]
["",null,null,null,null,null,null,null,null,null,null,null,null,null,null,null,{"$f":"IF(Committenti!D1001<>\"\",CONCATENATE(Committenti!B1001,\"  \",Committenti!C1001,\"  CF: \",Committenti!D1001),\"\")","v":""}]
["",null,null,null,null,null,null,null,null,null,null,null,null,null,null,null,{"$f":"IF(Committenti!D1002<>\"\",CONCATENATE(Committenti!B1002,\"  \",Committenti!C1002,\"  CF: \",Committenti!D1002),\"\")","v":""}]
["",null,null,null,null,null,null,null,null,null,null,null,null,null,null,null,{"$f":"IF(Committenti!D1003<>\"\",CONCATENATE(Committenti!B1003,\"  \",Committenti!C1003,\"  CF: \",Committenti!D1003),\"\")","v":""}]
["",null,null,null,null,null,null,null,null,null,null,null,null,null,null,null,{"$f":"IF(Committenti!D1004<>\"\",CONCATENATE(Committenti!B1004,\"  \",Committenti!C1004,\"  CF: \",Committenti!D1004),\"\")","v":""}]
["",null,null,null,null,null,null,null,null,null,null,null,null,null,null,null,{"$f":"IF(Committenti!D1005<>\"\",CONCATENATE(Committenti!B1005,\"  \",Committenti!C1005,\"  CF: \",Committenti!D1005),\"\")","v":""}]
["",null,null,null,null,null,null,null,null,null,null,null,null,null,null,null,{"$f":"IF(Committenti!D1006<>\"\",CONCATENATE(Committenti!B1006,\"  \",Committenti!C1006,\"  CF: \",Committenti!D1006),\"\")","v":""}]
["",null,null,null,null,null,null,null,null,null,null,null,null,null,null,null,{"$f":"IF(Committenti!D1007<>\"\",CONCATENATE(Committenti!B1007,\"  \",Committenti!C1007,\"  CF: \",Committenti!D1007),\"\")","v":""}]
["",null,null,null,null,null,null,null,null,null,null,null,null,null,null,null,{"$f":"IF(Committenti!D1008<>\"\",CONCATENATE(Committenti!B1008,\"  \",Committenti!C1008,\"  CF: \",Committenti!D1008),\"\")","v":""}]
["",null,null,null,null,null,null,null,null,null,null,null,null,null,null,null,{"$f":"IF(Committenti!D1009<>\"\",CONCATENATE(Committenti!B1009,\"  \",Committenti!C1009,\"  CF: \",Committenti!D1009),\"\")","v":""}]
["",null,null,null,null,null,null,null,null,null,null,null,null,null,null,null,{"$f":"IF(Committenti!D1010<>\"\",CONCATENATE(Committenti!B1010,\"  \",Committenti!C1010,\"  CF: \",Committenti!D1010),\"\")","v":""}]
["",null,null,null,null,null,null,null,null,null,null,null,null,null,null,null,{"$f":"IF(Committenti!D1011<>\"\",CONCATENATE(Committenti!B1011,\"  \",Committenti!C1011,\"  CF: \",Committenti!D1011),\"\")","v":""}]
["",null,null,null,null,null,null,null,null,null,null,null,null,null,null,null,{"$f":"IF(Committenti!D1012<>\"\",CONCATENATE(Committenti!B1012,\"  \",Committenti!C1012,\"  CF: \",Committenti!D1012),\"\")","v":""}]
["",null,null,null,null,null,null,null,null,null,null,null,null,null,null,null,{"$f":"IF(Committenti!D1013<>\"\",CONCATENATE(Committenti!B1013,\"  \",Committenti!C1013,\"  CF: \",Committenti!D1013),\"\")","v":""}]
["",null,null,null,null,null,null,null,null,null,null,null,null,null,null,null,{"$f":"IF(Committenti!D1014<>\"\",CONCATENATE(Committenti!B1014,\"  \",Committenti!C1014,\"  CF: \",Committenti!D1014),\"\")","v":""}]
["",null,null,null,null,null,null,null,null,null,null,null,null,null,null,null,{"$f":"IF(Committenti!D1015<>\"\",CONCATENATE(Committenti!B1015,\"  \",Committenti!C1015,\"  CF: \",Committenti!D1015),\"\")","v":""}]
["",null,null,null,null,null,null,null,null,null,null,null,null,null,null,null,{"$f":"IF(Committenti!D1016<>\"\",CONCATENATE(Committenti!B1016,\"  \",Committenti!C1016,\"  CF: \",Committenti!D1016),\"\")","v":""}]
["",null,null,null,null,null,null,null,null,null,null,null,null,null,null,null,{"$f":"IF(Committenti!D1017<>\"\",CONCATENATE(Committenti!B1017,\"  \",Committenti!C1017,\"  CF: \",Committenti!D1017),\"\")","v":""}]

{"sheet":"Computo-Massimali","index":5,"n_rows":112,"n_cols":59,"rows_kept":112,"cut":false,"hidden":false,"merged":[[92,28,92,29],[89,28,89,29],[89,26,89,27],[89,24,89,25],[22,28,22,29],[25,26,25,27],[25,24,25,25],[23,24,23,25],[108,8,108,9],[107,8,107,9],[22,22,22,23],[22,24,22,25],[22,26,22,27],[26,24,26,25],[22,20,22,21],[23,20,23,21],[33,24,33,25],[34,24,34,25],[58,24,58,25],[31,28,31,29],[31,24,31,25],[24,28,24,29],[57,20,57,21],[57,22,57,23],[103,2,103,6],[106,8,106,10],[100,28,100,29],[80,22,80,23],[99,26,99,27],[99,28,99,29],[90,20,90,21],[90,24,90,25],[90,26,90,27],[90,28,90,29],[92,19,92,21],[100,26,100,27],[100,24,100,25],[98,26,98,29],[91,28,91,29],[98,24,98,25],[99,24,99,25],[89,20,89,21],[90,2,90,3],[99,22,99,23],[90,22,90,23],[98,2,99,4],[88,20,88,21],[79,17,80,21],[86,31,86,33],[85,36,85,40],[17,38,17,44],[39,38,39,44],[6,35,6,37],[17,35,17,37],[39,35,39,37],[6,38,6,44],[86,35,86,37],[86,38,86,44],[102,20,102,21],[103,20,103,21],[104,20,104,21],[102,22,102,23],[103,22,103,23],[104,22,104,23],[100,19,100,21],[91,22,91,23],[98,22,98,23],[92,22,92,23],[98,17,99,21],[107,22,107,23],[92,2,92,3],[92,26,92,27],[92,24,92,25],[43,28,43,29],[54,24,54,25],[45,24,45,25],[53,28,53,29],[45,26,45,27],[46,26,46,27],[79,2,80,4],[87,2,87,3],[87,20,87,21],[87,22,87,23],[88,2,88,3],[56,20,56,21],[47,3,47,4],[53,2,53,3],[57,2,57,4],[55,22,55,23],[46,22,46,23],[46,20,46,21],[107,20,107,21],[44,28,44,29],[42,28,42,29],[88,26,88,27],[87,26,87,29],[80,24,80,25],[88,28,88,29],[91,26,91,27],[57,24,57,25],[56,26,56,27],[55,26,55,27],[43,26,43,27],[46,28,46,29],[56,24,56,25],[45,28,45,29],[80,26,80,27],[80,28,80,29],[79,26,79,29],[87,24,87,25],[88,24,88,25],[55,24,55,25],[55,28,55,29],[54,26,54,27],[47,28,47,29],[86,17,86,29],[58,22,58,23],[7,2,7,4],[5,11,5,12],[10,2,10,3],[5,6,5,7],[5,2,5,4],[6,2,6,12],[19,2,19,3],[12,24,12,25],[20,28,20,29],[19,24,19,25],[19,26,19,27],[19,28,19,29],[20,22,20,23],[20,24,20,25],[20,26,20,27],[12,22,12,23],[15,22,15,23],[19,20,19,21],[20,20,20,21],[12,2,12,4],[13,3,13,4],[17,2,17,12],[18,2,18,4],[11,22,11,23],[2,5,2,8],[3,5,3,8],[12,26,12,27],[7,20,7,21],[14,26,14,27],[7,24,7,25],[15,26,15,27],[13,28,13,29],[9,24,9,25],[10,24,10,25],[9,20,9,21],[7,22,7,23],[14,20,14,21],[15,24,15,25],[11,20,11,21],[6,17,6,29],[9,28,9,29],[10,26,10,27],[10,28,10,29],[10,22,10,23],[11,26,11,27],[11,28,11,29],[7,26,7,29],[13,20,13,21],[8,2,8,3],[21,2,21,3],[11,2,11,3],[9,2,9,3],[13,24,13,25],[15,28,15,29],[13,26,13,27],[18,22,18,23],[19,22,19,23],[17,17,17,29],[21,26,21,27],[8,26,8,27],[14,28,14,29],[12,28,12,29],[8,28,8,29],[9,26,9,27],[18,20,18,21],[18,24,18,25],[21,28,21,29],[20,2,20,3],[18,26,18,29],[5,8,5,9],[14,22,14,23],[12,20,12,21],[8,22,8,23],[8,24,8,25],[9,22,9,23],[10,20,10,21],[11,24,11,25],[21,20,21,21],[21,24,21,25],[21,22,21,23],[23,22,23,23],[8,20,8,21],[13,22,13,23],[14,24,14,25],[91,2,91,3],[89,2,89,3],[91,20,91,21],[91,24,91,25],[88,22,88,23],[77,2,77,3],[81,2,81,4],[82,2,82,4],[89,22,89,23],[29,22,29,23],[29,24,29,25],[30,24,30,25],[35,20,35,21],[35,24,35,25],[36,24,36,25],[36,22,36,23],[46,24,46,25],[42,2,42,3],[41,22,41,23],[41,20,41,21],[36,2,36,4],[35,2,35,4],[31,2,31,3],[32,2,32,3],[33,2,33,3],[42,22,42,23],[31,20,31,21],[40,2,40,4],[34,2,34,3],[39,2,39,12],[46,2,46,4],[54,2,54,3],[51,2,51,4],[52,2,52,4],[48,2,48,4],[49,2,49,4],[50,2,50,3],[45,2,45,4],[40,24,40,25],[47,24,47,25],[48,24,48,25],[50,20,50,21],[50,22,50,23],[48,20,48,21],[48,22,48,23],[51,22,51,23],[44,22,44,23],[45,22,45,23],[43,2,43,3],[44,2,44,3],[40,22,40,23],[40,20,40,21],[45,20,45,21],[51,20,51,21],[29,26,29,27],[35,26,35,27],[30,26,30,27],[33,26,33,27],[26,20,26,21],[28,26,28,27],[28,28,28,29],[27,20,27,21],[27,24,27,25],[27,28,27,29],[32,20,32,21],[28,20,28,21],[33,28,33,29],[36,26,36,27],[26,22,26,23],[36,28,36,29],[24,20,24,21],[25,22,25,23],[41,28,41,29],[42,26,42,27],[43,20,43,21],[44,24,44,25],[41,24,41,25],[42,24,42,25],[41,26,41,27],[27,22,27,23],[44,26,44,27],[43,22,43,23],[30,28,30,29],[35,28,35,29],[34,28,34,29],[42,20,42,21],[43,24,43,25],[44,20,44,21],[26,26,26,27],[32,28,32,29],[33,22,33,23],[23,28,23,29],[23,26,23,27],[30,20,30,21],[29,20,29,21],[28,22,28,23],[28,24,28,25],[33,20,33,21],[32,26,32,27],[40,26,40,29],[29,28,29,29],[25,28,25,29],[30,22,30,23],[32,24,32,25],[26,28,26,29],[31,26,31,27],[31,22,31,23],[34,26,34,27],[34,22,34,23],[24,22,24,23],[24,24,24,25],[24,26,24,27],[27,26,27,27],[39,17,39,29],[25,20,25,21],[56,2,56,3],[52,24,52,25],[53,22,53,23],[56,28,56,29],[56,22,56,23],[55,20,55,21],[54,20,54,21],[53,26,53,27],[58,2,58,4],[55,2,55,3],[52,22,52,23],[47,26,47,27],[47,22,47,23],[47,20,47,21],[49,20,49,21],[49,22,49,23],[54,28,54,29],[50,28,50,29],[51,28,51,29],[54,22,54,23],[25,3,25,4],[110,8,110,9],[111,8,111,9],[109,8,109,9],[86,2,86,12],[52,28,52,29],[52,26,52,27],[48,26,48,27],[51,26,51,27],[50,26,50,27],[49,26,49,27],[49,24,49,25],[49,28,49,29],[58,26,58,27],[58,28,58,29],[79,24,79,25],[79,22,79,23],[57,26,57,27],[51,24,51,25],[52,20,52,21],[53,24,53,25],[53,20,53,21],[50,24,50,25],[48,28,48,29],[86,16,87,16],[2,36,5,44],[6,16,7,16],[17,16,18,16],[39,16,40,16],[0,36,1,38],[57,28,57,29],[23,2,23,4],[24,2,24,4],[41,2,41,3],[29,2,29,4],[30,2,30,3],[17,31,17,33],[39,31,39,33],[6,31,6,33],[35,22,35,23],[34,20,34,21],[32,22,32,23],[26,2,26,4],[14,2,14,4],[27,2,27,4],[28,2,28,4],[22,2,22,3],[15,2,15,4]]}
[null,null,null,null,null,null,null,null,null,null,null,null,null,null,null,{"$f":"MATCH(\"SimMZ\",C:C,0)","v":78}]
[null,null,null,null,null,null,null,null,null,null,null,null,null,null,null,null,null,"Edificio Unifamiliare",null,null,null,null,null,null,null,null,null,null,null,null,null,null,null,null,null,null,null,null,null,null,true,null,null,false]
[null,null,"Verifica Massimali Superbonus",null,null,{"$f":"CONCATENATE(IF('Dati Gen'!E9<>\"\",'Dati Gen'!E9,\"\"),IF('Dati Gen'!E8<>\"\",CONCATENATE(\" - \",'Dati Gen'!E8),\"\"))","v":""},null,null,null,null,null,null,{"$f":"CONCATENATE('Dati Gen'!K2, \" \",'Dati Gen'!K3,\" \",'Dati Gen'!L3)","v":"Pratica.110plus Vers.ne 4.3.1"},null,null,null,null,1]
[null,null,{"$f":"IF(TipoEdif=1,'Dati Gen'!Q5,'Dati Gen'!Q6)","v":"Edificio Unifamiliare"},{"$f":"IF('Dati Gen'!G5>1,CONCATENATE('Dati Gen'!G5,\" U.Imm\"),\"\")","v":""},null,{"$f":"IF(TipoEdif=2,IF('Dati Gen'!K5<>\"\",'Dati Gen'!K5,\"\"),IF(Committenti!B3<>\"\",CONCATENATE(Committenti!B3,\" \",Committenti!C3),\"\"))","v":"Tizio Caio"},null,null,null,null,null,null,{"$f":"'Dati Gen'!K4","v":"©2021-2022 SIM srl - www.madosoft.it"}]
[]
[null,null,{"$f":"IF(ABS(F100-'Dati Gen'!G20)>0.01,\"Importo Lavori al Netto della Sicurezza =\",IF(ABS(G100-'Dati Gen'!G19)>0.01,\"Importo Sicurezza da Progetto =\",IF(ABS(H100-'Dati Gen'!G18)>0.01,\"Importo Lavori da Progetto =\",IF(ABS('Dati Gen'!M21-K100)>0.01,\"Importo Spese Tecniche da Progetto =\",IF(ABS(L100-'Dati Gen'!M22)<=0.01,\"\",\"Importo Complessivo Progetto =\")))))","v":"Importo Lavori al Netto della Sicurezza ="},null,null,{"$f":"IF(ABS(F100-'Dati Gen'!G20)>0.01,'Dati Gen'!G20,IF(ABS(G100-'Dati Gen'!G19)>0.01,'Dati Gen'!G19,IF(ABS(H100-'Dati Gen'!G18)>0.01,'Dati Gen'!G18,IF(ABS('Dati Gen'!M21-K100)>0.01,'Dati Gen'!M21,IF(ABS(L100-'Dati Gen'!M22)<=0.01,\"\",'Dati Gen'!M22)))))","v":0},{"$f":"IF(C6<>\"\",\"DIVERSO da\",\"\")","v":"DIVERSO da"},null,{"$f":"IF(ABS(F100-'Dati Gen'!G20)>0.01,\"Sommatoria Importo Lavori =\",IF(ABS(G100-'Dati Gen'!G19)>0.01,\"Sommatoria Incidenza Sicurezza =\",IF(ABS(H100-'Dati Gen'!G18)>0.01,\"Sommatoria Imponibili =\",IF(ABS('Dati Gen'!M21-K100)>0.01,\"Sommatoria Spese Tecniche =\",IF(ABS(L100-'Dati Gen'!M22)<=0.01,\"\",\"Totale Interventi =\")))))","v":"Sommatoria Importo Lavori ="},null,{"$f":"IF(ABS(F100-'Dati Gen'!G20)>0.01,F100,IF(ABS(G100-'Dati Gen'!G19)>0.01,G100,IF(ABS(H100-'Dati Gen'!G18)>0.01,H100,IF(ABS('Dati Gen'!M21-K100)>0.01,K100,IF(ABS(L100-'Dati Gen'!M22)<=0.01,\"\",L100)))))","v":-2},{"$f":"IF(C6<>\"\",\"Completare Tabella Interventi\",\"\")","v":"Completare Tabella Interventi"},null,null,null,null,null,{"$f":"IF(Titolare!$B$16=\"Versione Demo\",\"Versione Demo\",\"\")","v":"Versione Demo"}]
[null,null,"INTERVENTI TRAINANTI",null,null,null,null,null,null,null,null,null,null,"..",null,null,"Asseverabile",{"$f":"CONCATENATE(\"Spesa detraibile ammissibile \",C7)","v":"Spesa detraibile ammissibile INTERVENTI TRAINANTI"},null,null,null,null,null,null,null,null,null,null,null,null,null,"Spesa Massima Ammissibile (norma primaria)",null,null,null,"Spesa Specifica MITE",null,null,{"$f":"C7","v":"INTERVENTI TRAINANTI"}]
[null,null,"  Interventi",null,null,"Importo Lavori","Incidenza Sicurezza","Imponibile","Iva","Importo c.iva","Spese tecniche","Totale","Credito Spettante  110% Spesa Ammessa",null,null,null,null,"Interventi","Superficie Intervento / UnitàMisura","Min(Spesa Max Ammissibile;Spesa Max Intervento)","Verifica Max",null,"Spesa Detraibile Ammessa",null,"Quota Eccedente Spesa Ammessa",null,"Credito Spettante                          110% Spesa Ammessa                Quota Impresa | Quota Tecnici",null,null,null,null,{"$f":"C7","v":"INTERVENTI TRAINANTI"},"Spesa Massima Ammissibile","Ver. Max",null,"Importo Lavori Fornitura e Posa","Costo dei Beni (Allegato A)","Opere per installazione (Sicurezza)","Manodopera","Spesa Massima Ammissibile Asseverata","Altri Costi","Spese Tecniche","IVA","Spesa di Intervento","Ver. Max",null,"Altri Lavori","Importo Specifico DM Costi Massimi","Incremento Costo dei Beni (Allegato A)","Controllo1","Importo Controllo1","Importo Controllo2","Importo Controllo3","Opere per Istallazione =  Incidenza Sicurezza Fornitura / Superficie Intervento","SpesaSostenuta = Opera Compiuta","Spesa Tecniche = Spese Tecniche da Computo","Altri Costi = Altri Lavori ","AliqIva","Superficie Riscaldata"]
[null,null,"PV) Isolamento pareti perimetrali",null,"Interno",0,0,{"$f":"SUM(F9:G9)","v":0},{"$f":"F9*'Dati Gen'!$J$20+G9*'Dati Gen'!$J$19","v":0},{"$f":"H9+I9","v":0},0,{"$f":"SUM(J9:K9)","v":0},{"$f":"IF(L9<=T9,L9*1.1,T9*1.1)","v":0},null,null,"..","ok",{"$f":"CONCATENATE(C9,\" '\",E9,\"'\")","v":"PV) Isolamento pareti perimetrali 'Interno'"},100,{"$f":"MIN(AG9,AR9)","v":0},{"$f":"IF(L9>M9,\"KO\",IF(L9>T9,\"ko\",\"ok\"))","v":"ok"},null,{"$f":"IF(L9<T9,L9,T9)","v":0},null,{"$f":"IF(L9>T9,L9-T9,0)","v":0},null,{"$f":"IF(M9<>0,J9*M9/L9,0)","v":0},null,{"$f":"IF(M9<>0,K9*M9/L9,0)","v":0},null,null,{"$f":"R9","v":"PV) Isolamento pareti perimetrali 'Interno'"},{"$f":"IF(TipoEdif=1,50000,IF(N_Uimm>8,40000*8+30000*(N_Uimm-8),40000*N_Uimm))","v":50000},{"$f":"IF(L9>AG9,\"ko\",\"ok\")","v":"ok"},null,0,{"$f":"IF(ZonaClimatica=\"A\",IF(E9=\"Parete Ventilata\",240,IF(E9=\"Interno\",96,180)),IF(ZonaClimatica=\"B\",IF(E9=\"Parete Ventilata\",240,IF(E9=\"Interno\",96,180)),IF(ZonaClimatica=\"C\",IF(E9=\"Parete Ventilata\",240,IF(E9=\"Interno\",96,180)),IF(E9=\"Parete Ventilata\",260,IF(E9=\"Interno\",104,195)))))","v":104},{"$f":"IF(S9<>0,IF(F9<>0,G9*AJ9/F9/S9,0),0)","v":0},27,{"$f":"MIN(AY9,AZ9,BA9)","v":0},{"$f":"AU9","v":0},{"$f":"K9","v":0},{"$f":"BF9*SUM(AN9:AP9)","v":0},{"$f":"SUM(AN9:AQ9)","v":0},{"$f":"IF(L9>AR9,\"ko\",\"ok\")","v":"ok"},null,{"$f":"F9-AJ9","v":0},{"$f":"SUM(AK9:AM9)","v":131},0,true,{"$f":"L9","v":0},{"$f":"AV9*S9+AW9*BG9","v":13100},{"$f":"L9","v":0},true,true,true,true,0.10000000149011612,0]
[null,null,"PO) Isolamento coperture",null,"Esterno",0,0,{"$f":"SUM(F10:G10)","v":0},{"$f":"F10*'Dati Gen'!$J$20+G10*'Dati Gen'!$J$19","v":0},{"$f":"H10+I10","v":0},0,{"$f":"SUM(J10:K10)","v":0},0,null,null,"..","ok",{"$f":"CONCATENATE(C10,\" '\",E10,\"'\")","v":"PO) Isolamento coperture 'Esterno'"},1,0,"ok",null,{"$f":"IF(L10<T10,L10,T10)","v":0},null,{"$f":"IF(L10>T10,L10-T10,0)","v":0},null,0,null,0,null,null,"PO) Isolamento coperture 'Esterno'",{"$f":"IF(TipoEdif=1,50000,IF(N_Uimm>8,40000*8+30000*(N_Uimm-8),40000*N_Uimm))","v":50000},"ok",null,0,{"$f":"IF(E10=\"Copertura Ventilata\",300,IF(E10=\"Interno\",120,276))","v":276},{"$f":"IF(S10<>0,IF(F10<>0,G10*AJ10/F10/S10,0),0)","v":0},38,{"$f":"MIN(AY10,AZ10,BA10)","v":0},{"$f":"AU10","v":0},{"$f":"K10","v":0},0,{"$f":"SUM(AN10:AQ10)","v":0},"ok",null,{"$f":"F10-AJ10","v":0},{"$f":"SUM(AK10:AM10)","v":314},0,true,{"$f":"L10","v":0},{"$f":"AV10*S10+AW10*BG10","v":314},{"$f":"L10","v":0},true,true,true,true,0.10000000149011612,0]
[null,null,"POND) Isol. coperture non disperdenti",null,"Esterno",0,{"$f":"IF(ImpLav<>0,F11*ImpSicLav/ImpLav,0)","v":0},{"$f":"SUM(F11:G11)","v":0},{"$f":"F11*'Dati Gen'!$J$20+G11*'Dati Gen'!$J$19","v":0},{"$f":"H11+I11","v":0},{"$f":"IF(ImpLav<>0,F11*ImpTecLav/ImpLav,0)","v":0},{"$f":"SUM(J11:K11)","v":0},0,null,null,"..","ok",{"$f":"CONCATENATE(C11,\" '\",E11,\"'\")","v":"POND) Isol. coperture non disperdenti 'Esterno'"},1,0,"ok",null,{"$f":"IF(L11<T11,L11,T11)","v":0},null,{"$f":"IF(L11>T11,L11-T11,0)","v":0},null,0,null,0,null,null,"POND) Isol. coperture non disperdenti 'Esterno'",{"$f":"IF(TipoEdif=1,50000,IF(N_Uimm>8,40000*8+30000*(N_Uimm-8),40000*N_Uimm))","v":50000},"ok",null,0,{"$f":"IF(E11=\"Copertura Ventilata\",300,IF(E11=\"Interno\",120,276))","v":276},{"$f":"IF(S11<>0,IF(F11<>0,G11*AJ11/F11/S11,0),0)","v":0},38,{"$f":"MIN(AY11,AZ11,BA11)","v":0},{"$f":"AU11","v":0},{"$f":"K11","v":0},0,0,"ok",null,{"$f":"F11-AJ11","v":0},314,0,true,{"$f":"L11","v":0},{"$f":"AV11*S11+AW11*BG11","v":314},{"$f":"L11","v":0},true,true,true,true,0.10000000149011612,0]
[null,null,"PS) Isolamento Pavimenti",null,"Interno/terreno",0,0,{"$f":"SUM(F12:G12)","v":0},{"$f":"F12*'Dati Gen'!$J$20+G12*'Dati Gen'!$J$19","v":0},{"$f":"H12+I12","v":0},0,{"$f":"SUM(J12:K12)","v":0},0,null,null,"..","ok",{"$f":"CONCATENATE(C12,\" '\",E12,\"'\")","v":"PS) Isolamento Pavimenti 'Interno/terreno'"},1,0,"ok",null,{"$f":"IF(L12<T12,L12,T12)","v":0},null,{"$f":"IF(L12>T12,L12-T12,0)","v":0},null,0,null,0,null,null,"PS) Isolamento Pavimenti 'Interno/terreno'",{"$f":"IF(TipoEdif=1,50000,IF(N_Uimm>8,40000*8+30000*(N_Uimm-8),40000*N_Uimm))","v":50000},"ok",null,0,{"$f":"IF(E12=\"Interno/terreno\",180,144)","v":180},{"$f":"IF(S12<>0,IF(F12<>0,G12*AJ12/F12/S12,0),0)","v":0},27,{"$f":"MIN(AY12,AZ12,BA12)","v":0},{"$f":"AU12","v":0},{"$f":"K12","v":0},0,0,"ok",null,{"$f":"F12-AJ12","v":0},207,0,true,{"$f":"L12","v":0},{"$f":"AV12*S12+AW12*BG12","v":207},{"$f":"L12","v":0},true,true,true,true,0.10000000149011612,0]
[null,null,"Totali Isolamento PV) PO) POND) PS) ",null,null,{"$f":"SUM(F9:F12)","v":0},{"$f":"SUM(G9:G12)","v":0},0,0,0,0,{"$f":"SUM(L9:L12)","v":0},0,null,null,null,null,{"$f":"C13","v":"Totali Isolamento PV) PO) POND) PS) "},null,0,"ok",null,{"$f":"IF(T13=AG13,IF(L13<T13,L13,T13),SUM(W9:X12))","v":0},null,{"$f":"IF(L13>W13,L13-W13,0)","v":0},null,0,null,0,null,null,"Totali Isolamento PV) PO) POND) PS) ",{"$f":"IF(TipoEdif=1,50000,IF(N_Uimm>8,40000*8+30000*(N_Uimm-8),40000*N_Uimm))","v":50000},"ok",null,null,null,null,null,null,null,null,null,{"$f":"SUM(AR9:AR12)","v":0},"ok"]
[null,null,"Impianti climatizzazione e ACS ","CC)Caldaie a Condensazione",null,0,0,{"$f":"SUM(F14:G14)","v":0},{"$f":"F14*'Dati Gen'!$J$20+G14*'Dati Gen'!$J$19","v":0},{"$f":"H14+I14","v":0},0,{"$f":"SUM(J14:K14)","v":0},0,null,null,"..","ok",{"$f":"CONCATENATE(C14,\" con '\",D14,\"'\")","v":"Impianti climatizzazione e ACS  con 'CC)Caldaie a Condensazione'"},24,0,"ok",null,{"$f":"IF(L14<T14,L14,T14)","v":0},null,{"$f":"IF(L14>T14,L14-T14,0)","v":0},null,0,null,0,null,null,"Impianti climatizzazione e ACS  con 'CC)Caldaie a Condensazione'",{"$f":"IF(TipoEdif=1,30000,IF(N_Uimm>8,20000*8+15000*(N_Uimm-8),20000*N_Uimm))","v":30000},"ok",null,0,{"$f":"IF(LEFT(D14,3)=\"CC)\",IF(S14<=35,240,216),IF(D14=\"PC)Aria/Aria\",720,IF(D14=\"PC)Altro\",1560,IF(D14=\"PC)Geotermiche\",2280,IF(LEFT(D14,4)=\"PCA)\",1560,IF(LEFT(D14,3)=\"SI)\",1860,0))))))","v":240},{"$f":"IF(S14<>0,IF(F14<>0,G14*AJ14/F14/S14,0),0)","v":0},93.599998474121094,{"$f":"MIN(AY14,AZ14,BA14)","v":0},{"$f":"AU14","v":0},{"$f":"K14","v":0},{"$f":"BF14*SUM(AN14:AP14)","v":0},{"$f":"SUM(AN14:AQ14)","v":0},"ok",null,{"$f":"F14-AJ14","v":0},{"$f":"SUM(AK14:AM14)","v":333.59999847412109},{"$f":"IF($AO$2=TRUE,IF($AR$2=TRUE,180,60),0)","v":60},true,{"$f":"L14","v":0},{"$f":"AV14*S14+AW14*BG14","v":18506.399963378906},{"$f":"L14","v":0},true,true,true,true,0.10000000149011612,175]
[null,null,"SismaBonus Zona 1,2 o 3",null,null,0,{"$f":"IF(ImpLav<>0,F15*ImpSicLav/ImpLav,0)","v":0},{"$f":"SUM(F15:G15)","v":0},{"$f":"F15*'Dati Gen'!$J$20+G15*'Dati Gen'!$J$19","v":0},{"$f":"H15+I15","v":0},{"$f":"IF(ImpLav<>0,F15*ImpTecLav/ImpLav,0)","v":0},{"$f":"SUM(J15:K15)","v":0},0,null,null,"..","ok",{"$f":"C15","v":"SismaBonus Zona 1,2 o 3"},150,0,"ok",null,{"$f":"IF(L15<T15,L15,T15)","v":0},null,{"$f":"IF(L15>T15,L15-T15,0)","v":0},null,0,null,0,null,null,"SismaBonus Zona 1,2 o 3",{"$f":"105600*N_Uimm/1.1","v":95999.999999999985},"ok",null,0,{"$f":"(AG15/S15-K15/S15)/(1+AliqIva)-G15/S15","v":581.81818181818164},{"$f":"IF(S15<>0,IF(F15<>0,G15*AJ15/F15/S15,0),0)","v":0},0,{"$f":"MIN(AY15,AZ15,BA15)","v":0},{"$f":"AU15","v":0},{"$f":"K15","v":0},{"$f":"BF15*SUM(AN15:AP15)","v":0},0,"ok",null,{"$f":"F15-AJ15","v":0},581.81818181818164,0,true,{"$f":"L15","v":0},{"$f":"AV15*S15+AW15*BG15","v":87272.72727272725},{"$f":"L15","v":0},true,true,true,true,0.10000000149011612,0]
[null,null,"Totale interventi Trainanti  : ",null,null,{"$f":"IF(Titolare!$B$16=\"Versione Demo\",-1,SUM(F13:F15))","v":-1},{"$f":"SUM(G13:G15)","v":0},{"$f":"SUM(H13:H15)","v":0},{"$f":"SUM(I13:I15)","v":0},{"$f":"IF(Titolare!$B$16=\"Versione Demo\",-1,SUM(J13:J15))","v":-1},{"$f":"SUM(K13:K15)","v":0},{"$f":"IF(Titolare!$B$16=\"Versione Demo\",0,SUM(L13:L15))","v":0},{"$f":"SUM(M13:M15)","v":0},null,null,null,null,null,null,null,null,{"$f":"C16","v":"Totale interventi Trainanti  : "},{"$f":"SUM(W13:X15)","v":0},null,{"$f":"SUM(Y13:Z15)","v":0},null,{"$f":"SUM(AA13:AB15)","v":0},null,{"$f":"SUM(AC13:AD15)","v":0}]
[]
[null,null,"INTERVENTI TRAINATI PARTI COMUNI CONDOMINIALI",null,null,null,null,null,null,null,null,null,null,"..",null,null,"Asseverabile",{"$f":"CONCATENATE(\"Spesa detraibile ammissibile \",C18)","v":"Spesa detraibile ammissibile INTERVENTI TRAINATI PARTI COMUNI CONDOMINIALI"},null,null,null,null,null,null,null,null,null,null,null,null,null,"Spesa Massima Ammissibile (norma primaria)",null,null,null,"Spesa Specifica MITE",null,null,{"$f":"C18","v":"INTERVENTI TRAINATI PARTI COMUNI CONDOMINIALI"}]
[null,null,"  Interventi",null,null,"Importo Lavori","Incidenza Sicurezza","Imponibile","Iva","Importo c.iva","Spese tecniche","Totale","Credito Spettante  110% Spesa Ammessa",null,null,null,null,"Interventi","Superficie Intervento / UnitàMisura","Min(Spesa Max Ammissibile;Spesa Max Intervento)","Verifica Max",null,"Spesa Detraibile Ammessa",null,"Quota Eccedente Spesa Ammessa",null,"Credito Spettante                          110% Spesa Ammessa                                Quota Impresa | Quota Tecnici",null,null,null,null,{"$f":"C18","v":"INTERVENTI TRAINATI PARTI COMUNI CONDOMINIALI"},"Spesa Massima Ammissibile","Ver. Max",null,"Importo Lavori Fornitura e Posa","Costo dei Beni (Allegato A)","Opere per installazione (Sicurezza)","Manodopera","Spesa Massima Ammissibile Asseverata","Altri Costi","Spese Tecniche","IVA","Spesa di Intervento","Ver. Max",null,"Altri Lavori","Importo Specifico DM Costi Massimi","Incremento Costo dei Beni (Allegato A)","Controllo1","Importo Controllo1","Importo Controllo2","Importo Controllo3","Opere per Istallazione =  Incidenza Sicurezza Fornitura / Superficie Intervento","SpesaSostenuta = Opera Compiuta","Spesa Tecniche = Spese Tecniche da Computo","Altri Costi = Altri Lavori ","AliqIva","Superficie Riscaldata"]
[null,null,"PV) Isolamento pareti perimetrali",null,"Interno",0,0,{"$f":"SUM(F20:G20)","v":0},{"$f":"F20*'Dati Gen'!$J$20+G20*'Dati Gen'!$J$19","v":0},{"$f":"H20+I20","v":0},0,{"$f":"SUM(J20:K20)","v":0},{"$f":"IF(L20<=T20,L20*1.1,T20*1.1)","v":0},null,null,"..","ok",{"$f":"CONCATENATE(C20,\" '\",E20,\"'\")","v":"PV) Isolamento pareti perimetrali 'Interno'"},1,{"$f":"MIN(AG20,AR20)","v":0},{"$f":"IF(L20>M20,\"KO\",IF(L20>T20,\"ko\",\"ok\"))","v":"ok"},null,{"$f":"IF(L20<T20,L20,T20)","v":0},null,{"$f":"IF(L20>T20,L20-T20,0)","v":0},null,{"$f":"IF(M20<>0,J20*M20/L20,0)","v":0},null,{"$f":"IF(M20<>0,K20*M20/L20,0)","v":0},null,null,{"$f":"R20","v":"PV) Isolamento pareti perimetrali 'Interno'"},{"$f":"IF(TipoEdif=1,50000,IF(N_Uimm>8,40000*8+30000*(N_Uimm-8),40000*N_Uimm))","v":50000},{"$f":"IF(L20>AG20,\"ko\",\"ok\")","v":"ok"},null,0,{"$f":"IF(ZonaClimatica=\"A\",IF(E20=\"Parete Ventilata\",240,IF(E20=\"Interno\",96,180)),IF(ZonaClimatica=\"B\",IF(E20=\"Parete Ventilata\",240,IF(E20=\"Interno\",96,180)),IF(ZonaClimatica=\"C\",IF(E20=\"Parete Ventilata\",240,IF(E20=\"Interno\",96,180)),IF(E20=\"Parete Ventilata\",260,IF(E20=\"Interno\",104,195)))))","v":104},0,0,{"$f":"MIN(AY20,AZ20,BA20)","v":0},{"$f":"AU20","v":0},{"$f":"K20","v":0},{"$f":"BF20*SUM(AN20:AP20)","v":0},{"$f":"SUM(AN20:AQ20)","v":0},{"$f":"IF(L20>AR20,\"ko\",\"ok\")","v":"ok"},null,{"$f":"F20-AJ20","v":0},{"$f":"SUM(AK20:AM20)","v":104},0,true,{"$f":"L20","v":0},{"$f":"AV20*S20+AW20*BG20","v":104},{"$f":"L20","v":0},true,true,true,true,0.1]
[null,null,"PO) Isolamento coperture",null,"Esterno",0,0,{"$f":"SUM(F21:G21)","v":0},{"$f":"F21*'Dati Gen'!$J$20+G21*'Dati Gen'!$J$19","v":0},{"$f":"H21+I21","v":0},0,{"$f":"SUM(J21:K21)","v":0},{"$f":"IF(L21<=T21,L21*1.1,T21*1.1)","v":0},null,null,"..","ok",{"$f":"CONCATENATE(C21,\" '\",E21,\"'\")","v":"PO) Isolamento coperture 'Esterno'"},1,0,"ok",null,{"$f":"IF(L21<T21,L21,T21)","v":0},null,{"$f":"IF(L21>T21,L21-T21,0)","v":0},null,0,null,0,null,null,"PO) Isolamento coperture 'Esterno'",{"$f":"IF(TipoEdif=1,50000,IF(N_Uimm>8,40000*8+30000*(N_Uimm-8),40000*N_Uimm))","v":50000},"ok",null,0,{"$f":"IF(E21=\"Copertura Ventilata\",300,IF(E21=\"Interno\",120,276))","v":276},0,0,{"$f":"MIN(AY21,AZ21,BA21)","v":0},0,{"$f":"K21","v":0},{"$f":"BF21*SUM(AN21:AP21)","v":0},0,"ok",null,{"$f":"F21-AJ21","v":0},{"$f":"SUM(AK21:AM21)","v":276},0,true,{"$f":"L21","v":0},{"$f":"AV21*S21+AW21*BG21","v":276},{"$f":"L21","v":0},true,true,true,true,0.1]
[null,null,"PS) Isolamento Pavimenti",null,"Interno/terreno",0,0,{"$f":"SUM(F22:G22)","v":0},{"$f":"F22*'Dati Gen'!$J$20+G22*'Dati Gen'!$J$19","v":0},{"$f":"H22+I22","v":0},0,{"$f":"SUM(J22:K22)","v":0},{"$f":"IF(L22<=T22,L22*1.1,T22*1.1)","v":0},null,null,"..","ok",{"$f":"CONCATENATE(C22,\" '\",E22,\"'\")","v":"PS) Isolamento Pavimenti 'Interno/terreno'"},1,0,"ok",null,{"$f":"IF(L22<T22,L22,T22)","v":0},null,{"$f":"IF(L22>T22,L22-T22,0)","v":0},null,0,null,0,null,null,"PS) Isolamento Pavimenti 'Interno/terreno'",{"$f":"IF(TipoEdif=1,50000,IF(N_Uimm>8,40000*8+30000*(N_Uimm-8),40000*N_Uimm))","v":50000},"ok",null,0,{"$f":"IF(E22=\"Interno/terreno\",180,144)","v":180},0,0,{"$f":"MIN(AY22,AZ22,BA22)","v":0},0,{"$f":"K22","v":0},{"$f":"BF22*SUM(AN22:AP22)","v":0},0,"ok",null,{"$f":"F22-AJ22","v":0},180,0,true,{"$f":"L22","v":0},{"$f":"AV22*S22+AW22*BG22","v":180},{"$f":"L22","v":0},true,true,true,true,0.1]
[null,null,"IN) Serramenti con chiusure oscuranti",null,{"$f":"IF(ZonaClimatica=\"A\",\"Zone A, B e C\", IF(ZonaClimatica=\"B\",\"Zone A, B e C\",IF(ZonaClimatica=\"C\",\"Zone A, B e C\",\"Zone D, E ed F\")))","v":"Zone D, E ed F"},0,0,{"$f":"SUM(F23:G23)","v":0},{"$f":"F23*'Dati Gen'!$J$20+G23*'Dati Gen'!$J$19","v":0},{"$f":"H23+I23","v":0},0,{"$f":"SUM(J23:K23)","v":0},{"$f":"IF(L23<=T23,L23*1.1,T23*1.1)","v":0},null,null,"..","ok",{"$f":"CONCATENATE(C23,\" '\",E23,\"'\")","v":"IN) Serramenti con chiusure oscuranti 'Zone D, E ed F'"},1,0,"ok",null,{"$f":"IF(L23<T23,L23,T23)","v":0},null,{"$f":"IF(L23>T23,L23-T23,0)","v":0},null,0,null,0,null,null,"IN) Serramenti con chiusure oscuranti 'Zone D, E ed F'",{"$f":"INT(60000/1.1)*N_Uimm","v":54545},"ok",null,0,{"$f":"IF(E23=\"Zone A, B e C\",IF(C23=\"IN) Serramenti\",660,780),IF(C23=\"IN) Serramenti\",780,900))","v":900},0,0,{"$f":"MIN(AY23,AZ23,BA23)","v":0},0,{"$f":"K23","v":0},{"$f":"BF23*SUM(AN23:AP23)","v":0},0,"ok",null,{"$f":"F23-AJ23","v":0},900,0,true,{"$f":"L23","v":0},{"$f":"AV23*S23+AW23*BG23","v":900},{"$f":"L23","v":0},true,true,true,true,0.1]
[null,null,"Totali Isolamento PV) PO) PS) e IN)",null,null,{"$f":"SUM(F20:F23)","v":0},0,0,0,0,0,0,0,null,null,null,null,{"$f":"C24","v":"Totali Isolamento PV) PO) PS) e IN)"},null,0,"ok",null,{"$f":"IF(T24=AG24,IF(L24<T24,L24,T24),SUM(W20:X23))","v":0},null,{"$f":"IF(L24>W24,L24-W24,0)","v":0},null,0,null,0,null,null,"Totali Isolamento PV) PO) PS) e IN)",{"$f":"INT(60000/1.1)*N_Uimm","v":54545},"ok",null,null,null,null,null,null,null,null,null,{"$f":"SUM(AR20:AR23)","v":0},"ok"]
[null,null,"SS) Schermature solari e chiusure oscuranti",null,null,0,0,{"$f":"SUM(F25:G25)","v":0},{"$f":"F25*'Dati Gen'!$J$20+G25*'Dati Gen'!$J$19","v":0},{"$f":"H25+I25","v":0},0,{"$f":"SUM(J25:K25)","v":0},{"$f":"IF(L25<=T25,L25*1.1,T25*1.1)","v":0},null,null,"..","ok",{"$f":"C25","v":"SS) Schermature solari e chiusure oscuranti"},1,0,"ok",null,{"$f":"IF(L25<T25,L25,T25)","v":0},null,{"$f":"IF(L25>T25,L25-T25,0)","v":0},null,0,null,0,null,null,"SS) Schermature solari e chiusure oscuranti",{"$f":"INT(60000/1.1)*N_Uimm","v":54545},"ok",null,0,0,0,0,{"$f":"MIN(AY25,AZ25,BA25)","v":0},{"$f":"AU25","v":0},{"$f":"K25","v":0},{"$f":"BF25*SUM(AN25:AP25)","v":0},{"$f":"SUM(AN25:AQ25)","v":0},"ok",null,{"$f":"F25-AJ25","v":0},{"$f":"SUM(AK25:AM25)","v":0},0,true,{"$f":"L25","v":0},{"$f":"AV25*S25+AW25*BG25","v":0},{"$f":"L25","v":0},true,true,true,true,0.1]
[null,null,"Impianti climatizzazione con ","CC)Caldaie a Condensazione",null,0,0,{"$f":"SUM(F26:G26)","v":0},{"$f":"F26*'Dati Gen'!$J$20+G26*'Dati Gen'!$J$19","v":0},{"$f":"H26+I26","v":0},0,{"$f":"SUM(J26:K26)","v":0},{"$f":"IF(L26<=T26,L26*1.1,T26*1.1)","v":0},null,null,"..","ok",{"$f":"CONCATENATE(C26,\" '\",D26,\"'\")","v":"Impianti climatizzazione con  'CC)Caldaie a Condensazione'"},1,0,"ok",null,{"$f":"IF(L26<T26,L26,T26)","v":0},null,{"$f":"IF(L26>T26,L26-T26,0)","v":0},null,0,null,0,null,null,"Impianti climatizzazione con  'CC)Caldaie a Condensazione'",{"$f":"INT(30000/1.1)*N_Uimm","v":27272},"ok",null,0,0,0,0,{"$f":"MIN(AY26,AZ26,BA26)","v":0},0,{"$f":"K26","v":0},{"$f":"BF26*SUM(AN26:AP26)","v":0},0,"ok",null,{"$f":"F26-AJ26","v":0},0,{"$f":"IF($AO$2=TRUE,IF($AR$2=TRUE,180,60),0)","v":60},true,{"$f":"L26","v":0},{"$f":"AV26*S26+AW26*BG26","v":0},{"$f":"L26","v":0},true,true,true,true,0.1,0]
[null,null,"GA) Generatori aria calda Condensazione",null,null,0,0,{"$f":"SUM(F27:G27)","v":0},{"$f":"F27*'Dati Gen'!$J$20+G27*'Dati Gen'!$J$19","v":0},{"$f":"H27+I27","v":0},0,{"$f":"SUM(J27:K27)","v":0},{"$f":"IF(L27<=T27,L27*1.1,T27*1.1)","v":0},null,null,"..","ok","GA) Generatori aria calda Condensazione",1,0,"ok",null,{"$f":"IF(L27<T27,L27,T27)","v":0},null,{"$f":"IF(L27>T27,L27-T27,0)","v":0},null,0,null,0,null,null,"GA) Generatori aria calda Condensazione",{"$f":"INT(30000/1.1)*N_Uimm","v":27272},"ok",null,0,0,0,0,{"$f":"MIN(AY27,AZ27,BA27)","v":0},0,{"$f":"K27","v":0},{"$f":"BF27*SUM(AN27:AP27)","v":0},0,"ok",null,{"$f":"F27-AJ27","v":0},0,{"$f":"IF($AO$2=TRUE,IF($AR$2=TRUE,180,60),0)","v":60},true,{"$f":"L27","v":0},{"$f":"AV27*S27+AW27*BG27","v":0},{"$f":"L27","v":0},true,true,true,true,0.1,0]
[null,null,"IB) Impianti Biomassa",null,null,0,0,{"$f":"SUM(F28:G28)","v":0},{"$f":"F28*'Dati Gen'!$J$20+G28*'Dati Gen'!$J$19","v":0},{"$f":"H28+I28","v":0},0,{"$f":"SUM(J28:K28)","v":0},{"$f":"IF(L28<=T28,L28*1.1,T28*1.1)","v":0},null,null,"..","ok","IB) Impianti Biomassa",1,0,"ok",null,{"$f":"IF(L28<T28,L28,T28)","v":0},null,{"$f":"IF(L28>T28,L28-T28,0)","v":0},null,0,null,0,null,null,"IB) Impianti Biomassa",{"$f":"INT(30000/1.1)*N_Uimm","v":27272},"ok",null,0,0,0,0,{"$f":"MIN(AY28,AZ28,BA28)","v":0},0,{"$f":"K28","v":0},{"$f":"BF28*SUM(AN28:AP28)","v":0},0,"ok",null,{"$f":"F28-AJ28","v":0},0,{"$f":"IF($AO$2=TRUE,IF($AR$2=TRUE,180,60),0)","v":60},true,{"$f":"L28","v":0},{"$f":"AV28*S28+AW28*BG28","v":0},{"$f":"L28","v":0},true,true,true,true,0.1,0]
[null,null,"SA) Scaldacqua a pompa di calore",null,null,0,0,{"$f":"SUM(F29:G29)","v":0},{"$f":"F29*'Dati Gen'!$J$20+G29*'Dati Gen'!$J$19","v":0},{"$f":"H29+I29","v":0},0,{"$f":"SUM(J29:K29)","v":0},{"$f":"IF(L29<=T29,L29*1.1,T29*1.1)","v":0},null,null,"..","ok","SA) Scaldacqua a pompa di calore",1,0,"ok",null,{"$f":"IF(L29<T29,L29,T29)","v":0},null,{"$f":"IF(L29>T29,L29-T29,0)","v":0},null,0,null,0,null,null,"SA) Scaldacqua a pompa di calore",{"$f":"INT(30000/1.1)*N_Uimm","v":27272},"ok",{"$f":"IF(S29<=150,1200,1500)","v":1200},0,0,0,0,{"$f":"MIN(AY29,AZ29,BA29)","v":0},0,{"$f":"K29","v":0},{"$f":"BF29*SUM(AN29:AP29)","v":0},0,"ok",null,{"$f":"F29-AJ29","v":0},0,0,true,{"$f":"L29","v":0},{"$f":"AV29*S29+AW29*BG29","v":0},{"$f":"L29","v":0},true,true,true,true,0.1]
[null,null,"Totali GA)  IB)  SA)",null,null,{"$f":"SUM(F27:F29)","v":0},{"$f":"SUM(G27:G29)","v":0},{"$f":"SUM(H27:H29)","v":0},0,0,0,0,0,null,null,null,null,{"$f":"C30","v":"Totali GA)  IB)  SA)"},null,0,"ok",null,{"$f":"IF(T30=AG30,IF(L30<T30,L30,T30),SUM(W27:X29))","v":0},null,{"$f":"IF(L30>W30,L30-W30,0)","v":0},null,0,null,0,null,null,"Totali GA)  IB)  SA)",{"$f":"INT(30000/1.1)*N_Uimm","v":27272},"ok",null,null,null,null,null,null,null,null,null,{"$f":"SUM(AR27:AR29)","v":0},"ok"]
[null,null,"CO) Sistemi di Microgenerazione",null,"Celle a combustibile",0,0,{"$f":"SUM(F31:G31)","v":0},{"$f":"F31*'Dati Gen'!$J$20+G31*'Dati Gen'!$J$19","v":0},{"$f":"H31+I31","v":0},0,{"$f":"SUM(J31:K31)","v":0},{"$f":"IF(L31<=T31,L31*1.1,T31*1.1)","v":0},null,null,"..","ok",{"$f":"CONCATENATE(C31,\" '\",E31,\"'\")","v":"CO) Sistemi di Microgenerazione 'Celle a combustibile'"},1,0,"ok",null,{"$f":"IF(L31<T31,L31,T31)","v":0},null,{"$f":"IF(L31>T31,L31-T31,0)","v":0},null,0,null,0,null,null,"CO) Sistemi di Microgenerazione 'Celle a combustibile'",{"$f":"INT(100000/1.1)*N_Uimm","v":90909},"ok",null,0,0,0,0,{"$f":"MIN(AY31,AZ31,BA31)","v":0},{"$f":"AU31","v":0},{"$f":"K31","v":0},{"$f":"BF31*SUM(AN31:AP31)","v":0},{"$f":"SUM(AN31:AQ31)","v":0},"ok",null,{"$f":"F31-AJ31","v":0},{"$f":"SUM(AK31:AM31)","v":0},0,true,{"$f":"L31","v":0},{"$f":"AV31*S31+AW31*BG31","v":0},{"$f":"L31","v":0},true,true,true,true,0.1]
[null,null,"ST) Collettori Solari",null,"Piani Vetrati",0,0,0,{"$f":"F32*'Dati Gen'!$J$20+G32*'Dati Gen'!$J$19","v":0},0,0,0,0,null,null,"..","ok","ST) Collettori Solari 'Piani Vetrati'",1,0,"ok",null,0,null,0,null,0,null,0,null,null,"ST) Collettori Solari 'Piani Vetrati'",{"$f":"INT(60000/1.1)*N_Uimm","v":54545},"ok",null,0,0,0,0,0,0,0,0,0,"ok",null,0,{"$f":"SUM(AK32:AM32)","v":0},0,true,0,0,0,true,true,true,true,0.1]
[null,null,"FV) Solare Fotovoltaico [ kWp ]",null,6,0,0,0,{"$f":"F33*'Dati Gen'!$J$20+G33*'Dati Gen'!$J$19","v":0},0,0,0,0,null,null,"..","ok",{"$f":"C33","v":"FV) Solare Fotovoltaico [ kWp ]"},{"$f":"E33","v":6},0,"ok",null,0,null,0,null,0,null,0,null,null,"FV) Solare Fotovoltaico [ kWp ]",{"$f":"IF(ISNUMBER(FIND(\"ristr\",C33))=FALSE,IF(E33*2400<48000*N_Uimm,E33*2400,48000*N_Uimm),IF(E33*1600<48000*N_Uimm,E33*1600,48000*N_Uimm))","v":14400},"ok",null,0,0,0,0,0,0,0,0,0,"ok",null,0,0,0,true,0,0,0,true,true,true,true,0.1]
[null,null,"AC) Sistema di Accumulo [ kWh ]",null,10,0,0,0,{"$f":"F34*'Dati Gen'!$J$20+G34*'Dati Gen'!$J$19","v":0},0,0,0,0,null,null,"..","ok",{"$f":"C34","v":"AC) Sistema di Accumulo [ kWh ]"},{"$f":"E34","v":10},0,"ok",null,0,null,0,null,0,null,0,null,null,"AC) Sistema di Accumulo [ kWh ]",{"$f":"IF(E34*1000<48000*N_Uimm,E34*1000,48000*N_Uimm)","v":10000},"ok",null,0,0,0,0,0,0,0,0,0,"ok",null,0,0,0,true,0,0,0,true,true,true,true,0.1]
[null,null,"CR) Colonnine di Ricarica  [ N. ]",null,1,0,0,0,{"$f":"F35*'Dati Gen'!$J$20+G35*'Dati Gen'!$J$19","v":0},0,0,0,0,null,null,"..","ok",{"$f":"C35","v":"CR) Colonnine di Ricarica  [ N. ]"},{"$f":"E35","v":1},0,"ok",null,0,null,0,null,0,null,0,null,null,"CR) Colonnine di Ricarica  [ N. ]",{"$f":"IF(E35>8,1500*8+1200*(E35-8),1500*E35)","v":1500},"ok",null,0,0,0,0,0,0,0,0,0,"ok",null,0,0,0,true,0,0,0,true,true,true,true,0.1]
[null,null,"EBA) Eliminazione Barriere architettoniche",null,null,0,0,0,{"$f":"F36*'Dati Gen'!$J$20+G36*'Dati Gen'!$J$19","v":0},0,0,0,0,null,null,"..","ok",{"$f":"C36","v":"EBA) Eliminazione Barriere architettoniche"},1,0,"ok",null,0,null,0,null,0,null,0,null,null,"EBA) Eliminazione Barriere architettoniche",{"$f":"IF(F36>0,IF(96000*N_Uimm > F15,96000*N_Uimm - F15,0),96000*N_Uimm )","v":96000},"ok",null,0,0,0,0,0,0,0,0,0,"ok",null,0,{"$f":"SUM(AK36:AM36)","v":0},0,true,0,0,0,true,true,true,true,0.1]
[null,null,"Totale Interventi Trainati Parti Comuni : ",null,null,{"$f":"SUM(F24:F26)+SUM(F30:F36)","v":0},{"$f":"SUM(G24:G26)+SUM(G30:G36)","v":0},0,0,0,0,0,0,null,null,null,null,null,null,null,null,{"$f":"C37","v":"Totale Interventi Trainati Parti Comuni : "},{"$f":"W24+W25+W26+SUM(W30:X36)","v":0},null,{"$f":"Y24+Y25+Y26+SUM(Y30:Z36)","v":0},null,{"$f":"AA24+AA25+AA26+SUM(AA30:AB36)","v":0},null,{"$f":"AC24+AC25+AC26+SUM(AC30:AD36)","v":0}]
[]
[]
[null,null,"INTERVENTI TRAINATI",null,null,null,null,null,null,null,null,null,null,"..",null,null,"Asseverabile",{"$f":"CONCATENATE(\"Spesa detraibile ammissibile \",C40)","v":"Spesa detraibile ammissibile INTERVENTI TRAINATI"},null,null,null,null,null,null,null,null,null,null,null,null,null,"Spesa Massima Ammissibile (norma primaria)",null,null,null,"Spesa Specifica MITE",null,null,{"$f":"C40","v":"INTERVENTI TRAINATI"}]
[null,null,"  Interventi",null,null,"Importo Lavori","Incidenza Sicurezza","Imponibile","Iva","Importo c.iva","Spese tecniche","Totale","Credito Spettante  110% Spesa Ammessa",null,null,null,null,"Interventi","Superficie Intervento / UnitàMisura","Min(Spesa Max Ammissibile;Spesa Max Intervento)","Verifica Max",null,"Spesa Detraibile Ammessa",null,"Quota Eccedente Spesa Ammessa",null,"Credito Spettante                          110% Spesa Ammessa                                Quota Impresa | Quota Tecnici",null,null,null,null,{"$f":"C40","v":"INTERVENTI TRAINATI"},"Spesa Massima Ammissibile","Ver. Max",null,"Importo Lavori Fornitura e Posa","Costo dei Beni (Allegato A)","Opere per installazione (Sicurezza)","Manodopera","Spesa Massima Ammissibile Asseverata","Altri Costi","Spese Tecniche","IVA","Spesa di Intervento","Ver. Max",null,"Altri Lavori","Importo Specifico DM Costi Massimi","Incremento Costo dei Beni (Allegato A)","Controllo1","Importo Controllo1","Importo Controllo2","Importo Controllo3","Opere per Istallazione =  Incidenza Sicurezza Fornitura / Superficie Intervento","SpesaSostenuta = Opera Compiuta","Spesa Tecniche = Spese Tecniche da Computo","Altri Costi = Altri Lavori ","AliqIva","Superficie Riscaldata"]
[null,null,"PV) Isolamento pareti perimetrali",null,"Esterno",0,0,{"$f":"SUM(F42:G42)","v":0},{"$f":"F42*'Dati Gen'!$J$20+G42*'Dati Gen'!$J$19","v":0},{"$f":"H42+I42","v":0},0,{"$f":"SUM(J42:K42)","v":0},{"$f":"IF(L42<=T42,L42*1.1,T42*1.1)","v":0},null,null,"..","ok",{"$f":"CONCATENATE(C42,\" '\",E42,\"'\")","v":"PV) Isolamento pareti perimetrali 'Esterno'"},1,{"$f":"MIN(AG42,AR42)","v":0},{"$f":"IF(L42>M42,\"KO\",IF(L42>T42,\"ko\",\"ok\"))","v":"ok"},null,{"$f":"IF(L42<T42,L42,T42)","v":0},null,{"$f":"IF(L42>T42,L42-T42,0)","v":0},null,{"$f":"IF(M42<>0,J42*M42/L42,0)","v":0},null,{"$f":"IF(M42<>0,K42*M42/L42,0)","v":0},null,null,{"$f":"R42","v":"PV) Isolamento pareti perimetrali 'Esterno'"},{"$f":"INT(60000/1.1)","v":54545},{"$f":"IF(L42>AG42,\"ko\",\"ok\")","v":"ok"},null,0,{"$f":"IF(ZonaClimatica=\"A\",IF(E42=\"Parete Ventilata\",240,IF(E42=\"Interno\",96,180)),IF(ZonaClimatica=\"B\",IF(E42=\"Parete Ventilata\",240,IF(E42=\"Interno\",96,180)),IF(ZonaClimatica=\"C\",IF(E42=\"Parete Ventilata\",240,IF(E42=\"Interno\",96,180)),IF(E42=\"Parete Ventilata\",260,IF(E42=\"Interno\",104,195)))))","v":195},{"$f":"IF(S42<>0,IF(F42<>0,G42*AJ42/F42/S42,0),0)","v":0},27,{"$f":"MIN(AY42,AZ42,BA42)","v":0},{"$f":"AU42","v":0},{"$f":"K42","v":0},{"$f":"BF42*SUM(AN42:AP42)","v":0},{"$f":"SUM(AN42:AQ42)","v":0},{"$f":"IF(L42>AR42,\"ko\",\"ok\")","v":"ok"},null,{"$f":"F42-AJ42","v":0},{"$f":"SUM(AK42:AM42)","v":222},0,true,{"$f":"L42","v":0},{"$f":"AV42*S42+AW42*BG42","v":222},{"$f":"L42","v":0},true,true,true,true,0.1]
[null,null,"PO) Isolamento coperture",null,"Esterno",0,0,{"$f":"SUM(F43:G43)","v":0},{"$f":"F43*'Dati Gen'!$J$20+G43*'Dati Gen'!$J$19","v":0},{"$f":"H43+I43","v":0},0,{"$f":"SUM(J43:K43)","v":0},{"$f":"IF(L43<=T43,L43*1.1,T43*1.1)","v":0},null,null,"..","ok",{"$f":"CONCATENATE(C43,\" '\",E43,\"'\")","v":"PO) Isolamento coperture 'Esterno'"},1,0,"ok",null,{"$f":"IF(L43<T43,L43,T43)","v":0},null,{"$f":"IF(L43>T43,L43-T43,0)","v":0},null,0,null,0,null,null,"PO) Isolamento coperture 'Esterno'",54545,"ok",null,0,{"$f":"IF(E43=\"Copertura Ventilata\",300,IF(E43=\"Interno\",120,276))","v":276},{"$f":"IF(S43<>0,IF(F43<>0,G43*AJ43/F43/S43,0),0)","v":0},38,{"$f":"MIN(AY43,AZ43,BA43)","v":0},0,{"$f":"K43","v":0},{"$f":"BF43*SUM(AN43:AP43)","v":0},0,"ok",null,{"$f":"F43-AJ43","v":0},314,0,true,{"$f":"L43","v":0},{"$f":"AV43*S43+AW43*BG43","v":314},{"$f":"L43","v":0},true,true,true,true,0.1]
[null,null,"PS) Isolamento Pavimenti",null,"Esterno",0,0,{"$f":"SUM(F44:G44)","v":0},{"$f":"F44*'Dati Gen'!$J$20+G44*'Dati Gen'!$J$19","v":0},{"$f":"H44+I44","v":0},0,{"$f":"SUM(J44:K44)","v":0},{"$f":"IF(L44<=T44,L44*1.1,T44*1.1)","v":0},null,null,"..","ok",{"$f":"CONCATENATE(C44,\" '\",E44,\"'\")","v":"PS) Isolamento Pavimenti 'Esterno'"},1,0,"ok",null,{"$f":"IF(L44<T44,L44,T44)","v":0},null,{"$f":"IF(L44>T44,L44-T44,0)","v":0},null,0,null,0,null,null,"PS) Isolamento Pavimenti 'Esterno'",54545,"ok",null,0,{"$f":"IF(E44=\"Interno/terreno\",180,144)","v":144},{"$f":"IF(S44<>0,IF(F44<>0,G44*AJ44/F44/S44,0),0)","v":0},27,{"$f":"MIN(AY44,AZ44,BA44)","v":0},0,{"$f":"K44","v":0},{"$f":"BF44*SUM(AN44:AP44)","v":0},0,"ok",null,{"$f":"F44-AJ44","v":0},171,0,true,{"$f":"L44","v":0},{"$f":"AV44*S44+AW44*BG44","v":171},{"$f":"L44","v":0},true,true,true,true,0.1]
[null,null,"IN) Serramenti con chiusure oscuranti",null,{"$f":"IF(ZonaClimatica=\"A\",\"Zone A, B e C\", IF(ZonaClimatica=\"B\",\"Zone A, B e C\",IF(ZonaClimatica=\"C\",\"Zone A, B e C\",\"Zone D, E ed F\")))","v":"Zone D, E ed F"},0,0,{"$f":"SUM(F45:G45)","v":0},{"$f":"F45*'Dati Gen'!$J$20+G45*'Dati Gen'!$J$19","v":0},{"$f":"H45+I45","v":0},0,{"$f":"SUM(J45:K45)","v":0},{"$f":"IF(L45<=T45,L45*1.1,T45*1.1)","v":0},null,null,"..","ok",{"$f":"CONCATENATE(C45,\" '\",E45,\"'\")","v":"IN) Serramenti con chiusure oscuranti 'Zone D, E ed F'"},1,0,"ok",null,{"$f":"IF(L45<T45,L45,T45)","v":0},null,{"$f":"IF(L45>T45,L45-T45,0)","v":0},null,0,null,0,null,null,"IN) Serramenti con chiusure oscuranti 'Zone D, E ed F'",54545,"ok",null,0,{"$f":"IF(E45=\"Zone A, B e C\",IF(C45=\"IN) Serramenti\",660,780),IF(C45=\"IN) Serramenti\",780,900))","v":900},{"$f":"IF(S45<>0,IF(F45<>0,G45*AJ45/F45/S45,0),0)","v":0},46.799999237060547,{"$f":"MIN(AY45,AZ45,BA45)","v":0},{"$f":"AU45","v":0},{"$f":"K45","v":0},{"$f":"BF45*SUM(AN45:AP45)","v":0},0,"ok",null,{"$f":"F45-AJ45","v":0},946.79999923706055,0,true,{"$f":"L45","v":0},{"$f":"AV45*S45+AW45*BG45","v":946.79999923706055},{"$f":"L45","v":0},true,true,true,true,0.10000000149011612,0]
[null,null,"Totali Isolamento PV) PO) PS) e IN",null,null,{"$f":"SUM(F42:F45)","v":0},0,0,0,0,0,0,0,null,null,null,null,{"$f":"C46","v":"Totali Isolamento PV) PO) PS) e IN"},null,0,"ok",null,{"$f":"IF(T46=AG46,IF(L46<T46,L46,T46),SUM(W42:X45))","v":0},null,{"$f":"IF(L46>W46,L46-W46,0)","v":0},null,0,null,0,null,null,"Totali Isolamento PV) PO) PS) e IN",54545,"ok",null,null,null,null,null,null,null,null,null,{"$f":"SUM(AR42:AR45)","v":0},"ok"]
[null,null,"SS) Schermature solari e chiusure oscuranti",null,null,0,0,{"$f":"SUM(F47:G47)","v":0},{"$f":"F47*'Dati Gen'!$J$20+G47*'Dati Gen'!$J$19","v":0},{"$f":"H47+I47","v":0},0,{"$f":"SUM(J47:K47)","v":0},{"$f":"IF(L47<=T47,L47*1.1,T47*1.1)","v":0},null,null,"..","ok",{"$f":"C47","v":"SS) Schermature solari e chiusure oscuranti"},1,0,"ok",null,{"$f":"IF(L47<T47,L47,T47)","v":0},null,{"$f":"IF(L47>T47,L47-T47,0)","v":0},null,0,null,0,null,null,"SS) Schermature solari e chiusure oscuranti",54545,"ok",null,0,276,{"$f":"IF(S47<>0,IF(F47<>0,G47*AJ47/F47/S47,0),0)","v":0},0,{"$f":"MIN(AY47,AZ47,BA47)","v":0},{"$f":"AU47","v":0},{"$f":"K47","v":0},{"$f":"BF47*SUM(AN47:AP47)","v":0},{"$f":"SUM(AN47:AQ47)","v":0},"ok",null,{"$f":"F47-AJ47","v":0},{"$f":"SUM(AK47:AM47)","v":276},0,true,{"$f":"L47","v":0},{"$f":"AV47*S47+AW47*BG47","v":276},{"$f":"L47","v":0},true,true,true,true,0.1]
[null,null,"Impianti climatizzazione con ","CC)Caldaie a Condensazione",null,0,0,{"$f":"SUM(F48:G48)","v":0},{"$f":"F48*'Dati Gen'!$J$20+G48*'Dati Gen'!$J$19","v":0},{"$f":"H48+I48","v":0},0,{"$f":"SUM(J48:K48)","v":0},{"$f":"IF(L48<=T48,L48*1.1,T48*1.1)","v":0},null,null,"..","ok",{"$f":"CONCATENATE(C48,\" '\",D48,\"'\")","v":"Impianti climatizzazione con  'CC)Caldaie a Condensazione'"},1,0,"ok",null,{"$f":"IF(L48<T48,L48,T48)","v":0},null,{"$f":"IF(L48>T48,L48-T48,0)","v":0},null,0,null,0,null,null,"Impianti climatizzazione con  'CC)Caldaie a Condensazione'",30000,"ok",null,0,{"$f":"IF(LEFT(D48,3)=\"CC)\",IF(S48<=35,240,216),IF(D48=\"PC)Aria/Aria\",720,IF(D48=\"PC)Altro\",1560,IF(D48=\"PC)Geotermiche\",2280,IF(LEFT(D48,4)=\"PCA)\",1560,IF(LEFT(D48,3)=\"SI)\",1860,0))))))","v":240},{"$f":"IF(S48<>0,IF(F48<>0,G48*AJ48/F48/S48,0),0)","v":0},93.6,{"$f":"MIN(AY48,AZ48,BA48)","v":0},0,{"$f":"K48","v":0},0,0,"ok",null,{"$f":"F48-AJ48","v":0},333.6,{"$f":"IF($AO$2=TRUE,IF($AR$2=TRUE,180,60),0)","v":60},true,{"$f":"L48","v":0},{"$f":"AV48*S48+AW48*BG48","v":333.6},{"$f":"L48","v":0},true,true,true,true,0.1,0]
[null,null,"SA) Scaldacqua a pompa di calore",null,null,0,0,{"$f":"SUM(F49:G49)","v":0},{"$f":"F49*'Dati Gen'!$J$20+G49*'Dati Gen'!$J$19","v":0},{"$f":"H49+I49","v":0},0,{"$f":"SUM(J49:K49)","v":0},{"$f":"IF(L49<=T49,L49*1.1,T49*1.1)","v":0},null,null,"..","ok",{"$f":"C49","v":"SA) Scaldacqua a pompa di calore"},1,0,"ok",null,{"$f":"IF(L49<T49,L49,T49)","v":0},null,{"$f":"IF(L49>T49,L49-T49,0)","v":0},null,0,null,0,null,null,"SA) Scaldacqua a pompa di calore",27272,"ok",{"$f":"IF(S49<=150,1200,1500)","v":1200},0,{"$f":"IF($AO$2=TRUE,IF($AQ$2=TRUE,AI49+180,AI49+60),AI49)","v":1260},{"$f":"IF(S49<>0,IF(F49<>0,G49*AJ49/F49/S49,0),0)","v":0},93.599998474121094,{"$f":"MIN(AY49,AZ49,BA49)","v":0},{"$f":"AU49","v":0},{"$f":"K49","v":0},0,0,"ok",null,{"$f":"F49-AJ49","v":0},1353.5999984741211,0,true,{"$f":"L49","v":0},{"$f":"AV49*S49+AW49*BG49","v":1353.5999984741211},{"$f":"L49","v":0},true,true,true,true,0.10000000149011612,0]
[null,null,"Totali Impianti ed  SA)",null,null,{"$f":"SUM(F48:F49)","v":0},{"$f":"SUM(G48:G49)","v":0},0,0,0,0,0,0,null,null,null,null,{"$f":"C50","v":"Totali Impianti ed  SA)"},null,0,"ok",null,{"$f":"IF(T50=AG50,IF(L50<T50,L50,T50),SUM(W48:X49))","v":0},null,{"$f":"IF(L50>W50,L50-W50,0)","v":0},null,0,null,0,null,null,"Totali Impianti ed  SA)",{"$f":"INT(30000/1.1)","v":27272},"ok",null,null,null,null,null,null,null,null,null,{"$f":"SUM(AR48:AR49)","v":0},"ok"]
[null,null,"CO) Sistemi di Microgenerazione",null,"Celle a combustibile",0,0,{"$f":"SUM(F51:G51)","v":0},{"$f":"F51*'Dati Gen'!$J$20+G51*'Dati Gen'!$J$19","v":0},{"$f":"H51+I51","v":0},0,{"$f":"SUM(J51:K51)","v":0},{"$f":"IF(L51<=T51,L51*1.1,T51*1.1)","v":0},null,null,"..","ok",{"$f":"CONCATENATE(C51,\" '\",E51,\"'\")","v":"CO) Sistemi di Microgenerazione 'Celle a combustibile'"},1,0,"ok",null,{"$f":"IF(L51<T51,L51,T51)","v":0},null,{"$f":"IF(L51>T51,L51-T51,0)","v":0},null,0,null,0,null,null,"CO) Sistemi di Microgenerazione 'Celle a combustibile'",{"$f":"INT(100000/1.1)","v":90909},"ok",null,0,{"$f":"IF(E51=\"Celle a combustibile\",30000,3720)","v":30000},{"$f":"IF(S51<>0,IF(F51<>0,G51*AJ51/F51/S51,0),0)","v":0},93.6,{"$f":"MIN(AY51,AZ51,BA51)","v":0},{"$f":"AU51","v":0},{"$f":"K51","v":0},{"$f":"BF51*SUM(AN51:AP51)","v":0},{"$f":"SUM(AN51:AQ51)","v":0},"ok",null,{"$f":"F51-AJ51","v":0},{"$f":"SUM(AK51:AM51)","v":30093.599999999999},0,true,{"$f":"L51","v":0},{"$f":"AV51*S51+AW51*BG51","v":30093.599999999999},{"$f":"L51","v":0},true,true,true,true,0.1]
[null,null,"IB) Generatori a Biomassa",null,null,0,0,0,{"$f":"F52*'Dati Gen'!$J$20+G52*'Dati Gen'!$J$19","v":0},0,0,0,0,null,null,"..","ok",{"$f":"C52","v":"IB) Generatori a Biomassa"},1,0,"ok",null,0,null,0,null,0,null,0,null,null,"IB) Generatori a Biomassa",{"$f":"INT(30000/1.1)","v":27272},"ok",null,0,{"$f":"IF(S51<=35,420,540)","v":420},{"$f":"IF(S52<>0,IF(F52<>0,G52*AJ52/F52/S52,0),0)","v":0},0,0,{"$f":"AU52","v":0},{"$f":"K52","v":0},0,0,"ok",null,0,420,{"$f":"IF($AO$2=TRUE,IF($AR$2=TRUE,180,60),0)","v":60},true,0,10920,{"$f":"L52","v":0},true,true,true,true,0.10000000149011612,175]
[null,null,"BA) Building Automation",null,null,0,0,0,{"$f":"F53*'Dati Gen'!$J$20+G53*'Dati Gen'!$J$19","v":0},0,0,0,0,null,null,"..","ok",{"$f":"C53","v":"BA) Building Automation"},1,0,"ok",null,0,null,0,null,0,null,0,null,null,"BA) Building Automation",{"$f":"15000/1.1","v":13636.363636363636},"ok",null,0,60,{"$f":"IF(S53<>0,IF(F53<>0,G53*AJ53/F53/S53,0),0)","v":0},0,0,{"$f":"AU53","v":0},{"$f":"K53","v":0},0,0,"ok",null,0,60,0,true,0,60,{"$f":"L53","v":0},true,true,true,true,0.10000000149011612,0]
[null,null,"ST) Collettori Solari",null,"Piani Vetrati",0,0,0,{"$f":"F54*'Dati Gen'!$J$20+G54*'Dati Gen'!$J$19","v":0},0,0,0,0,null,null,"..","ok",{"$f":"CONCATENATE(C54,\" '\",E5:E54,\"'\")","v":"ST) Collettori Solari 'Piani Vetrati'"},1,0,"ok",null,0,null,0,null,0,null,0,null,null,"ST) Collettori Solari 'Piani Vetrati'",{"$f":"INT(60000/1.1)","v":54545},"ok",null,0,{"$f":"IF(E54=\"Scoperti\",900,IF(E54=\"Piani vetrati\",1200,1500))","v":1200},{"$f":"IF(S54<>0,IF(F54<>0,G54*AJ54/F54/S54,0),0)","v":0},285,0,{"$f":"AU54","v":0},{"$f":"K54","v":0},0,0,"ok",null,0,1485,0,true,0,1485,{"$f":"L54","v":0},true,true,true,true,0.10000000149011612,0]
[null,null,"FV) Solare Fotovoltaico [ kWp ]",null,6,0,0,0,{"$f":"F55*'Dati Gen'!$J$20+G55*'Dati Gen'!$J$19","v":0},0,0,0,0,null,null,"..","ok",{"$f":"C55","v":"FV) Solare Fotovoltaico [ kWp ]"},6,0,"ok",null,0,null,0,null,0,null,0,null,null,"FV) Solare Fotovoltaico [ kWp ]",{"$f":"IF(ISNUMBER(FIND(\"ristr\",C55))=FALSE,IF(E55*2400<48000*N_Uimm,E55*2400,48000*N_Uimm),IF(E55*1600<48000*N_Uimm,E55*1600,48000*N_Uimm))","v":14400},"ok",null,0,{"$f":"(AG55/S55-K55/S55)/(1+AliqIva)-G55/S55","v":2181.8181818181815},{"$f":"IF(S55<>0,IF(F55<>0,G55*AJ55/F55/S55,0),0)","v":0},305,0,{"$f":"AU55","v":0},{"$f":"K55","v":0},0,0,"ok",null,0,2486.8181818181815,0,true,0,14920.909090909088,{"$f":"L55","v":0},true,true,true,true,0.10000000149011612,0]
[null,null,"AC) Sistema di Accumulo [ kWh ]",null,10,0,0,0,{"$f":"F56*'Dati Gen'!$J$20+G56*'Dati Gen'!$J$19","v":0},0,0,0,0,null,null,"..","ok",{"$f":"C56","v":"AC) Sistema di Accumulo [ kWh ]"},10,0,"ok",null,0,null,0,null,0,null,0,null,null,"AC) Sistema di Accumulo [ kWh ]",{"$f":"IF(E56*1000<48000*N_Uimm,E56*1000,48000*N_Uimm)","v":10000},"ok",null,0,{"$f":"(AG56/S56-K56/S56)/(1+AliqIva)-G56/S56","v":909.09090909090901},0,30,0,0,0,0,0,"ok",null,0,939.09090909090901,0,true,0,9390.9090909090901,0,true,true,true,true,0.1]
[null,null,"CR) Colonnine di Ricarica",null,1,0,0,0,{"$f":"F57*'Dati Gen'!$J$20+G57*'Dati Gen'!$J$19","v":0},0,0,0,0,null,null,"..","ok",{"$f":"C57","v":"CR) Colonnine di Ricarica"},1,0,"ok",null,0,null,0,null,0,null,0,null,null,"CR) Colonnine di Ricarica",{"$f":"IF(TipoEdif=1,2000,IF(N_Uimm>8,1200,1500))","v":2000},"ok",null,0,{"$f":"(AG57/S57-K57/S57)/(1+AliqIva)-G57/S57","v":1818.181818181818},0,150,0,0,0,0,0,"ok",null,0,1968.181818181818,0,true,0,1968.181818181818,0,true,true,true,true,0.1]
[null,null,"EBA) Eliminazione Barriere architettoniche",null,null,0,0,{"$f":"SUM(F58:G58)","v":0},{"$f":"F58*'Dati Gen'!$J$20+G58*'Dati Gen'!$J$19","v":0},{"$f":"H58+I58","v":0},0,0,0,null,null,"..","ok",{"$f":"C58","v":"EBA) Eliminazione Barriere architettoniche"},1,0,"ok",null,0,null,0,null,0,null,0,null,null,"EBA) Eliminazione Barriere architettoniche",{"$f":"IF(F58>0,IF(96000*N_Uimm > F15,96000*N_Uimm - F15,0),96000*N_Uimm )","v":96000},"ok",null,0,{"$f":"(AG58/S58-K58/S58)/(1+AliqIva)-G58/S58","v":87272.727272727265},0,0,0,0,0,0,0,"ok",null,0,87272.727272727265,0,true,0,87272.727272727265,0,true,true,true,true,0.1]
[null,null,"Totale Interventi trainati",null,null,{"$f":"IF(Titolare!B16=\"Versione Demo\",-1,F46+F47+SUM(F50:F58))","v":-1},{"$f":"IF(Titolare!C16=\"Versione Demo\",-1,G46+G47+SUM(G50:G58))","v":0},{"$f":"H46+H47+SUM(H50:H58)","v":0},{"$f":"I46+I47+SUM(I50:I58)","v":0},{"$f":"IF(Titolare!B16=\"Versione Demo\",-1,J46+J47+SUM(J50:J58))","v":-1},{"$f":"K46+K47+SUM(K50:K58)","v":0},{"$f":"IF(Titolare!B16=\"Versione Demo\",0,L46+L47+SUM(L50:L58))","v":0},{"$f":"M46+M47+SUM(M50:M58)","v":0},null,null,null,null,null,null,null,null,{"$f":"C59","v":"Totale Interventi trainati"},{"$f":"W46+W47+SUM(W50:X58)","v":0},null,{"$f":"Y46+Y47+SUM(Y50:Z58)","v":0},null,{"$f":"AA46+AA47+SUM(AA50:AB58)","v":0},null,{"$f":"AC46+AC47+SUM(AC50:AD58)","v":0}]
[]
[]
[]
[]
[]
[]
[]
[]
[]
[]
[]
[]
[]
[]
[]
[]
[]
[]
[null,null,"SimMZ"]
[]
[null,null,"TOTALE INTERVENTI 110 ",null,null,"Importo Lavori","Incidenza Sicurezza","Imponibile","Iva","Importo c.iva","Spese tecniche","Totale","Credito Spettante  110% Spesa Ammessa",null,null,null,null,{"$f":"C80","v":"TOTALE INTERVENTI 110 "},null,null,null,null,"Spesa Detraibile Ammessa",null,"Quota Eccedente Spesa Ammessa",null,"Credito Spettante                         110% Spesa Ammessa                                Quota Impresa | Quota Tecnici"]
[null,null,null,null,null,{"$f":"F16+F59","v":-2},{"$f":"G16+G59","v":0},{"$f":"H16+H59","v":0},{"$f":"I16+I59","v":0},{"$f":"J16+J59","v":-2},{"$f":"K16+K59","v":0},{"$f":"L16+L59","v":0},{"$f":"M16+M59","v":0},null,null,null,null,null,null,null,null,null,{"$f":"W16+W59","v":0},null,{"$f":"Y16+Y59","v":0},null,{"$f":"AA16+AA59","v":0},null,{"$f":"AC16+AC59","v":0}]
[]
[]
[]
[]
[null,null,null,null,null,null,null,null,null,null,null,null,null,null,null,null,null,null,null,null,null,null,null,null,null,null,null,null,null,null,null,null,null,null,null,null,{"$f":"IF(COUNTIF(AR89:AR92,\"KO\")>0,\"ATTENZIONE! Massimale Spesa MITE non Asseverabile\",\"\")","v":""}]
[null,null,"ALTRI INTERVENTI",null,null,null,null,null,null,null,null,null,null,null,null,null,"Asseverabile",{"$f":"CONCATENATE(\"Spesa detraibile ammissibile \",C87)","v":"Spesa detraibile ammissibile ALTRI INTERVENTI"},null,null,null,null,null,null,null,null,null,null,null,null,null,"Spesa Massima Ammissibile (norma primaria)",null,null,null,"Spesa Specifica MITE",null,null,{"$f":"C87","v":"ALTRI INTERVENTI"}]
[null,null,"  Interventi",null,"x% Credito ceduto","Importo Lavori","Incidenza Sicurezza","Imponibile","Iva","Importo c.iva","Spese tecniche","Totale","Credito Spettante  x% Spesa Ammessa",null,null,null,null,"Interventi","Superficie Intervento / UnitàMisura","Min(Spesa Max Ammissibile;Spesa Max Intervento)","Verifica Max",null,"Spesa Detraibile Ammessa",null,"Quota Eccedente Spesa Ammessa",null,"Credito Spettante                              x% Spesa Ammessa                                Quota Impresa | Quota Tecnici",null,null,null,null,{"$f":"C87","v":"ALTRI INTERVENTI"},"Spesa Massima Ammissibile","Ver. Max",null,"Importo Lavori Fornitura e Posa","Costo dei Beni (Allegato A)","Opere per installazione (Sicurezza)","Manodopera","Spesa Massima Ammissibile Asseverata","Altri Costi","Spese Tecniche","IVA","Spesa di Intervento","Ver. Max",null,"Altri Lavori","Importo Specifico DM Costi Massimi","Incremento Costo dei Beni (Allegato A)","Controllo1","Importo Controllo1","Importo Controllo2","Importo Controllo3","Opere per Istallazione =  Incidenza Sicurezza Fornitura / Superficie Intervento","SpesaSostenuta = Opera Compiuta","Spesa Tecniche = Spese Tecniche da Computo","Altri Costi = Altri Lavori ","AliqIva","Superficie Riscaldata"]
[null,null,"Ristrutturazione",null,0.5,0,{"$f":"IF(ImpLav<>0,F89*ImpSicLav/ImpLav,0)","v":0},{"$f":"F89+G89","v":0},{"$f":"H89*AliqIva","v":0},{"$f":"H89+I89","v":0},{"$f":"IF(ImpLav<>0,F89*ImpTecLav/ImpLav,0)","v":0},{"$f":"SUM(J89:K89)","v":0},{"$f":"IF(L89<=T89,L89*E89,T89*E89)","v":0},null,null,"..","ok",{"$f":"IF(C89<>\"\",C89,\"\")","v":"Ristrutturazione"},1,{"$f":"MIN(AG89,AR89)","v":0},{"$f":"IF(L89>T89,\"KO\",\"ok\")","v":"ok"},null,{"$f":"IF(L89<T89,L89,T89)","v":0},null,{"$f":"IF(L89>T89,L89-T89,0)","v":0},null,{"$f":"IF(M89<>0,J89*M89/L89,0)","v":0},null,{"$f":"IF(M89<>0,K89*M89/L89,0)","v":0},null,null,{"$f":"R89","v":"Ristrutturazione"},{"$f":"96000*N_Uimm","v":96000},{"$f":"IF(L89>AG89,\"KO\",\"ok\")","v":"ok"},null,0,{"$f":"(AG89/S89-K89/S89)/(1+AliqIva)-G89/S89","v":87272.727272727265},{"$f":"IF(S89<>0,IF(F89<>0,G89*AJ89/F89/S89,0),0)","v":0},0,{"$f":"MIN(AY89,AZ89,BA89)","v":0},{"$f":"AU89","v":0},{"$f":"K89","v":0},{"$f":"BF89*SUM(AN89:AP89)","v":0},{"$f":"SUM(AN89:AQ89)","v":0},{"$f":"IF(L89>AR89,\"ko\",\"ok\")","v":"ok"},null,{"$f":"F89-AJ89","v":0},{"$f":"SUM(AK89:AM89)","v":87272.727272727265},0,true,{"$f":"L89","v":0},{"$f":"AV89*S89+AW89*BG89","v":87272.727272727265},{"$f":"L89","v":0},true,true,true,true,0.10000000149011612,0]
[null,null,"Bonus facciata",null,0.6,0,{"$f":"IF(ImpLav<>0,F90*ImpSicLav/ImpLav,0)","v":0},{"$f":"F90+G90","v":0},{"$f":"H90*AliqIva","v":0},{"$f":"H90+I90","v":0},{"$f":"IF(ImpLav<>0,F90*ImpTecLav/ImpLav,0)","v":0},{"$f":"SUM(J90:K90)","v":0},{"$f":"IF(L90<=T90,L90*E90,T90*E90)","v":0},null,null,"..","ok",{"$f":"IF(C90<>\"\",C90,\"\")","v":"Bonus facciata"},1,0,{"$f":"IF(L90>T90,\"KO\",\"ok\")","v":"ok"},null,{"$f":"IF(L90<T90,L90,T90)","v":0},null,{"$f":"IF(L90>T90,L90-T90,0)","v":0},null,0,null,0,null,null,{"$f":"R90","v":"Bonus facciata"},{"$f":"96000*N_Uimm","v":96000},{"$f":"IF(L90>AG90,\"KO\",\"ok\")","v":"ok"},null,0,{"$f":"(AG90/S90-K90/S90)/(1+AliqIva)-G90/S90","v":87272.727272727265},{"$f":"IF(S90<>0,IF(F90<>0,G90*AJ90/F90/S90,0),0)","v":0},0,{"$f":"MIN(AY90,AZ90,BA90)","v":0},{"$f":"AU90","v":0},{"$f":"K90","v":0},0,{"$f":"SUM(AN90:AQ90)","v":0},"ok",null,{"$f":"F90-AJ90","v":0},87272.727272727265,0,true,{"$f":"L90","v":0},{"$f":"AV90*S90+AW90*BG90","v":87272.727272727265},{"$f":"L90","v":0},true,true,true,true,0.10000000149011612,0]
[null,null,"Bonus Casa",null,0.7,0,{"$f":"IF(ImpLav<>0,F91*ImpSicLav/ImpLav,0)","v":0},{"$f":"F91+G91","v":0},{"$f":"H91*AliqIva","v":0},{"$f":"H91+I91","v":0},{"$f":"IF(ImpLav<>0,F91*ImpTecLav/ImpLav,0)","v":0},{"$f":"SUM(J91:K91)","v":0},{"$f":"IF(L91<=T91,L91*E91,T91*E91)","v":0},null,null,"..","ok",{"$f":"IF(C91<>\"\",C91,\"\")","v":"Bonus Casa"},1,0,"ok",null,{"$f":"IF(L91<T91,L91,T91)","v":0},null,{"$f":"IF(L91>T91,L91-T91,0)","v":0},null,0,null,0,null,null,{"$f":"R91","v":"Bonus Casa"},{"$f":"96000*N_Uimm","v":96000},{"$f":"IF(L91>AG91,\"KO\",\"ok\")","v":"ok"},null,0,{"$f":"(AG91/S91-K91/S91)/(1+AliqIva)-G91/S91","v":87272.727272727265},{"$f":"IF(S91<>0,IF(F91<>0,G91*AJ91/F91/S91,0),0)","v":0},0,{"$f":"MIN(AY91,AZ91,BA91)","v":0},{"$f":"AU91","v":0},{"$f":"K91","v":0},0,0,"ok",null,{"$f":"F91-AJ91","v":0},87272.727272727265,0,true,{"$f":"L91","v":0},{"$f":"AV91*S91+AW91*BG91","v":87272.727272727265},{"$f":"L91","v":0},true,true,true,true,0.10000000149011612,0]
[null,null,null,null,null,null,{"$f":"IF(ImpLav<>0,F92*ImpSicLav/ImpLav,0)","v":0},{"$f":"F92+G92","v":0},{"$f":"H92*AliqIva","v":0},{"$f":"H92+I92","v":0},{"$f":"IF(ImpLav<>0,F92*ImpTecLav/ImpLav,0)","v":0},{"$f":"SUM(J92:K92)","v":0},{"$f":"IF(L92<=T92,L92*E92,T92*E92)","v":0},null,null,"..","ok",{"$f":"IF(C92<>\"\",C92,\"\")","v":""},1,0,"ok",null,{"$f":"IF(L92<T92,L92,T92)","v":0},null,{"$f":"IF(L92>T92,L92-T92,0)","v":0},null,0,null,0,null,null,{"$f":"R92","v":""},{"$f":"96000*N_Uimm","v":96000},{"$f":"IF(L92>AG92,\"KO\",\"ok\")","v":"ok"},null,0,{"$f":"(AG92/S92-K92/S92)/(1+AliqIva)-G92/S92","v":87272.727272727265},{"$f":"IF(S92<>0,IF(F92<>0,G92*AJ92/F92/S92,0),0)","v":0},0,{"$f":"MIN(AY92,AZ92,BA92)","v":0},{"$f":"AU92","v":0},{"$f":"K92","v":0},0,0,"ok",null,{"$f":"F92-AJ92","v":0},87272.727272727265,0,true,{"$f":"L92","v":0},{"$f":"AV92*S92+AW92*BG92","v":87272.727272727265},{"$f":"L92","v":0},true,true,true,true,0.10000000149011612,0]
[null,null,"Totale Altri Interventi  : ",null,null,{"$f":"SUM(F89:F92)","v":0},{"$f":"SUM(G89:G92)","v":0},0,0,0,{"$f":"SUM(K89:K92)","v":0},0,{"$f":"SUM(M89:M92)","v":0},null,null,null,null,null,null,{"$f":"C93","v":"Totale Altri Interventi  : "},null,null,{"$f":"SUM(W89:X92)","v":0},null,{"$f":"SUM(Y89:Z92)","v":0},null,{"$f":"SUM(AA89:AB92)","v":0},null,{"$f":"SUM(AC89:AD92)","v":0}]
[]
[]
[]
[]
[]
[null,null,"TOTALI PROGETTO",null,null,"Importo Lavori","Incidenza Sicurezza","Imponibile","Iva","Importo c.iva","Spese tecniche","Totale","Credito Spettante",null,null,null,null,{"$f":"C99","v":"TOTALI PROGETTO"},null,null,null,null,"Spesa Detraibile Ammessa",null,"Quota Eccedente Spesa Ammessa",null,"Credito Spettante                            Quota Impresa | Quota Tecnici"]
[null,null,null,null,null,{"$f":"F81+F93","v":-2},0,0,0,-2,0,0,0,null,null,null,null,null,null,null,null,null,{"$f":"W81+W93","v":0},null,{"$f":"Y81+Y93","v":0},null,{"$f":"AA81+AA93","v":0},null,{"$f":"AC81+AC93","v":0}]
[]
[]
[]
[null,null,"Quota % effettiva per cessione credito a Banca o Impresa \"Interventi 110\"  ",null,null,null,null,{"$f":"100/110","v":0.90909090909090906},{"$f":"H104*110","v":100},"Importo Ricevuto",{"$f":"Detraz110*H104","v":0},"Costo Cessione 110",{"$f":"SpesaAmmessa110-K104","v":0}]
[null,null,null,null,null,null,"Quota % effettiva per cessione credito a Banca o Impresa \"Altri Interventi\"  ",0.8,{"$f":"H105*100","v":80},"Importo Ricevuto",{"$f":"M93*H105","v":0},"Costo Cessione Altri",{"$f":"M93-K105","v":0}]
[]
[null,null,null,null,null,null,null,null,null,null,null,"Quota Impresa","Quota Tecnici"]
[null,null,null,null,null,null,"Quota Eccedente Massimali Spesa \"Interventi 110\"  ",{"$f":"QuotaEcced110","v":0},"Credito Netto a seguito Cessione",null,{"$f":"SpesaAmmessa110-M104","v":0},{"$f":"IF(Detraz110<>0,QuotaImpresa110*K108/Detraz110,0)","v":0},{"$f":"IF(Detraz110<>0,QuotaTecnici110*K108/Detraz110,0)","v":0}]
[null,null,null,null,null,null,"Quota Eccedente Massimali Spesa \"Altri Interventi\" ",{"$f":"Y93","v":0},"Credito Netto a seguito Cessione",null,{"$f":"M93-M105","v":0},{"$f":"IF(M93<>0,AA93*K109/M93,0)","v":0},{"$f":"IF(M93<>0,AC93*K109/M93,0)","v":0}]
[null,null,null,null,null,null,null,null,"Quota Cliente x Interventi 110",null,{"$f":"IF(Totale110-K108>0,Totale110-K108,0)","v":0},{"$f":"IF(Detraz110<>0,K110*QuotaImpresa110/Detraz110,0)","v":0},{"$f":"IF(Detraz110<>0,K110*QuotaTecnici110/Detraz110,0)","v":0}]
[null,null,null,null,null,null,null,null,"Quota Cliente x Altri Interventi",null,{"$f":"IF(L93-K109>0,L93-K109,0)","v":0},{"$f":"IF(M93<>0,K111*AA93/M93,0)","v":0},{"$f":"IF(M93<>0,K111*AC93/M93,0)","v":0}]
[null,null,null,null,null,null,null,null,"Quota Totale  a Carico Cliente",null,{"$f":"SUM(K110:K111)","v":0},{"$f":"SUM(L110:L111)","v":0},{"$f":"SUM(M110:M111)","v":0}]

{"sheet":"SAL.30%","index":6,"n_rows":265,"n_cols":40,"rows_kept":265,"cut":false,"hidden":false,"merged":[[24,26,24,27],[24,18,24,19],[27,22,27,23],[27,24,27,25],[27,26,27,27],[28,22,28,23],[28,24,28,25],[28,26,28,27],[52,20,52,21],[43,18,43,19],[44,18,44,19],[45,18,45,19],[43,20,43,21],[44,20,44,21],[45,20,45,21],[43,22,43,23],[25,20,25,21],[34,26,34,27],[33,18,33,19],[33,22,33,23],[33,24,33,25],[29,18,29,19],[30,18,30,19],[31,18,31,19],[1,13,5,14],[2,2,2,4],[2,16,2,27],[3,2,3,4],[4,2,5,2],[4,3,5,4],[4,10,5,11],[4,12,5,12],[18,18,18,19],[18,20,18,21],[3,17,3,18],[3,25,3,27],[17,16,17,27],[11,20,11,21],[12,20,12,21],[12,24,12,25],[12,26,12,27],[10,2,10,3],[7,20,7,21],[9,20,9,21],[10,20,10,21],[9,22,9,23],[10,22,10,23],[10,18,10,19],[11,24,11,25],[11,26,11,27],[12,18,12,19],[15,22,15,23],[18,24,18,27],[19,2,19,3],[19,24,19,25],[19,26,19,27],[20,26,20,27],[19,18,19,19],[20,18,20,19],[20,24,20,25],[20,2,20,3],[12,22,12,23],[11,22,11,23],[11,18,11,19],[13,18,13,19],[13,22,13,23],[13,24,13,25],[13,26,13,27],[14,18,14,19],[14,22,14,23],[14,24,14,25],[14,26,14,27],[24,2,24,4],[21,2,21,3],[22,2,22,3],[15,2,15,4],[13,2,13,4],[14,2,14,4],[8,2,8,3],[12,2,12,4],[17,2,17,13],[18,2,18,4],[11,2,11,3],[23,2,23,4],[31,24,31,25],[31,26,31,27],[32,22,32,23],[34,18,34,19],[34,22,34,23],[34,24,34,25],[29,20,29,21],[29,22,29,23],[29,24,29,25],[32,24,32,25],[33,26,33,27],[33,20,33,21],[34,20,34,21],[30,26,30,27],[20,22,20,23],[23,26,23,27],[23,22,23,23],[23,24,23,25],[32,26,32,27],[30,20,30,21],[31,20,31,21],[32,20,32,21],[23,18,23,19],[28,20,28,21],[28,18,28,19],[21,22,21,23],[21,24,21,25],[21,26,21,27],[22,22,22,23],[22,24,22,25],[21,18,21,19],[22,18,22,19],[27,20,27,21],[32,18,32,19],[29,26,29,27],[30,22,30,23],[30,24,30,25],[31,22,31,23],[6,16,6,27],[7,2,7,4],[7,18,7,19],[7,22,7,23],[7,24,7,27],[9,18,9,19],[9,24,9,25],[9,26,9,27],[10,24,10,25],[10,26,10,27],[8,18,8,19],[8,20,8,21],[8,22,8,23],[8,24,8,25],[8,26,8,27],[9,2,9,3],[6,2,6,13],[13,20,13,21],[14,20,14,21],[15,24,15,25],[15,26,15,27],[15,20,15,21],[15,17,15,19],[26,20,26,21],[25,22,25,23],[25,24,25,25],[25,26,25,27],[26,24,26,25],[26,26,26,27],[26,22,26,23],[19,22,19,23],[19,20,19,21],[20,20,20,21],[21,20,21,21],[22,20,22,21],[23,20,23,21],[24,20,24,21],[24,22,24,23],[24,24,24,25],[22,26,22,27],[25,18,25,19],[26,18,26,19],[18,22,18,23],[35,26,35,27],[41,18,41,19],[41,22,41,23],[42,18,42,19],[36,22,36,23],[36,24,36,25],[36,26,36,27],[36,20,36,21],[41,20,41,21],[42,20,42,21],[35,20,35,21],[35,18,35,19],[35,22,35,23],[35,24,35,25],[36,17,36,19],[39,16,39,27],[40,18,40,19],[40,20,40,21],[40,22,40,23],[40,24,40,27],[41,24,41,25],[27,18,27,19],[47,20,47,21],[47,22,47,23],[47,24,47,25],[48,20,48,21],[48,22,48,23],[46,18,46,19],[46,22,46,23],[46,24,46,25],[41,26,41,27],[44,22,44,23],[44,24,44,25],[44,26,44,27],[45,22,45,23],[45,24,45,25],[45,26,45,27],[42,22,42,23],[42,24,42,25],[42,26,42,27],[43,24,43,25],[43,26,43,27],[46,26,46,27],[47,26,47,27],[47,18,47,19],[46,20,46,21],[58,26,58,27],[51,18,51,19],[51,22,51,23],[51,26,51,27],[53,18,53,19],[55,20,55,21],[57,22,57,23],[57,24,57,25],[57,26,57,27],[53,26,53,27],[56,26,56,27],[55,26,55,27],[80,20,80,21],[79,16,80,19],[53,20,53,21],[79,22,79,23],[57,18,57,19],[58,17,58,19],[58,20,58,21],[58,22,58,23],[58,24,58,25],[57,20,57,21],[54,18,54,19],[54,22,54,23],[56,18,56,19],[56,20,56,21],[56,22,56,23],[56,24,56,25],[55,18,55,19],[55,22,55,23],[55,24,55,25],[49,20,49,21],[51,20,51,21],[52,18,52,19],[52,22,52,23],[52,24,52,25],[52,26,52,27],[54,20,54,21],[51,24,51,25],[48,24,48,25],[50,20,50,21],[50,18,50,19],[48,26,48,27],[49,18,49,19],[49,22,49,23],[49,24,49,25],[49,26,49,27],[50,22,50,23],[50,24,50,25],[50,26,50,27],[48,18,48,19],[54,24,54,25],[54,26,54,27],[53,22,53,23],[53,24,53,25],[79,2,80,4],[96,24,96,25],[89,2,89,3],[89,18,89,19],[89,22,89,23],[89,24,89,25],[95,24,95,27],[96,26,96,27],[87,24,87,27],[92,24,92,25],[92,26,92,27],[79,20,79,21],[87,22,87,23],[88,22,88,23],[88,24,88,25],[88,26,88,27],[86,16,86,27],[81,2,81,4],[79,24,79,27],[80,22,80,23],[80,24,80,25],[80,26,80,27],[89,26,89,27],[90,2,90,3],[90,18,90,19],[90,22,90,23],[90,24,90,25],[90,26,90,27],[89,20,89,21],[90,20,90,21],[91,26,91,27],[91,24,91,25],[91,20,91,21],[114,28,115,28],[128,16,128,27],[128,28,129,28],[129,18,129,19],[129,20,129,21],[129,22,129,23],[129,24,129,25],[129,26,129,27],[116,26,116,27],[117,26,117,27],[119,26,119,27],[120,26,120,27],[121,26,121,27],[122,26,122,27],[123,26,123,27],[124,26,124,27],[125,18,125,19],[118,22,118,23],[118,26,118,27],[133,26,133,27],[134,18,134,19],[134,22,134,23],[134,26,134,27],[135,18,135,19],[135,22,135,23],[135,26,135,27],[91,2,91,3],[91,18,91,19],[91,22,91,23],[131,26,131,27],[132,18,132,19],[132,22,132,23],[132,26,132,27],[130,26,130,27],[131,18,131,19],[133,18,133,19],[133,22,133,23],[99,2,99,4],[100,2,100,5],[131,22,131,23],[109,8,109,9],[117,18,117,19],[119,18,119,19],[139,26,139,27],[145,22,145,23],[136,18,136,19],[136,22,136,23],[136,26,136,27],[137,18,137,19],[137,22,137,23],[137,26,137,27],[138,18,138,19],[138,22,138,23],[138,26,138,27],[139,18,139,19],[139,20,139,21],[139,22,139,23],[108,8,108,9],[104,18,104,19],[104,20,104,21],[107,18,107,19],[107,20,107,21],[111,8,111,9],[120,18,120,19],[121,18,121,19],[122,18,122,19],[96,22,96,23],[130,18,130,19],[130,22,130,23],[125,20,125,21],[125,22,125,23],[115,20,115,21],[115,18,115,19],[118,18,118,19],[115,22,115,23],[114,16,114,27],[122,22,122,23],[123,18,123,19],[124,18,124,19],[116,22,116,23],[117,22,117,23],[119,22,119,23],[120,22,120,23],[121,22,121,23],[124,22,124,23],[116,18,116,19],[125,26,125,27],[123,22,123,23],[115,24,115,25],[25,2,25,4],[26,2,26,4],[27,2,27,4],[28,2,28,4],[29,2,29,4],[36,2,36,4],[47,2,47,4],[34,2,34,3],[42,2,42,3],[43,2,43,3],[44,2,44,3],[33,2,33,3],[31,2,31,3],[35,2,35,4],[39,2,39,13],[40,2,40,4],[41,2,41,3],[45,2,45,4],[30,2,30,4],[32,2,32,3],[50,2,50,4],[51,2,51,4],[52,2,52,4],[57,2,57,4],[46,2,46,4],[48,2,48,4],[49,2,49,4],[55,2,55,3],[77,2,77,3],[53,2,53,3],[54,2,54,3],[58,2,58,4],[92,22,92,23],[115,26,115,27],[82,2,82,13],[88,2,88,3],[88,18,88,19],[87,20,87,21],[88,20,88,21],[87,2,87,3],[86,2,86,13],[87,18,87,19],[110,8,110,9],[92,20,92,21],[92,17,92,19],[95,2,96,4],[92,2,92,4],[103,18,103,19],[103,20,103,21],[103,2,103,6],[106,8,106,10],[107,8,107,9],[95,22,95,23],[95,16,96,19],[95,20,95,21],[96,20,96,21]]}
[null,null,null,null,null,null,null,null,null,null,null,null,null,null,null,{"$f":"MATCH(\"SimMZ\",C:C,0)","v":78}]
[null,null,{"$f":"CONCATENATE('Dati Gen'!K2, \" \",'Dati Gen'!K3,\" \",'Dati Gen'!L3)","v":"Pratica.110plus Vers.ne 4.3.1"},null,null,"DATI DI PROGETTO : ","IMPONIBILE","IVA","IMPORTO",null,"IMPONIBILE","IVA","IMPORTO","Pratica.110plus   SIM.srl"]
[null,null,"STATO AVANZAMENTO LAVORI N.1",null,null,"Importo Lavori ",{"$f":"'Dati Gen'!G18","v":0},{"$f":"'Dati Gen'!K18","v":0},{"$f":"'Dati Gen'!M18","v":0},"Importo Netto",{"$f":"'Dati Gen'!G20","v":0},{"$f":"'Dati Gen'!K20","v":0},{"$f":"'Dati Gen'!M20","v":0},null,null,null,{"$f":"IF('Computo-Massimali'!C6<>\"\",\"Attenzione! Tabella Computo-Massimali non completa. Si consiglia di completare, prima di registrare Voci di SAL\",\"\")","v":"Attenzione! Tabella Computo-Massimali non completa. Si consiglia di completare, prima di registrare Voci di SAL"}]
[null,null,"07/05/2022",null,null,"Oneri Sicurezza ",{"$f":"'Dati Gen'!G19","v":0},{"$f":"'Dati Gen'!K19","v":0},{"$f":"'Dati Gen'!M19","v":0},"Spese Tecniche",{"$f":"'Dati Gen'!G21","v":0},{"$f":"'Dati Gen'!K21","v":0},{"$f":"'Dati Gen'!M21","v":0},null,null,null,"Codice Identificativo Asseverazione ENEA","00331552-00356912-DELQU8",null,"Codice Identificativo Asseverazione Rischio Sismico"]
[null,null,"Oneri/Lavori x Sicurezza ",0,null,null,null,null,null,null,{"$f":"'Dati Gen'!G22","v":"Importo Complessivo Progetto : "},null,{"$f":"'Dati Gen'!M22","v":0}]
[]
[null,null,"INTERVENTI TRAINANTI",null,null,null,null,null,null,null,null,null,null,null,"..",null,{"$f":"CONCATENATE(\"Verifica Massimali di Spesa \",C7)","v":"Verifica Massimali di Spesa INTERVENTI TRAINANTI"}]
[null,null,"  Interventi",null,null,"Importo Lavori","Incidenza Sicurezza","Imponibile","Iva","Importo c.iva","Spese tecniche","Totale","Credito Spettante  110% Spesa Ammessa","%SAL",null,null,null,"Massimale  spesa","Verifica Max",null,"Spesa Ammessa",null,"Quota Eccedente Massimale Spesa ",null,"Credito Spettante                                110% Spesa Ammessa                              Quota Impresa        |    Quota Tecnici"]
[null,null,{"$f":"'Computo-Massimali'!C9","v":"PV) Isolamento pareti perimetrali"},null,{"$f":"'Computo-Massimali'!E9","v":"Interno"},0,{"$f":"IF('Computo-Massimali'!F9<>0,'Computo-Massimali'!G9*F9/'Computo-Massimali'!F9,0)","v":0},{"$f":"SUM(F9:G9)","v":0},{"$f":"F9*'Dati Gen'!$J$20+G9*'Dati Gen'!$J$19","v":0},{"$f":"H9+I9","v":0},{"$f":"IF('Computo-Massimali'!F9<>0,'Computo-Massimali'!K9*F9/'Computo-Massimali'!F9,0)","v":0},{"$f":"SUM(J9:K9)","v":0},{"$f":"IF(L9<=R9,L9*1.1,R9*1.1)","v":0},{"$f":"IF('Computo-Massimali'!L9>0,L9/'Computo-Massimali'!L9,0)","v":0},{"$f":"IF(F9>0,IF(F9-0.001>'Computo-Massimali'!F9,\">Computo\",\"\"),\"\")","v":""},null,{"$f":"C9","v":"PV) Isolamento pareti perimetrali"},{"$f":"'Computo-Massimali'!T9","v":0},{"$f":"IF(L9>M9,\"KO Tot.>Detr.\",IF(L9>R9,\"ko\",\"ok\"))","v":"ok"},null,{"$f":"IF($L$13<>0,(L9/$L$13)*$U$13,0)","v":0},null,{"$f":"IF(L9>R9,L9-R9,0)","v":0},null,{"$f":"IF(M9<>0,J9*M9/L9,0)","v":0},null,{"$f":"IF(M9<>0,K9*M9/L9,0)","v":0}]
[null,null,{"$f":"'Computo-Massimali'!C10","v":"PO) Isolamento coperture"},null,{"$f":"'Computo-Massimali'!E10","v":"Esterno"},0,{"$f":"IF('Computo-Massimali'!F10<>0,'Computo-Massimali'!G10*F10/'Computo-Massimali'!F10,0)","v":0},{"$f":"SUM(F10:G10)","v":0},{"$f":"F10*'Dati Gen'!$J$20+G10*'Dati Gen'!$J$19","v":0},{"$f":"H10+I10","v":0},{"$f":"IF('Computo-Massimali'!F10<>0,'Computo-Massimali'!K10*F10/'Computo-Massimali'!F10,0)","v":0},{"$f":"SUM(J10:K10)","v":0},0,{"$f":"IF('Computo-Massimali'!L10>0,L10/'Computo-Massimali'!L10,0)","v":0},{"$f":"IF(F10>0,IF(F10-0.001>'Computo-Massimali'!F10,\">Computo\",\"\"),\"\")","v":""},null,"PO) Isolamento coperture",{"$f":"'Computo-Massimali'!T10","v":0},"ok",null,{"$f":"IF($L$13<>0,(L10/$L$13)*$U$13,0)","v":0},null,0,null,0,null,0]
[null,null,{"$f":"'Computo-Massimali'!C11","v":"POND) Isol. coperture non disperdenti"},null,{"$f":"'Computo-Massimali'!E11","v":"Esterno"},0,{"$f":"IF('Computo-Massimali'!F11<>0,'Computo-Massimali'!G11*F11/'Computo-Massimali'!F11,0)","v":0},{"$f":"SUM(F11:G11)","v":0},{"$f":"F11*'Dati Gen'!$J$20+G11*'Dati Gen'!$J$19","v":0},{"$f":"H11+I11","v":0},{"$f":"IF('Computo-Massimali'!F11<>0,'Computo-Massimali'!K11*F11/'Computo-Massimali'!F11,0)","v":0},{"$f":"SUM(J11:K11)","v":0},0,{"$f":"IF('Computo-Massimali'!L11>0,L11/'Computo-Massimali'!L11,0)","v":0},{"$f":"IF(F11>0,IF(F11-0.001>'Computo-Massimali'!F11,\">Computo\",\"\"),\"\")","v":""},null,"POND) Isol. coperture non disperdenti",{"$f":"'Computo-Massimali'!T11","v":0},"ok",null,{"$f":"IF($L$13<>0,(L11/$L$13)*$U$13,0)","v":0},null,0,null,0,null,0]
[null,null,{"$f":"'Computo-Massimali'!C12","v":"PS) Isolamento Pavimenti"},null,{"$f":"'Computo-Massimali'!E12","v":"Interno/terreno"},0,{"$f":"IF('Computo-Massimali'!F12<>0,'Computo-Massimali'!G12*F12/'Computo-Massimali'!F12,0)","v":0},{"$f":"SUM(F12:G12)","v":0},{"$f":"F12*'Dati Gen'!$J$20+G12*'Dati Gen'!$J$19","v":0},{"$f":"H12+I12","v":0},{"$f":"IF('Computo-Massimali'!F12<>0,'Computo-Massimali'!K12*F12/'Computo-Massimali'!F12,0)","v":0},{"$f":"SUM(J12:K12)","v":0},0,{"$f":"IF('Computo-Massimali'!L12>0,L12/'Computo-Massimali'!L12,0)","v":0},{"$f":"IF(F12>0,IF(F12-0.001>'Computo-Massimali'!F12,\">Computo\",\"\"),\"\")","v":""},null,"PS) Isolamento Pavimenti",{"$f":"'Computo-Massimali'!T12","v":0},"ok",null,{"$f":"IF($L$13<>0,(L12/$L$13)*$U$13,0)","v":0},null,0,null,0,null,0]
[null,null,{"$f":"'Computo-Massimali'!C13","v":"Totali Isolamento PV) PO) POND) PS) "},null,null,{"$f":"SUM(F9:F12)","v":0},0,{"$f":"SUM(H9:H12)","v":0},{"$f":"SUM(I9:I12)","v":0},{"$f":"SUM(J9:J12)","v":0},0,0,0,{"$f":"IF('Computo-Massimali'!L13>0,L13/'Computo-Massimali'!L13,0)","v":0},{"$f":"IF(F13>0,IF(F13-0.001>'Computo-Massimali'!F13,\">Computo\",\"\"),\"\")","v":""},null,"Totali Isolamento PV) PO) POND) PS) ",{"$f":"'Computo-Massimali'!T13","v":0},"ok",null,{"$f":"IF(L13<R13,L13,R13)","v":0},null,0,null,0,null,0]
[null,null,{"$f":"'Computo-Massimali'!C14","v":"Impianti climatizzazione e ACS "},null,null,0,{"$f":"IF('Computo-Massimali'!F14<>0,'Computo-Massimali'!G14*F14/'Computo-Massimali'!F14,0)","v":0},{"$f":"SUM(F14:G14)","v":0},{"$f":"F14*'Dati Gen'!$J$20+G14*'Dati Gen'!$J$19","v":0},{"$f":"H14+I14","v":0},{"$f":"IF('Computo-Massimali'!F14<>0,'Computo-Massimali'!K14*F14/'Computo-Massimali'!F14,0)","v":0},{"$f":"SUM(J14:K14)","v":0},0,{"$f":"IF('Computo-Massimali'!L14>0,L14/'Computo-Massimali'!L14,0)","v":0},{"$f":"IF(F14>0,IF(F14-0.001>'Computo-Massimali'!F14,\">Computo\",\"\"),\"\")","v":""},null,"Impianti climatizzazione e ACS ",{"$f":"'Computo-Massimali'!T14","v":0},"ok",null,{"$f":"IF(L14<R14,L14,R14)","v":0},null,0,null,0,null,0]
[null,null,{"$f":"'Computo-Massimali'!C15","v":"SismaBonus Zona 1,2 o 3"},null,null,0,{"$f":"IF('Computo-Massimali'!F15<>0,'Computo-Massimali'!G15*F15/'Computo-Massimali'!F15,0)","v":0},{"$f":"SUM(F15:G15)","v":0},{"$f":"F15*'Dati Gen'!$J$20+G15*'Dati Gen'!$J$19","v":0},{"$f":"H15+I15","v":0},{"$f":"IF('Computo-Massimali'!F15<>0,'Computo-Massimali'!K15*F15/'Computo-Massimali'!F15,0)","v":0},{"$f":"SUM(J15:K15)","v":0},0,{"$f":"IF('Computo-Massimali'!L15>0,L15/'Computo-Massimali'!L15,0)","v":0},{"$f":"IF(F15>0,IF(F15-0.001>'Computo-Massimali'!F15,\">Computo\",\"\"),\"\")","v":""},null,"SismaBonus Zona 1,2 o 3",{"$f":"'Computo-Massimali'!T15","v":0},"ok",null,{"$f":"IF(L15<R15,L15,R15)","v":0},null,0,null,0,null,0]
[null,null,{"$f":"'Computo-Massimali'!C16","v":"Totale interventi Trainanti  : "},null,null,{"$f":"SUM(F13:F15)","v":0},{"$f":"SUM(G13:G15)","v":0},0,{"$f":"SUM(I13:I15)","v":0},0,0,0,0,{"$f":"IF('Computo-Massimali'!L16>0,L16/'Computo-Massimali'!L16,0)","v":0},{"$f":"IF(F16>0,IF(F16-0.001>'Computo-Massimali'!F16,\">Computo\",\"\"),\"\")","v":""},null,null,{"$f":"C16","v":"Totale interventi Trainanti  : "},null,null,{"$f":"SUM(U13:V15)","v":0},null,{"$f":"SUM(W13:X15)","v":0},null,{"$f":"SUM(Y13:Z15)","v":0},null,{"$f":"SUM(AA13:AB15)","v":0}]
[]
[null,null,"INTERVENTI TRAINATI PARTI COMUNI CONDOMINIALI",null,null,null,null,null,null,null,null,null,null,null,"..",null,{"$f":"CONCATENATE(\"Verifica Massimali di Spesa \",C18)","v":"Verifica Massimali di Spesa INTERVENTI TRAINATI PARTI COMUNI CONDOMINIALI"}]
[null,null,"  Interventi",null,null,"Importo Lavori","Incidenza Sicurezza","Imponibile","Iva","Importo c.iva","Spese tecniche","Totale","Credito Spettante  110% Spesa Ammessa","%SAL",null,null,null,"Massimale  spesa","Verifica Max",null,"Spesa Ammessa",null,"Quota Eccedente Massimale Spesa ",null,"Credito Spettante                                110% Spesa Ammessa                              Quota Impresa        |    Quota Tecnici"]
[null,null,{"$f":"'Computo-Massimali'!C20","v":"PV) Isolamento pareti perimetrali"},null,{"$f":"'Computo-Massimali'!E20","v":"Interno"},0,{"$f":"IF('Computo-Massimali'!F20<>0,'Computo-Massimali'!G20*F20/'Computo-Massimali'!F20,0)","v":0},{"$f":"SUM(F20:G20)","v":0},{"$f":"F20*'Dati Gen'!$J$20+G20*'Dati Gen'!$J$19","v":0},{"$f":"H20+I20","v":0},{"$f":"IF('Computo-Massimali'!F20<>0,'Computo-Massimali'!K20*F20/'Computo-Massimali'!F20,0)","v":0},{"$f":"SUM(J20:K20)","v":0},{"$f":"IF(L20<=R20,L20*1.1,R20*1.1)","v":0},{"$f":"IF('Computo-Massimali'!L20>0,L20/'Computo-Massimali'!L20,0)","v":0},{"$f":"IF(F20>0,IF(F20-0.001>'Computo-Massimali'!F20,\">Computo\",\"\"),\"\")","v":""},null,{"$f":"C20","v":"PV) Isolamento pareti perimetrali"},{"$f":"'Computo-Massimali'!T20","v":0},{"$f":"IF(L20>M20,\"KO Tot.>Detr.\",IF(L20>R20,\"ko\",\"ok\"))","v":"ok"},null,{"$f":"IF($L$24<>0,(L20/$L$24)*$U$24,0)","v":0},null,{"$f":"IF(L20>R20,L20-R20,0)","v":0},null,{"$f":"IF(M20<>0,J20*M20/L20,0)","v":0},null,{"$f":"IF(M20<>0,K20*M20/L20,0)","v":0}]
[null,null,{"$f":"'Computo-Massimali'!C21","v":"PO) Isolamento coperture"},null,{"$f":"'Computo-Massimali'!E21","v":"Esterno"},0,{"$f":"IF('Computo-Massimali'!F21<>0,'Computo-Massimali'!G21*F21/'Computo-Massimali'!F21,0)","v":0},{"$f":"SUM(F21:G21)","v":0},{"$f":"F21*'Dati Gen'!$J$20+G21*'Dati Gen'!$J$19","v":0},{"$f":"H21+I21","v":0},{"$f":"IF('Computo-Massimali'!F21<>0,'Computo-Massimali'!K21*F21/'Computo-Massimali'!F21,0)","v":0},{"$f":"SUM(J21:K21)","v":0},{"$f":"IF(L21<=R21,L21*1.1,R21*1.1)","v":0},{"$f":"IF('Computo-Massimali'!L21>0,L21/'Computo-Massimali'!L21,0)","v":0},{"$f":"IF(F21>0,IF(F21-0.001>'Computo-Massimali'!F21,\">Computo\",\"\"),\"\")","v":""},null,"PO) Isolamento coperture",{"$f":"'Computo-Massimali'!T21","v":0},"ok",null,{"$f":"IF($L$24<>0,(L21/$L$24)*$U$24,0)","v":0},null,0,null,0,null,0]
[null,null,{"$f":"'Computo-Massimali'!C22","v":"PS) Isolamento Pavimenti"},null,{"$f":"'Computo-Massimali'!E22","v":"Interno/terreno"},0,{"$f":"IF('Computo-Massimali'!F22<>0,'Computo-Massimali'!G22*F22/'Computo-Massimali'!F22,0)","v":0},{"$f":"SUM(F22:G22)","v":0},{"$f":"F22*'Dati Gen'!$J$20+G22*'Dati Gen'!$J$19","v":0},{"$f":"H22+I22","v":0},{"$f":"IF('Computo-Massimali'!F22<>0,'Computo-Massimali'!K22*F22/'Computo-Massimali'!F22,0)","v":0},{"$f":"SUM(J22:K22)","v":0},{"$f":"IF(L22<=R22,L22*1.1,R22*1.1)","v":0},{"$f":"IF('Computo-Massimali'!L22>0,L22/'Computo-Massimali'!L22,0)","v":0},{"$f":"IF(F22>0,IF(F22-0.001>'Computo-Massimali'!F22,\">Computo\",\"\"),\"\")","v":""},null,"PS) Isolamento Pavimenti",{"$f":"'Computo-Massimali'!T22","v":0},"ok",null,{"$f":"IF($L$24<>0,(L22/$L$24)*$U$24,0)","v":0},null,0,null,0,null,0]
[null,null,{"$f":"'Computo-Massimali'!C23","v":"IN) Serramenti con chiusure oscuranti"},null,{"$f":"'Computo-Massimali'!E23","v":"Zone D, E ed F"},0,{"$f":"IF('Computo-Massimali'!F23<>0,'Computo-Massimali'!G23*F23/'Computo-Massimali'!F23,0)","v":0},{"$f":"SUM(F23:G23)","v":0},{"$f":"F23*'Dati Gen'!$J$20+G23*'Dati Gen'!$J$19","v":0},{"$f":"H23+I23","v":0},{"$f":"IF('Computo-Massimali'!F23<>0,'Computo-Massimali'!K23*F23/'Computo-Massimali'!F23,0)","v":0},{"$f":"SUM(J23:K23)","v":0},{"$f":"IF(L23<=R23,L23*1.1,R23*1.1)","v":0},{"$f":"IF('Computo-Massimali'!L23>0,L23/'Computo-Massimali'!L23,0)","v":0},{"$f":"IF(F23>0,IF(F23-0.001>'Computo-Massimali'!F23,\">Computo\",\"\"),\"\")","v":""},null,"IN) Serramenti con chiusure oscuranti",{"$f":"'Computo-Massimali'!T23","v":0},"ok",null,{"$f":"IF($L$24<>0,(L23/$L$24)*$U$24,0)","v":0},null,0,null,0,null,0]
[null,null,{"$f":"'Computo-Massimali'!C24","v":"Totali Isolamento PV) PO) PS) e IN)"},null,null,{"$f":"SUM(F20:F23)","v":0},{"$f":"SUM(G20:G23)","v":0},0,{"$f":"SUM(I20:I23)","v":0},0,{"$f":"SUM(K20:K23)","v":0},0,0,{"$f":"IF('Computo-Massimali'!L24>0,L24/'Computo-Massimali'!L24,0)","v":0},{"$f":"IF(F24>0,IF(F24-0.001>'Computo-Massimali'!F24,\">Computo\",\"\"),\"\")","v":""},null,"Totali Isolamento PV) PO) PS) e IN)",{"$f":"'Computo-Massimali'!T24","v":0},"ok",null,{"$f":"IF(L24<R24,L24,R24)","v":0},null,0,null,0,null,0]
[null,null,{"$f":"'Computo-Massimali'!C25","v":"SS) Schermature solari e chiusure oscuranti"},null,null,0,{"$f":"IF('Computo-Massimali'!F25<>0,'Computo-Massimali'!G25*F25/'Computo-Massimali'!F25,0)","v":0},{"$f":"SUM(F25:G25)","v":0},{"$f":"F25*'Dati Gen'!$J$20+G25*'Dati Gen'!$J$19","v":0},0,{"$f":"IF('Computo-Massimali'!F25<>0,'Computo-Massimali'!K25*F25/'Computo-Massimali'!F25,0)","v":0},{"$f":"SUM(J25:K25)","v":0},{"$f":"IF(L25<=R25,L25*1.1,R25*1.1)","v":0},{"$f":"IF('Computo-Massimali'!L25>0,L25/'Computo-Massimali'!L25,0)","v":0},{"$f":"IF(F25>0,IF(F25-0.001>'Computo-Massimali'!F25,\">Computo\",\"\"),\"\")","v":""},null,"SS) Schermature solari e chiusure oscuranti",{"$f":"'Computo-Massimali'!T25","v":0},"ok",null,{"$f":"IF(L25<R25,L25,R25)","v":0},null,0,null,0,null,0]
[null,null,{"$f":"'Computo-Massimali'!C26","v":"Impianti climatizzazione con "},null,null,0,{"$f":"IF('Computo-Massimali'!F26<>0,'Computo-Massimali'!G26*F26/'Computo-Massimali'!F26,0)","v":0},{"$f":"SUM(F26:G26)","v":0},{"$f":"F26*'Dati Gen'!$J$20+G26*'Dati Gen'!$J$19","v":0},0,{"$f":"IF('Computo-Massimali'!F26<>0,'Computo-Massimali'!K26*F26/'Computo-Massimali'!F26,0)","v":0},0,{"$f":"IF(L26<=R26,L26*1.1,R26*1.1)","v":0},{"$f":"IF('Computo-Massimali'!L26>0,L26/'Computo-Massimali'!L26,0)","v":0},{"$f":"IF(F26>0,IF(F26-0.001>'Computo-Massimali'!F26,\">Computo\",\"\"),\"\")","v":""},null,"Impianti climatizzazione con ",{"$f":"'Computo-Massimali'!T26","v":0},"ok",null,{"$f":"IF(L26<R26,L26,R26)","v":0},null,0,null,0,null,0]
[null,null,{"$f":"'Computo-Massimali'!C27","v":"GA) Generatori aria calda Condensazione"},null,null,0,{"$f":"IF('Computo-Massimali'!F27<>0,'Computo-Massimali'!G27*F27/'Computo-Massimali'!F27,0)","v":0},{"$f":"SUM(F27:G27)","v":0},{"$f":"F27*'Dati Gen'!$J$20+G27*'Dati Gen'!$J$19","v":0},0,{"$f":"IF('Computo-Massimali'!F27<>0,'Computo-Massimali'!K27*F27/'Computo-Massimali'!F27,0)","v":0},0,{"$f":"IF(L27<=R27,L27*1.1,R27*1.1)","v":0},{"$f":"IF('Computo-Massimali'!L27>0,L27/'Computo-Massimali'!L27,0)","v":0},{"$f":"IF(F27>0,IF(F27-0.001>'Computo-Massimali'!F27,\">Computo\",\"\"),\"\")","v":""},null,"GA) Generatori aria calda Condensazione",{"$f":"'Computo-Massimali'!T27","v":0},"ok",null,{"$f":"IF($L$30<>0,(L27/$L$30)*$U$30,0)","v":0},null,0,null,0,null,0]
[null,null,{"$f":"'Computo-Massimali'!C28","v":"IB) Impianti Biomassa"},null,null,0,{"$f":"IF('Computo-Massimali'!F28<>0,'Computo-Massimali'!G28*F28/'Computo-Massimali'!F28,0)","v":0},{"$f":"SUM(F28:G28)","v":0},{"$f":"F28*'Dati Gen'!$J$20+G28*'Dati Gen'!$J$19","v":0},0,{"$f":"IF('Computo-Massimali'!F28<>0,'Computo-Massimali'!K28*F28/'Computo-Massimali'!F28,0)","v":0},0,{"$f":"IF(L28<=R28,L28*1.1,R28*1.1)","v":0},{"$f":"IF('Computo-Massimali'!L28>0,L28/'Computo-Massimali'!L28,0)","v":0},{"$f":"IF(F28>0,IF(F28-0.001>'Computo-Massimali'!F28,\">Computo\",\"\"),\"\")","v":""},null,"IB) Impianti Biomassa",{"$f":"'Computo-Massimali'!T28","v":0},"ok",null,{"$f":"IF($L$30<>0,(L28/$L$30)*$U$30,0)","v":0},null,0,null,0,null,0]
[null,null,{"$f":"'Computo-Massimali'!C29","v":"SA) Scaldacqua a pompa di calore"},null,null,0,{"$f":"IF('Computo-Massimali'!F29<>0,'Computo-Massimali'!G29*F29/'Computo-Massimali'!F29,0)","v":0},{"$f":"SUM(F29:G29)","v":0},{"$f":"F29*'Dati Gen'!$J$20+G29*'Dati Gen'!$J$19","v":0},0,{"$f":"IF('Computo-Massimali'!F29<>0,'Computo-Massimali'!K29*F29/'Computo-Massimali'!F29,0)","v":0},0,{"$f":"IF(L29<=R29,L29*1.1,R29*1.1)","v":0},{"$f":"IF('Computo-Massimali'!L29>0,L29/'Computo-Massimali'!L29,0)","v":0},{"$f":"IF(F29>0,IF(F29-0.001>'Computo-Massimali'!F29,\">Computo\",\"\"),\"\")","v":""},null,"SA) Scaldacqua a pompa di calore",{"$f":"'Computo-Massimali'!T29","v":0},"ok",null,{"$f":"IF($L$30<>0,(L29/$L$30)*$U$30,0)","v":0},null,0,null,0,null,0]
[null,null,{"$f":"'Computo-Massimali'!C30","v":"Totali GA)  IB)  SA)"},null,null,{"$f":"SUM(F27:F29)","v":0},{"$f":"SUM(G27:G29)","v":0},{"$f":"SUM(H27:H29)","v":0},0,0,{"$f":"SUM(K27:K29)","v":0},0,0,{"$f":"IF('Computo-Massimali'!L30>0,L30/'Computo-Massimali'!L30,0)","v":0},{"$f":"IF(F30>0,IF(F30-0.001>'Computo-Massimali'!F30,\">Computo\",\"\"),\"\")","v":""},null,"Totali GA)  IB)  SA)",{"$f":"'Computo-Massimali'!T30","v":0},"ok",null,{"$f":"IF(L30<R30,L30,R30)","v":0},null,0,null,0,null,0]
[null,null,{"$f":"'Computo-Massimali'!C31","v":"CO) Sistemi di Microgenerazione"},null,null,0,{"$f":"IF('Computo-Massimali'!F31<>0,'Computo-Massimali'!G31*F31/'Computo-Massimali'!F31,0)","v":0},{"$f":"SUM(F31:G31)","v":0},{"$f":"F31*'Dati Gen'!$J$20+G31*'Dati Gen'!$J$19","v":0},{"$f":"H31+I31","v":0},{"$f":"IF('Computo-Massimali'!F31<>0,'Computo-Massimali'!K31*F31/'Computo-Massimali'!F31,0)","v":0},{"$f":"SUM(J31:K31)","v":0},{"$f":"IF(L31<=R31,L31*1.1,R31*1.1)","v":0},{"$f":"IF('Computo-Massimali'!L31>0,L31/'Computo-Massimali'!L31,0)","v":0},{"$f":"IF(F31>0,IF(F31-0.001>'Computo-Massimali'!F31,\">Computo\",\"\"),\"\")","v":""},null,"CO) Sistemi di Microgenerazione",{"$f":"'Computo-Massimali'!T31","v":0},"ok",null,0,null,0,null,0,null,0]
[null,null,{"$f":"'Computo-Massimali'!C32","v":"ST) Collettori Solari"},null,{"$f":"'Computo-Massimali'!E32","v":"Piani Vetrati"},0,{"$f":"IF('Computo-Massimali'!F32<>0,'Computo-Massimali'!G32*F32/'Computo-Massimali'!F32,0)","v":0},0,{"$f":"F32*'Dati Gen'!$J$20+G32*'Dati Gen'!$J$19","v":0},{"$f":"H32+I32","v":0},{"$f":"IF('Computo-Massimali'!F32<>0,'Computo-Massimali'!K32*F32/'Computo-Massimali'!F32,0)","v":0},{"$f":"SUM(J32:K32)","v":0},0,{"$f":"IF('Computo-Massimali'!L32>0,L32/'Computo-Massimali'!L32,0)","v":0},{"$f":"IF(F32>0,IF(F32-0.001>'Computo-Massimali'!F32,\">Computo\",\"\"),\"\")","v":""},null,"ST) Collettori Solari",{"$f":"'Computo-Massimali'!T32","v":0},"ok",null,0,null,0,null,0,null,0]
[null,null,{"$f":"'Computo-Massimali'!C33","v":"FV) Solare Fotovoltaico [ kWp ]"},null,{"$f":"'Computo-Massimali'!E33","v":6},0,{"$f":"IF('Computo-Massimali'!F33<>0,'Computo-Massimali'!G33*F33/'Computo-Massimali'!F33,0)","v":0},0,{"$f":"F33*'Dati Gen'!$J$20+G33*'Dati Gen'!$J$19","v":0},{"$f":"H33+I33","v":0},{"$f":"IF('Computo-Massimali'!F33<>0,'Computo-Massimali'!K33*F33/'Computo-Massimali'!F33,0)","v":0},{"$f":"SUM(J33:K33)","v":0},0,{"$f":"IF('Computo-Massimali'!L33>0,L33/'Computo-Massimali'!L33,0)","v":0},{"$f":"IF(F33>0,IF(F33-0.001>'Computo-Massimali'!F33,\">Computo\",\"\"),\"\")","v":""},null,"FV) Solare Fotovoltaico [ kWp ]",{"$f":"'Computo-Massimali'!T33","v":0},"ok",null,0,null,0,null,0,null,0]
[null,null,{"$f":"'Computo-Massimali'!C34","v":"AC) Sistema di Accumulo [ kWh ]"},null,{"$f":"'Computo-Massimali'!E34","v":10},0,{"$f":"IF('Computo-Massimali'!F34<>0,'Computo-Massimali'!G34*F34/'Computo-Massimali'!F34,0)","v":0},0,{"$f":"F34*'Dati Gen'!$J$20+G34*'Dati Gen'!$J$19","v":0},{"$f":"H34+I34","v":0},{"$f":"IF('Computo-Massimali'!F34<>0,'Computo-Massimali'!K34*F34/'Computo-Massimali'!F34,0)","v":0},{"$f":"SUM(J34:K34)","v":0},0,{"$f":"IF('Computo-Massimali'!L34>0,L34/'Computo-Massimali'!L34,0)","v":0},{"$f":"IF(F34>0,IF(F34-0.001>'Computo-Massimali'!F34,\">Computo\",\"\"),\"\")","v":""},null,"AC) Sistema di Accumulo [ kWh ]",{"$f":"'Computo-Massimali'!T34","v":0},"ok",null,0,null,0,null,0,null,0]
[null,null,{"$f":"'Computo-Massimali'!C35","v":"CR) Colonnine di Ricarica  [ N. ]"},null,{"$f":"'Computo-Massimali'!E35","v":1},0,{"$f":"IF('Computo-Massimali'!F35<>0,'Computo-Massimali'!G35*F35/'Computo-Massimali'!F35,0)","v":0},0,{"$f":"F35*'Dati Gen'!$J$20+G35*'Dati Gen'!$J$19","v":0},0,{"$f":"IF('Computo-Massimali'!F35<>0,'Computo-Massimali'!K35*F35/'Computo-Massimali'!F35,0)","v":0},0,0,{"$f":"IF('Computo-Massimali'!L35>0,L35/'Computo-Massimali'!L35,0)","v":0},{"$f":"IF(F35>0,IF(F35-0.001>'Computo-Massimali'!F35,\">Computo\",\"\"),\"\")","v":""},null,"CR) Colonnine di Ricarica  [ N. ]",{"$f":"'Computo-Massimali'!T35","v":0},"ok",null,0,null,0,null,0,null,0]
[null,null,{"$f":"'Computo-Massimali'!C36","v":"EBA) Eliminazione Barriere architettoniche"},null,null,0,{"$f":"IF('Computo-Massimali'!F36<>0,'Computo-Massimali'!G36*F36/'Computo-Massimali'!F36,0)","v":0},0,{"$f":"F36*'Dati Gen'!$J$20+G36*'Dati Gen'!$J$19","v":0},0,{"$f":"IF('Computo-Massimali'!F36<>0,'Computo-Massimali'!K36*F36/'Computo-Massimali'!F36,0)","v":0},0,0,{"$f":"IF('Computo-Massimali'!L36>0,L36/'Computo-Massimali'!L36,0)","v":0},{"$f":"IF(F36>0,IF(F36-0.001>'Computo-Massimali'!F36,\">Computo\",\"\"),\"\")","v":""},null,"EBA) Eliminazione Barriere architettoniche",{"$f":"'Computo-Massimali'!T36","v":0},"ok",null,0,null,0,null,0,null,0]
[null,null,{"$f":"'Computo-Massimali'!C37","v":"Totale Interventi Trainati Parti Comuni : "},null,null,{"$f":"SUM(F24:F26)+SUM(F30:F36)","v":0},{"$f":"SUM(G24:G26)+SUM(G30:G36)","v":0},{"$f":"SUM(H24:H26)+SUM(H30:H36)","v":0},0,0,0,0,0,{"$f":"IF('Computo-Massimali'!L37>0,L37/'Computo-Massimali'!L37,0)","v":0},{"$f":"IF(F37>0,IF(F37-0.001>'Computo-Massimali'!F37,\">Computo\",\"\"),\"\")","v":""},null,null,{"$f":"C37","v":"Totale Interventi Trainati Parti Comuni : "},null,null,{"$f":"U24+U25+U26+SUM(U30:V36)","v":0},null,{"$f":"W24+W25+W26+SUM(W30:X36)","v":0},null,{"$f":"Y24+Y25+Y26+SUM(Y30:Z36)","v":0},null,{"$f":"AA24+AA25+AA26+SUM(AA30:AB36)","v":0}]
[]
[]
[null,null,"INTERVENTI TRAINATI",null,null,null,null,null,null,null,null,null,null,null,"..",null,{"$f":"CONCATENATE(\"Verifica Massimali di Spesa \",C40)","v":"Verifica Massimali di Spesa INTERVENTI TRAINATI"}]
[null,null,"  Interventi",null,null,"Importo Lavori","Incidenza Sicurezza","Imponibile","Iva","Importo c.iva","Spese tecniche","Totale","Credito Spettante  110% Spesa Ammessa","%SAL",null,null,null,"Massimale  spesa","Verifica Max",null,"Spesa Ammessa",null,"Quota Eccedente Massimale Spesa ",null,"Credito Spettante                                110% Spesa Ammessa                              Quota Impresa        |    Quota Tecnici"]
[null,null,{"$f":"'Computo-Massimali'!C42:D42","v":"PV) Isolamento pareti perimetrali"},null,{"$f":"'Computo-Massimali'!E42","v":"Esterno"},0,{"$f":"IF('Computo-Massimali'!F42<>0,'Computo-Massimali'!G42*F42/'Computo-Massimali'!F42,0)","v":0},{"$f":"SUM(F42:G42)","v":0},{"$f":"F42*'Dati Gen'!$J$20+G42*'Dati Gen'!$J$19","v":0},{"$f":"H42+I42","v":0},{"$f":"IF('Computo-Massimali'!F42<>0,'Computo-Massimali'!K42*F42/'Computo-Massimali'!F42,0)","v":0},{"$f":"SUM(J42:K42)","v":0},{"$f":"IF(L42<=R42,L42*1.1,R42*1.1)","v":0},{"$f":"IF('Computo-Massimali'!L42>0,L42/'Computo-Massimali'!L42,0)","v":0},{"$f":"IF(F42>0,IF(F42-0.001>'Computo-Massimali'!F42,\">C.\",\"\"),\"\")","v":""},null,{"$f":"C42","v":"PV) Isolamento pareti perimetrali"},{"$f":"'Computo-Massimali'!T42","v":0},{"$f":"IF(L42>M42,\"KO Tot.>Detr.\",IF(L42>R42,\"ko\",\"ok\"))","v":"ok"},null,{"$f":"IF($L$46<>0,(L42/$L$46)*$U$46,0)","v":0},null,{"$f":"IF(L42>R42,L42-R42,0)","v":0},null,{"$f":"IF(M42<>0,J42*M42/L42,0)","v":0},null,{"$f":"IF(M42<>0,K42*M42/L42,0)","v":0}]
[null,null,{"$f":"'Computo-Massimali'!C43:D43","v":"PO) Isolamento coperture"},null,"Esterno",0,{"$f":"IF('Computo-Massimali'!F43<>0,'Computo-Massimali'!G43*F43/'Computo-Massimali'!F43,0)","v":0},{"$f":"SUM(F43:G43)","v":0},{"$f":"F43*'Dati Gen'!$J$20+G43*'Dati Gen'!$J$19","v":0},{"$f":"H43+I43","v":0},{"$f":"IF('Computo-Massimali'!F43<>0,'Computo-Massimali'!K43*F43/'Computo-Massimali'!F43,0)","v":0},{"$f":"SUM(J43:K43)","v":0},{"$f":"IF(L43<=R43,L43*1.1,R43*1.1)","v":0},{"$f":"IF('Computo-Massimali'!L43>0,L43/'Computo-Massimali'!L43,0)","v":0},{"$f":"IF(F43>0,IF(F43-0.001>'Computo-Massimali'!F43,\">C.\",\"\"),\"\")","v":""},null,"PO) Isolamento coperture",{"$f":"'Computo-Massimali'!T43","v":0},"ok",null,{"$f":"IF($L$46<>0,(L43/$L$46)*$U$46,0)","v":0},null,0,null,0,null,0]
[null,null,{"$f":"'Computo-Massimali'!C44:D44","v":"PS) Isolamento Pavimenti"},null,"Esterno",0,{"$f":"IF('Computo-Massimali'!F44<>0,'Computo-Massimali'!G44*F44/'Computo-Massimali'!F44,0)","v":0},{"$f":"SUM(F44:G44)","v":0},{"$f":"F44*'Dati Gen'!$J$20+G44*'Dati Gen'!$J$19","v":0},{"$f":"H44+I44","v":0},{"$f":"IF('Computo-Massimali'!F44<>0,'Computo-Massimali'!K44*F44/'Computo-Massimali'!F44,0)","v":0},{"$f":"SUM(J44:K44)","v":0},{"$f":"IF(L44<=R44,L44*1.1,R44*1.1)","v":0},{"$f":"IF('Computo-Massimali'!L44>0,L44/'Computo-Massimali'!L44,0)","v":0},{"$f":"IF(F44>0,IF(F44-0.001>'Computo-Massimali'!F44,\">C.\",\"\"),\"\")","v":""},null,"PS) Isolamento Pavimenti",{"$f":"'Computo-Massimali'!T44","v":0},"ok",null,{"$f":"IF($L$46<>0,(L44/$L$46)*$U$46,0)","v":0},null,0,null,0,null,0]
[null,null,{"$f":"'Computo-Massimali'!C45:D45","v":"IN) Serramenti con chiusure oscuranti"},null,"Zone D, E ed F",0,{"$f":"IF('Computo-Massimali'!F45<>0,'Computo-Massimali'!G45*F45/'Computo-Massimali'!F45,0)","v":0},{"$f":"SUM(F45:G45)","v":0},{"$f":"F45*'Dati Gen'!$J$20+G45*'Dati Gen'!$J$19","v":0},{"$f":"H45+I45","v":0},{"$f":"IF('Computo-Massimali'!F45<>0,'Computo-Massimali'!K45*F45/'Computo-Massimali'!F45,0)","v":0},{"$f":"SUM(J45:K45)","v":0},{"$f":"IF(L45<=R45,L45*1.1,R45*1.1)","v":0},{"$f":"IF('Computo-Massimali'!L45>0,L45/'Computo-Massimali'!L45,0)","v":0},{"$f":"IF(F45>0,IF(F45-0.001>'Computo-Massimali'!F45,\">C.\",\"\"),\"\")","v":""},null,"IN) Serramenti con chiusure oscuranti",{"$f":"'Computo-Massimali'!T45","v":0},"ok",null,{"$f":"IF($L$46<>0,(L45/$L$46)*$U$46,0)","v":0},null,0,null,0,null,0]
[null,null,{"$f":"'Computo-Massimali'!C46:D46","v":"Totali Isolamento PV) PO) PS) e IN"},null,null,{"$f":"SUM(F42:F45)","v":0},{"$f":"SUM(G42:G45)","v":0},0,0,0,{"$f":"SUM(K42:K45)","v":0},0,0,{"$f":"IF('Computo-Massimali'!L46>0,L46/'Computo-Massimali'!L46,0)","v":0},{"$f":"IF(F46>0,IF(F46-0.001>'Computo-Massimali'!F46,\">C.\",\"\"),\"\")","v":""},null,"Totali Isolamento PV) PO) PS) e IN",{"$f":"'Computo-Massimali'!T46","v":0},"ok",null,{"$f":"IF(L46<R46,L46,R46)","v":0},null,0,null,0,null,0]
[null,null,{"$f":"'Computo-Massimali'!C47:D47","v":"SS) Schermature solari e chiusure oscuranti"},null,null,0,{"$f":"IF('Computo-Massimali'!F47<>0,'Computo-Massimali'!G47*F47/'Computo-Massimali'!F47,0)","v":0},{"$f":"SUM(F47:G47)","v":0},{"$f":"F47*'Dati Gen'!$J$20+G47*'Dati Gen'!$J$19","v":0},{"$f":"H47+I47","v":0},{"$f":"IF('Computo-Massimali'!F47<>0,'Computo-Massimali'!K47*F47/'Computo-Massimali'!F47,0)","v":0},{"$f":"SUM(J47:K47)","v":0},{"$f":"IF(L47<=R47,L47*1.1,R47*1.1)","v":0},{"$f":"IF('Computo-Massimali'!L47>0,L47/'Computo-Massimali'!L47,0)","v":0},{"$f":"IF(F47>0,IF(F47-0.001>'Computo-Massimali'!F47,\">C.\",\"\"),\"\")","v":""},null,"SS) Schermature solari e chiusure oscuranti",{"$f":"'Computo-Massimali'!T47","v":0},"ok",null,{"$f":"IF(L47<R47,L47,R47)","v":0},null,0,null,0,null,0]
[null,null,{"$f":"'Computo-Massimali'!C48:D48","v":"Impianti climatizzazione con "},null,null,0,{"$f":"IF('Computo-Massimali'!F48<>0,'Computo-Massimali'!G48*F48/'Computo-Massimali'!F48,0)","v":0},{"$f":"SUM(F48:G48)","v":0},{"$f":"F48*'Dati Gen'!$J$20+G48*'Dati Gen'!$J$19","v":0},{"$f":"H48+I48","v":0},{"$f":"IF('Computo-Massimali'!F48<>0,'Computo-Massimali'!K48*F48/'Computo-Massimali'!F48,0)","v":0},{"$f":"SUM(J48:K48)","v":0},{"$f":"IF(L48<=R48,L48*1.1,R48*1.1)","v":0},{"$f":"IF('Computo-Massimali'!L48>0,L48/'Computo-Massimali'!L48,0)","v":0},{"$f":"IF(F48>0,IF(F48-0.001>'Computo-Massimali'!F48,\">C.\",\"\"),\"\")","v":""},null,"Impianti climatizzazione con ",{"$f":"'Computo-Massimali'!T48","v":0},"ok",null,{"$f":"IF($L$50<>0,(L48/$L$50)*$U$50,0)","v":0},null,0,null,0,null,0]
[null,null,{"$f":"'Computo-Massimali'!C49:D49","v":"SA) Scaldacqua a pompa di calore"},null,null,0,{"$f":"IF('Computo-Massimali'!F49<>0,'Computo-Massimali'!G49*F49/'Computo-Massimali'!F49,0)","v":0},{"$f":"SUM(F49:G49)","v":0},{"$f":"F49*'Dati Gen'!$J$20+G49*'Dati Gen'!$J$19","v":0},{"$f":"H49+I49","v":0},{"$f":"IF('Computo-Massimali'!F49<>0,'Computo-Massimali'!K49*F49/'Computo-Massimali'!F49,0)","v":0},{"$f":"SUM(J49:K49)","v":0},{"$f":"IF(L49<=R49,L49*1.1,R49*1.1)","v":0},{"$f":"IF('Computo-Massimali'!L49>0,L49/'Computo-Massimali'!L49,0)","v":0},{"$f":"IF(F49>0,IF(F49-0.001>'Computo-Massimali'!F49,\">C.\",\"\"),\"\")","v":""},null,"SA) Scaldacqua a pompa di calore",{"$f":"'Computo-Massimali'!T49","v":0},"ok",null,{"$f":"IF($L$50<>0,(L49/$L$50)*$U$50,0)","v":0},null,0,null,0,null,0]
[null,null,{"$f":"'Computo-Massimali'!C50:D50","v":"Totali Impianti ed  SA)"},null,null,{"$f":"SUM(F48:F49)","v":0},{"$f":"SUM(G48:G49)","v":0},0,0,0,{"$f":"SUM(K48:K49)","v":0},0,0,{"$f":"IF('Computo-Massimali'!L50>0,L50/'Computo-Massimali'!L50,0)","v":0},{"$f":"IF(F50>0,IF(F50-0.001>'Computo-Massimali'!F50,\">C.\",\"\"),\"\")","v":""},null,"Totali Impianti ed  SA)",{"$f":"'Computo-Massimali'!T50","v":0},"ok",null,{"$f":"IF(L50<R50,L50,R50)","v":0},null,0,null,0,null,0]
[null,null,{"$f":"'Computo-Massimali'!C51:D51","v":"CO) Sistemi di Microgenerazione"},null,null,0,{"$f":"IF('Computo-Massimali'!F51<>0,'Computo-Massimali'!G51*F51/'Computo-Massimali'!F51,0)","v":0},{"$f":"SUM(F51:G51)","v":0},{"$f":"F51*'Dati Gen'!$J$20+G51*'Dati Gen'!$J$19","v":0},{"$f":"H51+I51","v":0},{"$f":"IF('Computo-Massimali'!F51<>0,'Computo-Massimali'!K51*F51/'Computo-Massimali'!F51,0)","v":0},{"$f":"SUM(J51:K51)","v":0},{"$f":"IF(L51<=R51,L51*1.1,R51*1.1)","v":0},{"$f":"IF('Computo-Massimali'!L51>0,L51/'Computo-Massimali'!L51,0)","v":0},{"$f":"IF(F51>0,IF(F51-0.001>'Computo-Massimali'!F51,\">C.\",\"\"),\"\")","v":""},null,"CO) Sistemi di Microgenerazione",{"$f":"'Computo-Massimali'!T51","v":0},"ok",null,0,null,0,null,0,null,0]
[null,null,{"$f":"'Computo-Massimali'!C52:D52","v":"IB) Generatori a Biomassa"},null,null,0,{"$f":"IF('Computo-Massimali'!F52<>0,'Computo-Massimali'!G52*F52/'Computo-Massimali'!F52,0)","v":0},0,{"$f":"F52*'Dati Gen'!$J$20+G52*'Dati Gen'!$J$19","v":0},0,{"$f":"IF('Computo-Massimali'!F52<>0,'Computo-Massimali'!K52*F52/'Computo-Massimali'!F52,0)","v":0},0,0,{"$f":"IF('Computo-Massimali'!L52>0,L52/'Computo-Massimali'!L52,0)","v":0},{"$f":"IF(F52>0,IF(F52-0.001>'Computo-Massimali'!F52,\">C.\",\"\"),\"\")","v":""},null,"IB) Generatori a Biomassa",{"$f":"'Computo-Massimali'!T52","v":0},"ok",null,0,null,0,null,0,null,0]
[null,null,{"$f":"'Computo-Massimali'!C53:D53","v":"BA) Building Automation"},null,null,0,{"$f":"IF('Computo-Massimali'!F53<>0,'Computo-Massimali'!G53*F53/'Computo-Massimali'!F53,0)","v":0},0,{"$f":"F53*'Dati Gen'!$J$20+G53*'Dati Gen'!$J$19","v":0},0,{"$f":"IF('Computo-Massimali'!F53<>0,'Computo-Massimali'!K53*F53/'Computo-Massimali'!F53,0)","v":0},0,0,{"$f":"IF('Computo-Massimali'!L53>0,L53/'Computo-Massimali'!L53,0)","v":0},{"$f":"IF(F53>0,IF(F53-0.001>'Computo-Massimali'!F53,\">C.\",\"\"),\"\")","v":""},null,"BA) Building Automation",{"$f":"'Computo-Massimali'!T53","v":0},"ok",null,0,null,0,null,0,null,0]
[null,null,{"$f":"'Computo-Massimali'!C54:D54","v":"ST) Collettori Solari"},null,{"$f":"'Computo-Massimali'!E54","v":"Piani Vetrati"},0,{"$f":"IF('Computo-Massimali'!F54<>0,'Computo-Massimali'!G54*F54/'Computo-Massimali'!F54,0)","v":0},0,{"$f":"F54*'Dati Gen'!$J$20+G54*'Dati Gen'!$J$19","v":0},0,{"$f":"IF('Computo-Massimali'!F54<>0,'Computo-Massimali'!K54*F54/'Computo-Massimali'!F54,0)","v":0},0,0,{"$f":"IF('Computo-Massimali'!L54>0,L54/'Computo-Massimali'!L54,0)","v":0},{"$f":"IF(F54>0,IF(F54-0.001>'Computo-Massimali'!F54,\">C.\",\"\"),\"\")","v":""},null,"ST) Collettori Solari",{"$f":"'Computo-Massimali'!T54","v":0},"ok",null,0,null,0,null,0,null,0]
[null,null,{"$f":"'Computo-Massimali'!C55:D55","v":"FV) Solare Fotovoltaico [ kWp ]"},null,{"$f":"'Computo-Massimali'!E55","v":6},0,{"$f":"IF('Computo-Massimali'!F55<>0,'Computo-Massimali'!G55*F55/'Computo-Massimali'!F55,0)","v":0},0,{"$f":"F55*'Dati Gen'!$J$20+G55*'Dati Gen'!$J$19","v":0},0,{"$f":"IF('Computo-Massimali'!F55<>0,'Computo-Massimali'!K55*F55/'Computo-Massimali'!F55,0)","v":0},0,0,{"$f":"IF('Computo-Massimali'!L55>0,L55/'Computo-Massimali'!L55,0)","v":0},{"$f":"IF(F55>0,IF(F55-0.001>'Computo-Massimali'!F55,\">C.\",\"\"),\"\")","v":""},null,"FV) Solare Fotovoltaico [ kWp ]",{"$f":"'Computo-Massimali'!T55","v":0},"ok",null,0,null,0,null,0,null,0]
[null,null,{"$f":"'Computo-Massimali'!C56:D56","v":"AC) Sistema di Accumulo [ kWh ]"},null,{"$f":"'Computo-Massimali'!E56","v":10},0,{"$f":"IF('Computo-Massimali'!F56<>0,'Computo-Massimali'!G56*F56/'Computo-Massimali'!F56,0)","v":0},0,{"$f":"F56*'Dati Gen'!$J$20+G56*'Dati Gen'!$J$19","v":0},0,{"$f":"IF('Computo-Massimali'!F56<>0,'Computo-Massimali'!K56*F56/'Computo-Massimali'!F56,0)","v":0},0,0,{"$f":"IF('Computo-Massimali'!L56>0,L56/'Computo-Massimali'!L56,0)","v":0},{"$f":"IF(F56>0,IF(F56-0.001>'Computo-Massimali'!F56,\">C.\",\"\"),\"\")","v":""},null,"AC) Sistema di Accumulo [ kWh ]",{"$f":"'Computo-Massimali'!T56","v":0},"ok",null,0,null,0,null,0,null,0]
[null,null,{"$f":"'Computo-Massimali'!C57:D57","v":"CR) Colonnine di Ricarica"},null,{"$f":"'Computo-Massimali'!E57","v":1},0,{"$f":"IF('Computo-Massimali'!F57<>0,'Computo-Massimali'!G57*F57/'Computo-Massimali'!F57,0)","v":0},0,{"$f":"F57*'Dati Gen'!$J$20+G57*'Dati Gen'!$J$19","v":0},0,{"$f":"IF('Computo-Massimali'!F57<>0,'Computo-Massimali'!K57*F57/'Computo-Massimali'!F57,0)","v":0},0,0,{"$f":"IF('Computo-Massimali'!L57>0,L57/'Computo-Massimali'!L57,0)","v":0},{"$f":"IF(F57>0,IF(F57-0.001>'Computo-Massimali'!F57,\">C.\",\"\"),\"\")","v":""},null,"CR) Colonnine di Ricarica",{"$f":"'Computo-Massimali'!T57","v":0},"ok",null,0,null,0,null,0,null,0]
[null,null,"EBA) Eliminazione Barriere architettoniche",null,null,0,{"$f":"IF('Computo-Massimali'!F58<>0,'Computo-Massimali'!G58*F58/'Computo-Massimali'!F58,0)","v":0},{"$f":"SUM(F58:G58)","v":0},{"$f":"F58*'Dati Gen'!$J$20+G58*'Dati Gen'!$J$19","v":0},{"$f":"H58+I58","v":0},{"$f":"IF('Computo-Massimali'!F58<>0,'Computo-Massimali'!K58*F58/'Computo-Massimali'!F58,0)","v":0},0,0,{"$f":"IF('Computo-Massimali'!L58>0,L58/'Computo-Massimali'!L58,0)","v":0},{"$f":"IF(F58>0,IF(F58-0.001>'Computo-Massimali'!F58,\">C.\",\"\"),\"\")","v":""},null,"EBA) Eliminazione Barriere architettoniche",{"$f":"'Computo-Massimali'!T58","v":0},"ok",null,0,null,0,null,0,null,0]
[null,null,"Totale Interventi trainati",null,null,{"$f":"F46+F47+SUM(F50:F58)","v":0},{"$f":"G46+G47+SUM(G50:G58)","v":0},0,0,0,0,0,0,{"$f":"IF('Computo-Massimali'!L59>0,L59/'Computo-Massimali'!L59,0)","v":0},{"$f":"IF(F59>0,IF(F59-0.001>'Computo-Massimali'!F59,\">C.\",\"\"),\"\")","v":""},null,null,{"$f":"C59","v":"Totale Interventi trainati"},null,null,{"$f":"U46+U47+SUM(U50:V58)","v":0},null,{"$f":"W46+W47+SUM(W50:X58)","v":0},null,{"$f":"Y46+Y47+SUM(Y50:Z58)","v":0},null,{"$f":"AA46+AA47+SUM(AA50:AB58)","v":0}]
[]
[]
[]
[]
[]
[]
[]
[]
[]
[]
[]
[]
[]
[]
[]
[]
[]
[]
[null,null,"SimMZ"]
[]
[null,null,"TOTALI SAL N.1 - INTERVENTI 110 ",null,null,"Importo Lavori","Incidenza Sicurezza","Imponibile","Iva","Importo c.iva","Spese tecniche","Totale","Credito Spettante  110% Spesa Ammessa","%SAL",null,null,{"$f":"C80","v":"TOTALI SAL N.1 - INTERVENTI 110 "},null,null,null,"Spesa Ammessa",null,"Quota Eccedente Massimale Spesa ",null,"Credito Spettante                                110% Spesa Ammessa                                       Quota Impresa        |      Quota Tecnici"]
[null,null,null,null,null,{"$f":"F16+F59","v":0},0,0,0,0,0,0,0,{"$f":"IF('Computo-Massimali'!L81>0,L81/'Computo-Massimali'!L81,0)","v":0},{"$f":"IF(F81>0,IF(F81>'Computo-Massimali'!F81,\">Computo\",\"\"),\"\")","v":""},null,null,null,null,null,{"$f":"U16+U59","v":0},null,{"$f":"W16+W59","v":0},null,{"$f":"Y16+Y59","v":0},null,{"$f":"AA16+AA59","v":0}]
[]
[null,null,{"$f":"IF(N81>=29.999%,\"\",\"Attenzione!    SAL Superbonus 110 inferiore 30%\")","v":"Attenzione!    SAL Superbonus 110 inferiore 30%"}]
[]
[]
[]
[null,null,"ALTRI INTERVENTI",null,null,null,null,null,null,null,null,null,null,null,null,null,{"$f":"CONCATENATE(\"Verifica Massimali di Spesa \",C87)","v":"Verifica Massimali di Spesa ALTRI INTERVENTI"}]
[null,null,"  Interventi",null,"x% Credito ceduto","Importo Lavori","Incidenza Sicurezza","Imponibile","Iva","Importo c.iva","Spese tecniche","Totale","Credito Spettante  x% Spesa Ammessa","%SAL",null,null,null,"Massimale  spesa","Verifica Max",null,"Spesa Ammessa",null,"Quota Eccedente Massimale Spesa ",null,"Credito Spettante                                110% Spesa Ammessa                                       Quota Impresa        |      Quota Tecnici"]
[null,null,{"$f":"IF('Computo-Massimali'!C89<>\"\",'Computo-Massimali'!C89,\"\")","v":"Ristrutturazione"},null,{"$f":"'Computo-Massimali'!E89","v":0.5},0,{"$f":"IF('Computo-Massimali'!F89<>0,'Computo-Massimali'!G89*F89/'Computo-Massimali'!F89,0)","v":0},{"$f":"SUM(F89:G89)","v":0},{"$f":"F89*'Dati Gen'!$J$20+G89*'Dati Gen'!$J$19","v":0},{"$f":"H89+I89","v":0},{"$f":"IF('Computo-Massimali'!F89<>0,'Computo-Massimali'!K89*F89/'Computo-Massimali'!F89,0)","v":0},{"$f":"SUM(J89:K89)","v":0},{"$f":"IF(L89<=R89,L89*E89,R89*E89)","v":0},{"$f":"IF('Computo-Massimali'!L89>0,L89/'Computo-Massimali'!L89,0)","v":0},{"$f":"IF(F89>0,IF(F89>'Computo-Massimali'!F89,\">Computo\",\"\"),\"\")","v":""},null,{"$f":"IF(C89<>\"\",C89,\"\")","v":"Ristrutturazione"},{"$f":"96000*N_Uimm","v":96000},{"$f":"IF(L89>R89,\"KO Tot.>Detr.\",\"ok\")","v":"ok"},null,{"$f":"IF(L89<R89,L89,R89)","v":0},null,{"$f":"IF(L89>R89,L89-R89,0)","v":0},null,{"$f":"IF(M89<>0,J89*M89/L89,0)","v":0},null,{"$f":"IF(M89<>0,K89*M89/L89,0)","v":0}]
[null,null,{"$f":"IF('Computo-Massimali'!C90<>\"\",'Computo-Massimali'!C90,\"\")","v":"Bonus facciata"},null,{"$f":"'Computo-Massimali'!E90","v":0.6},0,{"$f":"IF('Computo-Massimali'!F90<>0,'Computo-Massimali'!G90*F90/'Computo-Massimali'!F90,0)","v":0},{"$f":"SUM(F90:G90)","v":0},{"$f":"F90*'Dati Gen'!$J$20+G90*'Dati Gen'!$J$19","v":0},{"$f":"H90+I90","v":0},{"$f":"IF('Computo-Massimali'!F90<>0,'Computo-Massimali'!K90*F90/'Computo-Massimali'!F90,0)","v":0},{"$f":"SUM(J90:K90)","v":0},{"$f":"IF(L90<=R90,L90*E90,R90*E90)","v":0},{"$f":"IF('Computo-Massimali'!L90>0,L90/'Computo-Massimali'!L90,0)","v":0},{"$f":"IF(F90>0,IF(F90>'Computo-Massimali'!F90,\">Computo\",\"\"),\"\")","v":""},null,{"$f":"IF(C90<>\"\",C90,\"\")","v":"Bonus facciata"},{"$f":"96000*N_Uimm","v":96000},{"$f":"IF(L90>R90,\"KO Tot.>Detr.\",\"ok\")","v":"ok"},null,{"$f":"IF(L90<R90,L90,R90)","v":0},null,{"$f":"IF(L90>R90,L90-R90,0)","v":0},null,{"$f":"IF(M90<>0,J90*M90/L90,0)","v":0},null,{"$f":"IF(M90<>0,K90*M90/L90,0)","v":0}]
[null,null,"Bonus Facciata",null,{"$f":"'Computo-Massimali'!E91","v":0.7},0,{"$f":"IF('Computo-Massimali'!F91<>0,'Computo-Massimali'!G91*F91/'Computo-Massimali'!F91,0)","v":0},{"$f":"SUM(F91:G91)","v":0},{"$f":"F91*'Dati Gen'!$J$20+G91*'Dati Gen'!$J$19","v":0},{"$f":"H91+I91","v":0},{"$f":"IF('Computo-Massimali'!F91<>0,'Computo-Massimali'!K91*F91/'Computo-Massimali'!F91,0)","v":0},{"$f":"SUM(J91:K91)","v":0},{"$f":"IF(L91<=R91,L91*E91,R91*E91)","v":0},{"$f":"IF('Computo-Massimali'!L91>0,L91/'Computo-Massimali'!L91,0)","v":0},{"$f":"IF(F91>0,IF(F91>'Computo-Massimali'!F91,\">Computo\",\"\"),\"\")","v":""},null,{"$f":"IF(C91<>\"\",C91,\"\")","v":"Bonus Facciata"},{"$f":"96000*N_Uimm","v":96000},{"$f":"IF(L91>R91,\"KO Tot.>Detr.\",\"ok\")","v":"ok"},null,{"$f":"IF(L91<R91,L91,R91)","v":0},null,{"$f":"IF(L91>R91,L91-R91,0)","v":0},null,{"$f":"IF(M91<>0,J91*M91/L91,0)","v":0},null,{"$f":"IF(M91<>0,K91*M91/L91,0)","v":0}]
[null,null,{"$f":"IF('Computo-Massimali'!C92<>\"\",'Computo-Massimali'!C92,\"\")","v":""},null,{"$f":"'Computo-Massimali'!E92","v":0},0,{"$f":"IF('Computo-Massimali'!F92<>0,'Computo-Massimali'!G92*F92/'Computo-Massimali'!F92,0)","v":0},{"$f":"SUM(F92:G92)","v":0},{"$f":"F92*'Dati Gen'!$J$20+G92*'Dati Gen'!$J$19","v":0},{"$f":"H92+I92","v":0},{"$f":"IF('Computo-Massimali'!F92<>0,'Computo-Massimali'!K92*F92/'Computo-Massimali'!F92,0)","v":0},{"$f":"SUM(J92:K92)","v":0},{"$f":"IF(L92<=R92,L92*E92,R92*E92)","v":0},{"$f":"IF('Computo-Massimali'!L92>0,L92/'Computo-Massimali'!L92,0)","v":0},{"$f":"IF(F92>0,IF(F92>'Computo-Massimali'!F92,\">Computo\",\"\"),\"\")","v":""},null,{"$f":"IF(C92<>\"\",C92,\"\")","v":""},{"$f":"96000*N_Uimm","v":96000},{"$f":"IF(L92>R92,\"KO Tot.>Detr.\",\"ok\")","v":"ok"},null,{"$f":"IF(L92<R92,L92,R92)","v":0},null,{"$f":"IF(L92>R92,L92-R92,0)","v":0},null,{"$f":"IF(M92<>0,J92*M92/L92,0)","v":0},null,{"$f":"IF(M92<>0,K92*M92/L92,0)","v":0}]
[null,null,"TotalI SAL N.1 - Altri Interventi  : ",null,null,{"$f":"SUM(F89:F92)","v":0},0,0,0,0,0,0,0,{"$f":"IF('Computo-Massimali'!L93>0,L93/'Computo-Massimali'!L93,0)","v":0},{"$f":"IF(F93>0,IF(F93>'Computo-Massimali'!F93,\">Computo\",\"\"),\"\")","v":""},null,null,{"$f":"C93","v":"TotalI SAL N.1 - Altri Interventi  : "},null,null,{"$f":"SUM(U89:V92)","v":0},null,{"$f":"SUM(W89:X92)","v":0},null,{"$f":"SUM(Y89:Z92)","v":0},null,{"$f":"SUM(AA89:AB92)","v":0}]
[]
[]
[null,null,"TOTALI SAL N.1",null,null,"Importo Lavori Eseguiti","Incidenza Sicurezza","Imponibile","Iva","Importo c.iva","Spese tecniche","Totale","Credito Spettante","%SAL",null,null,{"$f":"C96","v":"TOTALI SAL N.1"},null,null,null,"Spesa Ammessa",null,"Quota Eccedente Massimale Spesa ",null,"Credito Spettante                            Quota Impresa | Quota Tecnici"]
[null,null,null,null,null,{"$f":"F81+F93","v":0},{"$f":"G81+G93","v":0},0,0,0,0,0,{"$f":"M81+M93","v":0},{"$f":"IF('Computo-Massimali'!L100>0,L97/'Computo-Massimali'!L100,0)","v":0},{"$f":"IF(F97>0,IF(F97>'Computo-Massimali'!F100,\">Computo\",\"\"),\"\")","v":""},null,null,null,null,null,{"$f":"U81+U93","v":0},null,{"$f":"W81+W93","v":0},null,{"$f":"Y81+Y93","v":0},null,{"$f":"AA81+AA93","v":0}]
[]
[]
[null,null,{"$f":"IF(ABS(D5-G97)>0.01,\"Importo Effettivo Lavori Eseguiti\",\"\")","v":""},null,null,{"$f":"IF($C$100<>\"\",F97,\"\")","v":""},{"$f":"IF($C$100<>\"\",G97,\"\")","v":""},{"$f":"IF($C$100<>\"\",F100+G100,\"\")","v":""},{"$f":"IF($C$100<>\"\",H100*AliqIva,\"\")","v":""},{"$f":"IF($C$100<>\"\",H100+I100,\"\")","v":""},{"$f":"IF($C$100<>\"\",K97,\"\")","v":""},{"$f":"IF($C$100<>\"\",J100+K100,\"\")","v":""},{"$f":"IF($C$100<>\"\",L100*1.1,\"\")","v":""},{"$f":"IF($C$100<>\"\",L100/'Computo-Massimali'!L100,\"\")","v":""}]
[null,null,{"$f":"IF($C$100<>\"\",\"Oneri/Lavori Sicurezza non imputabili al SAL, per lavori non eseguiti\",\"\")","v":""},null,null,null,{"$f":"IF($C$101<>\"\",D5-G97,\"\")","v":""}]
[]
[]
[null,null,"Quota % effettiva per cessione credito a Banca o Impresa \"Interventi 110\"  ",null,null,null,null,{"$f":"'Computo-Massimali'!H104","v":0.90909090909090906},{"$f":"'Computo-Massimali'!I104","v":100},"Importo Ricevuto",{"$f":"Detraz30*H104","v":0},"Costo Cessione 110",{"$f":"SpesaAmmessa30-K104","v":0}]
[null,null,null,null,null,null,"Quota % effettiva per cessione credito a Banca o Impresa \"Altri Interventi\"  ",{"$f":"'Computo-Massimali'!H105","v":0.8},{"$f":"'Computo-Massimali'!I105","v":80},"Importo Ricevuto",{"$f":"M93*H105","v":0},"Costo Cessione Altri",{"$f":"M93-K105","v":0}]
[]
[null,null,null,null,null,null,null,null,null,null,null,"Quota Impresa","Quota Tecnici"]
[null,null,null,null,null,null,"Quota Eccedente Massimali Spesa \"Interventi 110\"  ",{"$f":"QuotaEcced30","v":0},"Credito Netto a seguito Cessione",null,{"$f":"SpesaAmmessa30-M104","v":0},{"$f":"IF(Detraz30<>0,QuotaImpresa30*K108/Detraz30,0)","v":0},{"$f":"IF(Detraz30<>0,QuotaTecnici30*K108/Detraz30,0)","v":0}]
[null,null,null,null,null,null,"Quota Eccedente Massimali Spesa \"Altri Interventi\" ",{"$f":"W93","v":0},"Credito Netto a seguito Cessione",null,{"$f":"M93-M105","v":0},{"$f":"IF(M93<>0,Y93*K109/M93,0)","v":0},{"$f":"IF(M93<>0,AA93*K109/M93,0)","v":0}]
[null,null,null,null,null,null,null,null,"Quota Cliente x Interventi 110",null,{"$f":"IF(Totale30-K108>0,Totale30-K108,0)","v":0},{"$f":"IF(Detraz30<>0,K110*QuotaImpresa30/Detraz30,0)","v":0},{"$f":"IF(Detraz30<>0,K110*QuotaTecnici30/Detraz30,0)","v":0}]
[null,null,null,null,null,null,null,null,"Quota Cliente x Altri Interventi",null,{"$f":"IF(L93-K109>0,L93-K109,0)","v":0},{"$f":"IF(M93<>0,K111*Y93/M93,0)","v":0},{"$f":"IF(M93<>0,K111*AA93/M93,0)","v":0}]
[null,null,null,null,null,null,null,null,"Quota Totale  a Carico Cliente",null,{"$f":"SUM(K110:K111)","v":0},{"$f":"SUM(L110:L111)","v":0},{"$f":"SUM(M110:M111)","v":0}]
[]
[]
[null,null,null,null,null,null,null,null,null,null,null,null,null,null,null,null,"Ripartizione Spese Tecniche SAL. N.1 - INTERVENTI 110",null,null,null,null,null,null,null,null,null,null,null,"Applica Sconto in Fattura"]
[null,null,null,null,null,null,null,null,null,null,null,null,null,null,null,null,"Lavoro","Tecnico","Onorario",null,"C.Cassa",null,"Imponibile",null,"IVA",null,"Totale",null,null,null,null,{"$f":"'Dati Gen'!B44","v":"Architetto1"},{"$f":"'Dati Gen'!B45","v":"Ingegnere2"},{"$f":"'Dati Gen'!B46","v":"Consulente1"},{"$f":"'Dati Gen'!B47","v":0},{"$f":"'Dati Gen'!B48","v":0},{"$f":"'Dati Gen'!B49","v":0},{"$f":"'Dati Gen'!B50","v":0},{"$f":"'Dati Gen'!B51","v":0}]
[null,null,null,null,null,null,null,null,null,null,null,null,null,null,null,null,{"$f":"IF('Dati Gen'!B25<>\"\",'Dati Gen'!B25,\"\")","v":"Redazione APE ante, Progettazione energetica"},{"$f":"IF('Dati Gen'!C25<>\"\",'Dati Gen'!C25,\"\")","v":"Architetto1"},{"$f":"W117/(1+U117)","v":0},null,{"$f":"'Dati Gen'!G25","v":0.04},{"$f":"S117*U117","v":0},{"$f":"AA117/(1+Y117)","v":0},null,{"$f":"'Dati Gen'!J25","v":0.22},{"$f":"Y117*(S117+V117)","v":0},{"$f":"IF('Dati Gen'!$M$36<>0,$AA$126*'Dati Gen'!M25/'Dati Gen'!$M$36,0)","v":0},null,{"$f":"IF(R117<>\"\",VLOOKUP(R117,'Dati Gen'!$B$44:$D$51,3,0),\"\")","v":"SI"},null,null,{"$f":"IF($R117=AF$116,$AA117,0)","v":0},{"$f":"IF($R117=AG$116,$AA117,0)","v":0},0,0,0,0,0,0]
[null,null,null,null,null,null,null,null,null,null,null,null,null,null,null,null,{"$f":"IF('Dati Gen'!B26<>\"\",'Dati Gen'!B26,\"\")","v":"Progettazione e DD.LL."},{"$f":"IF('Dati Gen'!C26<>\"\",'Dati Gen'!C26,\"\")","v":"Architetto1"},{"$f":"W118/(1+U118)","v":0},null,{"$f":"'Dati Gen'!G26","v":0.04},0,{"$f":"AA118/(1+Y118)","v":0},null,{"$f":"'Dati Gen'!J26","v":0.22},{"$f":"(S118+V118)*Y118","v":0},{"$f":"IF('Dati Gen'!$M$36<>0,$AA$126*'Dati Gen'!M26/'Dati Gen'!$M$36,0)","v":0},null,{"$f":"IF(R118<>\"\",VLOOKUP(R118,'Dati Gen'!$B$44:$D$51,3,0),\"\")","v":"SI"},null,null,{"$f":"IF($R118=AF$116,$AA118,0)","v":0},0,0,0,0,0,0,0]
[null,null,null,null,null,null,null,null,null,null,null,null,null,null,null,null,{"$f":"IF('Dati Gen'!B27<>\"\",'Dati Gen'!B27,\"\")","v":"Coordinamento sicurezza"},{"$f":"IF('Dati Gen'!C27<>\"\",'Dati Gen'!C27,\"\")","v":"Ingegnere2"},0,null,{"$f":"'Dati Gen'!G27","v":0.04},0,0,null,{"$f":"'Dati Gen'!J27","v":0.22},0,{"$f":"IF('Dati Gen'!$M$36<>0,$AA$126*'Dati Gen'!M27/'Dati Gen'!$M$36,0)","v":0},null,{"$f":"IF(R119<>\"\",VLOOKUP(R119,'Dati Gen'!$B$44:$D$51,3,0),\"\")","v":"NO"},null,null,0,0,0,0,0,0,0,0]
[null,null,null,null,null,null,null,null,null,null,null,null,null,null,null,null,{"$f":"IF('Dati Gen'!B28<>\"\",'Dati Gen'!B28,\"\")","v":"Redazione APE post"},{"$f":"IF('Dati Gen'!C28<>\"\",'Dati Gen'!C28,\"\")","v":"Architetto1"},0,null,{"$f":"'Dati Gen'!G28","v":0.04},0,0,null,{"$f":"'Dati Gen'!J28","v":0.22},0,{"$f":"IF('Dati Gen'!$M$36<>0,$AA$126*'Dati Gen'!M28/'Dati Gen'!$M$36,0)","v":0},null,{"$f":"IF(R120<>\"\",VLOOKUP(R120,'Dati Gen'!$B$44:$D$51,3,0),\"\")","v":"SI"},null,null,0,0,0,0,0,0,0,0]
[null,null,null,null,null,null,null,null,null,null,null,null,null,null,null,null,{"$f":"IF('Dati Gen'!B29<>\"\",'Dati Gen'!B29,\"\")","v":""},{"$f":"IF('Dati Gen'!C29<>\"\",'Dati Gen'!C29,\"\")","v":""},{"$f":"W121/(1+U121)","v":0},null,{"$f":"'Dati Gen'!G29","v":0.04},0,0,null,{"$f":"'Dati Gen'!J29","v":0.22},0,{"$f":"IF('Dati Gen'!$M$36<>0,$AA$126*'Dati Gen'!M29/'Dati Gen'!$M$36,0)","v":0},null,{"$f":"IF(R121<>\"\",VLOOKUP(R121,'Dati Gen'!$B$44:$D$51,3,0),\"\")","v":""},null,null,0,0,0,0,0,0,0,0]
[null,null,null,null,null,null,null,null,null,null,null,null,null,null,null,null,{"$f":"IF('Dati Gen'!B30<>\"\",'Dati Gen'!B30,\"\")","v":""},{"$f":"IF('Dati Gen'!C30<>\"\",'Dati Gen'!C30,\"\")","v":""},{"$f":"W122/(1+U122)","v":0},null,{"$f":"'Dati Gen'!G30","v":0.04},0,0,null,{"$f":"'Dati Gen'!J30","v":0.22},0,{"$f":"IF('Dati Gen'!$M$36<>0,$AA$126*'Dati Gen'!M30/'Dati Gen'!$M$36,0)","v":0},null,{"$f":"IF(R122<>\"\",VLOOKUP(R122,'Dati Gen'!$B$44:$D$51,3,0),\"\")","v":""},null,null,0,0,0,0,0,0,0,0]
[null,null,null,null,null,null,null,null,null,null,null,null,null,null,null,null,{"$f":"IF('Dati Gen'!B31<>\"\",'Dati Gen'!B31,\"\")","v":""},{"$f":"IF('Dati Gen'!C31<>\"\",'Dati Gen'!C31,\"\")","v":""},0,null,{"$f":"'Dati Gen'!G31","v":0.04},0,0,null,{"$f":"'Dati Gen'!J31","v":0.22},0,{"$f":"IF('Dati Gen'!$M$36<>0,$AA$126*'Dati Gen'!M31/'Dati Gen'!$M$36,0)","v":0},null,{"$f":"IF(R123<>\"\",VLOOKUP(R123,'Dati Gen'!$B$44:$D$51,3,0),\"\")","v":""},null,null,0,0,0,0,0,0,0,0]
[null,null,null,null,null,null,null,null,null,null,null,null,null,null,null,null,{"$f":"IF('Dati Gen'!B32<>\"\",'Dati Gen'!B32,\"\")","v":""},{"$f":"IF('Dati Gen'!C32<>\"\",'Dati Gen'!C32,\"\")","v":""},0,null,{"$f":"'Dati Gen'!G32","v":0.04},0,0,null,{"$f":"'Dati Gen'!J32","v":0.22},0,{"$f":"IF('Dati Gen'!$M$36<>0,$AA$126*'Dati Gen'!M32/'Dati Gen'!$M$36,0)","v":0},null,{"$f":"IF(R124<>\"\",VLOOKUP(R124,'Dati Gen'!$B$44:$D$51,3,0),\"\")","v":""},null,null,0,0,0,0,0,0,0,0]
[null,null,null,null,null,null,null,null,null,null,null,null,null,null,null,null,{"$f":"IF('Dati Gen'!B35<>\"\",'Dati Gen'!B35,\"\")","v":"Visto Conformità"},{"$f":"IF('Dati Gen'!C35<>\"\",'Dati Gen'!C35,\"\")","v":"Consulente1"},0,null,{"$f":"'Dati Gen'!G35","v":0.04},0,0,null,{"$f":"'Dati Gen'!J35","v":0.22},0,{"$f":"IF('Dati Gen'!$M$36<>0,$AA$126*'Dati Gen'!M35/'Dati Gen'!$M$36,0)","v":0},null,{"$f":"IF(R125<>\"\",VLOOKUP(R125,'Dati Gen'!$B$44:$D$51,3,0),\"\")","v":"NO"},null,null,0,0,0,0,0,0,0,0]
[null,null,null,null,null,null,null,null,null,null,null,null,null,null,null,null,null,null,{"$f":"SUM(S117:T125)","v":0},null,{"$f":"SUM(V117:V125)","v":0},null,{"$f":"SUM(W117:X125)","v":0},null,null,{"$f":"SUM(Z117:Z125)","v":0},{"$f":"SpeseTec30","v":0},null,null,null,null,{"$f":"SUM(AF117:AF125)","v":0},{"$f":"SUM(AG117:AG125)","v":0},0,0,0,0,0,0,{"$f":"SUM(AF126:AK126)","v":0}]
[null,null,null,null,null,null,null,null,null,null,null,null,null,null,null,null,null,null,null,null,null,null,null,null,null,null,null,null,null,null,null,{"$f":"IF($AN$126<>0,AF126/$AN$126,0)","v":0},0,0,0,0,0,{"$f":"IF($AO$126<>0,AL126/$AO$126,0)","v":0},{"$f":"IF($AO$126<>0,AM126/$AO$126,0)","v":0}]
[]
[null,null,null,null,null,null,null,null,null,null,null,null,null,null,null,null,"Ripartizione Spese Tecniche SAL. N.1 - ALTRI INTERVENTI",null,null,null,null,null,null,null,null,null,null,null,"Applica Sconto in Fattura"]
[null,null,null,null,null,null,null,null,null,null,null,null,null,null,null,null,"Lavoro","Tecnico","Onorario",null,"C.Cassa",null,"Imponibile",null,"IVA",null,"Totale",null,null,null,null,{"$f":"AF116","v":"Architetto1"},{"$f":"AG116","v":"Ingegnere2"},"Consulente1",0,0,0,0,0]
[null,null,null,null,null,null,null,null,null,null,null,null,null,null,null,null,{"$f":"IF('Dati Gen'!B25<>\"\",'Dati Gen'!B25,\"\")","v":"Redazione APE ante, Progettazione energetica"},{"$f":"IF('Dati Gen'!C25<>\"\",'Dati Gen'!C25,\"\")","v":"Architetto1"},{"$f":"W131/(1+U131)","v":0},null,{"$f":"'Dati Gen'!G25","v":0.04},{"$f":"S131*U131","v":0},{"$f":"AA131/(1+Y131)","v":0},null,{"$f":"'Dati Gen'!J25","v":0.22},{"$f":"Y131*(S131+V131)","v":0},{"$f":"IF('Dati Gen'!$M$36<>0,$AA$140*'Dati Gen'!M25/'Dati Gen'!$M$36,0)","v":0},null,{"$f":"IF(R131<>\"\",VLOOKUP(R131,'Dati Gen'!$B$44:$D$51,3,0),\"\")","v":"SI"},null,null,{"$f":"IF($R131=AF$116,$AA131,0)","v":0},{"$f":"IF($R131=AG$116,$AA131,0)","v":0},0,0,0,0,0,0]
[null,null,null,null,null,null,null,null,null,null,null,null,null,null,null,null,{"$f":"IF('Dati Gen'!B26<>\"\",'Dati Gen'!B26,\"\")","v":"Progettazione e DD.LL."},{"$f":"IF('Dati Gen'!C26<>\"\",'Dati Gen'!C26,\"\")","v":"Architetto1"},{"$f":"W132/(1+U132)","v":0},null,{"$f":"'Dati Gen'!G26","v":0.04},{"$f":"S132*U132","v":0},{"$f":"AA132/(1+Y132)","v":0},null,{"$f":"'Dati Gen'!J26","v":0.22},{"$f":"(S132+V132)*Y132","v":0},{"$f":"IF('Dati Gen'!$M$36<>0,$AA$140*'Dati Gen'!M26/'Dati Gen'!$M$36,0)","v":0},null,{"$f":"IF(R132<>\"\",VLOOKUP(R132,'Dati Gen'!$B$44:$D$51,3,0),\"\")","v":"SI"},null,null,{"$f":"IF($R132=AF$116,$AA132,0)","v":0},0,0,0,0,0,0,0]
[null,null,null,null,null,null,null,null,null,null,null,null,null,null,null,null,{"$f":"IF('Dati Gen'!B27<>\"\",'Dati Gen'!B27,\"\")","v":"Coordinamento sicurezza"},{"$f":"IF('Dati Gen'!C27<>\"\",'Dati Gen'!C27,\"\")","v":"Ingegnere2"},0,null,{"$f":"'Dati Gen'!G27","v":0.04},0,{"$f":"AA133/(1+Y133)","v":0},null,{"$f":"'Dati Gen'!J27","v":0.22},0,{"$f":"IF('Dati Gen'!$M$36<>0,$AA$140*'Dati Gen'!M27/'Dati Gen'!$M$36,0)","v":0},null,{"$f":"IF(R133<>\"\",VLOOKUP(R133,'Dati Gen'!$B$44:$D$51,3,0),\"\")","v":"NO"},null,null,0,0,0,0,0,0,0,0]
[null,null,null,null,null,null,null,null,null,null,null,null,null,null,null,null,{"$f":"IF('Dati Gen'!B28<>\"\",'Dati Gen'!B28,\"\")","v":"Redazione APE post"},{"$f":"IF('Dati Gen'!C28<>\"\",'Dati Gen'!C28,\"\")","v":"Architetto1"},0,null,{"$f":"'Dati Gen'!G28","v":0.04},0,0,null,{"$f":"'Dati Gen'!J28","v":0.22},0,{"$f":"IF('Dati Gen'!$M$36<>0,$AA$140*'Dati Gen'!M28/'Dati Gen'!$M$36,0)","v":0},null,{"$f":"IF(R134<>\"\",VLOOKUP(R134,'Dati Gen'!$B$44:$D$51,3,0),\"\")","v":"SI"},null,null,0,0,0,0,0,0,0,0]
[null,null,null,null,null,null,null,null,null,null,null,null,null,null,null,null,{"$f":"IF('Dati Gen'!B29<>\"\",'Dati Gen'!B29,\"\")","v":""},{"$f":"IF('Dati Gen'!C29<>\"\",'Dati Gen'!C29,\"\")","v":""},0,null,{"$f":"'Dati Gen'!G29","v":0.04},0,0,null,{"$f":"'Dati Gen'!J29","v":0.22},0,{"$f":"IF('Dati Gen'!$M$36<>0,$AA$140*'Dati Gen'!M29/'Dati Gen'!$M$36,0)","v":0},null,{"$f":"IF(R135<>\"\",VLOOKUP(R135,'Dati Gen'!$B$44:$D$51,3,0),\"\")","v":""},null,null,0,0,0,0,0,0,0,0]
[null,null,null,null,null,null,null,null,null,null,null,null,null,null,null,null,{"$f":"IF('Dati Gen'!B30<>\"\",'Dati Gen'!B30,\"\")","v":""},{"$f":"IF('Dati Gen'!C30<>\"\",'Dati Gen'!C30,\"\")","v":""},0,null,{"$f":"'Dati Gen'!G30","v":0.04},0,{"$f":"AA136/(1+Y136)","v":0},null,{"$f":"'Dati Gen'!J30","v":0.22},0,{"$f":"IF('Dati Gen'!$M$36<>0,$AA$140*'Dati Gen'!M30/'Dati Gen'!$M$36,0)","v":0},null,{"$f":"IF(R136<>\"\",VLOOKUP(R136,'Dati Gen'!$B$44:$D$51,3,0),\"\")","v":""},null,null,0,0,0,0,0,0,0,0]
[null,null,null,null,null,null,null,null,null,null,null,null,null,null,null,null,{"$f":"IF('Dati Gen'!B31<>\"\",'Dati Gen'!B31,\"\")","v":""},{"$f":"IF('Dati Gen'!C31<>\"\",'Dati Gen'!C31,\"\")","v":""},0,null,{"$f":"'Dati Gen'!G31","v":0.04},0,0,null,{"$f":"'Dati Gen'!J31","v":0.22},0,{"$f":"IF('Dati Gen'!$M$36<>0,$AA$140*'Dati Gen'!M31/'Dati Gen'!$M$36,0)","v":0},null,{"$f":"IF(R137<>\"\",VLOOKUP(R137,'Dati Gen'!$B$44:$D$51,3,0),\"\")","v":""},null,null,0,0,0,0,0,0,0,0]
[null,null,null,null,null,null,null,null,null,null,null,null,null,null,null,null,{"$f":"IF('Dati Gen'!B32<>\"\",'Dati Gen'!B32,\"\")","v":""},{"$f":"IF('Dati Gen'!C32<>\"\",'Dati Gen'!C32,\"\")","v":""},0,null,{"$f":"'Dati Gen'!G32","v":0.04},0,0,null,{"$f":"'Dati Gen'!J32","v":0.22},0,{"$f":"IF('Dati Gen'!$M$36<>0,$AA$140*'Dati Gen'!M32/'Dati Gen'!$M$36,0)","v":0},null,{"$f":"IF(R138<>\"\",VLOOKUP(R138,'Dati Gen'!$B$44:$D$51,3,0),\"\")","v":""},null,null,0,0,0,0,0,0,0,0]
[null,null,null,null,null,null,null,null,null,null,null,null,null,null,null,null,{"$f":"IF('Dati Gen'!B35<>\"\",'Dati Gen'!B35,\"\")","v":"Visto Conformità"},{"$f":"IF('Dati Gen'!C35<>\"\",'Dati Gen'!C35,\"\")","v":"Consulente1"},0,null,{"$f":"'Dati Gen'!G35","v":0.04},0,{"$f":"AA139/(1+Y139)","v":0},null,{"$f":"'Dati Gen'!J35","v":0.22},0,{"$f":"IF('Dati Gen'!$M$36<>0,$AA$140*'Dati Gen'!M35/'Dati Gen'!$M$36,0)","v":0},null,{"$f":"IF(R139<>\"\",VLOOKUP(R139,'Dati Gen'!$B$44:$D$51,3,0),\"\")","v":"NO"},null,null,0,0,0,0,0,0,0,0]
[null,null,null,null,null,null,null,null,null,null,null,null,null,null,null,null,null,null,{"$f":"SUM(S131:T139)","v":0},null,{"$f":"SUM(V131:V139)","v":0},null,{"$f":"SUM(W131:X139)","v":0},null,null,{"$f":"SUM(Z131:Z139)","v":0},{"$f":"K93","v":0},null,null,null,null,{"$f":"SUM(AF131:AF139)","v":0},0,0,0,0,0,0,0,{"$f":"SUM(AF140:AK140)","v":0}]
[null,null,null,null,null,null,null,null,null,null,null,null,null,null,null,null,null,null,null,null,null,null,null,null,null,null,null,null,null,null,null,{"$f":"IF($AN$140<>0,AF140/$AN$140,0)","v":0},0,0,0,0,0,{"$f":"IF($AO$140<>0,AL140/$AO$140,0)","v":0},{"$f":"IF($AO$140<>0,AM140/$AO$140,0)","v":0}]
[]
[]
[]
[]
[]
[]
[]
[]
[]
[]
[]
[]
[]
[]
[]
[]
[]
[]
[]
[]
[]
[]
[]
[]
[]
[]
[]
[]
[]
[]
[]
[]
[]
[]
[]
[]
[]
[]
[]
[]
[]
[]
[]
[]
[]
[]
[]
[]
[]
[]
[]
[]
[]
[]
[]
[]
[]
[]
[]
[]
[]
[]
[]
[]
[null,null,null,null,null,null,null,null,null,null,null,0]
[]
[]
[]
[]
[]
[]
[null,null,"Sconto applicato su quota di spettanza del Massimale di Spesa."]
[]
[]
[]
[]
[]
[]
[]
[]
[]
[]
[]
[]
[]
[]
[]
[]
[]
[]
[]
[]
[]
[]
[]
[]
[]
[]
[]
[]
[]
[]
[]
[]
[]
[]
[]
[]
[]
[]
[]
[]
[]
[]
[]
[]
[]
[]
[]
[]
[]
[]
[]
[null,null,null,null,null,null,null,null,null,null,null,null,"Pag.1/1"]

{"sheet":"SAL.60%","index":7,"n_rows":141,"n_cols":41,"rows_kept":141,"cut":false,"hidden":false,"merged":[[20,2,20,3],[21,2,21,3],[46,18,46,19],[44,18,44,19],[39,2,39,13],[43,2,43,3],[44,2,44,3],[52,20,52,21],[56,20,56,21],[53,2,53,3],[53,18,53,19],[55,2,55,3],[55,18,55,19],[34,20,34,21],[40,2,40,4],[41,2,41,3],[42,2,42,3],[42,20,42,21],[28,2,28,4],[29,2,29,4],[30,2,30,4],[35,2,35,4],[36,2,36,4],[45,2,45,4],[13,24,13,25],[18,20,18,21],[45,18,45,19],[36,17,36,19],[28,18,28,19],[29,18,29,19],[35,24,35,25],[24,24,24,25],[26,22,26,23],[26,24,26,25],[22,18,22,19],[23,18,23,19],[23,22,23,23],[23,24,23,25],[32,20,32,21],[33,20,33,21],[34,18,34,19],[32,18,32,19],[32,22,32,23],[26,20,26,21],[27,20,27,21],[42,18,42,19],[43,18,43,19],[28,24,28,25],[31,2,31,3],[31,18,31,19],[34,2,34,3],[36,26,36,27],[41,22,41,23],[36,24,36,25],[40,22,40,23],[39,16,39,27],[35,18,35,19],[35,22,35,23],[36,20,36,21],[40,20,40,21],[41,24,41,25],[40,18,40,19],[41,18,41,19],[41,26,41,27],[35,26,35,27],[11,22,11,23],[11,24,11,25],[11,26,11,27],[19,26,19,27],[14,22,14,23],[11,20,11,21],[19,20,19,21],[108,8,108,9],[22,2,22,3],[24,18,24,19],[25,18,25,19],[22,22,22,23],[32,2,32,3],[33,2,33,3],[33,18,33,19],[33,22,33,23],[30,20,30,21],[31,20,31,21],[28,20,28,21],[29,20,29,21],[36,22,36,23],[35,20,35,21],[28,22,28,23],[30,18,30,19],[21,26,21,27],[20,18,20,19],[15,20,15,21],[20,24,20,25],[20,26,20,27],[20,22,20,23],[19,22,19,23],[19,24,19,25],[21,22,21,23],[21,24,21,25],[15,17,15,19],[20,20,20,21],[21,20,21,21],[15,22,15,23],[15,24,15,25],[21,18,21,19],[19,18,19,19],[10,24,10,25],[10,26,10,27],[2,2,2,4],[3,2,3,4],[4,2,5,2],[4,3,5,4],[9,20,9,21],[10,20,10,21],[4,10,5,11],[4,12,5,12],[7,20,7,21],[3,17,3,18],[3,25,3,27],[11,2,11,3],[11,18,11,19],[8,20,8,21],[2,16,2,27],[7,2,7,4],[7,18,7,19],[7,22,7,23],[8,26,8,27],[9,22,9,23],[7,24,7,27],[8,2,8,3],[8,18,8,19],[1,13,5,14],[6,2,6,13],[6,16,6,27],[9,2,9,3],[9,18,9,19],[10,2,10,3],[10,18,10,19],[8,22,8,23],[8,24,8,25],[9,24,9,25],[9,26,9,27],[10,22,10,23],[17,2,17,13],[17,16,17,27],[18,2,18,4],[12,24,12,25],[14,18,14,19],[14,24,14,25],[14,26,14,27],[12,26,12,27],[13,26,13,27],[12,20,12,21],[13,20,13,21],[12,22,12,23],[14,20,14,21],[15,26,15,27],[18,18,18,19],[18,22,18,23],[18,24,18,27],[15,2,15,4],[12,2,12,4],[13,2,13,4],[14,2,14,4],[12,18,12,19],[13,18,13,19],[13,22,13,23],[19,2,19,3],[22,26,22,27],[22,20,22,21],[24,20,24,21],[24,22,24,23],[25,24,25,25],[26,18,26,19],[27,18,27,19],[26,26,26,27],[27,22,27,23],[27,26,27,27],[24,26,24,27],[23,26,23,27],[23,20,23,21],[25,20,25,21],[25,22,25,23],[22,24,22,25],[27,24,27,25],[23,2,23,4],[24,2,24,4],[25,2,25,4],[26,2,26,4],[27,2,27,4],[25,26,25,27],[28,26,28,27],[30,26,30,27],[29,22,29,23],[29,24,29,25],[29,26,29,27],[33,24,33,25],[34,26,34,27],[30,22,30,23],[34,22,34,23],[34,24,34,25],[31,22,31,23],[31,24,31,25],[31,26,31,27],[30,24,30,25],[32,24,32,25],[32,26,32,27],[33,26,33,27],[46,26,46,27],[45,26,45,27],[45,20,45,21],[46,20,46,21],[46,22,46,23],[46,24,46,25],[44,20,44,21],[44,24,44,25],[44,26,44,27],[45,22,45,23],[45,24,45,25],[42,22,42,23],[42,24,42,25],[40,24,40,27],[42,26,42,27],[44,22,44,23],[43,26,43,27],[41,20,41,21],[43,22,43,23],[43,24,43,25],[43,20,43,21],[49,26,49,27],[47,18,47,19],[48,18,48,19],[47,20,47,21],[48,20,48,21],[49,20,49,21],[47,22,47,23],[47,24,47,25],[47,26,47,27],[48,22,48,23],[48,24,48,25],[48,26,48,27],[49,18,49,19],[49,22,49,23],[49,24,49,25],[53,22,53,23],[53,24,53,25],[53,26,53,27],[53,20,53,21],[52,2,52,4],[54,2,54,3],[54,18,54,19],[54,22,54,23],[54,24,54,25],[54,26,54,27],[54,20,54,21],[52,18,52,19],[52,22,52,23],[52,24,52,25],[52,26,52,27],[57,26,57,27],[56,18,56,19],[56,22,56,23],[56,24,56,25],[79,16,80,19],[79,22,79,23],[58,24,58,25],[80,20,80,21],[79,20,79,21],[50,20,50,21],[51,18,51,19],[119,18,119,19],[119,22,119,23],[119,26,119,27],[100,2,100,5],[95,2,96,4],[91,22,91,23],[91,24,91,25],[91,26,91,27],[99,2,99,4],[91,18,91,19],[92,17,92,19],[92,20,92,21],[92,22,92,23],[92,24,92,25],[92,26,92,27],[95,16,96,19],[95,20,95,21],[92,2,92,4],[107,18,107,19],[107,20,107,21],[115,26,115,27],[116,22,116,23],[96,26,96,27],[91,20,91,21],[104,20,104,21],[103,18,103,19],[96,22,96,23],[96,24,96,25],[103,2,103,6],[106,8,106,10],[107,8,107,9],[104,18,104,19],[103,20,103,21],[95,22,95,23],[95,24,95,27],[96,20,96,21],[91,2,91,3],[90,2,90,3],[88,2,88,3],[87,2,87,3],[89,2,89,3],[90,18,90,19],[90,22,90,23],[90,24,90,25],[90,26,90,27],[90,20,90,21],[89,26,89,27],[89,20,89,21],[87,22,87,23],[88,20,88,21],[89,18,89,19],[55,22,55,23],[87,20,87,21],[82,2,82,13],[86,2,86,13],[87,18,87,19],[86,16,86,27],[87,24,87,27],[89,22,89,23],[89,24,89,25],[55,24,55,25],[55,26,55,27],[55,20,55,21],[56,26,56,27],[79,2,80,4],[79,24,79,27],[80,22,80,23],[80,24,80,25],[80,26,80,27],[57,2,57,4],[58,2,58,4],[57,18,57,19],[57,20,57,21],[57,22,57,23],[57,24,57,25],[139,18,139,19],[139,20,139,21],[139,22,139,23],[139,26,139,27],[120,22,120,23],[120,26,120,27],[121,18,121,19],[121,22,121,23],[121,26,121,27],[122,26,122,27],[123,18,123,19],[123,22,123,23],[123,26,123,27],[120,18,120,19],[128,16,128,27],[125,18,125,19],[125,20,125,21],[125,22,125,23],[125,26,125,27],[124,18,124,19],[124,22,124,23],[124,26,124,27],[122,18,122,19],[122,22,122,23],[128,28,129,28],[129,20,129,21],[129,24,129,25],[136,18,136,19],[136,22,136,23],[136,26,136,27],[137,18,137,19],[137,22,137,23],[137,26,137,27],[133,18,133,19],[133,22,133,23],[133,26,133,27],[134,18,134,19],[134,22,134,23],[134,26,134,27],[135,18,135,19],[135,22,135,23],[135,26,135,27],[130,18,130,19],[130,22,130,23],[129,18,129,19],[129,22,129,23],[129,26,129,27],[138,18,138,19],[138,22,138,23],[138,26,138,27],[130,26,130,27],[131,18,131,19],[131,22,131,23],[131,26,131,27],[132,18,132,19],[132,22,132,23],[132,26,132,27],[118,18,118,19],[118,22,118,23],[118,26,118,27],[115,18,115,19],[115,22,115,23],[110,8,110,9],[111,8,111,9],[109,8,109,9],[114,28,115,28],[115,20,115,21],[114,16,114,27],[117,22,117,23],[117,26,117,27],[116,18,116,19],[116,26,116,27],[117,18,117,19],[50,26,50,27],[46,2,46,4],[47,2,47,4],[48,2,48,4],[49,2,49,4],[50,2,50,4],[51,2,51,4],[77,2,77,3],[115,24,115,25],[50,18,50,19],[50,22,50,23],[50,24,50,25],[51,22,51,23],[51,24,51,25],[51,26,51,27],[51,20,51,21],[58,26,58,27],[58,20,58,21],[58,17,58,19],[58,22,58,23],[88,18,88,19],[88,22,88,23],[88,24,88,25],[88,26,88,27]]}
[null,null,null,null,null,null,null,null,null,null,null,null,null,null,null,{"$f":"MATCH(\"SimMZ\",C:C,0)","v":78}]
[null,null,{"$f":"CONCATENATE('Dati Gen'!K2, \" \",'Dati Gen'!K3,\" \",'Dati Gen'!L3)","v":"Pratica.110plus Vers.ne 4.3.1"},null,null,"DATI DI PROGETTO : ","IMPONIBILE","IVA","IMPORTO",null,"IMPONIBILE","IVA","IMPORTO",{"$f":"CONCATENATE('Dati Gen'!K2,\"   SIM.srl\")","v":"Pratica.110plus   SIM.srl"}]
[null,null,"STATO AVANZAMENTO LAVORI N.2",null,null,"Importo Lavori ",{"$f":"'Dati Gen'!G18","v":0},{"$f":"'Dati Gen'!K18","v":0},{"$f":"'Dati Gen'!M18","v":0},"Importo Netto",{"$f":"'Dati Gen'!G20","v":0},{"$f":"'Dati Gen'!K20","v":0},{"$f":"'Dati Gen'!M20","v":0},null,null,"*",{"$f":"IF('Computo-Massimali'!C6<>\"\",\"Attenzione! Tabella Computo-Massimali non completa. Si consiglia di completare, prima di registrare Voci di SAL\",\"\")","v":"Attenzione! Tabella Computo-Massimali non completa. Si consiglia di completare, prima di registrare Voci di SAL"}]
[null,null,"08/05/2022",null,null,"Oneri Sicurezza ",{"$f":"'Dati Gen'!G19","v":0},{"$f":"'Dati Gen'!K19","v":0},{"$f":"'Dati Gen'!M19","v":0},"Spese Tecniche",{"$f":"'Dati Gen'!G21","v":0},{"$f":"'Dati Gen'!K21","v":0},{"$f":"'Dati Gen'!M21","v":0},null,null,null,"Codice Identificativo Asseverazione ENEA",null,null,"Codice Identificativo Asseverazione Rischio Sismico"]
[null,null,"Oneri/Lavori x Sicurezza ",0,null,null,null,null,null,null,{"$f":"'Dati Gen'!G22","v":"Importo Complessivo Progetto : "},null,{"$f":"'Dati Gen'!M22","v":0}]
[]
[null,null,"INTERVENTI TRAINANTI",null,null,null,null,null,null,null,null,null,null,null,"..",null,{"$f":"CONCATENATE(\"Verifica Massimali di Spesa \",C7)","v":"Verifica Massimali di Spesa INTERVENTI TRAINANTI"}]
[null,null,"  Interventi",null,null,"Importo Lavori","Incidenza Sicurezza","Imponibile","Iva","Importo c.iva","Spese tecniche","Totale","Credito Spettante  110% Spesa Ammessa","%SAL",null,null,null,"Massimale  spesa","Verifica Max",null,"Spesa Ammessa",null,"Quota Eccedente Massimale Spesa ",null,"Credito Spettante                                110% Spesa Ammessa                              Quota Impresa        |    Quota Tecnici"]
[null,null,{"$f":"'Computo-Massimali'!C9","v":"PV) Isolamento pareti perimetrali"},null,{"$f":"'Computo-Massimali'!E9","v":"Interno"},0,{"$f":"IF('Computo-Massimali'!F9<>0,'Computo-Massimali'!G9*F9/'Computo-Massimali'!F9,0)","v":0},{"$f":"SUM(F9:G9)","v":0},{"$f":"F9*'Dati Gen'!$J$20+G9*'Dati Gen'!$J$19","v":0},{"$f":"H9+I9","v":0},{"$f":"IF('Computo-Massimali'!F9<>0,'Computo-Massimali'!K9*F9/'Computo-Massimali'!F9,0)","v":0},{"$f":"SUM(J9:K9)","v":0},{"$f":"IF(L9<=R9,L9*1.1,R9*1.1)","v":0},{"$f":"IF('Computo-Massimali'!L9>0,L9/'Computo-Massimali'!L9,0)","v":0},{"$f":"IF(F9>0,IF(F9-0.001>'Computo-Massimali'!F9,\">Computo\",IF(F9+0.001<'SAL.30%'!F10,\"< SAL.1\",\"\")),\"\")","v":""},null,{"$f":"C9","v":"PV) Isolamento pareti perimetrali"},{"$f":"'Computo-Massimali'!T9","v":0},{"$f":"IF(L9>M9,\"KO Tot.>Detr.\",IF(L9>R9,\"ko\",\"ok\"))","v":"ok"},null,{"$f":"IF($L$13<>0,(L9/$L$13)*$U$13,0)","v":0},null,{"$f":"IF(L9>R9,L9-R9,0)","v":0},null,{"$f":"IF(M9<>0,J9*M9/L9,0)","v":0},null,{"$f":"IF(M9<>0,K9*M9/L9,0)","v":0}]
[null,null,{"$f":"'Computo-Massimali'!C10","v":"PO) Isolamento coperture"},null,{"$f":"'Computo-Massimali'!E10","v":"Esterno"},0,{"$f":"IF('Computo-Massimali'!F10<>0,'Computo-Massimali'!G10*F10/'Computo-Massimali'!F10,0)","v":0},{"$f":"SUM(F10:G10)","v":0},{"$f":"F10*'Dati Gen'!$J$20+G10*'Dati Gen'!$J$19","v":0},{"$f":"H10+I10","v":0},{"$f":"IF('Computo-Massimali'!F10<>0,'Computo-Massimali'!K10*F10/'Computo-Massimali'!F10,0)","v":0},{"$f":"SUM(J10:K10)","v":0},0,{"$f":"IF('Computo-Massimali'!L10>0,L10/'Computo-Massimali'!L10,0)","v":0},{"$f":"IF(F10>0,IF(F10-0.001>'Computo-Massimali'!F10,\">Computo\",IF(F10+0.001<'SAL.30%'!F11,\"< SAL.1\",\"\")),\"\")","v":""},null,"PO) Isolamento coperture",{"$f":"'Computo-Massimali'!T10","v":0},"ok",null,{"$f":"IF($L$13<>0,(L10/$L$13)*$U$13,0)","v":0},null,0,null,0,null,0]
[null,null,{"$f":"'Computo-Massimali'!C11","v":"POND) Isol. coperture non disperdenti"},null,{"$f":"'Computo-Massimali'!E11","v":"Esterno"},0,{"$f":"IF('Computo-Massimali'!F11<>0,'Computo-Massimali'!G11*F11/'Computo-Massimali'!F11,0)","v":0},{"$f":"SUM(F11:G11)","v":0},{"$f":"F11*'Dati Gen'!$J$20+G11*'Dati Gen'!$J$19","v":0},{"$f":"H11+I11","v":0},{"$f":"IF('Computo-Massimali'!F11<>0,'Computo-Massimali'!K11*F11/'Computo-Massimali'!F11,0)","v":0},{"$f":"SUM(J11:K11)","v":0},0,{"$f":"IF('Computo-Massimali'!L11>0,L11/'Computo-Massimali'!L11,0)","v":0},{"$f":"IF(F11>0,IF(F11-0.001>'Computo-Massimali'!F11,\">Computo\",IF(F11+0.001<'SAL.30%'!F12,\"< SAL.1\",\"\")),\"\")","v":""},null,"POND) Isol. coperture non disperdenti",{"$f":"'Computo-Massimali'!T11","v":0},"ok",null,{"$f":"IF($L$13<>0,(L11/$L$13)*$U$13,0)","v":0},null,0,null,0,null,0]
[null,null,{"$f":"'Computo-Massimali'!C12","v":"PS) Isolamento Pavimenti"},null,{"$f":"'Computo-Massimali'!E12","v":"Interno/terreno"},0,{"$f":"IF('Computo-Massimali'!F12<>0,'Computo-Massimali'!G12*F12/'Computo-Massimali'!F12,0)","v":0},{"$f":"SUM(F12:G12)","v":0},{"$f":"F12*'Dati Gen'!$J$20+G12*'Dati Gen'!$J$19","v":0},{"$f":"H12+I12","v":0},{"$f":"IF('Computo-Massimali'!F12<>0,'Computo-Massimali'!K12*F12/'Computo-Massimali'!F12,0)","v":0},{"$f":"SUM(J12:K12)","v":0},0,{"$f":"IF('Computo-Massimali'!L12>0,L12/'Computo-Massimali'!L12,0)","v":0},{"$f":"IF(F12>0,IF(F12-0.001>'Computo-Massimali'!F12,\">Computo\",IF(F12+0.001<'SAL.30%'!F13,\"< SAL.1\",\"\")),\"\")","v":""},null,"PS) Isolamento Pavimenti",{"$f":"'Computo-Massimali'!T12","v":0},"ok",null,{"$f":"IF($L$13<>0,(L12/$L$13)*$U$13,0)","v":0},null,0,null,0,null,0]
[null,null,{"$f":"'Computo-Massimali'!C13","v":"Totali Isolamento PV) PO) POND) PS) "},null,null,{"$f":"SUM(F9:F12)","v":0},{"$f":"SUM(G9:G12)","v":0},{"$f":"SUM(H9:H12)","v":0},0,0,0,0,0,{"$f":"IF('Computo-Massimali'!L13>0,L13/'Computo-Massimali'!L13,0)","v":0},{"$f":"IF(F13>0,IF(F13-0.001>'Computo-Massimali'!F13,\">Computo\",IF(F13+0.001<'SAL.30%'!F14,\"< SAL.1\",\"\")),\"\")","v":""},null,"Totali Isolamento PV) PO) POND) PS) ",{"$f":"'Computo-Massimali'!T13","v":0},"ok",null,{"$f":"IF(L13<R13,L13,R13)","v":0},null,0,null,0,null,0]
[null,null,{"$f":"'Computo-Massimali'!C14","v":"Impianti climatizzazione e ACS "},null,null,0,{"$f":"IF('Computo-Massimali'!F14<>0,'Computo-Massimali'!G14*F14/'Computo-Massimali'!F14,0)","v":0},{"$f":"SUM(F14:G14)","v":0},{"$f":"F14*'Dati Gen'!$J$20+G14*'Dati Gen'!$J$19","v":0},{"$f":"H14+I14","v":0},{"$f":"IF('Computo-Massimali'!F14<>0,'Computo-Massimali'!K14*F14/'Computo-Massimali'!F14,0)","v":0},{"$f":"SUM(J14:K14)","v":0},0,{"$f":"IF('Computo-Massimali'!L14>0,L14/'Computo-Massimali'!L14,0)","v":0},{"$f":"IF(F14>0,IF(F14-0.001>'Computo-Massimali'!F14,\">Computo\",IF(F14+0.001<'SAL.30%'!F15,\"< SAL.1\",\"\")),\"\")","v":""},null,"Impianti climatizzazione e ACS ",{"$f":"'Computo-Massimali'!T14","v":0},"ok",null,{"$f":"IF(L14<R14,L14,R14)","v":0},null,0,null,0,null,0]
[null,null,{"$f":"'Computo-Massimali'!C15","v":"SismaBonus Zona 1,2 o 3"},null,null,0,{"$f":"IF('Computo-Massimali'!F15<>0,'Computo-Massimali'!G15*F15/'Computo-Massimali'!F15,0)","v":0},{"$f":"SUM(F15:G15)","v":0},{"$f":"F15*'Dati Gen'!$J$20+G15*'Dati Gen'!$J$19","v":0},{"$f":"H15+I15","v":0},{"$f":"IF('Computo-Massimali'!F15<>0,'Computo-Massimali'!K15*F15/'Computo-Massimali'!F15,0)","v":0},{"$f":"SUM(J15:K15)","v":0},0,{"$f":"IF('Computo-Massimali'!L15>0,L15/'Computo-Massimali'!L15,0)","v":0},{"$f":"IF(F15>0,IF(F15-0.001>'Computo-Massimali'!F15,\">Computo\",IF(F15+0.001<'SAL.30%'!F16,\"< SAL.1\",\"\")),\"\")","v":""},null,"SismaBonus Zona 1,2 o 3",{"$f":"'Computo-Massimali'!T15","v":0},"ok",null,{"$f":"IF(L15<R15,L15,R15)","v":0},null,0,null,0,null,0]
[null,null,{"$f":"'Computo-Massimali'!C16","v":"Totale interventi Trainanti  : "},null,null,{"$f":"SUM(F13:F15)","v":0},{"$f":"SUM(G13:G15)","v":0},0,0,0,0,0,{"$f":"SUM(M13:M15)","v":0},{"$f":"IF('Computo-Massimali'!L16>0,L16/'Computo-Massimali'!L16,0)","v":0},{"$f":"IF(F16>0,IF(F16-0.001>'Computo-Massimali'!F16,\">Computo\",IF(F16+0.001<'SAL.30%'!F17,\"< SAL.1\",\"\")),\"\")","v":""},null,null,{"$f":"C16","v":"Totale interventi Trainanti  : "},null,null,{"$f":"SUM(U13:V15)","v":0},null,{"$f":"SUM(W13:X15)","v":0},null,{"$f":"SUM(Y13:Z15)","v":0},null,{"$f":"SUM(AA13:AB15)","v":0}]
[]
[null,null,"INTERVENTI TRAINATI PARTI COMUNI CONDOMINIALI",null,null,null,null,null,null,null,null,null,null,null,"..",null,{"$f":"CONCATENATE(\"Verifica Massimali di Spesa \",C18)","v":"Verifica Massimali di Spesa INTERVENTI TRAINATI PARTI COMUNI CONDOMINIALI"}]
[null,null,"  Interventi",null,null,"Importo Lavori","Incidenza Sicurezza","Imponibile","Iva","Importo c.iva","Spese tecniche","Totale","Credito Spettante  110% Spesa Ammessa","%SAL",null,null,null,"Massimale  spesa","Verifica Max",null,"Spesa Ammessa",null,"Quota Eccedente Massimale Spesa ",null,"Credito Spettante                                110% Spesa Ammessa                              Quota Impresa        |    Quota Tecnici"]
[null,null,{"$f":"'Computo-Massimali'!C20","v":"PV) Isolamento pareti perimetrali"},null,{"$f":"'Computo-Massimali'!E20","v":"Interno"},0,{"$f":"IF('Computo-Massimali'!F20<>0,'Computo-Massimali'!G20*F20/'Computo-Massimali'!F20,0)","v":0},{"$f":"SUM(F20:G20)","v":0},{"$f":"F20*'Dati Gen'!$J$20+G20*'Dati Gen'!$J$19","v":0},{"$f":"H20+I20","v":0},{"$f":"IF('Computo-Massimali'!F20<>0,'Computo-Massimali'!K20*F20/'Computo-Massimali'!F20,0)","v":0},{"$f":"SUM(J20:K20)","v":0},{"$f":"IF(L20<=R20,L20*1.1,R20*1.1)","v":0},{"$f":"IF('Computo-Massimali'!L20>0,L20/'Computo-Massimali'!L20,0)","v":0},{"$f":"IF(F20>0,IF(F20-0.001>'Computo-Massimali'!F20,\">Computo\",IF(F20+0.001<'SAL.30%'!F21,\"< SAL.1\",\"\")),\"\")","v":""},null,{"$f":"C20","v":"PV) Isolamento pareti perimetrali"},{"$f":"'Computo-Massimali'!T20","v":0},{"$f":"IF(L20>M20,\"KO Tot.>Detr.\",IF(L20>R20,\"ko\",\"ok\"))","v":"ok"},null,{"$f":"IF($L$24<>0,(L20/$L$24)*$U$24,0)","v":0},null,{"$f":"IF(L20>R20,L20-R20,0)","v":0},null,{"$f":"IF(M20<>0,J20*M20/L20,0)","v":0},null,{"$f":"IF(M20<>0,K20*M20/L20,0)","v":0}]
[null,null,{"$f":"'Computo-Massimali'!C21","v":"PO) Isolamento coperture"},null,{"$f":"'Computo-Massimali'!E21","v":"Esterno"},0,{"$f":"IF('Computo-Massimali'!F21<>0,'Computo-Massimali'!G21*F21/'Computo-Massimali'!F21,0)","v":0},{"$f":"SUM(F21:G21)","v":0},{"$f":"F21*'Dati Gen'!$J$20+G21*'Dati Gen'!$J$19","v":0},{"$f":"H21+I21","v":0},{"$f":"IF('Computo-Massimali'!F21<>0,'Computo-Massimali'!K21*F21/'Computo-Massimali'!F21,0)","v":0},{"$f":"SUM(J21:K21)","v":0},{"$f":"IF(L21<=R21,L21*1.1,R21*1.1)","v":0},{"$f":"IF('Computo-Massimali'!L21>0,L21/'Computo-Massimali'!L21,0)","v":0},{"$f":"IF(F21>0,IF(F21-0.001>'Computo-Massimali'!F21,\">Computo\",IF(F21+0.001<'SAL.30%'!F22,\"< SAL.1\",\"\")),\"\")","v":""},null,"PO) Isolamento coperture",{"$f":"'Computo-Massimali'!T21","v":0},"ok",null,{"$f":"IF($L$24<>0,(L21/$L$24)*$U$24,0)","v":0},null,0,null,0,null,0]
[null,null,{"$f":"'Computo-Massimali'!C22","v":"PS) Isolamento Pavimenti"},null,{"$f":"'Computo-Massimali'!E22","v":"Interno/terreno"},0,{"$f":"IF('Computo-Massimali'!F22<>0,'Computo-Massimali'!G22*F22/'Computo-Massimali'!F22,0)","v":0},{"$f":"SUM(F22:G22)","v":0},{"$f":"F22*'Dati Gen'!$J$20+G22*'Dati Gen'!$J$19","v":0},{"$f":"H22+I22","v":0},{"$f":"IF('Computo-Massimali'!F22<>0,'Computo-Massimali'!K22*F22/'Computo-Massimali'!F22,0)","v":0},{"$f":"SUM(J22:K22)","v":0},{"$f":"IF(L22<=R22,L22*1.1,R22*1.1)","v":0},{"$f":"IF('Computo-Massimali'!L22>0,L22/'Computo-Massimali'!L22,0)","v":0},{"$f":"IF(F22>0,IF(F22-0.001>'Computo-Massimali'!F22,\">Computo\",IF(F22+0.001<'SAL.30%'!F23,\"< SAL.1\",\"\")),\"\")","v":""},null,"PS) Isolamento Pavimenti",{"$f":"'Computo-Massimali'!T22","v":0},"ok",null,{"$f":"IF($L$24<>0,(L22/$L$24)*$U$24,0)","v":0},null,0,null,0,null,0]
[null,null,{"$f":"'Computo-Massimali'!C23","v":"IN) Serramenti con chiusure oscuranti"},null,{"$f":"'Computo-Massimali'!E23","v":"Zone D, E ed F"},0,{"$f":"IF('Computo-Massimali'!F23<>0,'Computo-Massimali'!G23*F23/'Computo-Massimali'!F23,0)","v":0},{"$f":"SUM(F23:G23)","v":0},{"$f":"F23*'Dati Gen'!$J$20+G23*'Dati Gen'!$J$19","v":0},{"$f":"H23+I23","v":0},{"$f":"IF('Computo-Massimali'!F23<>0,'Computo-Massimali'!K23*F23/'Computo-Massimali'!F23,0)","v":0},{"$f":"SUM(J23:K23)","v":0},{"$f":"IF(L23<=R23,L23*1.1,R23*1.1)","v":0},{"$f":"IF('Computo-Massimali'!L23>0,L23/'Computo-Massimali'!L23,0)","v":0},{"$f":"IF(F23>0,IF(F23-0.001>'Computo-Massimali'!F23,\">Computo\",IF(F23+0.001<'SAL.30%'!F24,\"< SAL.1\",\"\")),\"\")","v":""},null,"IN) Serramenti con chiusure oscuranti",{"$f":"'Computo-Massimali'!T23","v":0},"ok",null,{"$f":"IF($L$24<>0,(L23/$L$24)*$U$24,0)","v":0},null,0,null,0,null,0]
[null,null,{"$f":"'Computo-Massimali'!C24","v":"Totali Isolamento PV) PO) PS) e IN)"},null,null,{"$f":"SUM(F20:F23)","v":0},{"$f":"SUM(G20:G23)","v":0},{"$f":"SUM(H20:H23)","v":0},0,0,{"$f":"SUM(K20:K23)","v":0},0,0,{"$f":"IF('Computo-Massimali'!L24>0,L24/'Computo-Massimali'!L24,0)","v":0},{"$f":"IF(F24>0,IF(F24-0.001>'Computo-Massimali'!F24,\">Computo\",IF(F24+0.001<'SAL.30%'!F25,\"< SAL.1\",\"\")),\"\")","v":""},null,"Totali Isolamento PV) PO) PS) e IN)",{"$f":"'Computo-Massimali'!T24","v":0},"ok",null,{"$f":"IF(L24<R24,L24,R24)","v":0},null,0,null,0,null,0]
[null,null,{"$f":"'Computo-Massimali'!C25","v":"SS) Schermature solari e chiusure oscuranti"},null,null,0,{"$f":"IF('Computo-Massimali'!F25<>0,'Computo-Massimali'!G25*F25/'Computo-Massimali'!F25,0)","v":0},{"$f":"SUM(F25:G25)","v":0},{"$f":"F25*'Dati Gen'!$J$20+G25*'Dati Gen'!$J$19","v":0},0,{"$f":"IF('Computo-Massimali'!F25<>0,'Computo-Massimali'!K25*F25/'Computo-Massimali'!F25,0)","v":0},{"$f":"SUM(J25:K25)","v":0},{"$f":"IF(L25<=R25,L25*1.1,R25*1.1)","v":0},{"$f":"IF('Computo-Massimali'!L25>0,L25/'Computo-Massimali'!L25,0)","v":0},{"$f":"IF(F25>0,IF(F25-0.001>'Computo-Massimali'!F25,\">Computo\",IF(F25+0.001<'SAL.30%'!F26,\"< SAL.1\",\"\")),\"\")","v":""},null,"SS) Schermature solari e chiusure oscuranti",{"$f":"'Computo-Massimali'!T25","v":0},"ok",null,{"$f":"IF(L25<R25,L25,R25)","v":0},null,0,null,0,null,0]
[null,null,{"$f":"'Computo-Massimali'!C26","v":"Impianti climatizzazione con "},null,null,0,{"$f":"IF('Computo-Massimali'!F26<>0,'Computo-Massimali'!G26*F26/'Computo-Massimali'!F26,0)","v":0},{"$f":"SUM(F26:G26)","v":0},{"$f":"F26*'Dati Gen'!$J$20+G26*'Dati Gen'!$J$19","v":0},0,{"$f":"IF('Computo-Massimali'!F26<>0,'Computo-Massimali'!K26*F26/'Computo-Massimali'!F26,0)","v":0},0,{"$f":"IF(L26<=R26,L26*1.1,R26*1.1)","v":0},{"$f":"IF('Computo-Massimali'!L26>0,L26/'Computo-Massimali'!L26,0)","v":0},{"$f":"IF(F26>0,IF(F26-0.001>'Computo-Massimali'!F26,\">Computo\",IF(F26+0.001<'SAL.30%'!F27,\"< SAL.1\",\"\")),\"\")","v":""},null,"Impianti climatizzazione con ",{"$f":"'Computo-Massimali'!T26","v":0},"ok",null,{"$f":"IF(L26<R26,L26,R26)","v":0},null,0,null,0,null,0]
[null,null,{"$f":"'Computo-Massimali'!C27","v":"GA) Generatori aria calda Condensazione"},null,null,0,{"$f":"IF('Computo-Massimali'!F27<>0,'Computo-Massimali'!G27*F27/'Computo-Massimali'!F27,0)","v":0},{"$f":"SUM(F27:G27)","v":0},{"$f":"F27*'Dati Gen'!$J$20+G27*'Dati Gen'!$J$19","v":0},0,{"$f":"IF('Computo-Massimali'!F27<>0,'Computo-Massimali'!K27*F27/'Computo-Massimali'!F27,0)","v":0},0,{"$f":"IF(L27<=R27,L27*1.1,R27*1.1)","v":0},{"$f":"IF('Computo-Massimali'!L27>0,L27/'Computo-Massimali'!L27,0)","v":0},{"$f":"IF(F27>0,IF(F27-0.001>'Computo-Massimali'!F27,\">Computo\",IF(F27+0.001<'SAL.30%'!F28,\"< SAL.1\",\"\")),\"\")","v":""},null,"GA) Generatori aria calda Condensazione",{"$f":"'Computo-Massimali'!T27","v":0},"ok",null,{"$f":"IF($L$30<>0,(L27/$L$30)*$U$30,0)","v":0},null,{"$f":"IF(L27>R27,L27-R27,0)","v":0},null,{"$f":"IF(M27<>0,J27*M27/L27,0)","v":0},null,{"$f":"IF(M27<>0,K27*M27/L27,0)","v":0}]
[null,null,{"$f":"'Computo-Massimali'!C28","v":"IB) Impianti Biomassa"},null,null,0,{"$f":"IF('Computo-Massimali'!F28<>0,'Computo-Massimali'!G28*F28/'Computo-Massimali'!F28,0)","v":0},{"$f":"SUM(F28:G28)","v":0},{"$f":"F28*'Dati Gen'!$J$20+G28*'Dati Gen'!$J$19","v":0},0,{"$f":"IF('Computo-Massimali'!F28<>0,'Computo-Massimali'!K28*F28/'Computo-Massimali'!F28,0)","v":0},0,{"$f":"IF(L28<=R28,L28*1.1,R28*1.1)","v":0},{"$f":"IF('Computo-Massimali'!L28>0,L28/'Computo-Massimali'!L28,0)","v":0},{"$f":"IF(F28>0,IF(F28-0.001>'Computo-Massimali'!F28,\">Computo\",IF(F28+0.001<'SAL.30%'!F29,\"< SAL.1\",\"\")),\"\")","v":""},null,"IB) Impianti Biomassa",{"$f":"'Computo-Massimali'!T28","v":0},"ok",null,{"$f":"IF($L$30<>0,(L28/$L$30)*$U$30,0)","v":0},null,0,null,0,null,0]
[null,null,{"$f":"'Computo-Massimali'!C29","v":"SA) Scaldacqua a pompa di calore"},null,null,0,{"$f":"IF('Computo-Massimali'!F29<>0,'Computo-Massimali'!G29*F29/'Computo-Massimali'!F29,0)","v":0},{"$f":"SUM(F29:G29)","v":0},{"$f":"F29*'Dati Gen'!$J$20+G29*'Dati Gen'!$J$19","v":0},0,{"$f":"IF('Computo-Massimali'!F29<>0,'Computo-Massimali'!K29*F29/'Computo-Massimali'!F29,0)","v":0},0,{"$f":"IF(L29<=R29,L29*1.1,R29*1.1)","v":0},{"$f":"IF('Computo-Massimali'!L29>0,L29/'Computo-Massimali'!L29,0)","v":0},{"$f":"IF(F29>0,IF(F29-0.001>'Computo-Massimali'!F29,\">Computo\",IF(F29+0.001<'SAL.30%'!F30,\"< SAL.1\",\"\")),\"\")","v":""},null,"SA) Scaldacqua a pompa di calore",{"$f":"'Computo-Massimali'!T29","v":0},"ok",null,{"$f":"IF($L$30<>0,(L29/$L$30)*$U$30,0)","v":0},null,0,null,0,null,0]
[null,null,{"$f":"'Computo-Massimali'!C30","v":"Totali GA)  IB)  SA)"},null,null,{"$f":"SUM(F27:F29)","v":0},{"$f":"SUM(G27:G29)","v":0},{"$f":"SUM(H27:H29)","v":0},0,0,{"$f":"SUM(K27:K29)","v":0},0,0,{"$f":"IF('Computo-Massimali'!L30>0,L30/'Computo-Massimali'!L30,0)","v":0},{"$f":"IF(F30>0,IF(F30-0.001>'Computo-Massimali'!F30,\">Computo\",IF(F30+0.001<'SAL.30%'!F31,\"< SAL.1\",\"\")),\"\")","v":""},null,"Totali GA)  IB)  SA)",{"$f":"'Computo-Massimali'!T30","v":0},"ok",null,{"$f":"IF(L30<R30,L30,R30)","v":0},null,0,null,0,null,0]
[null,null,{"$f":"'Computo-Massimali'!C31","v":"CO) Sistemi di Microgenerazione"},null,null,0,{"$f":"IF('Computo-Massimali'!F31<>0,'Computo-Massimali'!G31*F31/'Computo-Massimali'!F31,0)","v":0},{"$f":"SUM(F31:G31)","v":0},{"$f":"F31*'Dati Gen'!$J$20+G31*'Dati Gen'!$J$19","v":0},{"$f":"H31+I31","v":0},{"$f":"IF('Computo-Massimali'!F31<>0,'Computo-Massimali'!K31*F31/'Computo-Massimali'!F31,0)","v":0},{"$f":"SUM(J31:K31)","v":0},{"$f":"IF(L31<=R31,L31*1.1,R31*1.1)","v":0},{"$f":"IF('Computo-Massimali'!L31>0,L31/'Computo-Massimali'!L31,0)","v":0},{"$f":"IF(F31>0,IF(F31-0.001>'Computo-Massimali'!F31,\">Computo\",IF(F31+0.001<'SAL.30%'!F32,\"< SAL.1\",\"\")),\"\")","v":""},null,"CO) Sistemi di Microgenerazione",{"$f":"'Computo-Massimali'!T31","v":0},"ok",null,0,null,0,null,0,null,0]
[null,null,{"$f":"'Computo-Massimali'!C32","v":"ST) Collettori Solari"},null,{"$f":"'Computo-Massimali'!E32","v":"Piani Vetrati"},0,{"$f":"IF('Computo-Massimali'!F32<>0,'Computo-Massimali'!G32*F32/'Computo-Massimali'!F32,0)","v":0},0,{"$f":"F32*'Dati Gen'!$J$20+G32*'Dati Gen'!$J$19","v":0},{"$f":"H32+I32","v":0},{"$f":"IF('Computo-Massimali'!F32<>0,'Computo-Massimali'!K32*F32/'Computo-Massimali'!F32,0)","v":0},{"$f":"SUM(J32:K32)","v":0},0,{"$f":"IF('Computo-Massimali'!L32>0,L32/'Computo-Massimali'!L32,0)","v":0},{"$f":"IF(F32>0,IF(F32-0.001>'Computo-Massimali'!F32,\">Computo\",IF(F32+0.001<'SAL.30%'!F33,\"< SAL.1\",\"\")),\"\")","v":""},null,"ST) Collettori Solari",{"$f":"'Computo-Massimali'!T32","v":0},"ok",null,0,null,0,null,0,null,0]
[null,null,{"$f":"'Computo-Massimali'!C33","v":"FV) Solare Fotovoltaico [ kWp ]"},null,{"$f":"'Computo-Massimali'!E33","v":6},0,{"$f":"IF('Computo-Massimali'!F33<>0,'Computo-Massimali'!G33*F33/'Computo-Massimali'!F33,0)","v":0},0,{"$f":"F33*'Dati Gen'!$J$20+G33*'Dati Gen'!$J$19","v":0},{"$f":"H33+I33","v":0},{"$f":"IF('Computo-Massimali'!F33<>0,'Computo-Massimali'!K33*F33/'Computo-Massimali'!F33,0)","v":0},{"$f":"SUM(J33:K33)","v":0},0,{"$f":"IF('Computo-Massimali'!L33>0,L33/'Computo-Massimali'!L33,0)","v":0},{"$f":"IF(F33>0,IF(F33-0.001>'Computo-Massimali'!F33,\">Computo\",IF(F33+0.001<'SAL.30%'!F34,\"< SAL.1\",\"\")),\"\")","v":""},null,"FV) Solare Fotovoltaico [ kWp ]",{"$f":"'Computo-Massimali'!T33","v":0},"ok",null,0,null,0,null,0,null,0]
[null,null,{"$f":"'Computo-Massimali'!C34","v":"AC) Sistema di Accumulo [ kWh ]"},null,{"$f":"'Computo-Massimali'!E34","v":10},0,{"$f":"IF('Computo-Massimali'!F34<>0,'Computo-Massimali'!G34*F34/'Computo-Massimali'!F34,0)","v":0},0,{"$f":"F34*'Dati Gen'!$J$20+G34*'Dati Gen'!$J$19","v":0},{"$f":"H34+I34","v":0},{"$f":"IF('Computo-Massimali'!F34<>0,'Computo-Massimali'!K34*F34/'Computo-Massimali'!F34,0)","v":0},{"$f":"SUM(J34:K34)","v":0},0,{"$f":"IF('Computo-Massimali'!L34>0,L34/'Computo-Massimali'!L34,0)","v":0},{"$f":"IF(F34>0,IF(F34-0.001>'Computo-Massimali'!F34,\">Computo\",IF(F34+0.001<'SAL.30%'!F35,\"< SAL.1\",\"\")),\"\")","v":""},null,"AC) Sistema di Accumulo [ kWh ]",{"$f":"'Computo-Massimali'!T34","v":0},"ok",null,0,null,0,null,0,null,0]
[null,null,{"$f":"'Computo-Massimali'!C35","v":"CR) Colonnine di Ricarica  [ N. ]"},null,{"$f":"'Computo-Massimali'!E35","v":1},0,{"$f":"IF('Computo-Massimali'!F35<>0,'Computo-Massimali'!G35*F35/'Computo-Massimali'!F35,0)","v":0},0,{"$f":"F35*'Dati Gen'!$J$20+G35*'Dati Gen'!$J$19","v":0},0,{"$f":"IF('Computo-Massimali'!F35<>0,'Computo-Massimali'!K35*F35/'Computo-Massimali'!F35,0)","v":0},0,0,{"$f":"IF('Computo-Massimali'!L35>0,L35/'Computo-Massimali'!L35,0)","v":0},{"$f":"IF(F35>0,IF(F35-0.001>'Computo-Massimali'!F35,\">Computo\",IF(F35+0.001<'SAL.30%'!F36,\"< SAL.1\",\"\")),\"\")","v":""},null,"CR) Colonnine di Ricarica  [ N. ]",{"$f":"'Computo-Massimali'!T35","v":0},"ok",null,0,null,0,null,0,null,0]
[null,null,{"$f":"'Computo-Massimali'!C36","v":"EBA) Eliminazione Barriere architettoniche"},null,null,0,{"$f":"IF('Computo-Massimali'!F36<>0,'Computo-Massimali'!G36*F36/'Computo-Massimali'!F36,0)","v":0},0,{"$f":"F36*'Dati Gen'!$J$20+G36*'Dati Gen'!$J$19","v":0},0,{"$f":"IF('Computo-Massimali'!F36<>0,'Computo-Massimali'!K36*F36/'Computo-Massimali'!F36,0)","v":0},0,0,{"$f":"IF('Computo-Massimali'!L36>0,L36/'Computo-Massimali'!L36,0)","v":0},{"$f":"IF(F36>0,IF(F36-0.001>'Computo-Massimali'!F36,\">Computo\",IF(F36+0.001<'SAL.30%'!F37,\"< SAL.1\",\"\")),\"\")","v":""},null,"EBA) Eliminazione Barriere architettoniche",{"$f":"'Computo-Massimali'!T36","v":0},"ok",null,0,null,0,null,0,null,0]
[null,null,{"$f":"'Computo-Massimali'!C37","v":"Totale Interventi Trainati Parti Comuni : "},null,null,{"$f":"SUM(F24:F26)+SUM(F30:F36)","v":0},{"$f":"SUM(G24:G26)+SUM(G30:G36)","v":0},0,0,0,0,0,0,{"$f":"IF('Computo-Massimali'!L37>0,L37/'Computo-Massimali'!L37,0)","v":0},{"$f":"IF(F37>0,IF(F37-0.001>'Computo-Massimali'!F37,\">Computo\",IF(F37+0.001<'SAL.30%'!F38,\"< SAL.1\",\"\")),\"\")","v":""},null,null,{"$f":"C37","v":"Totale Interventi Trainati Parti Comuni : "},null,null,{"$f":"U24+U25+U26+SUM(U30:V36)","v":0},null,{"$f":"W24+W25+W26+SUM(W30:X36)","v":0},null,{"$f":"Y24+Y25+Y26+SUM(Y30:Z36)","v":0},null,{"$f":"AA24+AA25+AA26+SUM(AA30:AB36)","v":0}]
[]
[]
[null,null,"INTERVENTI TRAINATI",null,null,null,null,null,null,null,null,null,null,null,"..",null,{"$f":"CONCATENATE(\"Verifica Massimali di Spesa \",C40)","v":"Verifica Massimali di Spesa INTERVENTI TRAINATI"}]
[null,null,"  Interventi",null,null,"Importo Lavori","Incidenza Sicurezza","Imponibile","Iva","Importo c.iva","Spese tecniche","Totale","Credito Spettante  110% Spesa Ammessa","%SAL",null,null,null,"Massimale  spesa","Verifica Max",null,"Spesa Ammessa",null,"Quota Eccedente Massimale Spesa ",null,"Credito Spettante                                110% Spesa Ammessa                              Quota Impresa        |    Quota Tecnici"]
[null,null,{"$f":"'Computo-Massimali'!C42:D42","v":"PV) Isolamento pareti perimetrali"},null,{"$f":"'Computo-Massimali'!E42","v":"Esterno"},0,{"$f":"IF('Computo-Massimali'!F42<>0,'Computo-Massimali'!G42*F42/'Computo-Massimali'!F42,0)","v":0},{"$f":"SUM(F42:G42)","v":0},{"$f":"F42*'Dati Gen'!$J$20+G42*'Dati Gen'!$J$19","v":0},{"$f":"H42+I42","v":0},{"$f":"IF('Computo-Massimali'!F42<>0,'Computo-Massimali'!K42*F42/'Computo-Massimali'!F42,0)","v":0},{"$f":"SUM(J42:K42)","v":0},{"$f":"IF(L42<=R42,L42*1.1,R42*1.1)","v":0},{"$f":"IF('Computo-Massimali'!L42>0,L42/'Computo-Massimali'!L42,0)","v":0},{"$f":"IF(F42>0,IF(F42-0.001>'Computo-Massimali'!F42,\">Computo\",IF(F42+0.001<'SAL.30%'!F43,\"< SAL.1\",\"\")),\"\")","v":""},null,{"$f":"C42","v":"PV) Isolamento pareti perimetrali"},{"$f":"'Computo-Massimali'!T42","v":0},{"$f":"IF(L42>M42,\"KO Tot.>Detr.\",IF(L42>R42,\"ko\",\"ok\"))","v":"ok"},null,{"$f":"IF($L$46<>0,(L42/$L$46)*$U$46,0)","v":0},null,{"$f":"IF(L42>R42,L42-R42,0)","v":0},null,{"$f":"IF(M42<>0,J42*M42/L42,0)","v":0},null,{"$f":"IF(M42<>0,K42*M42/L42,0)","v":0}]
[null,null,{"$f":"'Computo-Massimali'!C43:D43","v":"PO) Isolamento coperture"},null,"Esterno",0,{"$f":"IF('Computo-Massimali'!F43<>0,'Computo-Massimali'!G43*F43/'Computo-Massimali'!F43,0)","v":0},{"$f":"SUM(F43:G43)","v":0},{"$f":"F43*'Dati Gen'!$J$20+G43*'Dati Gen'!$J$19","v":0},{"$f":"H43+I43","v":0},{"$f":"IF('Computo-Massimali'!F43<>0,'Computo-Massimali'!K43*F43/'Computo-Massimali'!F43,0)","v":0},{"$f":"SUM(J43:K43)","v":0},{"$f":"IF(L43<=R43,L43*1.1,R43*1.1)","v":0},{"$f":"IF('Computo-Massimali'!L43>0,L43/'Computo-Massimali'!L43,0)","v":0},{"$f":"IF(F43>0,IF(F43-0.001>'Computo-Massimali'!F43,\">Computo\",IF(F43+0.001<'SAL.30%'!F44,\"< SAL.1\",\"\")),\"\")","v":""},null,"PO) Isolamento coperture",{"$f":"'Computo-Massimali'!T43","v":0},"ok",null,{"$f":"IF($L$46<>0,(L43/$L$46)*$U$46,0)","v":0},null,0,null,0,null,0]
[null,null,{"$f":"'Computo-Massimali'!C44:D44","v":"PS) Isolamento Pavimenti"},null,"Esterno",0,{"$f":"IF('Computo-Massimali'!F44<>0,'Computo-Massimali'!G44*F44/'Computo-Massimali'!F44,0)","v":0},{"$f":"SUM(F44:G44)","v":0},{"$f":"F44*'Dati Gen'!$J$20+G44*'Dati Gen'!$J$19","v":0},{"$f":"H44+I44","v":0},{"$f":"IF('Computo-Massimali'!F44<>0,'Computo-Massimali'!K44*F44/'Computo-Massimali'!F44,0)","v":0},{"$f":"SUM(J44:K44)","v":0},{"$f":"IF(L44<=R44,L44*1.1,R44*1.1)","v":0},{"$f":"IF('Computo-Massimali'!L44>0,L44/'Computo-Massimali'!L44,0)","v":0},{"$f":"IF(F44>0,IF(F44-0.001>'Computo-Massimali'!F44,\">Computo\",IF(F44+0.001<'SAL.30%'!F45,\"< SAL.1\",\"\")),\"\")","v":""},null,"PS) Isolamento Pavimenti",{"$f":"'Computo-Massimali'!T44","v":0},"ok",null,{"$f":"IF($L$46<>0,(L44/$L$46)*$U$46,0)","v":0},null,0,null,0,null,0]
[null,null,{"$f":"'Computo-Massimali'!C45:D45","v":"IN) Serramenti con chiusure oscuranti"},null,"Zone D, E ed F",0,{"$f":"IF('Computo-Massimali'!F45<>0,'Computo-Massimali'!G45*F45/'Computo-Massimali'!F45,0)","v":0},{"$f":"SUM(F45:G45)","v":0},{"$f":"F45*'Dati Gen'!$J$20+G45*'Dati Gen'!$J$19","v":0},{"$f":"H45+I45","v":0},{"$f":"IF('Computo-Massimali'!F45<>0,'Computo-Massimali'!K45*F45/'Computo-Massimali'!F45,0)","v":0},{"$f":"SUM(J45:K45)","v":0},{"$f":"IF(L45<=R45,L45*1.1,R45*1.1)","v":0},{"$f":"IF('Computo-Massimali'!L45>0,L45/'Computo-Massimali'!L45,0)","v":0},{"$f":"IF(F45>0,IF(F45-0.001>'Computo-Massimali'!F45,\">Computo\",IF(F45+0.001<'SAL.30%'!F46,\"< SAL.1\",\"\")),\"\")","v":""},null,"IN) Serramenti con chiusure oscuranti",{"$f":"'Computo-Massimali'!T45","v":0},"ok",null,{"$f":"IF($L$46<>0,(L45/$L$46)*$U$46,0)","v":0},null,0,null,0,null,0]
[null,null,{"$f":"'Computo-Massimali'!C46:D46","v":"Totali Isolamento PV) PO) PS) e IN"},null,null,{"$f":"SUM(F42:F45)","v":0},{"$f":"SUM(G42:G45)","v":0},0,0,0,{"$f":"SUM(K42:K45)","v":0},0,0,{"$f":"IF('Computo-Massimali'!L46>0,L46/'Computo-Massimali'!L46,0)","v":0},{"$f":"IF(F46>0,IF(F46-0.001>'Computo-Massimali'!F46,\">Computo\",IF(F46+0.001<'SAL.30%'!F47,\"< SAL.1\",\"\")),\"\")","v":""},null,"Totali Isolamento PV) PO) PS) e IN",{"$f":"'Computo-Massimali'!T46","v":0},"ok",null,{"$f":"IF(L46<R46,L46,R46)","v":0},null,0,null,0,null,0]
[null,null,{"$f":"'Computo-Massimali'!C47:D47","v":"SS) Schermature solari e chiusure oscuranti"},null,null,0,{"$f":"IF('Computo-Massimali'!F47<>0,'Computo-Massimali'!G47*F47/'Computo-Massimali'!F47,0)","v":0},{"$f":"SUM(F47:G47)","v":0},{"$f":"F47*'Dati Gen'!$J$20+G47*'Dati Gen'!$J$19","v":0},{"$f":"H47+I47","v":0},{"$f":"IF('Computo-Massimali'!F47<>0,'Computo-Massimali'!K47*F47/'Computo-Massimali'!F47,0)","v":0},{"$f":"SUM(J47:K47)","v":0},{"$f":"IF(L47<=R47,L47*1.1,R47*1.1)","v":0},{"$f":"IF('Computo-Massimali'!L47>0,L47/'Computo-Massimali'!L47,0)","v":0},{"$f":"IF(F47>0,IF(F47-0.001>'Computo-Massimali'!F47,\">Computo\",IF(F47+0.001<'SAL.30%'!F48,\"< SAL.1\",\"\")),\"\")","v":""},null,"SS) Schermature solari e chiusure oscuranti",{"$f":"'Computo-Massimali'!T47","v":0},"ok",null,{"$f":"IF(L47<R47,L47,R47)","v":0},null,0,null,0,null,0]
[null,null,{"$f":"'Computo-Massimali'!C48:D48","v":"Impianti climatizzazione con "},null,null,0,{"$f":"IF('Computo-Massimali'!F48<>0,'Computo-Massimali'!G48*F48/'Computo-Massimali'!F48,0)","v":0},{"$f":"SUM(F48:G48)","v":0},{"$f":"F48*'Dati Gen'!$J$20+G48*'Dati Gen'!$J$19","v":0},{"$f":"H48+I48","v":0},{"$f":"IF('Computo-Massimali'!F48<>0,'Computo-Massimali'!K48*F48/'Computo-Massimali'!F48,0)","v":0},{"$f":"SUM(J48:K48)","v":0},{"$f":"IF(L48<=R48,L48*1.1,R48*1.1)","v":0},{"$f":"IF('Computo-Massimali'!L48>0,L48/'Computo-Massimali'!L48,0)","v":0},{"$f":"IF(F48>0,IF(F48-0.001>'Computo-Massimali'!F48,\">Computo\",IF(F48+0.001<'SAL.30%'!F49,\"< SAL.1\",\"\")),\"\")","v":""},null,"Impianti climatizzazione con ",{"$f":"'Computo-Massimali'!T48","v":0},"ok",null,{"$f":"IF($L$50<>0,(L48/$L$50)*$U$50,0)","v":0},null,{"$f":"IF(L48>R48,L48-R48,0)","v":0},null,{"$f":"IF(M48<>0,J48*M48/L48,0)","v":0},null,{"$f":"IF(M48<>0,K48*M48/L48,0)","v":0}]
[null,null,{"$f":"'Computo-Massimali'!C49:D49","v":"SA) Scaldacqua a pompa di calore"},null,null,0,{"$f":"IF('Computo-Massimali'!F49<>0,'Computo-Massimali'!G49*F49/'Computo-Massimali'!F49,0)","v":0},{"$f":"SUM(F49:G49)","v":0},{"$f":"F49*'Dati Gen'!$J$20+G49*'Dati Gen'!$J$19","v":0},{"$f":"H49+I49","v":0},{"$f":"IF('Computo-Massimali'!F49<>0,'Computo-Massimali'!K49*F49/'Computo-Massimali'!F49,0)","v":0},{"$f":"SUM(J49:K49)","v":0},{"$f":"IF(L49<=R49,L49*1.1,R49*1.1)","v":0},{"$f":"IF('Computo-Massimali'!L49>0,L49/'Computo-Massimali'!L49,0)","v":0},{"$f":"IF(F49>0,IF(F49-0.001>'Computo-Massimali'!F49,\">Computo\",IF(F49+0.001<'SAL.30%'!#REF!,\"< SAL.1\",\"\")),\"\")","v":""},null,"SA) Scaldacqua a pompa di calore",{"$f":"'Computo-Massimali'!T49","v":0},"ok",null,{"$f":"IF($L$50<>0,(L49/$L$50)*$U$50,0)","v":0},null,0,null,0,null,0]
[null,null,{"$f":"'Computo-Massimali'!C50:D50","v":"Totali Impianti ed  SA)"},null,null,{"$f":"SUM(F48:F49)","v":0},{"$f":"SUM(G48:G49)","v":0},0,0,0,{"$f":"SUM(K48:K49)","v":0},0,0,{"$f":"IF('Computo-Massimali'!L50>0,L50/'Computo-Massimali'!L50,0)","v":0},{"$f":"IF(F50>0,IF(F50-0.001>'Computo-Massimali'!F50,\">Computo\",IF(F50+0.001<'SAL.30%'!F50,\"< SAL.1\",\"\")),\"\")","v":""},null,"Totali Impianti ed  SA)",{"$f":"'Computo-Massimali'!T50","v":0},"ok",null,{"$f":"IF(L50<R50,L50,R50)","v":0},null,0,null,0,null,0]
[null,null,{"$f":"'Computo-Massimali'!C51:D51","v":"CO) Sistemi di Microgenerazione"},null,null,0,{"$f":"IF('Computo-Massimali'!F51<>0,'Computo-Massimali'!G51*F51/'Computo-Massimali'!F51,0)","v":0},{"$f":"SUM(F51:G51)","v":0},{"$f":"F51*'Dati Gen'!$J$20+G51*'Dati Gen'!$J$19","v":0},{"$f":"H51+I51","v":0},{"$f":"IF('Computo-Massimali'!F51<>0,'Computo-Massimali'!K51*F51/'Computo-Massimali'!F51,0)","v":0},{"$f":"SUM(J51:K51)","v":0},{"$f":"IF(L51<=R51,L51*1.1,R51*1.1)","v":0},{"$f":"IF('Computo-Massimali'!L51>0,L51/'Computo-Massimali'!L51,0)","v":0},{"$f":"IF(F51>0,IF(F51-0.001>'Computo-Massimali'!F51,\">Computo\",IF(F51+0.001<'SAL.30%'!F51,\"< SAL.1\",\"\")),\"\")","v":""},null,"CO) Sistemi di Microgenerazione",{"$f":"'Computo-Massimali'!T51","v":0},"ok",null,0,null,0,null,0,null,0]
[null,null,{"$f":"'Computo-Massimali'!C52:D52","v":"IB) Generatori a Biomassa"},null,null,0,{"$f":"IF('Computo-Massimali'!F52<>0,'Computo-Massimali'!G52*F52/'Computo-Massimali'!F52,0)","v":0},0,{"$f":"F52*'Dati Gen'!$J$20+G52*'Dati Gen'!$J$19","v":0},0,{"$f":"IF('Computo-Massimali'!F52<>0,'Computo-Massimali'!K52*F52/'Computo-Massimali'!F52,0)","v":0},0,0,{"$f":"IF('Computo-Massimali'!L52>0,L52/'Computo-Massimali'!L52,0)","v":0},{"$f":"IF(F52>0,IF(F52-0.001>'Computo-Massimali'!F52,\">Computo\",IF(F52+0.001<'SAL.30%'!F52,\"< SAL.1\",\"\")),\"\")","v":""},null,"IB) Generatori a Biomassa",{"$f":"'Computo-Massimali'!T52","v":0},"ok",null,0,null,0,null,0,null,0]
[null,null,{"$f":"'Computo-Massimali'!C53:D53","v":"BA) Building Automation"},null,null,0,{"$f":"IF('Computo-Massimali'!F53<>0,'Computo-Massimali'!G53*F53/'Computo-Massimali'!F53,0)","v":0},0,{"$f":"F53*'Dati Gen'!$J$20+G53*'Dati Gen'!$J$19","v":0},0,{"$f":"IF('Computo-Massimali'!F53<>0,'Computo-Massimali'!K53*F53/'Computo-Massimali'!F53,0)","v":0},0,0,{"$f":"IF('Computo-Massimali'!L53>0,L53/'Computo-Massimali'!L53,0)","v":0},{"$f":"IF(F53>0,IF(F53-0.001>'Computo-Massimali'!F53,\">Computo\",IF(F53+0.001<'SAL.30%'!F53,\"< SAL.1\",\"\")),\"\")","v":""},null,"BA) Building Automation",{"$f":"'Computo-Massimali'!T53","v":0},"ok",null,0,null,0,null,0,null,0]
[null,null,{"$f":"'Computo-Massimali'!C54:D54","v":"ST) Collettori Solari"},null,{"$f":"'Computo-Massimali'!E54","v":"Piani Vetrati"},0,{"$f":"IF('Computo-Massimali'!F54<>0,'Computo-Massimali'!G54*F54/'Computo-Massimali'!F54,0)","v":0},0,{"$f":"F54*'Dati Gen'!$J$20+G54*'Dati Gen'!$J$19","v":0},0,{"$f":"IF('Computo-Massimali'!F54<>0,'Computo-Massimali'!K54*F54/'Computo-Massimali'!F54,0)","v":0},0,0,{"$f":"IF('Computo-Massimali'!L54>0,L54/'Computo-Massimali'!L54,0)","v":0},{"$f":"IF(F54>0,IF(F54-0.001>'Computo-Massimali'!F54,\">Computo\",IF(F54+0.001<'SAL.30%'!#REF!,\"< SAL.1\",\"\")),\"\")","v":""},null,"ST) Collettori Solari",{"$f":"'Computo-Massimali'!T54","v":0},"ok",null,0,null,0,null,0,null,0]
[null,null,{"$f":"'Computo-Massimali'!C55:D55","v":"FV) Solare Fotovoltaico [ kWp ]"},null,{"$f":"'Computo-Massimali'!E55","v":6},0,{"$f":"IF('Computo-Massimali'!F55<>0,'Computo-Massimali'!G55*F55/'Computo-Massimali'!F55,0)","v":0},0,{"$f":"F55*'Dati Gen'!$J$20+G55*'Dati Gen'!$J$19","v":0},0,{"$f":"IF('Computo-Massimali'!F55<>0,'Computo-Massimali'!K55*F55/'Computo-Massimali'!F55,0)","v":0},0,0,{"$f":"IF('Computo-Massimali'!L55>0,L55/'Computo-Massimali'!L55,0)","v":0},{"$f":"IF(F55>0,IF(F55-0.001>'Computo-Massimali'!F55,\">Computo\",IF(F55+0.001<'SAL.30%'!F54,\"< SAL.1\",\"\")),\"\")","v":""},null,"FV) Solare Fotovoltaico [ kWp ]",{"$f":"'Computo-Massimali'!T55","v":0},"ok",null,0,null,0,null,0,null,0]
[null,null,{"$f":"'Computo-Massimali'!C56:D56","v":"AC) Sistema di Accumulo [ kWh ]"},null,{"$f":"'Computo-Massimali'!E56","v":10},0,{"$f":"IF('Computo-Massimali'!F56<>0,'Computo-Massimali'!G56*F56/'Computo-Massimali'!F56,0)","v":0},0,{"$f":"F56*'Dati Gen'!$J$20+G56*'Dati Gen'!$J$19","v":0},0,{"$f":"IF('Computo-Massimali'!F56<>0,'Computo-Massimali'!K56*F56/'Computo-Massimali'!F56,0)","v":0},0,0,{"$f":"IF('Computo-Massimali'!L56>0,L56/'Computo-Massimali'!L56,0)","v":0},{"$f":"IF(F56>0,IF(F56-0.001>'Computo-Massimali'!F56,\">Computo\",IF(F56+0.001<'SAL.30%'!F55,\"< SAL.1\",\"\")),\"\")","v":""},null,"AC) Sistema di Accumulo [ kWh ]",{"$f":"'Computo-Massimali'!T56","v":0},"ok",null,0,null,0,null,0,null,0]
[null,null,{"$f":"'Computo-Massimali'!C57:D57","v":"CR) Colonnine di Ricarica"},null,{"$f":"'Computo-Massimali'!E57","v":1},0,{"$f":"IF('Computo-Massimali'!F57<>0,'Computo-Massimali'!G57*F57/'Computo-Massimali'!F57,0)","v":0},0,{"$f":"F57*'Dati Gen'!$J$20+G57*'Dati Gen'!$J$19","v":0},0,{"$f":"IF('Computo-Massimali'!F57<>0,'Computo-Massimali'!K57*F57/'Computo-Massimali'!F57,0)","v":0},0,0,{"$f":"IF('Computo-Massimali'!L57>0,L57/'Computo-Massimali'!L57,0)","v":0},{"$f":"IF(F57>0,IF(F57-0.001>'Computo-Massimali'!F57,\">Computo\",IF(F57+0.001<'SAL.30%'!F56,\"< SAL.1\",\"\")),\"\")","v":""},null,"CR) Colonnine di Ricarica",{"$f":"'Computo-Massimali'!T57","v":0},"ok",null,0,null,0,null,0,null,0]
[null,null,"EBA) Eliminazione Barriere architettoniche",null,null,0,{"$f":"IF('Computo-Massimali'!F58<>0,'Computo-Massimali'!G58*F58/'Computo-Massimali'!F58,0)","v":0},{"$f":"SUM(F58:G58)","v":0},{"$f":"F58*'Dati Gen'!$J$20+G58*'Dati Gen'!$J$19","v":0},{"$f":"H58+I58","v":0},{"$f":"IF('Computo-Massimali'!F58<>0,'Computo-Massimali'!K58*F58/'Computo-Massimali'!F58,0)","v":0},0,0,{"$f":"IF('Computo-Massimali'!L58>0,L58/'Computo-Massimali'!L58,0)","v":0},{"$f":"IF(F58>0,IF(F58-0.001>'Computo-Massimali'!F58,\">Computo\",IF(F58+0.001<'SAL.30%'!F57,\"< SAL.1\",\"\")),\"\")","v":""},null,"EBA) Eliminazione Barriere architettoniche",{"$f":"'Computo-Massimali'!T58","v":0},"ok",null,0,null,0,null,0,null,0]
[null,null,"Totale Interventi trainati",null,null,{"$f":"F46+F47+SUM(F50:F58)","v":0},{"$f":"G46+G47+SUM(G50:G58)","v":0},0,0,0,0,0,0,{"$f":"IF('Computo-Massimali'!L59>0,L59/'Computo-Massimali'!L59,0)","v":0},{"$f":"IF(F59>0,IF(F59-0.001>'Computo-Massimali'!F59,\">Computo\",IF(F59+0.001<'SAL.30%'!F58,\"< SAL.1\",\"\")),\"\")","v":""},null,null,{"$f":"C59","v":"Totale Interventi trainati"},null,null,{"$f":"U46+U47+SUM(U50:V58)","v":0},null,{"$f":"W46+W47+SUM(W50:X58)","v":0},null,{"$f":"Y46+Y47+SUM(Y50:Z58)","v":0},null,{"$f":"AA46+AA47+SUM(AA50:AB58)","v":0}]
[]
[]
[]
[]
[]
[]
[]
[]
[]
[]
[]
[]
[]
[]
[]
[]
[]
[]
[null,null,"SimMZ"]
[]
[null,null,"TOTALI SAL N.2 - INTERVENTI 110 ",null,null,"Importo Lavori","Incidenza Sicurezza","Imponibile","Iva","Importo c.iva","Spese tecniche","Totale","Credito Spettante  110% Spesa Ammessa","%SAL",null,null,{"$f":"C80","v":"TOTALI SAL N.2 - INTERVENTI 110 "},null,null,null,"Spesa Ammessa",null,"Quota Eccedente Massimale Spesa ",null,"Credito Spettante                                110% Spesa Ammessa                                       Quota Impresa        |      Quota Tecnici"]
[null,null,null,null,null,{"$f":"F16+F59","v":0},0,0,0,0,0,0,0,{"$f":"IF('Computo-Massimali'!L81>0,L81/'Computo-Massimali'!L81,0)","v":0},{"$f":"IF(F81>0,IF(F81>'Computo-Massimali'!F81,\">Computo\",IF(F81<'SAL.30%'!F81,\"< SAL.1\",\"\")),\"\")","v":""},null,null,null,null,null,{"$f":"U16+U59","v":0},null,{"$f":"W16+W59","v":0},null,{"$f":"Y16+Y59","v":0},null,{"$f":"AA16+AA59","v":0}]
[]
[null,null,{"$f":"IF(N81>=59.999%,\"\",\"Attenzione!    SAL Superbonus 110 inferiore 60%\")","v":"Attenzione!    SAL Superbonus 110 inferiore 60%"}]
[]
[]
[]
[null,null,"ALTRI INTERVENTI",null,null,null,null,null,null,null,null,null,null,null,null,null,{"$f":"CONCATENATE(\"Verifica Massimali di Spesa \",C87)","v":"Verifica Massimali di Spesa ALTRI INTERVENTI"}]
[null,null,"  Interventi",null,"x% Credito ceduto","Importo Lavori","Incidenza Sicurezza","Imponibile","Iva","Importo c.iva","Spese tecniche","Totale","Credito Spettante  x% Spesa Ammessa","%SAL",null,null,null,"Massimale  spesa","Verifica Max",null,"Spesa Ammessa",null,"Quota Eccedente Massimale Spesa ",null,"Credito Spettante                                     x% Spesa Ammessa                                   Quota Impresa         |       Quota Tecnici"]
[null,null,{"$f":"IF('Computo-Massimali'!C89<>\"\",'Computo-Massimali'!C89,\"\")","v":"Ristrutturazione"},null,{"$f":"'Computo-Massimali'!E89","v":0.5},0,{"$f":"IF('Computo-Massimali'!F89<>0,'Computo-Massimali'!G89*F89/'Computo-Massimali'!F89,0)","v":0},{"$f":"SUM(F89:G89)","v":0},{"$f":"F89*'Dati Gen'!$J$20+G89*'Dati Gen'!$J$19","v":0},{"$f":"H89+I89","v":0},{"$f":"IF('Computo-Massimali'!F89<>0,'Computo-Massimali'!K89*F89/'Computo-Massimali'!F89,0)","v":0},{"$f":"SUM(J89:K89)","v":0},{"$f":"IF(L89<=R89,L89*E89,R89*E89)","v":0},{"$f":"IF('Computo-Massimali'!L89>0,L89/'Computo-Massimali'!L89,0)","v":0},{"$f":"IF(F89>0,IF(F89>'Computo-Massimali'!F89,\">Computo\",IF(F89<'SAL.30%'!F89,\"< SAL.1\",\"\")),\"\")","v":""},null,{"$f":"IF(C89<>\"\",C89,\"\")","v":"Ristrutturazione"},{"$f":"96000*N_Uimm","v":96000},{"$f":"IF(L89>R89,\"KO Tot.>Detr.\",\"ok\")","v":"ok"},null,{"$f":"IF(L89<R89,L89,R89)","v":0},null,{"$f":"IF(L89>R89,L89-R89,0)","v":0},null,{"$f":"IF(M89<>0,J89*M89/L89,0)","v":0},null,{"$f":"IF(M89<>0,K89*M89/L89,0)","v":0}]
[null,null,{"$f":"IF('Computo-Massimali'!C90<>\"\",'Computo-Massimali'!C90,\"\")","v":"Bonus facciata"},null,{"$f":"'Computo-Massimali'!E90","v":0.6},0,{"$f":"IF('Computo-Massimali'!F90<>0,'Computo-Massimali'!G90*F90/'Computo-Massimali'!F90,0)","v":0},{"$f":"SUM(F90:G90)","v":0},{"$f":"F90*'Dati Gen'!$J$20+G90*'Dati Gen'!$J$19","v":0},{"$f":"H90+I90","v":0},{"$f":"IF('Computo-Massimali'!F90<>0,'Computo-Massimali'!K90*F90/'Computo-Massimali'!F90,0)","v":0},{"$f":"SUM(J90:K90)","v":0},{"$f":"IF(L90<=R90,L90*E90,R90*E90)","v":0},{"$f":"IF('Computo-Massimali'!L90>0,L90/'Computo-Massimali'!L90,0)","v":0},{"$f":"IF(F90>0,IF(F90>'Computo-Massimali'!F90,\">Computo\",IF(F90<'SAL.30%'!F90,\"< SAL.1\",\"\")),\"\")","v":""},null,{"$f":"IF(C90<>\"\",C90,\"\")","v":"Bonus facciata"},{"$f":"96000*N_Uimm","v":96000},{"$f":"IF(L90>R90,\"KO Tot.>Detr.\",\"ok\")","v":"ok"},null,{"$f":"IF(L90<R90,L90,R90)","v":0},null,{"$f":"IF(L90>R90,L90-R90,0)","v":0},null,{"$f":"IF(M90<>0,J90*M90/L90,0)","v":0},null,{"$f":"IF(M90<>0,K90*M90/L90,0)","v":0}]
[null,null,{"$f":"IF('Computo-Massimali'!C91<>\"\",'Computo-Massimali'!C91,\"\")","v":"Bonus Casa"},null,{"$f":"'Computo-Massimali'!E91","v":0.7},0,{"$f":"IF('Computo-Massimali'!F91<>0,'Computo-Massimali'!G91*F91/'Computo-Massimali'!F91,0)","v":0},{"$f":"SUM(F91:G91)","v":0},{"$f":"F91*'Dati Gen'!$J$20+G91*'Dati Gen'!$J$19","v":0},{"$f":"H91+I91","v":0},{"$f":"IF('Computo-Massimali'!F91<>0,'Computo-Massimali'!K91*F91/'Computo-Massimali'!F91,0)","v":0},{"$f":"SUM(J91:K91)","v":0},{"$f":"IF(L91<=R91,L91*E91,R91*E91)","v":0},{"$f":"IF('Computo-Massimali'!L91>0,L91/'Computo-Massimali'!L91,0)","v":0},{"$f":"IF(F91>0,IF(F91>'Computo-Massimali'!F91,\">Computo\",IF(F91<'SAL.30%'!F91,\"< SAL.1\",\"\")),\"\")","v":""},null,{"$f":"IF(C91<>\"\",C91,\"\")","v":"Bonus Casa"},{"$f":"96000*N_Uimm","v":96000},{"$f":"IF(L91>R91,\"KO Tot.>Detr.\",\"ok\")","v":"ok"},null,{"$f":"IF(L91<R91,L91,R91)","v":0},null,{"$f":"IF(L91>R91,L91-R91,0)","v":0},null,{"$f":"IF(M91<>0,J91*M91/L91,0)","v":0},null,{"$f":"IF(M91<>0,K91*M91/L91,0)","v":0}]
[null,null,{"$f":"IF('Computo-Massimali'!C92<>\"\",'Computo-Massimali'!C92,\"\")","v":""},null,{"$f":"'Computo-Massimali'!E92","v":0},0,{"$f":"IF('Computo-Massimali'!F92<>0,'Computo-Massimali'!G92*F92/'Computo-Massimali'!F92,0)","v":0},{"$f":"SUM(F92:G92)","v":0},{"$f":"F92*'Dati Gen'!$J$20+G92*'Dati Gen'!$J$19","v":0},{"$f":"H92+I92","v":0},{"$f":"IF('Computo-Massimali'!F92<>0,'Computo-Massimali'!K92*F92/'Computo-Massimali'!F92,0)","v":0},{"$f":"SUM(J92:K92)","v":0},{"$f":"IF(L92<=R92,L92*E92,R92*E92)","v":0},{"$f":"IF('Computo-Massimali'!L92>0,L92/'Computo-Massimali'!L92,0)","v":0},{"$f":"IF(F92>0,IF(F92>'Computo-Massimali'!F92,\">Computo\",IF(F92<'SAL.30%'!F92,\"< SAL.1\",\"\")),\"\")","v":""},null,{"$f":"IF(C92<>\"\",C92,\"\")","v":""},{"$f":"96000*N_Uimm","v":96000},{"$f":"IF(L92>R92,\"KO Tot.>Detr.\",\"ok\")","v":"ok"},null,{"$f":"IF(L92<R92,L92,R92)","v":0},null,{"$f":"IF(L92>R92,L92-R92,0)","v":0},null,{"$f":"IF(M92<>0,J92*M92/L92,0)","v":0},null,{"$f":"IF(M92<>0,K92*M92/L92,0)","v":0}]
[null,null,"TotalI SAL N.1 - Altri Interventi  : ",null,null,{"$f":"SUM(F89:F92)","v":0},0,0,0,0,{"$f":"SUM(K89:K92)","v":0},0,0,{"$f":"IF('Computo-Massimali'!L93>0,L93/'Computo-Massimali'!L93,0)","v":0},{"$f":"IF(F93>0,IF(F93>'Computo-Massimali'!F93,\">Computo\",IF(F93<'SAL.30%'!F93,\"< SAL.1\",\"\")),\"\")","v":""},null,null,{"$f":"C93","v":"TotalI SAL N.1 - Altri Interventi  : "},null,null,{"$f":"SUM(U89:V92)","v":0},null,{"$f":"SUM(W89:X92)","v":0},null,{"$f":"SUM(Y89:Z92)","v":0},null,{"$f":"SUM(AA89:AB92)","v":0}]
[]
[]
[null,null,"TOTALI SAL N.2",null,null,"Importo Lavori Eseguiti","Incidenza Sicurezza","Imponibile","Iva","Importo c.iva","Spese tecniche","Totale","Credito Spettante","%SAL",null,null,{"$f":"C96","v":"TOTALI SAL N.2"},null,null,null,"Spesa Ammessa",null,"Quota Eccedente Massimale Spesa ",null,"Credito Spettante                            Quota Impresa | Quota Tecnici"]
[null,null,null,null,null,{"$f":"F81+F93","v":0},0,0,0,0,0,{"$f":"L81+L93","v":0},{"$f":"M81+M93","v":0},{"$f":"IF('Computo-Massimali'!L100>0,L97/'Computo-Massimali'!L100,0)","v":0},{"$f":"IF(F97>0,IF(F97>'Computo-Massimali'!F100,\">Computo\",IF(F97<'SAL.30%'!F97,\"< SAL.1\",\"\")),\"\")","v":""},null,null,null,null,null,{"$f":"U81+U93","v":0},null,{"$f":"W81+W93","v":0},null,{"$f":"Y81+Y93","v":0},null,{"$f":"AA81+AA93","v":0}]
[]
[]
[null,null,{"$f":"IF(ABS(D5-G97)>0.01,\"Importo Effettivo Lavori Eseguiti\",\"\")","v":""},null,null,{"$f":"IF($C$100<>\"\",F97,\"\")","v":""},{"$f":"IF($C$100<>\"\",D5,\"\")","v":""},{"$f":"IF($C$100<>\"\",F100+G100,\"\")","v":""},{"$f":"IF($C$100<>\"\",H100*AliqIva,\"\")","v":""},{"$f":"IF($C$100<>\"\",H100+I100,\"\")","v":""},{"$f":"IF($C$100<>\"\",K97,\"\")","v":""},{"$f":"IF($C$100<>\"\",J100+K100,\"\")","v":""},{"$f":"IF($C$100<>\"\",L100*1.1,\"\")","v":""},{"$f":"IF($C$100<>\"\",L100/'Computo-Massimali'!L100,\"\")","v":""}]
[null,null,{"$f":"IF($C$100<>\"\",\"Oneri/Lavori Sicurezza non imputabili al SAL, per lavori non eseguiti\",\"\")","v":""},null,null,null,{"$f":"IF($C$101<>\"\",D5-G97,\"\")","v":""}]
[]
[]
[null,null,"Quota % effettiva per cessione credito a Banca o Impresa \"Interventi 110\"  ",null,null,null,null,{"$f":"'Computo-Massimali'!H104","v":0.90909090909090906},{"$f":"'Computo-Massimali'!I104","v":100},"Importo Ricevuto",{"$f":"Detraz60*H104","v":0},"Costo Cessione 110",{"$f":"SpesaAmmessa60-K104","v":0}]
[null,null,null,null,null,null,"Quota % effettiva per cessione credito a Banca o Impresa \"Altri Interventi\"  ",{"$f":"'Computo-Massimali'!H105","v":0.8},{"$f":"'Computo-Massimali'!I105","v":80},"Importo Ricevuto",{"$f":"M93*H105","v":0},"Costo Cessione Altri",{"$f":"M93-K105","v":0}]
[]
[null,null,null,null,null,null,null,null,null,null,null,"Quota Impresa","Quota Tecnici"]
[null,null,null,null,null,null,"Quota Eccedente Massimali Spesa \"Interventi 110\"  ",{"$f":"QuotaEcced30","v":0},"Credito Netto a seguito Cessione",null,{"$f":"SpesaAmmessa60-M104","v":0},{"$f":"IF(Detraz60<>0,QuotaImpresa60*K108/Detraz60,0)","v":0},{"$f":"IF(Detraz60<>0,QuotaTecnici60*K108/Detraz60,0)","v":0}]
[null,null,null,null,null,null,"Quota Eccedente Massimali Spesa \"Altri Interventi\" ",{"$f":"W93","v":0},"Credito Netto a seguito Cessione",null,{"$f":"M93-M105","v":0},{"$f":"IF(M93<>0,Y93*K109/M93,0)","v":0},{"$f":"IF(M93<>0,AA93*K109/M93,0)","v":0}]
[null,null,null,null,null,null,null,null,"Quota Cliente x Interventi 110",null,{"$f":"IF(Totale60-K108>0,Totale60-K108,0)","v":0},{"$f":"IF(Detraz60<>0,K110*QuotaImpresa60/Detraz60,0)","v":0},{"$f":"IF(Detraz60<>0,K110*QuotaTecnici60/Detraz60,0)","v":0}]
[null,null,null,null,null,null,null,null,"Quota Cliente x Altri Interventi",null,{"$f":"IF(L93-K109>0,L93-K109,0)","v":0},{"$f":"IF(M93<>0,K111*Y93/M93,0)","v":0},{"$f":"IF(M93<>0,K111*AA93/M93,0)","v":0}]
[null,null,null,null,null,null,null,null,"Quota Totale  a Carico Cliente",null,{"$f":"SUM(K110:K111)","v":0},{"$f":"SUM(L110:L111)","v":0},{"$f":"SUM(M110:M111)","v":0}]
[]
[]
[null,null,null,null,null,null,null,null,null,null,null,null,null,null,null,null,"Ripartizione Spese Tecniche SAL. N.2 - INTERVENTI 110",null,null,null,null,null,null,null,null,null,null,null,"Applica Sconto in Fattura"]
[null,null,null,null,null,null,null,null,null,null,null,null,null,null,null,null,"Lavoro","Tecnico","Onorario",null,"C.Cassa",null,"Imponibile",null,"IVA",null,"Totale",null,null,null,null,{"$f":"'Dati Gen'!B44","v":"Architetto1"},{"$f":"'Dati Gen'!B45","v":"Ingegnere2"},{"$f":"'Dati Gen'!B46","v":"Consulente1"},{"$f":"'Dati Gen'!B47","v":0},{"$f":"'Dati Gen'!B48","v":0},{"$f":"'Dati Gen'!B49","v":0},{"$f":"'Dati Gen'!B50","v":0},{"$f":"'Dati Gen'!B51","v":0}]
[null,null,null,null,null,null,null,null,null,null,null,null,null,null,null,null,{"$f":"IF('Dati Gen'!B25<>\"\",'Dati Gen'!B25,\"\")","v":"Redazione APE ante, Progettazione energetica"},{"$f":"IF('Dati Gen'!C25<>\"\",'Dati Gen'!C25,\"\")","v":"Architetto1"},{"$f":"W117/(1+U117)","v":0},null,{"$f":"'Dati Gen'!G25","v":0.04},{"$f":"S117*U117","v":0},{"$f":"AA117/(1+Y117)","v":0},null,{"$f":"'Dati Gen'!J25","v":0.22},{"$f":"Y117*(S117+V117)","v":0},{"$f":"IF('Dati Gen'!$M$36<>0,$AA$126*'Dati Gen'!M25/'Dati Gen'!$M$36,0)","v":0},null,{"$f":"IF(R117<>\"\",VLOOKUP(R117,'Dati Gen'!$B$44:$D$51,3,0),\"\")","v":"SI"},null,null,{"$f":"IF($R117=AF$116,$AA117,0)","v":0},{"$f":"IF($R117=AG$116,$AA117,0)","v":0},0,0,0,0,0,0]
[null,null,null,null,null,null,null,null,null,null,null,null,null,null,null,null,{"$f":"IF('Dati Gen'!B26<>\"\",'Dati Gen'!B26,\"\")","v":"Progettazione e DD.LL."},{"$f":"IF('Dati Gen'!C26<>\"\",'Dati Gen'!C26,\"\")","v":"Architetto1"},{"$f":"W118/(1+U118)","v":0},null,{"$f":"'Dati Gen'!G26","v":0.04},{"$f":"S118*U118","v":0},{"$f":"AA118/(1+Y118)","v":0},null,{"$f":"'Dati Gen'!J26","v":0.22},{"$f":"(S118+V118)*Y118","v":0},{"$f":"IF('Dati Gen'!$M$36<>0,$AA$126*'Dati Gen'!M26/'Dati Gen'!$M$36,0)","v":0},null,{"$f":"IF(R118<>\"\",VLOOKUP(R118,'Dati Gen'!$B$44:$D$51,3,0),\"\")","v":"SI"},null,null,{"$f":"IF($R118=AF$116,$AA118,0)","v":0},0,0,0,0,0,0,0]
[null,null,null,null,null,null,null,null,null,null,null,null,null,null,null,null,{"$f":"IF('Dati Gen'!B27<>\"\",'Dati Gen'!B27,\"\")","v":"Coordinamento sicurezza"},{"$f":"IF('Dati Gen'!C27<>\"\",'Dati Gen'!C27,\"\")","v":"Ingegnere2"},0,null,{"$f":"'Dati Gen'!G27","v":0.04},{"$f":"S119*U119","v":0},0,null,{"$f":"'Dati Gen'!J27","v":0.22},0,{"$f":"IF('Dati Gen'!$M$36<>0,$AA$126*'Dati Gen'!M27/'Dati Gen'!$M$36,0)","v":0},null,{"$f":"IF(R119<>\"\",VLOOKUP(R119,'Dati Gen'!$B$44:$D$51,3,0),\"\")","v":"NO"},null,null,0,0,0,0,0,0,0,0]
[null,null,null,null,null,null,null,null,null,null,null,null,null,null,null,null,{"$f":"IF('Dati Gen'!B28<>\"\",'Dati Gen'!B28,\"\")","v":"Redazione APE post"},{"$f":"IF('Dati Gen'!C28<>\"\",'Dati Gen'!C28,\"\")","v":"Architetto1"},0,null,{"$f":"'Dati Gen'!G28","v":0.04},{"$f":"S120*U120","v":0},0,null,{"$f":"'Dati Gen'!J28","v":0.22},0,{"$f":"IF('Dati Gen'!$M$36<>0,$AA$126*'Dati Gen'!M28/'Dati Gen'!$M$36,0)","v":0},null,{"$f":"IF(R120<>\"\",VLOOKUP(R120,'Dati Gen'!$B$44:$D$51,3,0),\"\")","v":"SI"},null,null,0,0,0,0,0,0,0,0]
[null,null,null,null,null,null,null,null,null,null,null,null,null,null,null,null,{"$f":"IF('Dati Gen'!B29<>\"\",'Dati Gen'!B29,\"\")","v":""},{"$f":"IF('Dati Gen'!C29<>\"\",'Dati Gen'!C29,\"\")","v":""},0,null,{"$f":"'Dati Gen'!G29","v":0.04},{"$f":"T121*U121","v":0},0,null,{"$f":"'Dati Gen'!J29","v":0.22},0,{"$f":"IF('Dati Gen'!$M$36<>0,$AA$126*'Dati Gen'!M29/'Dati Gen'!$M$36,0)","v":0},null,{"$f":"IF(R121<>\"\",VLOOKUP(R121,'Dati Gen'!$B$44:$D$51,3,0),\"\")","v":""},null,null,0,0,0,0,0,0,0,0]
[null,null,null,null,null,null,null,null,null,null,null,null,null,null,null,null,{"$f":"IF('Dati Gen'!B30<>\"\",'Dati Gen'!B30,\"\")","v":""},{"$f":"IF('Dati Gen'!C30<>\"\",'Dati Gen'!C30,\"\")","v":""},0,null,{"$f":"'Dati Gen'!G30","v":0.04},{"$f":"T122*U122","v":0},0,null,{"$f":"'Dati Gen'!J30","v":0.22},0,{"$f":"IF('Dati Gen'!$M$36<>0,$AA$126*'Dati Gen'!M30/'Dati Gen'!$M$36,0)","v":0},null,{"$f":"IF(R122<>\"\",VLOOKUP(R122,'Dati Gen'!$B$44:$D$51,3,0),\"\")","v":""},null,null,0,0,0,0,0,0,0,0]
[null,null,null,null,null,null,null,null,null,null,null,null,null,null,null,null,{"$f":"IF('Dati Gen'!B31<>\"\",'Dati Gen'!B31,\"\")","v":""},{"$f":"IF('Dati Gen'!C31<>\"\",'Dati Gen'!C31,\"\")","v":""},0,null,{"$f":"'Dati Gen'!G31","v":0.04},{"$f":"T123*U123","v":0},0,null,{"$f":"'Dati Gen'!J31","v":0.22},0,{"$f":"IF('Dati Gen'!$M$36<>0,$AA$126*'Dati Gen'!M31/'Dati Gen'!$M$36,0)","v":0},null,{"$f":"IF(R123<>\"\",VLOOKUP(R123,'Dati Gen'!$B$44:$D$51,3,0),\"\")","v":""},null,null,0,0,0,0,0,0,0,0]
[null,null,null,null,null,null,null,null,null,null,null,null,null,null,null,null,{"$f":"IF('Dati Gen'!B32<>\"\",'Dati Gen'!B32,\"\")","v":""},{"$f":"IF('Dati Gen'!C32<>\"\",'Dati Gen'!C32,\"\")","v":""},0,null,{"$f":"'Dati Gen'!G32","v":0.04},{"$f":"T124*U124","v":0},0,null,{"$f":"'Dati Gen'!J32","v":0.22},0,{"$f":"IF('Dati Gen'!$M$36<>0,$AA$126*'Dati Gen'!M32/'Dati Gen'!$M$36,0)","v":0},null,{"$f":"IF(R124<>\"\",VLOOKUP(R124,'Dati Gen'!$B$44:$D$51,3,0),\"\")","v":""},null,null,0,0,0,0,0,0,0,0]
[null,null,null,null,null,null,null,null,null,null,null,null,null,null,null,null,{"$f":"IF('Dati Gen'!B35<>\"\",'Dati Gen'!B35,\"\")","v":"Visto Conformità"},{"$f":"IF('Dati Gen'!C35<>\"\",'Dati Gen'!C35,\"\")","v":"Consulente1"},0,null,{"$f":"'Dati Gen'!G35","v":0.04},{"$f":"S125*U125","v":0},0,null,{"$f":"'Dati Gen'!J35","v":0.22},0,{"$f":"IF('Dati Gen'!$M$36<>0,$AA$126*'Dati Gen'!M35/'Dati Gen'!$M$36,0)","v":0},null,{"$f":"IF(R125<>\"\",VLOOKUP(R125,'Dati Gen'!$B$44:$D$51,3,0),\"\")","v":"NO"},null,null,0,0,0,0,0,0,0,0]
[null,null,null,null,null,null,null,null,null,null,null,null,null,null,null,null,null,null,{"$f":"SUM(S117:T125)","v":0},null,{"$f":"SUM(V117:V125)","v":0},null,{"$f":"SUM(W117:X125)","v":0},null,null,{"$f":"SUM(Z117:Z125)","v":0},{"$f":"SpeseTec60","v":0},null,null,null,null,{"$f":"SUM(AF117:AF125)","v":0},{"$f":"SUM(AG117:AG125)","v":0},0,0,0,0,0,0,null,{"$f":"SUM(AF126:AM126)","v":0}]
[null,null,null,null,null,null,null,null,null,null,null,null,null,null,null,null,null,null,null,null,null,null,null,null,null,null,null,null,null,null,null,{"$f":"IF($AO$126<>0,AF126/$AO$126,0)","v":0},0,0,0,0,0,0,0]
[]
[null,null,null,null,null,null,null,null,null,null,null,null,null,null,null,null,"Ripartizione Spese Tecniche SAL. N.2 - ALTRI INTERVENTI",null,null,null,null,null,null,null,null,null,null,null,"Applica Sconto in Fattura"]
[null,null,null,null,null,null,null,null,null,null,null,null,null,null,null,null,"Lavoro","Tecnico","Onorario",null,"C.Cassa",null,"Imponibile",null,"IVA",null,"Totale",null,null,null,null,{"$f":"AF116","v":"Architetto1"},{"$f":"AG116","v":"Ingegnere2"},"Consulente1",0,0,0,0,0]
[null,null,null,null,null,null,null,null,null,null,null,null,null,null,null,null,{"$f":"IF('Dati Gen'!B25<>\"\",'Dati Gen'!B25,\"\")","v":"Redazione APE ante, Progettazione energetica"},{"$f":"IF('Dati Gen'!C25<>\"\",'Dati Gen'!C25,\"\")","v":"Architetto1"},{"$f":"W131/(1+U131)","v":0},null,{"$f":"'Dati Gen'!G25","v":0.04},{"$f":"S131*U131","v":0},{"$f":"AA131/(1+Y131)","v":0},null,{"$f":"'Dati Gen'!J25","v":0.22},{"$f":"Y131*(S131+V131)","v":0},{"$f":"IF('Dati Gen'!$M$36<>0,$AA$140*'Dati Gen'!M25/'Dati Gen'!$M$36,0)","v":0},null,{"$f":"IF(R131<>\"\",VLOOKUP(R131,'Dati Gen'!$B$44:$D$51,3,0),\"\")","v":"SI"},null,null,{"$f":"IF($R131=AF$116,$AA131,0)","v":0},{"$f":"IF($R131=AG$116,$AA131,0)","v":0},0,0,0,0,0,0]
[null,null,null,null,null,null,null,null,null,null,null,null,null,null,null,null,{"$f":"IF('Dati Gen'!B26<>\"\",'Dati Gen'!B26,\"\")","v":"Progettazione e DD.LL."},{"$f":"IF('Dati Gen'!C26<>\"\",'Dati Gen'!C26,\"\")","v":"Architetto1"},{"$f":"W132/(1+U132)","v":0},null,{"$f":"'Dati Gen'!G26","v":0.04},{"$f":"S132*U132","v":0},{"$f":"AA132/(1+Y132)","v":0},null,{"$f":"'Dati Gen'!J26","v":0.22},{"$f":"(S132+V132)*Y132","v":0},{"$f":"IF('Dati Gen'!$M$36<>0,$AA$140*'Dati Gen'!M26/'Dati Gen'!$M$36,0)","v":0},null,{"$f":"IF(R132<>\"\",VLOOKUP(R132,'Dati Gen'!$B$44:$D$51,3,0),\"\")","v":"SI"},null,null,{"$f":"IF($R132=AF$116,$AA132,0)","v":0},0,0,0,0,0,0,0]
[null,null,null,null,null,null,null,null,null,null,null,null,null,null,null,null,{"$f":"IF('Dati Gen'!B27<>\"\",'Dati Gen'!B27,\"\")","v":"Coordinamento sicurezza"},{"$f":"IF('Dati Gen'!C27<>\"\",'Dati Gen'!C27,\"\")","v":"Ingegnere2"},0,null,{"$f":"'Dati Gen'!G27","v":0.04},{"$f":"S133*U133","v":0},0,null,{"$f":"'Dati Gen'!J27","v":0.22},0,{"$f":"IF('Dati Gen'!$M$36<>0,$AA$140*'Dati Gen'!M27/'Dati Gen'!$M$36,0)","v":0},null,{"$f":"IF(R133<>\"\",VLOOKUP(R133,'Dati Gen'!$B$44:$D$51,3,0),\"\")","v":"NO"},null,null,0,0,0,0,0,0,0,0]
[null,null,null,null,null,null,null,null,null,null,null,null,null,null,null,null,{"$f":"IF('Dati Gen'!B28<>\"\",'Dati Gen'!B28,\"\")","v":"Redazione APE post"},{"$f":"IF('Dati Gen'!C28<>\"\",'Dati Gen'!C28,\"\")","v":"Architetto1"},0,null,{"$f":"'Dati Gen'!G28","v":0.04},{"$f":"S134*U134","v":0},0,null,{"$f":"'Dati Gen'!J28","v":0.22},0,{"$f":"IF('Dati Gen'!$M$36<>0,$AA$140*'Dati Gen'!M28/'Dati Gen'!$M$36,0)","v":0},null,{"$f":"IF(R134<>\"\",VLOOKUP(R134,'Dati Gen'!$B$44:$D$51,3,0),\"\")","v":"SI"},null,null,0,0,0,0,0,0,0,0]
[null,null,null,null,null,null,null,null,null,null,null,null,null,null,null,null,{"$f":"IF('Dati Gen'!B29<>\"\",'Dati Gen'!B29,\"\")","v":""},{"$f":"IF('Dati Gen'!C29<>\"\",'Dati Gen'!C29,\"\")","v":""},0,null,{"$f":"'Dati Gen'!G29","v":0.04},{"$f":"T135*U135","v":0},0,null,{"$f":"'Dati Gen'!J29","v":0.22},0,{"$f":"IF('Dati Gen'!$M$36<>0,$AA$140*'Dati Gen'!M29/'Dati Gen'!$M$36,0)","v":0},null,{"$f":"IF(R135<>\"\",VLOOKUP(R135,'Dati Gen'!$B$44:$D$51,3,0),\"\")","v":""},null,null,0,0,0,0,0,0,0,0]
[null,null,null,null,null,null,null,null,null,null,null,null,null,null,null,null,{"$f":"IF('Dati Gen'!B30<>\"\",'Dati Gen'!B30,\"\")","v":""},{"$f":"IF('Dati Gen'!C30<>\"\",'Dati Gen'!C30,\"\")","v":""},0,null,{"$f":"'Dati Gen'!G30","v":0.04},{"$f":"T136*U136","v":0},0,null,{"$f":"'Dati Gen'!J30","v":0.22},0,{"$f":"IF('Dati Gen'!$M$36<>0,$AA$140*'Dati Gen'!M30/'Dati Gen'!$M$36,0)","v":0},null,{"$f":"IF(R136<>\"\",VLOOKUP(R136,'Dati Gen'!$B$44:$D$51,3,0),\"\")","v":""},null,null,0,0,0,0,0,0,0,0]
[null,null,null,null,null,null,null,null,null,null,null,null,null,null,null,null,{"$f":"IF('Dati Gen'!B31<>\"\",'Dati Gen'!B31,\"\")","v":""},{"$f":"IF('Dati Gen'!C31<>\"\",'Dati Gen'!C31,\"\")","v":""},0,null,{"$f":"'Dati Gen'!G31","v":0.04},{"$f":"T137*U137","v":0},0,null,{"$f":"'Dati Gen'!J31","v":0.22},0,{"$f":"IF('Dati Gen'!$M$36<>0,$AA$140*'Dati Gen'!M31/'Dati Gen'!$M$36,0)","v":0},null,{"$f":"IF(R137<>\"\",VLOOKUP(R137,'Dati Gen'!$B$44:$D$51,3,0),\"\")","v":""},null,null,0,0,0,0,0,0,0,0]
[null,null,null,null,null,null,null,null,null,null,null,null,null,null,null,null,{"$f":"IF('Dati Gen'!B32<>\"\",'Dati Gen'!B32,\"\")","v":""},{"$f":"IF('Dati Gen'!C32<>\"\",'Dati Gen'!C32,\"\")","v":""},0,null,{"$f":"'Dati Gen'!G32","v":0.04},{"$f":"T138*U138","v":0},0,null,{"$f":"'Dati Gen'!J32","v":0.22},0,{"$f":"IF('Dati Gen'!$M$36<>0,$AA$140*'Dati Gen'!M32/'Dati Gen'!$M$36,0)","v":0},null,{"$f":"IF(R138<>\"\",VLOOKUP(R138,'Dati Gen'!$B$44:$D$51,3,0),\"\")","v":""},null,null,0,0,0,0,0,0,0,0]
[null,null,null,null,null,null,null,null,null,null,null,null,null,null,null,null,{"$f":"IF('Dati Gen'!B35<>\"\",'Dati Gen'!B35,\"\")","v":"Visto Conformità"},{"$f":"IF('Dati Gen'!C35<>\"\",'Dati Gen'!C35,\"\")","v":"Consulente1"},0,null,{"$f":"'Dati Gen'!G35","v":0.04},{"$f":"S139*U139","v":0},0,null,{"$f":"'Dati Gen'!J35","v":0.22},0,{"$f":"IF('Dati Gen'!$M$36<>0,$AA$140*'Dati Gen'!M35/'Dati Gen'!$M$36,0)","v":0},null,{"$f":"IF(R139<>\"\",VLOOKUP(R139,'Dati Gen'!$B$44:$D$51,3,0),\"\")","v":"NO"},null,null,0,0,0,0,0,0,0,0]
[null,null,null,null,null,null,null,null,null,null,null,null,null,null,null,null,null,null,{"$f":"SUM(S131:T139)","v":0},null,{"$f":"SUM(V131:V139)","v":0},null,{"$f":"SUM(W131:X139)","v":0},null,null,{"$f":"SUM(Z131:Z139)","v":0},{"$f":"K93","v":0},null,null,null,null,{"$f":"SUM(AF131:AF139)","v":0},{"$f":"SUM(AG131:AG139)","v":0},0,0,0,0,0,0,null,{"$f":"SUM(AF140:AM140)","v":0}]
[null,null,null,null,null,null,null,null,null,null,null,null,null,null,null,null,null,null,null,null,null,null,null,null,null,null,null,null,null,null,null,{"$f":"IF($AO$140<>0,AF140/$AO$140,0)","v":0},0,0,0,0,0,0,0]

{"sheet":"SAL.Finale","index":8,"n_rows":141,"n_cols":41,"rows_kept":141,"cut":false,"hidden":false,"merged":[[26,18,26,19],[57,26,57,27],[26,26,26,27],[27,26,27,27],[28,26,28,27],[29,26,29,27],[44,26,44,27],[30,20,30,21],[34,20,34,21],[35,20,35,21],[41,24,41,25],[32,24,32,25],[33,22,33,23],[33,24,33,25],[30,26,30,27],[41,26,41,27],[42,22,42,23],[40,22,40,23],[40,24,40,27],[35,26,35,27],[33,26,33,27],[34,26,34,27],[36,26,36,27],[35,22,35,23],[31,24,31,25],[31,20,31,21],[32,20,32,21],[10,22,10,23],[10,24,10,25],[10,26,10,27],[11,22,11,23],[11,24,11,25],[11,26,11,27],[31,26,31,27],[32,26,32,27],[13,22,13,23],[13,24,13,25],[13,26,13,27],[26,22,26,23],[32,22,32,23],[31,22,31,23],[30,22,30,23],[30,24,30,25],[12,24,12,25],[21,20,21,21],[24,26,24,27],[25,20,25,21],[25,22,25,23],[89,2,89,3],[90,2,90,3],[88,2,88,3],[87,2,87,4],[87,18,87,19],[88,18,88,19],[87,22,87,23],[88,22,88,23],[26,24,26,25],[27,22,27,23],[27,24,27,25],[28,22,28,23],[28,24,28,25],[29,22,29,23],[29,24,29,25],[44,22,44,23],[44,24,44,25],[26,20,26,21],[27,20,27,21],[28,20,28,21],[29,20,29,21],[28,18,28,19],[29,18,29,19],[57,18,57,19],[57,22,57,23],[57,24,57,25],[9,22,9,23],[9,24,9,25],[9,26,9,27],[2,2,2,4],[3,2,3,4],[4,2,5,2],[4,3,5,4],[4,10,5,11],[4,12,5,12],[7,20,7,21],[8,2,8,3],[8,18,8,19],[2,16,2,27],[6,2,6,13],[6,16,6,27],[7,2,7,4],[7,18,7,19],[7,22,7,23],[7,24,7,27],[8,20,8,21],[8,22,8,23],[31,18,31,19],[8,24,8,25],[8,26,8,27],[1,13,5,14],[3,17,3,18],[3,25,3,27],[11,2,11,3],[12,18,12,19],[18,22,18,23],[18,24,18,27],[15,17,15,19],[15,22,15,23],[15,24,15,25],[15,26,15,27],[14,20,14,21],[15,20,15,21],[18,20,18,21],[17,2,17,13],[17,16,17,27],[18,2,18,4],[18,18,18,19],[14,18,14,19],[14,22,14,23],[14,26,14,27],[12,22,12,23],[25,26,25,27],[19,22,19,23],[19,24,19,25],[19,26,19,27],[20,22,20,23],[20,24,20,25],[20,26,20,27],[21,22,21,23],[21,24,21,25],[21,26,21,27],[24,22,24,23],[24,24,24,25],[9,2,9,3],[9,18,9,19],[10,2,10,3],[10,18,10,19],[22,20,22,21],[13,18,13,19],[9,20,9,21],[10,20,10,21],[25,24,25,25],[24,20,24,21],[24,18,24,19],[13,2,13,4],[14,2,14,4],[15,2,15,4],[23,2,23,4],[24,2,24,4],[12,2,12,4],[11,18,11,19],[11,20,11,21],[23,20,23,21],[19,20,19,21],[20,20,20,21],[25,2,25,4],[26,2,26,4],[27,2,27,4],[28,2,28,4],[12,20,12,21],[13,20,13,21],[23,26,23,27],[19,2,19,3],[19,18,19,19],[22,22,22,23],[22,24,22,25],[22,26,22,27],[20,2,20,3],[20,18,20,19],[21,2,21,3],[21,18,21,19],[22,2,22,3],[22,18,22,19],[23,18,23,19],[23,22,23,23],[23,24,23,25],[12,26,12,27],[14,24,14,25],[25,18,25,19],[27,18,27,19],[42,26,42,27],[34,2,34,3],[34,18,34,19],[34,22,34,23],[34,24,34,25],[36,24,36,25],[39,2,39,13],[39,16,39,27],[36,17,36,19],[36,22,36,23],[36,20,36,21],[42,18,42,19],[40,2,40,4],[41,2,41,3],[40,20,40,21],[41,20,41,21],[35,24,35,25],[41,22,41,23],[42,24,42,25],[40,18,40,19],[41,18,41,19],[42,20,42,21],[43,20,43,21],[44,18,44,19],[44,20,44,21],[29,2,29,4],[30,2,30,4],[30,18,30,19],[33,20,33,21],[35,18,35,19],[32,2,32,3],[32,18,32,19],[33,2,33,3],[33,18,33,19],[35,2,35,4],[36,2,36,4],[47,22,47,23],[47,24,47,25],[47,18,47,19],[47,26,47,27],[43,26,43,27],[43,22,43,23],[43,24,43,25],[48,22,48,23],[48,24,48,25],[48,26,48,27],[45,22,45,23],[45,24,45,25],[46,26,46,27],[45,18,45,19],[46,18,46,19],[46,20,46,21],[46,22,46,23],[46,24,46,25],[45,26,45,27],[48,18,48,19],[47,20,47,21],[48,20,48,21],[45,20,45,21],[43,18,43,19],[52,18,52,19],[52,22,52,23],[52,24,52,25],[52,26,52,27],[51,20,51,21],[52,20,52,21],[49,18,49,19],[49,22,49,23],[49,24,49,25],[49,26,49,27],[50,18,50,19],[50,22,50,23],[50,24,50,25],[50,26,50,27],[49,20,49,21],[50,20,50,21],[51,18,51,19],[51,22,51,23],[51,24,51,25],[51,26,51,27],[92,22,92,23],[92,24,92,25],[92,26,92,27],[91,20,91,21],[92,20,92,21],[92,17,92,19],[96,2,96,4],[91,2,91,3],[91,18,91,19],[91,22,91,23],[95,2,95,4],[92,2,92,4],[91,24,91,25],[91,26,91,27],[58,22,58,23],[58,24,58,25],[58,26,58,27],[58,20,58,21],[82,2,82,13],[86,2,86,13],[79,2,80,4],[77,2,77,3],[86,16,86,27],[79,16,80,19],[79,20,79,21],[79,22,79,23],[79,24,79,27],[80,20,80,21],[80,22,80,23],[80,24,80,25],[80,26,80,27],[88,26,88,27],[87,20,87,21],[88,20,88,21],[87,24,87,27],[89,26,89,27],[90,18,90,19],[90,22,90,23],[90,24,90,25],[90,26,90,27],[89,20,89,21],[90,20,90,21],[89,18,89,19],[89,22,89,23],[89,24,89,25],[88,24,88,25],[119,26,119,27],[120,18,120,19],[120,22,120,23],[120,26,120,27],[121,18,121,19],[114,16,114,27],[121,22,121,23],[121,26,121,27],[119,18,119,19],[119,22,119,23],[116,22,116,23],[116,26,116,27],[117,18,117,19],[117,22,117,23],[117,26,117,27],[118,26,118,27],[118,18,118,19],[118,22,118,23],[114,28,115,28],[115,18,115,19],[115,20,115,21],[115,22,115,23],[115,24,115,25],[115,26,115,27],[95,20,95,21],[95,16,96,19],[95,22,95,23],[95,24,95,27],[96,20,96,21],[96,22,96,23],[96,24,96,25],[96,26,96,27],[107,18,107,19],[107,20,107,21],[104,18,104,19],[104,20,104,21],[103,18,103,19],[103,20,103,21],[122,22,122,23],[122,26,122,27],[128,28,129,28],[129,18,129,19],[129,20,129,21],[129,22,129,23],[129,24,129,25],[129,26,129,27],[123,18,123,19],[123,22,123,23],[123,26,123,27],[124,18,124,19],[124,22,124,23],[124,26,124,27],[125,18,125,19],[125,20,125,21],[125,22,125,23],[125,26,125,27],[128,16,128,27],[122,18,122,19],[139,22,139,23],[139,26,139,27],[136,18,136,19],[136,22,136,23],[136,26,136,27],[137,18,137,19],[137,22,137,23],[137,26,137,27],[138,18,138,19],[138,22,138,23],[138,26,138,27],[139,18,139,19],[139,20,139,21],[130,18,130,19],[130,22,130,23],[130,26,130,27],[134,18,134,19],[134,22,134,23],[134,26,134,27],[135,18,135,19],[135,22,135,23],[135,26,135,27],[133,18,133,19],[133,22,133,23],[133,26,133,27],[132,26,132,27],[131,18,131,19],[131,22,131,23],[131,26,131,27],[132,18,132,19],[132,22,132,23],[46,2,46,4],[47,2,47,4],[48,2,48,4],[49,2,49,4],[56,2,56,3],[43,2,43,3],[31,2,31,3],[53,2,53,3],[55,2,55,3],[44,2,44,3],[50,2,50,4],[51,2,51,4],[52,2,52,4],[45,2,45,4],[42,2,42,3],[97,2,97,4],[98,2,98,4],[100,2,100,4],[101,2,101,5],[116,18,116,19],[53,18,53,19],[54,2,54,3],[54,18,54,19],[53,20,53,21],[54,20,54,21],[55,18,55,19],[57,2,57,4],[58,2,58,4],[103,2,103,6],[106,8,106,10],[107,8,107,9],[108,8,108,9],[109,8,109,9],[110,8,110,9],[111,8,111,9],[58,17,58,19],[55,20,55,21],[56,20,56,21],[57,20,57,21],[53,26,53,27],[54,22,54,23],[54,24,54,25],[54,26,54,27],[55,22,55,23],[55,24,55,25],[55,26,55,27],[56,18,56,19],[56,22,56,23],[56,24,56,25],[56,26,56,27],[53,22,53,23],[53,24,53,25]]}
[null,null,null,null,null,null,null,null,null,null,null,null,null,null,null,{"$f":"MATCH(\"SimMZ\",C:C,0)","v":78}]
[null,null,{"$f":"CONCATENATE('Dati Gen'!K2, \" \",'Dati Gen'!K3,\" \",'Dati Gen'!L3)","v":"Pratica.110plus Vers.ne 4.3.1"},null,null,"DATI DI PROGETTO : ","IMPONIBILE","IVA","IMPORTO",null,"IMPONIBILE","IVA","IMPORTO",{"$f":"CONCATENATE('Dati Gen'!K2,\"   SIM.srl\")","v":"Pratica.110plus   SIM.srl"}]
[null,null,"STATO AVANZAMENTO LAVORI Finale",null,null,"Importo Lavori ",{"$f":"'Dati Gen'!G18","v":0},{"$f":"'Dati Gen'!K18","v":0},{"$f":"'Dati Gen'!M18","v":0},"Importo Netto",{"$f":"'Dati Gen'!G20","v":0},{"$f":"'Dati Gen'!K20","v":0},{"$f":"'Dati Gen'!M20","v":0},null,null,"*",{"$f":"IF('Computo-Massimali'!C6<>\"\",\"Attenzione! Tabella Computo-Massimali non completa. Si consiglia di completare, prima di registrare Voci di SAL\",\"\")","v":"Attenzione! Tabella Computo-Massimali non completa. Si consiglia di completare, prima di registrare Voci di SAL"}]
[null,null,"09/05/2022",null,null,"Oneri Sicurezza ",{"$f":"'Dati Gen'!G19","v":0},{"$f":"'Dati Gen'!K19","v":0},{"$f":"'Dati Gen'!M19","v":0},"Spese Tecniche",{"$f":"'Dati Gen'!G21","v":0},{"$f":"'Dati Gen'!K21","v":0},{"$f":"'Dati Gen'!M21","v":0},null,null,null,"Codice Identificativo Asseverazione ENEA",null,null,"Codice Identificativo Asseverazione Rischio Sismico"]
[null,null,"Oneri/Lavori x Sicurezza ",0,null,null,null,null,null,null,{"$f":"'Dati Gen'!G22","v":"Importo Complessivo Progetto : "},null,{"$f":"'Dati Gen'!M22","v":0}]
[]
[null,null,"INTERVENTI TRAINANTI",null,null,null,null,null,null,null,null,null,null,null,"..",null,{"$f":"CONCATENATE(\"Verifica Massimali di Spesa \",C7)","v":"Verifica Massimali di Spesa INTERVENTI TRAINANTI"}]
[null,null,"  Interventi",null,null,"Importo Lavori","Incidenza Sicurezza","Imponibile","Iva","Importo c.iva","Spese tecniche","Totale","Credito Spettante  110% Spesa Ammessa","%SAL",null,null,null,"Massimale  spesa","Verifica Max",null,"Spesa Ammessa",null,"Quota Eccedente Massimale Spesa ",null,"Credito Spettante                                110% Spesa Ammessa                              Quota Impresa        |    Quota Tecnici"]
[null,null,{"$f":"'Computo-Massimali'!C9","v":"PV) Isolamento pareti perimetrali"},null,{"$f":"'Computo-Massimali'!E9","v":"Interno"},0,{"$f":"IF('Computo-Massimali'!F9<>0,'Computo-Massimali'!G9*F9/'Computo-Massimali'!F9,0)","v":0},{"$f":"SUM(F9:G9)","v":0},{"$f":"F9*'Dati Gen'!$J$20+G9*'Dati Gen'!$J$19","v":0},{"$f":"H9+I9","v":0},{"$f":"IF('Computo-Massimali'!F9<>0,'Computo-Massimali'!K9*F9/'Computo-Massimali'!F9,0)","v":0},{"$f":"SUM(J9:K9)","v":0},{"$f":"IF(L9<=R9,L9*1.1,R9*1.1)","v":0},{"$f":"IF('Computo-Massimali'!L9>0,L9/'Computo-Massimali'!L9,0)","v":0},{"$f":"IF(F9>0,IF(F9-0.001>'Computo-Massimali'!F9,\">Computo\",IF(F9+0.001<'SAL.60%'!F9,\"< SAL.2\",\"\")),\"\")","v":""},null,{"$f":"C9","v":"PV) Isolamento pareti perimetrali"},{"$f":"'Computo-Massimali'!T9","v":0},{"$f":"IF(L9>M9,\"KO Tot.>Detr.\",IF(L9>R9,\"ko\",\"ok\"))","v":"ok"},null,{"$f":"IF($L$13<>0,(L9/$L$13)*$U$13,0)","v":0},null,{"$f":"IF(L9>R9,L9-R9,0)","v":0},null,{"$f":"IF(M9<>0,J9*M9/L9,0)","v":0},null,{"$f":"IF(M9<>0,K9*M9/L9,0)","v":0}]
[null,null,{"$f":"'Computo-Massimali'!C10","v":"PO) Isolamento coperture"},null,{"$f":"'Computo-Massimali'!E10","v":"Esterno"},0,{"$f":"IF('Computo-Massimali'!F10<>0,'Computo-Massimali'!G10*F10/'Computo-Massimali'!F10,0)","v":0},{"$f":"SUM(F10:G10)","v":0},{"$f":"F10*'Dati Gen'!$J$20+G10*'Dati Gen'!$J$19","v":0},{"$f":"H10+I10","v":0},{"$f":"IF('Computo-Massimali'!F10<>0,'Computo-Massimali'!K10*F10/'Computo-Massimali'!F10,0)","v":0},{"$f":"SUM(J10:K10)","v":0},0,{"$f":"IF('Computo-Massimali'!L10>0,L10/'Computo-Massimali'!L10,0)","v":0},{"$f":"IF(F10>0,IF(F10-0.001>'Computo-Massimali'!F10,\">Computo\",IF(F10+0.001<'SAL.60%'!F10,\"< SAL.2\",\"\")),\"\")","v":""},null,"PO) Isolamento coperture",{"$f":"'Computo-Massimali'!T10","v":0},"ok",null,{"$f":"IF($L$13<>0,(L10/$L$13)*$U$13,0)","v":0},null,0,null,0,null,0]
[null,null,{"$f":"'Computo-Massimali'!C11","v":"POND) Isol. coperture non disperdenti"},null,{"$f":"'Computo-Massimali'!E11","v":"Esterno"},0,{"$f":"IF('Computo-Massimali'!F11<>0,'Computo-Massimali'!G11*F11/'Computo-Massimali'!F11,0)","v":0},{"$f":"SUM(F11:G11)","v":0},{"$f":"F11*'Dati Gen'!$J$20+G11*'Dati Gen'!$J$19","v":0},{"$f":"H11+I11","v":0},{"$f":"IF('Computo-Massimali'!F11<>0,'Computo-Massimali'!K11*F11/'Computo-Massimali'!F11,0)","v":0},{"$f":"SUM(J11:K11)","v":0},0,{"$f":"IF('Computo-Massimali'!L11>0,L11/'Computo-Massimali'!L11,0)","v":0},{"$f":"IF(F11>0,IF(F11-0.001>'Computo-Massimali'!F11,\">Computo\",IF(F11+0.001<'SAL.60%'!F11,\"< SAL.2\",\"\")),\"\")","v":""},null,"POND) Isol. coperture non disperdenti",{"$f":"'Computo-Massimali'!T11","v":0},"ok",null,{"$f":"IF($L$13<>0,(L11/$L$13)*$U$13,0)","v":0},null,0,null,0,null,0]
[null,null,{"$f":"'Computo-Massimali'!C12","v":"PS) Isolamento Pavimenti"},null,{"$f":"'Computo-Massimali'!E12","v":"Interno/terreno"},0,{"$f":"IF('Computo-Massimali'!F12<>0,'Computo-Massimali'!G12*F12/'Computo-Massimali'!F12,0)","v":0},{"$f":"SUM(F12:G12)","v":0},{"$f":"F12*'Dati Gen'!$J$20+G12*'Dati Gen'!$J$19","v":0},{"$f":"H12+I12","v":0},{"$f":"IF('Computo-Massimali'!F12<>0,'Computo-Massimali'!K12*F12/'Computo-Massimali'!F12,0)","v":0},{"$f":"SUM(J12:K12)","v":0},0,{"$f":"IF('Computo-Massimali'!L12>0,L12/'Computo-Massimali'!L12,0)","v":0},{"$f":"IF(F12>0,IF(F12-0.001>'Computo-Massimali'!F12,\">Computo\",IF(F12+0.001<'SAL.60%'!F12,\"< SAL.2\",\"\")),\"\")","v":""},null,"PS) Isolamento Pavimenti",{"$f":"'Computo-Massimali'!T12","v":0},"ok",null,{"$f":"IF($L$13<>0,(L12/$L$13)*$U$13,0)","v":0},null,0,null,0,null,0]
[null,null,{"$f":"'Computo-Massimali'!C13","v":"Totali Isolamento PV) PO) POND) PS) "},null,null,{"$f":"SUM(F9:F12)","v":0},{"$f":"SUM(G9:G12)","v":0},{"$f":"SUM(H9:H12)","v":0},0,0,0,0,0,{"$f":"IF('Computo-Massimali'!L13>0,L13/'Computo-Massimali'!L13,0)","v":0},{"$f":"IF(F13>0,IF(F13-0.001>'Computo-Massimali'!F13,\">Computo\",IF(F13+0.001<'SAL.60%'!F13,\"< SAL.2\",\"\")),\"\")","v":""},null,"Totali Isolamento PV) PO) POND) PS) ",{"$f":"'Computo-Massimali'!T13","v":0},"ok",null,{"$f":"IF(L13<R13,L13,R13)","v":0},null,0,null,0,null,0]
[null,null,{"$f":"'Computo-Massimali'!C14","v":"Impianti climatizzazione e ACS "},null,null,0,{"$f":"IF('Computo-Massimali'!F14<>0,'Computo-Massimali'!G14*F14/'Computo-Massimali'!F14,0)","v":0},{"$f":"SUM(F14:G14)","v":0},{"$f":"F14*'Dati Gen'!$J$20+G14*'Dati Gen'!$J$19","v":0},{"$f":"H14+I14","v":0},{"$f":"IF('Computo-Massimali'!F14<>0,'Computo-Massimali'!K14*F14/'Computo-Massimali'!F14,0)","v":0},{"$f":"SUM(J14:K14)","v":0},0,{"$f":"IF('Computo-Massimali'!L14>0,L14/'Computo-Massimali'!L14,0)","v":0},{"$f":"IF(F14>0,IF(F14-0.001>'Computo-Massimali'!F14,\">Computo\",IF(F14+0.001<'SAL.60%'!F14,\"< SAL.2\",\"\")),\"\")","v":""},null,"Impianti climatizzazione e ACS ",{"$f":"'Computo-Massimali'!T14","v":0},"ok",null,{"$f":"IF(L14<R14,L14,R14)","v":0},null,0,null,0,null,0]
[null,null,{"$f":"'Computo-Massimali'!C15","v":"SismaBonus Zona 1,2 o 3"},null,null,0,{"$f":"IF('Computo-Massimali'!F15<>0,'Computo-Massimali'!G15*F15/'Computo-Massimali'!F15,0)","v":0},{"$f":"SUM(F15:G15)","v":0},{"$f":"F15*'Dati Gen'!$J$20+G15*'Dati Gen'!$J$19","v":0},{"$f":"H15+I15","v":0},{"$f":"IF('Computo-Massimali'!F15<>0,'Computo-Massimali'!K15*F15/'Computo-Massimali'!F15,0)","v":0},{"$f":"SUM(J15:K15)","v":0},0,{"$f":"IF('Computo-Massimali'!L15>0,L15/'Computo-Massimali'!L15,0)","v":0},{"$f":"IF(F15>0,IF(F15-0.001>'Computo-Massimali'!F15,\">Computo\",IF(F15+0.001<'SAL.60%'!F15,\"< SAL.2\",\"\")),\"\")","v":""},null,"SismaBonus Zona 1,2 o 3",{"$f":"'Computo-Massimali'!T15","v":0},"ok",null,{"$f":"IF(L15<R15,L15,R15)","v":0},null,0,null,0,null,0]
[null,null,{"$f":"'Computo-Massimali'!C16","v":"Totale interventi Trainanti  : "},null,null,{"$f":"SUM(F13:F15)","v":0},{"$f":"SUM(G13:G15)","v":0},0,0,0,0,0,{"$f":"SUM(M13:M15)","v":0},{"$f":"IF('Computo-Massimali'!L16>0,L16/'Computo-Massimali'!L16,0)","v":0},{"$f":"IF(F16>0,IF(F16-0.001>'Computo-Massimali'!F16,\">Computo\",IF(F16+0.001<'SAL.60%'!F16,\"< SAL.2\",\"\")),\"\")","v":""},null,null,{"$f":"C16","v":"Totale interventi Trainanti  : "},null,null,{"$f":"SUM(U13:V15)","v":0},null,{"$f":"SUM(W13:X15)","v":0},null,{"$f":"SUM(Y13:Z15)","v":0},null,{"$f":"SUM(AA13:AB15)","v":0}]
[]
[null,null,"INTERVENTI TRAINATI PARTI COMUNI CONDOMINIALI",null,null,null,null,null,null,null,null,null,null,null,"..",null,{"$f":"CONCATENATE(\"Verifica Massimali di Spesa \",C18)","v":"Verifica Massimali di Spesa INTERVENTI TRAINATI PARTI COMUNI CONDOMINIALI"}]
[null,null,"  Interventi",null,null,"Importo Lavori","Incidenza Sicurezza","Imponibile","Iva","Importo c.iva","Spese tecniche","Totale","Credito Spettante  110% Spesa Ammessa","%SAL",null,null,null,"Massimale  spesa","Verifica Max",null,"Spesa Ammessa",null,"Quota Eccedente Massimale Spesa ",null,"Credito Spettante                                110% Spesa Ammessa                              Quota Impresa        |    Quota Tecnici"]
[null,null,{"$f":"'Computo-Massimali'!C20","v":"PV) Isolamento pareti perimetrali"},null,{"$f":"'Computo-Massimali'!E20","v":"Interno"},0,{"$f":"IF('Computo-Massimali'!F20<>0,'Computo-Massimali'!G20*F20/'Computo-Massimali'!F20,0)","v":0},{"$f":"SUM(F20:G20)","v":0},{"$f":"F20*'Dati Gen'!$J$20+G20*'Dati Gen'!$J$19","v":0},{"$f":"H20+I20","v":0},{"$f":"IF('Computo-Massimali'!F20<>0,'Computo-Massimali'!K20*F20/'Computo-Massimali'!F20,0)","v":0},{"$f":"SUM(J20:K20)","v":0},{"$f":"IF(L20<=R20,L20*1.1,R20*1.1)","v":0},{"$f":"IF('Computo-Massimali'!L20>0,L20/'Computo-Massimali'!L20,0)","v":0},{"$f":"IF(F20>0,IF(F20-0.001>'Computo-Massimali'!F20,\">Computo\",IF(F20+0.001<'SAL.60%'!F20,\"< SAL.2\",\"\")),\"\")","v":""},null,{"$f":"C20","v":"PV) Isolamento pareti perimetrali"},{"$f":"'Computo-Massimali'!T20","v":0},{"$f":"IF(L20>M20,\"KO Tot.>Detr.\",IF(L20>R20,\"ko\",\"ok\"))","v":"ok"},null,{"$f":"IF($L$24<>0,(L20/$L$24)*$U$24,0)","v":0},null,{"$f":"IF(L20>R20,L20-R20,0)","v":0},null,{"$f":"IF(M20<>0,J20*M20/L20,0)","v":0},null,{"$f":"IF(M20<>0,K20*M20/L20,0)","v":0}]
[null,null,{"$f":"'Computo-Massimali'!C21","v":"PO) Isolamento coperture"},null,{"$f":"'Computo-Massimali'!E21","v":"Esterno"},0,{"$f":"IF('Computo-Massimali'!F21<>0,'Computo-Massimali'!G21*F21/'Computo-Massimali'!F21,0)","v":0},{"$f":"SUM(F21:G21)","v":0},{"$f":"F21*'Dati Gen'!$J$20+G21*'Dati Gen'!$J$19","v":0},{"$f":"H21+I21","v":0},{"$f":"IF('Computo-Massimali'!F21<>0,'Computo-Massimali'!K21*F21/'Computo-Massimali'!F21,0)","v":0},{"$f":"SUM(J21:K21)","v":0},{"$f":"IF(L21<=R21,L21*1.1,R21*1.1)","v":0},{"$f":"IF('Computo-Massimali'!L21>0,L21/'Computo-Massimali'!L21,0)","v":0},{"$f":"IF(F21>0,IF(F21-0.001>'Computo-Massimali'!F21,\">Computo\",IF(F21+0.001<'SAL.60%'!F21,\"< SAL.2\",\"\")),\"\")","v":""},null,"PO) Isolamento coperture",{"$f":"'Computo-Massimali'!T21","v":0},"ok",null,{"$f":"IF($L$24<>0,(L21/$L$24)*$U$24,0)","v":0},null,0,null,0,null,0]
[null,null,{"$f":"'Computo-Massimali'!C22","v":"PS) Isolamento Pavimenti"},null,{"$f":"'Computo-Massimali'!E22","v":"Interno/terreno"},0,{"$f":"IF('Computo-Massimali'!F22<>0,'Computo-Massimali'!G22*F22/'Computo-Massimali'!F22,0)","v":0},{"$f":"SUM(F22:G22)","v":0},{"$f":"F22*'Dati Gen'!$J$20+G22*'Dati Gen'!$J$19","v":0},{"$f":"H22+I22","v":0},{"$f":"IF('Computo-Massimali'!F22<>0,'Computo-Massimali'!K22*F22/'Computo-Massimali'!F22,0)","v":0},{"$f":"SUM(J22:K22)","v":0},{"$f":"IF(L22<=R22,L22*1.1,R22*1.1)","v":0},{"$f":"IF('Computo-Massimali'!L22>0,L22/'Computo-Massimali'!L22,0)","v":0},{"$f":"IF(F22>0,IF(F22-0.001>'Computo-Massimali'!F22,\">Computo\",IF(F22+0.001<'SAL.60%'!F22,\"< SAL.2\",\"\")),\"\")","v":""},null,"PS) Isolamento Pavimenti",{"$f":"'Computo-Massimali'!T22","v":0},"ok",null,{"$f":"IF($L$24<>0,(L22/$L$24)*$U$24,0)","v":0},null,0,null,0,null,0]
[null,null,{"$f":"'Computo-Massimali'!C23","v":"IN) Serramenti con chiusure oscuranti"},null,{"$f":"'Computo-Massimali'!E23","v":"Zone D, E ed F"},0,{"$f":"IF('Computo-Massimali'!F23<>0,'Computo-Massimali'!G23*F23/'Computo-Massimali'!F23,0)","v":0},{"$f":"SUM(F23:G23)","v":0},{"$f":"F23*'Dati Gen'!$J$20+G23*'Dati Gen'!$J$19","v":0},{"$f":"H23+I23","v":0},{"$f":"IF('Computo-Massimali'!F23<>0,'Computo-Massimali'!K23*F23/'Computo-Massimali'!F23,0)","v":0},{"$f":"SUM(J23:K23)","v":0},{"$f":"IF(L23<=R23,L23*1.1,R23*1.1)","v":0},{"$f":"IF('Computo-Massimali'!L23>0,L23/'Computo-Massimali'!L23,0)","v":0},{"$f":"IF(F23>0,IF(F23-0.001>'Computo-Massimali'!F23,\">Computo\",IF(F23+0.001<'SAL.60%'!F23,\"< SAL.2\",\"\")),\"\")","v":""},null,"IN) Serramenti con chiusure oscuranti",{"$f":"'Computo-Massimali'!T23","v":0},"ok",null,{"$f":"IF($L$24<>0,(L23/$L$24)*$U$24,0)","v":0},null,0,null,0,null,0]
[null,null,{"$f":"'Computo-Massimali'!C24","v":"Totali Isolamento PV) PO) PS) e IN)"},null,null,{"$f":"SUM(F20:F23)","v":0},0,0,0,0,0,0,0,{"$f":"IF('Computo-Massimali'!L24>0,L24/'Computo-Massimali'!L24,0)","v":0},{"$f":"IF(F24>0,IF(F24-0.001>'Computo-Massimali'!F24,\">Computo\",IF(F24+0.001<'SAL.60%'!F24,\"< SAL.2\",\"\")),\"\")","v":""},null,"Totali Isolamento PV) PO) PS) e IN)",{"$f":"'Computo-Massimali'!T24","v":0},"ok",null,{"$f":"IF(L24<R24,L24,R24)","v":0},null,0,null,0,null,0]
[null,null,{"$f":"'Computo-Massimali'!C25","v":"SS) Schermature solari e chiusure oscuranti"},null,null,0,{"$f":"IF('Computo-Massimali'!F25<>0,'Computo-Massimali'!G25*F25/'Computo-Massimali'!F25,0)","v":0},{"$f":"SUM(F25:G25)","v":0},{"$f":"F25*'Dati Gen'!$J$20+G25*'Dati Gen'!$J$19","v":0},0,{"$f":"IF('Computo-Massimali'!F25<>0,'Computo-Massimali'!K25*F25/'Computo-Massimali'!F25,0)","v":0},{"$f":"SUM(J25:K25)","v":0},{"$f":"IF(L25<=R25,L25*1.1,R25*1.1)","v":0},{"$f":"IF('Computo-Massimali'!L25>0,L25/'Computo-Massimali'!L25,0)","v":0},{"$f":"IF(F25>0,IF(F25-0.001>'Computo-Massimali'!F25,\">Computo\",IF(F25+0.001<'SAL.60%'!F25,\"< SAL.2\",\"\")),\"\")","v":""},null,"SS) Schermature solari e chiusure oscuranti",{"$f":"'Computo-Massimali'!T25","v":0},"ok",null,{"$f":"IF(L25<R25,L25,R25)","v":0},null,0,null,0,null,0]
[null,null,{"$f":"'Computo-Massimali'!C26","v":"Impianti climatizzazione con "},null,null,0,{"$f":"IF('Computo-Massimali'!F26<>0,'Computo-Massimali'!G26*F26/'Computo-Massimali'!F26,0)","v":0},{"$f":"SUM(F26:G26)","v":0},{"$f":"F26*'Dati Gen'!$J$20+G26*'Dati Gen'!$J$19","v":0},0,{"$f":"IF('Computo-Massimali'!F26<>0,'Computo-Massimali'!K26*F26/'Computo-Massimali'!F26,0)","v":0},0,{"$f":"IF(L26<=R26,L26*1.1,R26*1.1)","v":0},{"$f":"IF('Computo-Massimali'!L26>0,L26/'Computo-Massimali'!L26,0)","v":0},{"$f":"IF(F26>0,IF(F26-0.001>'Computo-Massimali'!F26,\">Computo\",IF(F26+0.001<'SAL.60%'!F26,\"< SAL.2\",\"\")),\"\")","v":""},null,"Impianti climatizzazione con ",{"$f":"'Computo-Massimali'!T26","v":0},"ok",null,{"$f":"IF(L26<R26,L26,R26)","v":0},null,0,null,0,null,0]
[null,null,{"$f":"'Computo-Massimali'!C27","v":"GA) Generatori aria calda Condensazione"},null,null,0,{"$f":"IF('Computo-Massimali'!F27<>0,'Computo-Massimali'!G27*F27/'Computo-Massimali'!F27,0)","v":0},{"$f":"SUM(F27:G27)","v":0},{"$f":"F27*'Dati Gen'!$J$20+G27*'Dati Gen'!$J$19","v":0},0,{"$f":"IF('Computo-Massimali'!F27<>0,'Computo-Massimali'!K27*F27/'Computo-Massimali'!F27,0)","v":0},0,{"$f":"IF(L27<=R27,L27*1.1,R27*1.1)","v":0},{"$f":"IF('Computo-Massimali'!L27>0,L27/'Computo-Massimali'!L27,0)","v":0},{"$f":"IF(F27>0,IF(F27-0.001>'Computo-Massimali'!F27,\">Computo\",IF(F27+0.001<'SAL.60%'!F27,\"< SAL.2\",\"\")),\"\")","v":""},null,"GA) Generatori aria calda Condensazione",{"$f":"'Computo-Massimali'!T27","v":0},"ok",null,{"$f":"IF($L$30<>0,(L27/$L$30)*$U$30,0)","v":0},null,{"$f":"IF(L27>R27,L27-R27,0)","v":0},null,{"$f":"IF(M27<>0,J27*M27/L27,0)","v":0},null,{"$f":"IF(M27<>0,K27*M27/L27,0)","v":0}]
[null,null,{"$f":"'Computo-Massimali'!C28","v":"IB) Impianti Biomassa"},null,null,0,{"$f":"IF('Computo-Massimali'!F28<>0,'Computo-Massimali'!G28*F28/'Computo-Massimali'!F28,0)","v":0},{"$f":"SUM(F28:G28)","v":0},{"$f":"F28*'Dati Gen'!$J$20+G28*'Dati Gen'!$J$19","v":0},0,{"$f":"IF('Computo-Massimali'!F28<>0,'Computo-Massimali'!K28*F28/'Computo-Massimali'!F28,0)","v":0},0,{"$f":"IF(L28<=R28,L28*1.1,R28*1.1)","v":0},{"$f":"IF('Computo-Massimali'!L28>0,L28/'Computo-Massimali'!L28,0)","v":0},{"$f":"IF(F28>0,IF(F28-0.001>'Computo-Massimali'!F28,\">Computo\",IF(F28+0.001<'SAL.60%'!F28,\"< SAL.2\",\"\")),\"\")","v":""},null,"IB) Impianti Biomassa",{"$f":"'Computo-Massimali'!T28","v":0},"ok",null,{"$f":"IF($L$30<>0,(L28/$L$30)*$U$30,0)","v":0},null,0,null,0,null,0]
[null,null,{"$f":"'Computo-Massimali'!C29","v":"SA) Scaldacqua a pompa di calore"},null,null,0,{"$f":"IF('Computo-Massimali'!F29<>0,'Computo-Massimali'!G29*F29/'Computo-Massimali'!F29,0)","v":0},{"$f":"SUM(F29:G29)","v":0},{"$f":"F29*'Dati Gen'!$J$20+G29*'Dati Gen'!$J$19","v":0},0,{"$f":"IF('Computo-Massimali'!F29<>0,'Computo-Massimali'!K29*F29/'Computo-Massimali'!F29,0)","v":0},0,{"$f":"IF(L29<=R29,L29*1.1,R29*1.1)","v":0},{"$f":"IF('Computo-Massimali'!L29>0,L29/'Computo-Massimali'!L29,0)","v":0},{"$f":"IF(F29>0,IF(F29-0.001>'Computo-Massimali'!F29,\">Computo\",IF(F29+0.001<'SAL.60%'!F29,\"< SAL.2\",\"\")),\"\")","v":""},null,"SA) Scaldacqua a pompa di calore",{"$f":"'Computo-Massimali'!T29","v":0},"ok",null,{"$f":"IF($L$30<>0,(L29/$L$30)*$U$30,0)","v":0},null,0,null,0,null,0]
[null,null,{"$f":"'Computo-Massimali'!C30","v":"Totali GA)  IB)  SA)"},null,null,{"$f":"SUM(F27:F29)","v":0},{"$f":"SUM(G27:G29)","v":0},0,0,0,{"$f":"SUM(K27:K29)","v":0},{"$f":"SUM(L27:L29)","v":0},0,{"$f":"IF('Computo-Massimali'!L30>0,L30/'Computo-Massimali'!L30,0)","v":0},{"$f":"IF(F30>0,IF(F30-0.001>'Computo-Massimali'!F30,\">Computo\",IF(F30+0.001<'SAL.60%'!F30,\"< SAL.2\",\"\")),\"\")","v":""},null,"Totali GA)  IB)  SA)",{"$f":"'Computo-Massimali'!T30","v":0},"ok",null,{"$f":"IF(L30<R30,L30,R30)","v":0},null,0,null,0,null,0]
[null,null,{"$f":"'Computo-Massimali'!C31","v":"CO) Sistemi di Microgenerazione"},null,null,0,{"$f":"IF('Computo-Massimali'!F31<>0,'Computo-Massimali'!G31*F31/'Computo-Massimali'!F31,0)","v":0},{"$f":"SUM(F31:G31)","v":0},{"$f":"F31*'Dati Gen'!$J$20+G31*'Dati Gen'!$J$19","v":0},{"$f":"H31+I31","v":0},{"$f":"IF('Computo-Massimali'!F31<>0,'Computo-Massimali'!K31*F31/'Computo-Massimali'!F31,0)","v":0},{"$f":"SUM(J31:K31)","v":0},{"$f":"IF(L31<=R31,L31*1.1,R31*1.1)","v":0},{"$f":"IF('Computo-Massimali'!L31>0,L31/'Computo-Massimali'!L31,0)","v":0},{"$f":"IF(F31>0,IF(F31-0.001>'Computo-Massimali'!F31,\">Computo\",IF(F31+0.001<'SAL.60%'!F31,\"< SAL.2\",\"\")),\"\")","v":""},null,"CO) Sistemi di Microgenerazione",{"$f":"'Computo-Massimali'!T31","v":0},"ok",null,0,null,0,null,0,null,0]
[null,null,{"$f":"'Computo-Massimali'!C32","v":"ST) Collettori Solari"},null,{"$f":"'Computo-Massimali'!E32","v":"Piani Vetrati"},0,{"$f":"IF('Computo-Massimali'!F32<>0,'Computo-Massimali'!G32*F32/'Computo-Massimali'!F32,0)","v":0},0,{"$f":"F32*'Dati Gen'!$J$20+G32*'Dati Gen'!$J$19","v":0},{"$f":"H32+I32","v":0},{"$f":"IF('Computo-Massimali'!F32<>0,'Computo-Massimali'!K32*F32/'Computo-Massimali'!F32,0)","v":0},{"$f":"SUM(J32:K32)","v":0},0,{"$f":"IF('Computo-Massimali'!L32>0,L32/'Computo-Massimali'!L32,0)","v":0},{"$f":"IF(F32>0,IF(F32-0.001>'Computo-Massimali'!F32,\">Computo\",IF(F32+0.001<'SAL.60%'!F32,\"< SAL.2\",\"\")),\"\")","v":""},null,"ST) Collettori Solari",{"$f":"'Computo-Massimali'!T32","v":0},"ok",null,0,null,0,null,0,null,0]
[null,null,{"$f":"'Computo-Massimali'!C33","v":"FV) Solare Fotovoltaico [ kWp ]"},null,{"$f":"'Computo-Massimali'!E33","v":6},0,{"$f":"IF('Computo-Massimali'!F33<>0,'Computo-Massimali'!G33*F33/'Computo-Massimali'!F33,0)","v":0},0,{"$f":"F33*'Dati Gen'!$J$20+G33*'Dati Gen'!$J$19","v":0},{"$f":"H33+I33","v":0},{"$f":"IF('Computo-Massimali'!F33<>0,'Computo-Massimali'!K33*F33/'Computo-Massimali'!F33,0)","v":0},{"$f":"SUM(J33:K33)","v":0},0,{"$f":"IF('Computo-Massimali'!L33>0,L33/'Computo-Massimali'!L33,0)","v":0},{"$f":"IF(F33>0,IF(F33-0.001>'Computo-Massimali'!F33,\">Computo\",IF(F33+0.001<'SAL.60%'!F33,\"< SAL.2\",\"\")),\"\")","v":""},null,"FV) Solare Fotovoltaico [ kWp ]",{"$f":"'Computo-Massimali'!T33","v":0},"ok",null,0,null,0,null,0,null,0]
[null,null,{"$f":"'Computo-Massimali'!C34","v":"AC) Sistema di Accumulo [ kWh ]"},null,{"$f":"'Computo-Massimali'!E34","v":10},0,{"$f":"IF('Computo-Massimali'!F34<>0,'Computo-Massimali'!G34*F34/'Computo-Massimali'!F34,0)","v":0},0,{"$f":"F34*'Dati Gen'!$J$20+G34*'Dati Gen'!$J$19","v":0},{"$f":"H34+I34","v":0},{"$f":"IF('Computo-Massimali'!F34<>0,'Computo-Massimali'!K34*F34/'Computo-Massimali'!F34,0)","v":0},{"$f":"SUM(J34:K34)","v":0},0,{"$f":"IF('Computo-Massimali'!L34>0,L34/'Computo-Massimali'!L34,0)","v":0},{"$f":"IF(F34>0,IF(F34-0.001>'Computo-Massimali'!F34,\">Computo\",IF(F34+0.001<'SAL.60%'!F34,\"< SAL.2\",\"\")),\"\")","v":""},null,"AC) Sistema di Accumulo [ kWh ]",{"$f":"'Computo-Massimali'!T34","v":0},"ok",null,0,null,0,null,0,null,0]
[null,null,{"$f":"'Computo-Massimali'!C35","v":"CR) Colonnine di Ricarica  [ N. ]"},null,{"$f":"'Computo-Massimali'!E35","v":1},0,{"$f":"IF('Computo-Massimali'!F35<>0,'Computo-Massimali'!G35*F35/'Computo-Massimali'!F35,0)","v":0},0,{"$f":"F35*'Dati Gen'!$J$20+G35*'Dati Gen'!$J$19","v":0},0,{"$f":"IF('Computo-Massimali'!F35<>0,'Computo-Massimali'!K35*F35/'Computo-Massimali'!F35,0)","v":0},0,0,{"$f":"IF('Computo-Massimali'!L35>0,L35/'Computo-Massimali'!L35,0)","v":0},{"$f":"IF(F35>0,IF(F35-0.001>'Computo-Massimali'!F35,\">Computo\",IF(F35+0.001<'SAL.60%'!F35,\"< SAL.2\",\"\")),\"\")","v":""},null,"CR) Colonnine di Ricarica  [ N. ]",{"$f":"'Computo-Massimali'!T35","v":0},"ok",null,0,null,0,null,0,null,0]
[null,null,{"$f":"'Computo-Massimali'!C36","v":"EBA) Eliminazione Barriere architettoniche"},null,null,0,{"$f":"IF('Computo-Massimali'!F36<>0,'Computo-Massimali'!G36*F36/'Computo-Massimali'!F36,0)","v":0},0,{"$f":"F36*'Dati Gen'!$J$20+G36*'Dati Gen'!$J$19","v":0},0,{"$f":"IF('Computo-Massimali'!F36<>0,'Computo-Massimali'!K36*F36/'Computo-Massimali'!F36,0)","v":0},0,0,{"$f":"IF('Computo-Massimali'!L36>0,L36/'Computo-Massimali'!L36,0)","v":0},{"$f":"IF(F36>0,IF(F36-0.001>'Computo-Massimali'!F36,\">Computo\",IF(F36+0.001<'SAL.60%'!F36,\"< SAL.2\",\"\")),\"\")","v":""},null,"EBA) Eliminazione Barriere architettoniche",{"$f":"'Computo-Massimali'!T36","v":0},"ok",null,0,null,0,null,0,null,0]
[null,null,{"$f":"'Computo-Massimali'!C37","v":"Totale Interventi Trainati Parti Comuni : "},null,null,{"$f":"SUM(F24:F26)+SUM(F30:F36)","v":0},{"$f":"SUM(G24:G26)+SUM(G30:G36)","v":0},0,0,0,0,{"$f":"SUM(L24:L26)+SUM(L30:L36)","v":0},0,{"$f":"IF('Computo-Massimali'!L37>0,L37/'Computo-Massimali'!L37,0)","v":0},{"$f":"IF(F37>0,IF(F37-0.001>'Computo-Massimali'!F37,\">Computo\",IF(F37+0.001<'SAL.60%'!F37,\"< SAL.2\",\"\")),\"\")","v":""},null,null,{"$f":"C37","v":"Totale Interventi Trainati Parti Comuni : "},null,null,{"$f":"U24+U25+U26+SUM(U30:V36)","v":0},null,{"$f":"W24+W25+W26+SUM(W30:X36)","v":0},null,{"$f":"Y24+Y25+Y26+SUM(Y30:Z36)","v":0},null,{"$f":"AA24+AA25+AA26+SUM(AA30:AB36)","v":0}]
[]
[]
[null,null,"INTERVENTI TRAINATI",null,null,null,null,null,null,null,null,null,null,null,"..",null,{"$f":"CONCATENATE(\"Verifica Massimali di Spesa \",C40)","v":"Verifica Massimali di Spesa INTERVENTI TRAINATI"}]
[null,null,"  Interventi",null,null,"Importo Lavori","Incidenza Sicurezza","Imponibile","Iva","Importo c.iva","Spese tecniche","Totale","Credito Spettante  110% Spesa Ammessa","%SAL",null,null,null,"Massimale  spesa","Verifica Max",null,"Spesa Ammessa",null,"Quota Eccedente Massimale Spesa ",null,"Credito Spettante                                110% Spesa Ammessa                              Quota Impresa        |    Quota Tecnici"]
[null,null,{"$f":"'Computo-Massimali'!C42:D42","v":"PV) Isolamento pareti perimetrali"},null,{"$f":"'Computo-Massimali'!E42","v":"Esterno"},0,{"$f":"IF('Computo-Massimali'!F42<>0,'Computo-Massimali'!G42*F42/'Computo-Massimali'!F42,0)","v":0},{"$f":"SUM(F42:G42)","v":0},{"$f":"F42*'Dati Gen'!$J$20+G42*'Dati Gen'!$J$19","v":0},{"$f":"H42+I42","v":0},{"$f":"IF('Computo-Massimali'!F42<>0,'Computo-Massimali'!K42*F42/'Computo-Massimali'!F42,0)","v":0},{"$f":"SUM(J42:K42)","v":0},{"$f":"IF(L42<=R42,L42*1.1,R42*1.1)","v":0},{"$f":"IF('Computo-Massimali'!L42>0,L42/'Computo-Massimali'!L42,0)","v":0},{"$f":"IF(F42>0,IF(F42-0.001>'Computo-Massimali'!F42,\">Computo\",IF(F42+0.001<'SAL.60%'!F42,\"< SAL.2\",\"\")),\"\")","v":""},null,{"$f":"C42","v":"PV) Isolamento pareti perimetrali"},{"$f":"'Computo-Massimali'!T42","v":0},{"$f":"IF(L42>M42,\"KO Tot.>Detr.\",IF(L42>R42,\"ko\",\"ok\"))","v":"ok"},null,{"$f":"IF($L$46<>0,(L42/$L$46)*$U$46,0)","v":0},null,{"$f":"IF(L42>R42,L42-R42,0)","v":0},null,{"$f":"IF(M42<>0,J42*M42/L42,0)","v":0},null,{"$f":"IF(M42<>0,K42*M42/L42,0)","v":0}]
[null,null,{"$f":"'Computo-Massimali'!C43:D43","v":"PO) Isolamento coperture"},null,"Esterno",0,{"$f":"IF('Computo-Massimali'!F43<>0,'Computo-Massimali'!G43*F43/'Computo-Massimali'!F43,0)","v":0},{"$f":"SUM(F43:G43)","v":0},{"$f":"F43*'Dati Gen'!$J$20+G43*'Dati Gen'!$J$19","v":0},{"$f":"H43+I43","v":0},{"$f":"IF('Computo-Massimali'!F43<>0,'Computo-Massimali'!K43*F43/'Computo-Massimali'!F43,0)","v":0},{"$f":"SUM(J43:K43)","v":0},{"$f":"IF(L43<=R43,L43*1.1,R43*1.1)","v":0},{"$f":"IF('Computo-Massimali'!L43>0,L43/'Computo-Massimali'!L43,0)","v":0},{"$f":"IF(F43>0,IF(F43-0.001>'Computo-Massimali'!F43,\">Computo\",IF(F43+0.001<'SAL.60%'!F43,\"< SAL.2\",\"\")),\"\")","v":""},null,"PO) Isolamento coperture",{"$f":"'Computo-Massimali'!T43","v":0},"ok",null,{"$f":"IF($L$46<>0,(L43/$L$46)*$U$46,0)","v":0},null,0,null,0,null,0]
[null,null,{"$f":"'Computo-Massimali'!C44:D44","v":"PS) Isolamento Pavimenti"},null,"Esterno",0,{"$f":"IF('Computo-Massimali'!F44<>0,'Computo-Massimali'!G44*F44/'Computo-Massimali'!F44,0)","v":0},{"$f":"SUM(F44:G44)","v":0},{"$f":"F44*'Dati Gen'!$J$20+G44*'Dati Gen'!$J$19","v":0},{"$f":"H44+I44","v":0},{"$f":"IF('Computo-Massimali'!F44<>0,'Computo-Massimali'!K44*F44/'Computo-Massimali'!F44,0)","v":0},{"$f":"SUM(J44:K44)","v":0},{"$f":"IF(L44<=R44,L44*1.1,R44*1.1)","v":0},{"$f":"IF('Computo-Massimali'!L44>0,L44/'Computo-Massimali'!L44,0)","v":0},{"$f":"IF(F44>0,IF(F44-0.001>'Computo-Massimali'!F44,\">Computo\",IF(F44+0.001<'SAL.60%'!F44,\"< SAL.2\",\"\")),\"\")","v":""},null,"PS) Isolamento Pavimenti",{"$f":"'Computo-Massimali'!T44","v":0},"ok",null,{"$f":"IF($L$46<>0,(L44/$L$46)*$U$46,0)","v":0},null,0,null,0,null,0]
[null,null,{"$f":"'Computo-Massimali'!C45:D45","v":"IN) Serramenti con chiusure oscuranti"},null,{"$f":"'Computo-Massimali'!E45","v":"Zone D, E ed F"},0,{"$f":"IF('Computo-Massimali'!F45<>0,'Computo-Massimali'!G45*F45/'Computo-Massimali'!F45,0)","v":0},{"$f":"SUM(F45:G45)","v":0},{"$f":"F45*'Dati Gen'!$J$20+G45*'Dati Gen'!$J$19","v":0},{"$f":"H45+I45","v":0},{"$f":"IF('Computo-Massimali'!F45<>0,'Computo-Massimali'!K45*F45/'Computo-Massimali'!F45,0)","v":0},{"$f":"SUM(J45:K45)","v":0},{"$f":"IF(L45<=R45,L45*1.1,R45*1.1)","v":0},{"$f":"IF('Computo-Massimali'!L45>0,L45/'Computo-Massimali'!L45,0)","v":0},{"$f":"IF(F45>0,IF(F45-0.001>'Computo-Massimali'!F45,\">Computo\",IF(F45+0.001<'SAL.60%'!F45,\"< SAL.2\",\"\")),\"\")","v":""},null,"IN) Serramenti con chiusure oscuranti",{"$f":"'Computo-Massimali'!T45","v":0},"ok",null,{"$f":"IF($L$46<>0,(L45/$L$46)*$U$46,0)","v":0},null,0,null,0,null,0]
[null,null,{"$f":"'Computo-Massimali'!C46:D46","v":"Totali Isolamento PV) PO) PS) e IN"},null,null,{"$f":"SUM(F42:F45)","v":0},{"$f":"SUM(G42:G45)","v":0},0,0,0,{"$f":"SUM(K42:K45)","v":0},{"$f":"SUM(L42:L45)","v":0},0,{"$f":"IF('Computo-Massimali'!L46>0,L46/'Computo-Massimali'!L46,0)","v":0},{"$f":"IF(F46>0,IF(F46-0.001>'Computo-Massimali'!F46,\">Computo\",IF(F46+0.001<'SAL.60%'!F46,\"< SAL.2\",\"\")),\"\")","v":""},null,"Totali Isolamento PV) PO) PS) e IN",{"$f":"'Computo-Massimali'!T46","v":0},"ok",null,{"$f":"IF(L46<R46,L46,R46)","v":0},null,0,null,0,null,0]
[null,null,{"$f":"'Computo-Massimali'!C47:D47","v":"SS) Schermature solari e chiusure oscuranti"},null,null,0,{"$f":"IF('Computo-Massimali'!F47<>0,'Computo-Massimali'!G47*F47/'Computo-Massimali'!F47,0)","v":0},{"$f":"SUM(F47:G47)","v":0},{"$f":"F47*'Dati Gen'!$J$20+G47*'Dati Gen'!$J$19","v":0},{"$f":"H47+I47","v":0},{"$f":"IF('Computo-Massimali'!F47<>0,'Computo-Massimali'!K47*F47/'Computo-Massimali'!F47,0)","v":0},{"$f":"SUM(J47:K47)","v":0},{"$f":"IF(L47<=R47,L47*1.1,R47*1.1)","v":0},{"$f":"IF('Computo-Massimali'!L47>0,L47/'Computo-Massimali'!L47,0)","v":0},{"$f":"IF(F47>0,IF(F47-0.001>'Computo-Massimali'!F47,\">Computo\",IF(F47+0.001<'SAL.60%'!F47,\"< SAL.2\",\"\")),\"\")","v":""},null,"SS) Schermature solari e chiusure oscuranti",{"$f":"'Computo-Massimali'!T47","v":0},"ok",null,{"$f":"IF(L47<R47,L47,R47)","v":0},null,0,null,0,null,0]
[null,null,{"$f":"'Computo-Massimali'!C48:D48","v":"Impianti climatizzazione con "},null,null,0,{"$f":"IF('Computo-Massimali'!F48<>0,'Computo-Massimali'!G48*F48/'Computo-Massimali'!F48,0)","v":0},{"$f":"SUM(F48:G48)","v":0},{"$f":"F48*'Dati Gen'!$J$20+G48*'Dati Gen'!$J$19","v":0},{"$f":"H48+I48","v":0},{"$f":"IF('Computo-Massimali'!F48<>0,'Computo-Massimali'!K48*F48/'Computo-Massimali'!F48,0)","v":0},{"$f":"SUM(J48:K48)","v":0},{"$f":"IF(L48<=R48,L48*1.1,R48*1.1)","v":0},{"$f":"IF('Computo-Massimali'!L48>0,L48/'Computo-Massimali'!L48,0)","v":0},{"$f":"IF(F48>0,IF(F48-0.001>'Computo-Massimali'!F48,\">Computo\",IF(F48+0.001<'SAL.60%'!F48,\"< SAL.2\",\"\")),\"\")","v":""},null,"Impianti climatizzazione con ",{"$f":"'Computo-Massimali'!T48","v":0},"ok",null,{"$f":"IF($L$50<>0,(L48/$L$50)*$U$50,0)","v":0},null,{"$f":"IF(L48>R48,L48-R48,0)","v":0},null,{"$f":"IF(M48<>0,J48*M48/L48,0)","v":0},null,{"$f":"IF(M48<>0,K48*M48/L48,0)","v":0}]
[null,null,{"$f":"'Computo-Massimali'!C49:D49","v":"SA) Scaldacqua a pompa di calore"},null,null,0,{"$f":"IF('Computo-Massimali'!F49<>0,'Computo-Massimali'!G49*F49/'Computo-Massimali'!F49,0)","v":0},{"$f":"SUM(F49:G49)","v":0},{"$f":"F49*'Dati Gen'!$J$20+G49*'Dati Gen'!$J$19","v":0},{"$f":"H49+I49","v":0},{"$f":"IF('Computo-Massimali'!F49<>0,'Computo-Massimali'!K49*F49/'Computo-Massimali'!F49,0)","v":0},{"$f":"SUM(J49:K49)","v":0},{"$f":"IF(L49<=R49,L49*1.1,R49*1.1)","v":0},{"$f":"IF('Computo-Massimali'!L49>0,L49/'Computo-Massimali'!L49,0)","v":0},{"$f":"IF(F49>0,IF(F49-0.001>'Computo-Massimali'!F49,\">Computo\",IF(F49+0.001<'SAL.60%'!F49,\"< SAL.2\",\"\")),\"\")","v":""},null,"SA) Scaldacqua a pompa di calore",{"$f":"'Computo-Massimali'!T49","v":0},"ok",null,{"$f":"IF($L$50<>0,(L49/$L$50)*$U$50,0)","v":0},null,0,null,0,null,0]
[null,null,{"$f":"'Computo-Massimali'!C50:D50","v":"Totali Impianti ed  SA)"},null,null,{"$f":"SUM(F48:F49)","v":0},0,0,0,0,0,0,0,{"$f":"IF('Computo-Massimali'!L50>0,L50/'Computo-Massimali'!L50,0)","v":0},{"$f":"IF(F50>0,IF(F50-0.001>'Computo-Massimali'!F50,\">Computo\",IF(F50+0.001<'SAL.60%'!F50,\"< SAL.2\",\"\")),\"\")","v":""},null,"Totali Impianti ed  SA)",{"$f":"'Computo-Massimali'!T50","v":0},"ok",null,{"$f":"IF(L50<R50,L50,R50)","v":0},null,0,null,0,null,0]
[null,null,{"$f":"'Computo-Massimali'!C51:D51","v":"CO) Sistemi di Microgenerazione"},null,null,0,{"$f":"IF('Computo-Massimali'!F51<>0,'Computo-Massimali'!G51*F51/'Computo-Massimali'!F51,0)","v":0},{"$f":"SUM(F51:G51)","v":0},{"$f":"F51*'Dati Gen'!$J$20+G51*'Dati Gen'!$J$19","v":0},{"$f":"H51+I51","v":0},{"$f":"IF('Computo-Massimali'!F51<>0,'Computo-Massimali'!K51*F51/'Computo-Massimali'!F51,0)","v":0},{"$f":"SUM(J51:K51)","v":0},{"$f":"IF(L51<=R51,L51*1.1,R51*1.1)","v":0},{"$f":"IF('Computo-Massimali'!L51>0,L51/'Computo-Massimali'!L51,0)","v":0},{"$f":"IF(F51>0,IF(F51-0.001>'Computo-Massimali'!F51,\">Computo\",IF(F51+0.001<'SAL.60%'!F51,\"< SAL.2\",\"\")),\"\")","v":""},null,"CO) Sistemi di Microgenerazione",{"$f":"'Computo-Massimali'!T51","v":0},"ok",null,0,null,0,null,0,null,0]
[null,null,{"$f":"'Computo-Massimali'!C52:D52","v":"IB) Generatori a Biomassa"},null,null,0,{"$f":"IF('Computo-Massimali'!F52<>0,'Computo-Massimali'!G52*F52/'Computo-Massimali'!F52,0)","v":0},0,{"$f":"F52*'Dati Gen'!$J$20+G52*'Dati Gen'!$J$19","v":0},0,{"$f":"IF('Computo-Massimali'!F52<>0,'Computo-Massimali'!K52*F52/'Computo-Massimali'!F52,0)","v":0},0,0,{"$f":"IF('Computo-Massimali'!L52>0,L52/'Computo-Massimali'!L52,0)","v":0},{"$f":"IF(F52>0,IF(F52-0.001>'Computo-Massimali'!F52,\">Computo\",IF(F52+0.001<'SAL.60%'!F52,\"< SAL.2\",\"\")),\"\")","v":""},null,"IB) Generatori a Biomassa",{"$f":"'Computo-Massimali'!T52","v":0},"ok",null,0,null,0,null,0,null,0]
[null,null,{"$f":"'Computo-Massimali'!C53:D53","v":"BA) Building Automation"},null,null,0,{"$f":"IF('Computo-Massimali'!F53<>0,'Computo-Massimali'!G53*F53/'Computo-Massimali'!F53,0)","v":0},0,{"$f":"F53*'Dati Gen'!$J$20+G53*'Dati Gen'!$J$19","v":0},0,{"$f":"IF('Computo-Massimali'!F53<>0,'Computo-Massimali'!K53*F53/'Computo-Massimali'!F53,0)","v":0},0,0,{"$f":"IF('Computo-Massimali'!L53>0,L53/'Computo-Massimali'!L53,0)","v":0},{"$f":"IF(F53>0,IF(F53-0.001>'Computo-Massimali'!F53,\">Computo\",IF(F53+0.001<'SAL.60%'!F53,\"< SAL.2\",\"\")),\"\")","v":""},null,"BA) Building Automation",{"$f":"'Computo-Massimali'!T53","v":0},"ok",null,0,null,0,null,0,null,0]
[null,null,{"$f":"'Computo-Massimali'!C54:D54","v":"ST) Collettori Solari"},null,{"$f":"'Computo-Massimali'!E54","v":"Piani Vetrati"},0,{"$f":"IF('Computo-Massimali'!F54<>0,'Computo-Massimali'!G54*F54/'Computo-Massimali'!F54,0)","v":0},0,{"$f":"F54*'Dati Gen'!$J$20+G54*'Dati Gen'!$J$19","v":0},0,{"$f":"IF('Computo-Massimali'!F54<>0,'Computo-Massimali'!K54*F54/'Computo-Massimali'!F54,0)","v":0},0,0,{"$f":"IF('Computo-Massimali'!L54>0,L54/'Computo-Massimali'!L54,0)","v":0},{"$f":"IF(F54>0,IF(F54-0.001>'Computo-Massimali'!F54,\">Computo\",IF(F54+0.001<'SAL.60%'!F54,\"< SAL.2\",\"\")),\"\")","v":""},null,"ST) Collettori Solari",{"$f":"'Computo-Massimali'!T54","v":0},"ok",null,0,null,0,null,0,null,0]
[null,null,{"$f":"'Computo-Massimali'!C55:D55","v":"FV) Solare Fotovoltaico [ kWp ]"},null,{"$f":"'Computo-Massimali'!E55","v":6},0,{"$f":"IF('Computo-Massimali'!F55<>0,'Computo-Massimali'!G55*F55/'Computo-Massimali'!F55,0)","v":0},0,{"$f":"F55*'Dati Gen'!$J$20+G55*'Dati Gen'!$J$19","v":0},0,{"$f":"IF('Computo-Massimali'!F55<>0,'Computo-Massimali'!K55*F55/'Computo-Massimali'!F55,0)","v":0},0,0,{"$f":"IF('Computo-Massimali'!L55>0,L55/'Computo-Massimali'!L55,0)","v":0},{"$f":"IF(F55>0,IF(F55-0.001>'Computo-Massimali'!F55,\">Computo\",IF(F55+0.001<'SAL.60%'!F55,\"< SAL.2\",\"\")),\"\")","v":""},null,"FV) Solare Fotovoltaico [ kWp ]",{"$f":"'Computo-Massimali'!T55","v":0},"ok",null,0,null,0,null,0,null,0]
[null,null,{"$f":"'Computo-Massimali'!C56:D56","v":"AC) Sistema di Accumulo [ kWh ]"},null,{"$f":"'Computo-Massimali'!E56","v":10},0,{"$f":"IF('Computo-Massimali'!F56<>0,'Computo-Massimali'!G56*F56/'Computo-Massimali'!F56,0)","v":0},0,{"$f":"F56*'Dati Gen'!$J$20+G56*'Dati Gen'!$J$19","v":0},0,{"$f":"IF('Computo-Massimali'!F56<>0,'Computo-Massimali'!K56*F56/'Computo-Massimali'!F56,0)","v":0},0,0,{"$f":"IF('Computo-Massimali'!L56>0,L56/'Computo-Massimali'!L56,0)","v":0},{"$f":"IF(F56>0,IF(F56-0.001>'Computo-Massimali'!F56,\">Computo\",IF(F56+0.001<'SAL.60%'!F56,\"< SAL.2\",\"\")),\"\")","v":""},null,"AC) Sistema di Accumulo [ kWh ]",{"$f":"'Computo-Massimali'!T56","v":0},"ok",null,0,null,0,null,0,null,0]
[null,null,{"$f":"'Computo-Massimali'!C57:D57","v":"CR) Colonnine di Ricarica"},null,{"$f":"'Computo-Massimali'!E57","v":1},0,{"$f":"IF('Computo-Massimali'!F57<>0,'Computo-Massimali'!G57*F57/'Computo-Massimali'!F57,0)","v":0},0,{"$f":"F57*'Dati Gen'!$J$20+G57*'Dati Gen'!$J$19","v":0},0,{"$f":"IF('Computo-Massimali'!F57<>0,'Computo-Massimali'!K57*F57/'Computo-Massimali'!F57,0)","v":0},0,0,{"$f":"IF('Computo-Massimali'!L57>0,L57/'Computo-Massimali'!L57,0)","v":0},{"$f":"IF(F57>0,IF(F57-0.001>'Computo-Massimali'!F57,\">Computo\",IF(F57+0.001<'SAL.60%'!F57,\"< SAL.2\",\"\")),\"\")","v":""},null,"CR) Colonnine di Ricarica",{"$f":"'Computo-Massimali'!T57","v":0},"ok",null,0,null,0,null,0,null,0]
[null,null,"EBA) Eliminazione Barriere architettoniche",null,null,0,{"$f":"IF('Computo-Massimali'!F58<>0,'Computo-Massimali'!G58*F58/'Computo-Massimali'!F58,0)","v":0},{"$f":"SUM(F58:G58)","v":0},{"$f":"F58*'Dati Gen'!$J$20+G58*'Dati Gen'!$J$19","v":0},0,0,0,0,{"$f":"IF('Computo-Massimali'!L58>0,L58/'Computo-Massimali'!L58,0)","v":0},{"$f":"IF(F58>0,IF(F58-0.001>'Computo-Massimali'!F58,\">Computo\",IF(F58+0.001<'SAL.60%'!F58,\"< SAL.2\",\"\")),\"\")","v":""},null,"EBA) Eliminazione Barriere architettoniche",{"$f":"'Computo-Massimali'!T58","v":0},"ok",null,0,null,0,null,0,null,0]
[null,null,"Totale Interventi trainati",null,null,{"$f":"F46+F47+SUM(F50:F58)","v":0},{"$f":"G46+G47+SUM(G50:G58)","v":0},0,0,0,0,0,0,{"$f":"IF('Computo-Massimali'!L59>0,L59/'Computo-Massimali'!L59,0)","v":0},{"$f":"IF(F59>0,IF(F59-0.001>'Computo-Massimali'!F59,\">Computo\",IF(F59+0.001<'SAL.60%'!F59,\"< SAL.2\",\"\")),\"\")","v":""},null,null,{"$f":"C59","v":"Totale Interventi trainati"},null,null,{"$f":"U46+U47+SUM(U50:V58)","v":0},null,{"$f":"W46+W47+SUM(W50:X58)","v":0},null,{"$f":"Y46+Y47+SUM(Y50:Z58)","v":0},null,{"$f":"AA46+AA47+SUM(AA50:AB58)","v":0}]
[]
[]
[]
[]
[]
[]
[]
[]
[]
[]
[]
[]
[]
[]
[]
[]
[]
[]
[null,null,"SimMZ"]
[]
[null,null,"TOTALI SAL Finale - INTERVENTI 110 ",null,null,"Importo Lavori","Incidenza Sicurezza","Imponibile","Iva","Importo c.iva","Spese tecniche","Totale","Credito Spettante  110% Spesa Ammessa","%SAL",null,null,{"$f":"C80","v":"TOTALI SAL Finale - INTERVENTI 110 "},null,null,null,"Spesa Ammessa",null,"Quota Eccedente Massimale Spesa ",null,"Credito Spettante                                110% Spesa Ammessa                                       Quota Impresa        |      Quota Tecnici"]
[null,null,null,null,null,{"$f":"F16+F59","v":0},0,0,0,0,0,0,0,{"$f":"IF('Computo-Massimali'!L81>0,L81/'Computo-Massimali'!L81,0)","v":0},{"$f":"IF(F81>0,IF(F81>'Computo-Massimali'!F81,\">Computo\",IF(F81<'SAL.60%'!F81,\"< SAL.2\",\"\")),\"\")","v":""},null,null,null,null,null,{"$f":"U16+U59","v":0},null,{"$f":"W16+W59","v":0},null,{"$f":"Y16+Y59","v":0},null,{"$f":"AA16+AA59","v":0}]
[]
[null,null,{"$f":"IF(N81>=99.999%,\"\",\"Attenzione!    SAL Superbonus 110 inferiore 100%\")","v":"Attenzione!    SAL Superbonus 110 inferiore 100%"}]
[]
[]
[]
[null,null,"ALTRI INTERVENTI",null,null,null,null,null,null,null,null,null,null,null,null,null,{"$f":"CONCATENATE(\"Verifica Massimali di Spesa \",C87)","v":"Verifica Massimali di Spesa ALTRI INTERVENTI"}]
[null,null,"  Interventi",null,null,"Importo Lavori","Incidenza Sicurezza","Imponibile","Iva","Importo c.iva","Spese tecniche","Totale","Credito Spettante  x% Spesa Ammessa","%SAL",null,null,null,"Massimale  spesa","Verifica Max",null,"Spesa Ammessa",null,"Quota Eccedente Massimale Spesa ",null,"Credito Spettante                                     x% Spesa Ammessa                                   Quota Impresa         |       Quota Tecnici"]
[null,null,{"$f":"IF('Computo-Massimali'!C89<>\"\",'Computo-Massimali'!C89,\"\")","v":"Ristrutturazione"},null,{"$f":"'Computo-Massimali'!E89","v":0.5},0,{"$f":"IF('Computo-Massimali'!F89<>0,'Computo-Massimali'!G89*F89/'Computo-Massimali'!F89,0)","v":0},{"$f":"SUM(F89:G89)","v":0},{"$f":"F89*'Dati Gen'!$J$20+G89*'Dati Gen'!$J$19","v":0},{"$f":"H89+I89","v":0},{"$f":"IF('Computo-Massimali'!F89<>0,'Computo-Massimali'!K89*F89/'Computo-Massimali'!F89,0)","v":0},{"$f":"SUM(J89:K89)","v":0},{"$f":"IF(L89<=R89,L89*E89,R89*E89)","v":0},{"$f":"IF('Computo-Massimali'!L89>0,L89/'Computo-Massimali'!L89,0)","v":0},{"$f":"IF(F89>0,IF(F89>'Computo-Massimali'!F89,\">Computo\",IF(F89<'SAL.60%'!F89,\"< SAL.2\",\"\")),\"\")","v":""},null,{"$f":"IF(C89<>\"\",C89,\"\")","v":"Ristrutturazione"},{"$f":"96000*N_Uimm","v":96000},{"$f":"IF(L89>R89,\"KO Tot.>Detr.\",\"ok\")","v":"ok"},null,{"$f":"IF(L89<R89,L89,R89)","v":0},null,{"$f":"IF(L89>R89,L89-R89,0)","v":0},null,{"$f":"IF(M89<>0,J89*M89/L89,0)","v":0},null,{"$f":"IF(M89<>0,K89*M89/L89,0)","v":0}]
[null,null,{"$f":"IF('Computo-Massimali'!C90<>\"\",'Computo-Massimali'!C90,\"\")","v":"Bonus facciata"},null,{"$f":"'Computo-Massimali'!E90","v":0.6},0,{"$f":"IF('Computo-Massimali'!F90<>0,'Computo-Massimali'!G90*F90/'Computo-Massimali'!F90,0)","v":0},{"$f":"SUM(F90:G90)","v":0},{"$f":"F90*'Dati Gen'!$J$20+G90*'Dati Gen'!$J$19","v":0},{"$f":"H90+I90","v":0},{"$f":"IF('Computo-Massimali'!F90<>0,'Computo-Massimali'!K90*F90/'Computo-Massimali'!F90,0)","v":0},{"$f":"SUM(J90:K90)","v":0},{"$f":"IF(L90<=R90,L90*E90,R90*E90)","v":0},{"$f":"IF('Computo-Massimali'!L90>0,L90/'Computo-Massimali'!L90,0)","v":0},{"$f":"IF(F90>0,IF(F90>'Computo-Massimali'!F90,\">Computo\",IF(F90<'SAL.60%'!F90,\"< SAL.2\",\"\")),\"\")","v":""},null,{"$f":"IF(C90<>\"\",C90,\"\")","v":"Bonus facciata"},{"$f":"96000*N_Uimm","v":96000},{"$f":"IF(L90>R90,\"KO Tot.>Detr.\",\"ok\")","v":"ok"},null,{"$f":"IF(L90<R90,L90,R90)","v":0},null,{"$f":"IF(L90>R90,L90-R90,0)","v":0},null,{"$f":"IF(M90<>0,J90*M90/L90,0)","v":0},null,{"$f":"IF(M90<>0,K90*M90/L90,0)","v":0}]
[null,null,{"$f":"IF('Computo-Massimali'!C91<>\"\",'Computo-Massimali'!C91,\"\")","v":"Bonus Casa"},null,{"$f":"'Computo-Massimali'!E91","v":0.7},0,{"$f":"IF('Computo-Massimali'!F91<>0,'Computo-Massimali'!G91*F91/'Computo-Massimali'!F91,0)","v":0},{"$f":"SUM(F91:G91)","v":0},{"$f":"F91*'Dati Gen'!$J$20+G91*'Dati Gen'!$J$19","v":0},{"$f":"H91+I91","v":0},{"$f":"IF('Computo-Massimali'!F91<>0,'Computo-Massimali'!K91*F91/'Computo-Massimali'!F91,0)","v":0},{"$f":"SUM(J91:K91)","v":0},{"$f":"IF(L91<=R91,L91*E91,R91*E91)","v":0},{"$f":"IF('Computo-Massimali'!L91>0,L91/'Computo-Massimali'!L91,0)","v":0},{"$f":"IF(F91>0,IF(F91>'Computo-Massimali'!F91,\">Computo\",IF(F91<'SAL.60%'!F91,\"< SAL.2\",\"\")),\"\")","v":""},null,{"$f":"IF(C91<>\"\",C91,\"\")","v":"Bonus Casa"},{"$f":"96000*N_Uimm","v":96000},{"$f":"IF(L91>R91,\"KO Tot.>Detr.\",\"ok\")","v":"ok"},null,{"$f":"IF(L91<R91,L91,R91)","v":0},null,{"$f":"IF(L91>R91,L91-R91,0)","v":0},null,{"$f":"IF(M91<>0,J91*M91/L91,0)","v":0},null,{"$f":"IF(M91<>0,K91*M91/L91,0)","v":0}]
[null,null,{"$f":"IF('Computo-Massimali'!C92<>\"\",'Computo-Massimali'!C92,\"\")","v":""},null,{"$f":"'Computo-Massimali'!E92","v":0},0,{"$f":"IF('Computo-Massimali'!F92<>0,'Computo-Massimali'!G92*F92/'Computo-Massimali'!F92,0)","v":0},{"$f":"SUM(F92:G92)","v":0},{"$f":"F92*'Dati Gen'!$J$20+G92*'Dati Gen'!$J$19","v":0},{"$f":"H92+I92","v":0},{"$f":"IF('Computo-Massimali'!F92<>0,'Computo-Massimali'!K92*F92/'Computo-Massimali'!F92,0)","v":0},{"$f":"SUM(J92:K92)","v":0},{"$f":"IF(L92<=R92,L92*E92,R92*E92)","v":0},{"$f":"IF('Computo-Massimali'!L92>0,L92/'Computo-Massimali'!L92,0)","v":0},{"$f":"IF(F92>0,IF(F92>'Computo-Massimali'!F92,\">Computo\",IF(F92<'SAL.60%'!F92,\"< SAL.2\",\"\")),\"\")","v":""},null,{"$f":"IF(C92<>\"\",C92,\"\")","v":""},{"$f":"96000*N_Uimm","v":96000},{"$f":"IF(L92>R92,\"KO Tot.>Detr.\",\"ok\")","v":"ok"},null,{"$f":"IF(L92<R92,L92,R92)","v":0},null,{"$f":"IF(L92>R92,L92-R92,0)","v":0},null,{"$f":"IF(M92<>0,J92*M92/L92,0)","v":0},null,{"$f":"IF(M92<>0,K92*M92/L92,0)","v":0}]
[null,null,"TotalI SAL Finale - Altri Interventi  : ",null,null,{"$f":"SUM(F89:F92)","v":0},0,0,0,0,0,0,0,{"$f":"IF('Computo-Massimali'!L93>0,L93/'Computo-Massimali'!L93,0)","v":0},{"$f":"IF(F93>0,IF(F93>'Computo-Massimali'!F93,\">Computo\",IF(F93<'SAL.60%'!F93,\"< SAL.2\",\"\")),\"\")","v":""},null,null,{"$f":"C93","v":"TotalI SAL Finale - Altri Interventi  : "},null,null,{"$f":"SUM(U89:V92)","v":0},null,{"$f":"SUM(W89:X92)","v":0},null,{"$f":"SUM(Y89:Z92)","v":0},null,{"$f":"SUM(AA89:AB92)","v":0}]
[]
[]
[null,null,null,null,null,"Importo Lavori Eseguiti","Incidenza Sicurezza","Imponibile","Iva","Importo c.iva","Spese tecniche","Totale","Credito Spettante","%SAL",null,null,{"$f":"C99","v":"TOTALI SAL. Finale del 09/05/2022 : "},null,null,null,"Spesa Ammessa",null,"Quota Eccedente Massimale Spesa ",null,"Credito Spettante                                    Quota Impresa    | Quota Tecnici"]
[null,null,{"$f":"CONCATENATE(\"TOTALI SAL. N.1 del \",'SAL.30%'!C4, \" : \")","v":"TOTALI SAL. N.1 del 07/05/2022 : "},null,null,{"$f":"'SAL.30%'!F97","v":0},{"$f":"'SAL.30%'!G97","v":0},{"$f":"'SAL.30%'!H97","v":0},{"$f":"'SAL.30%'!I97","v":0},{"$f":"'SAL.30%'!J97","v":0},{"$f":"'SAL.30%'!K97","v":0},{"$f":"'SAL.30%'!L97","v":0},{"$f":"'SAL.30%'!M97","v":0},{"$f":"'SAL.30%'!N97","v":0},{"$f":"IF(F97>0,IF(F97>'Computo-Massimali'!F100,\">Computo\",IF(F97<'SAL.30%'!F97,\"< SAL.1\",\"\")),\"\")","v":""},null,null,null,null,null,{"$f":"U81+U93","v":0},null,{"$f":"W81+W93","v":0},null,{"$f":"Y81+Y93","v":0},null,{"$f":"AA81+AA93","v":0}]
[null,null,{"$f":"CONCATENATE(\"TOTALI SAL. N.2 del \",'SAL.60%'!C4, \" : \")","v":"TOTALI SAL. N.2 del 08/05/2022 : "},null,null,{"$f":"'SAL.60%'!F97","v":0},{"$f":"'SAL.60%'!G97","v":0},{"$f":"'SAL.60%'!H97","v":0},{"$f":"'SAL.60%'!I97","v":0},{"$f":"'SAL.60%'!J97","v":0},{"$f":"'SAL.60%'!K97","v":0},{"$f":"'SAL.60%'!L97","v":0},{"$f":"'SAL.60%'!M97","v":0},{"$f":"'SAL.60%'!N97","v":0},{"$f":"IF(F98>0,IF(F98>'Computo-Massimali'!F100,\">Computo\",IF(F98<'SAL.60%'!F97,\"< SAL.2\",\"\")),\"\")","v":""}]
[null,null,{"$f":"CONCATENATE(\"TOTALI SAL. Finale del \",C4, \" : \")","v":"TOTALI SAL. Finale del 09/05/2022 : "},null,null,{"$f":"F81+F93","v":0},{"$f":"G81+G93","v":0},0,{"$f":"I81+I93","v":0},0,0,0,{"$f":"M81+M93","v":0},{"$f":"IF('Computo-Massimali'!L100>0,L99/'Computo-Massimali'!L100,0)","v":0},{"$f":"IF(F99>0,IF(F99>'Computo-Massimali'!F100,\">Computo\",IF(F99<'SAL.60%'!F97,\"< SAL.2\",\"\")),\"\")","v":""}]
[]
[null,null,{"$f":"IF(ABS(D5-G99)>0.01,\"Importo Effettivo Lavori Eseguiti\",\"\")","v":""},null,null,{"$f":"IF($C$101<>\"\",F99,\"\")","v":""},{"$f":"IF($C$101<>\"\",D5,\"\")","v":""},{"$f":"IF($C$101<>\"\",F101+G101,\"\")","v":""},{"$f":"IF($C$101<>\"\",H101*AliqIva,\"\")","v":""},{"$f":"IF($C$101<>\"\",H101+I101,\"\")","v":""},{"$f":"IF($C$101<>\"\",K99,\"\")","v":""},{"$f":"IF($C$101<>\"\",J101+K101,\"\")","v":""},{"$f":"IF($C$101<>\"\",L101*1.1,\"\")","v":""},{"$f":"IF($C$101<>\"\",L101/'Computo-Massimali'!L100,\"\")","v":""}]
[null,null,{"$f":"IF($C$101<>\"\",\"Oneri/Lavori Sicurezza non imputabili al SAL, per lavori non eseguiti\",\"\")","v":""},null,null,null,{"$f":"IF($C$102<>\"\",D5-G99,\"\")","v":""}]
[]
[null,null,"Quota % effettiva per cessione credito a Banca o Impresa \"Interventi 110\"  ",null,null,null,null,{"$f":"'Computo-Massimali'!H104","v":0.90909090909090906},{"$f":"'Computo-Massimali'!I104","v":100},"Importo Ricevuto",{"$f":"DetrazFinale*H104","v":0},"Costo Cessione 110",{"$f":"SpesaAmmessaFinale-K104","v":0}]
[null,null,null,null,null,null,"Quota % effettiva per cessione credito a Banca o Impresa \"Altri Interventi\"  ",{"$f":"'Computo-Massimali'!H105","v":0.8},{"$f":"'Computo-Massimali'!I105","v":80},"Importo Ricevuto",{"$f":"M93*H105","v":0},"Costo Cessione Altri",{"$f":"M93-K105","v":0}]
[]
[null,null,null,null,null,null,null,null,null,null,null,"Quota Impresa","Quota Tecnici"]
[null,null,null,null,null,null,"Quota Eccedente Massimali Spesa \"Interventi 110\"  ",{"$f":"QuotaEcced30","v":0},"Credito Netto a seguito Cessione",null,{"$f":"SpesaAmmessaFinale-M104","v":0},{"$f":"IF(DetrazFinale<>0,QuotaImpresaFinale*K108/DetrazFinale,0)","v":0},{"$f":"IF(DetrazFinale<>0,QuotaTecniciFinale*K108/DetrazFinale,0)","v":0}]
[null,null,null,null,null,null,"Quota Eccedente Massimali Spesa \"Altri Interventi\" ",{"$f":"W93","v":0},"Credito Netto a seguito Cessione",null,{"$f":"M93-M105","v":0},{"$f":"IF(M93<>0,Y93*K109/M93,0)","v":0},{"$f":"IF(M93<>0,AA93*K109/M93,0)","v":0}]
[null,null,null,null,null,null,null,null,"Quota Cliente x Interventi 110",null,{"$f":"IF(TotaleFinale-K108>0,TotaleFinale-K108,0)","v":0},{"$f":"IF(DetrazFinale<>0,K110*QuotaImpresaFinale/DetrazFinale,0)","v":0},{"$f":"IF(DetrazFinale<>0,K110*QuotaTecniciFinale/DetrazFinale,0)","v":0}]
[null,null,null,null,null,null,null,null,"Quota Cliente x Altri Interventi",null,{"$f":"IF(L93-K109>0,L93-K109,0)","v":0},{"$f":"IF(M93<>0,K111*Y93/M93,0)","v":0},{"$f":"IF(M93<>0,K111*AA93/M93,0)","v":0}]
[null,null,null,null,null,null,null,null,"Quota Totale  a Carico Cliente",null,{"$f":"SUM(K110:K111)","v":0},{"$f":"SUM(L110:L111)","v":0},{"$f":"SUM(M110:M111)","v":0}]
[]
[]
[null,null,null,null,null,null,null,null,null,null,null,null,null,null,null,null,"Ripartizione Spese Tecniche SAL. Finale - INTERVENTI 110",null,null,null,null,null,null,null,null,null,null,null,"Applica Sconto in Fattura"]
[null,null,null,null,null,null,null,null,null,null,null,null,null,null,null,null,"Lavoro","Tecnico","Onorario",null,"C.Cassa",null,"Imponibile",null,"IVA",null,"Totale",null,null,null,null,{"$f":"'Dati Gen'!B44","v":"Architetto1"},{"$f":"'Dati Gen'!B45","v":"Ingegnere2"},{"$f":"'Dati Gen'!B46","v":"Consulente1"},{"$f":"'Dati Gen'!B47","v":0},{"$f":"'Dati Gen'!B48","v":0},{"$f":"'Dati Gen'!B49","v":0},{"$f":"'Dati Gen'!B50","v":0},{"$f":"'Dati Gen'!B51","v":0}]
[null,null,null,null,null,null,null,null,null,null,null,null,null,null,null,null,{"$f":"IF('Dati Gen'!B25<>\"\",'Dati Gen'!B25,\"\")","v":"Redazione APE ante, Progettazione energetica"},{"$f":"IF('Dati Gen'!C25<>\"\",'Dati Gen'!C25,\"\")","v":"Architetto1"},{"$f":"W117/(1+U117)","v":0},null,{"$f":"'Dati Gen'!G25","v":0.04},{"$f":"S117*U117","v":0},{"$f":"AA117/(1+Y117)","v":0},null,{"$f":"'Dati Gen'!J25","v":0.22},{"$f":"Y117*(S117+V117)","v":0},{"$f":"IF('Dati Gen'!$M$36<>0,$AA$126*'Dati Gen'!M25/'Dati Gen'!$M$36,0)","v":0},null,{"$f":"IF(R117<>\"\",VLOOKUP(R117,'Dati Gen'!$B$44:$D$51,3,0),\"\")","v":"SI"},null,null,{"$f":"IF($R117=AF$116,$AA117,0)","v":0},{"$f":"IF($R117=AG$116,$AA117,0)","v":0},0,0,0,0,0,0]
[null,null,null,null,null,null,null,null,null,null,null,null,null,null,null,null,{"$f":"IF('Dati Gen'!B26<>\"\",'Dati Gen'!B26,\"\")","v":"Progettazione e DD.LL."},{"$f":"IF('Dati Gen'!C26<>\"\",'Dati Gen'!C26,\"\")","v":"Architetto1"},{"$f":"W118/(1+U118)","v":0},null,{"$f":"'Dati Gen'!G26","v":0.04},{"$f":"S118*U118","v":0},{"$f":"AA118/(1+Y118)","v":0},null,{"$f":"'Dati Gen'!J26","v":0.22},{"$f":"(S118+V118)*Y118","v":0},{"$f":"IF('Dati Gen'!$M$36<>0,$AA$126*'Dati Gen'!M26/'Dati Gen'!$M$36,0)","v":0},null,{"$f":"IF(R118<>\"\",VLOOKUP(R118,'Dati Gen'!$B$44:$D$51,3,0),\"\")","v":"SI"},null,null,{"$f":"IF($R118=AF$116,$AA118,0)","v":0},0,0,0,0,0,0,0]
[null,null,null,null,null,null,null,null,null,null,null,null,null,null,null,null,{"$f":"IF('Dati Gen'!B27<>\"\",'Dati Gen'!B27,\"\")","v":"Coordinamento sicurezza"},{"$f":"IF('Dati Gen'!C27<>\"\",'Dati Gen'!C27,\"\")","v":"Ingegnere2"},0,null,{"$f":"'Dati Gen'!G27","v":0.04},{"$f":"S119*U119","v":0},0,null,{"$f":"'Dati Gen'!J27","v":0.22},0,{"$f":"IF('Dati Gen'!$M$36<>0,$AA$126*'Dati Gen'!M27/'Dati Gen'!$M$36,0)","v":0},null,{"$f":"IF(R119<>\"\",VLOOKUP(R119,'Dati Gen'!$B$44:$D$51,3,0),\"\")","v":"NO"},null,null,0,0,0,0,0,0,0,0]
[null,null,null,null,null,null,null,null,null,null,null,null,null,null,null,null,{"$f":"IF('Dati Gen'!B28<>\"\",'Dati Gen'!B28,\"\")","v":"Redazione APE post"},{"$f":"IF('Dati Gen'!C28<>\"\",'Dati Gen'!C28,\"\")","v":"Architetto1"},0,null,{"$f":"'Dati Gen'!G28","v":0.04},{"$f":"S120*U120","v":0},0,null,{"$f":"'Dati Gen'!J28","v":0.22},0,{"$f":"IF('Dati Gen'!X144,$AA$126*'Dati Gen'!M28/'Dati Gen'!$M$36,0)","v":0},null,{"$f":"IF(R120<>\"\",VLOOKUP(R120,'Dati Gen'!$B$44:$D$51,3,0),\"\")","v":"SI"},null,null,{"$f":"IF($R120=AF$116,$AA120,0)","v":0},0,0,0,0,0,0,0]
[null,null,null,null,null,null,null,null,null,null,null,null,null,null,null,null,{"$f":"IF('Dati Gen'!B29<>\"\",'Dati Gen'!B29,\"\")","v":""},{"$f":"IF('Dati Gen'!C29<>\"\",'Dati Gen'!C29,\"\")","v":""},0,null,{"$f":"'Dati Gen'!G29","v":0.04},{"$f":"T121*U121","v":0},0,null,{"$f":"'Dati Gen'!J29","v":0.22},0,{"$f":"IF('Dati Gen'!$M$36<>0,$AA$126*'Dati Gen'!M29/'Dati Gen'!$M$36,0)","v":0},null,{"$f":"IF(R121<>\"\",VLOOKUP(R121,'Dati Gen'!$B$44:$D$51,3,0),\"\")","v":""},null,null,0,0,0,0,0,0,0,0]
[null,null,null,null,null,null,null,null,null,null,null,null,null,null,null,null,{"$f":"IF('Dati Gen'!B30<>\"\",'Dati Gen'!B30,\"\")","v":""},{"$f":"IF('Dati Gen'!C30<>\"\",'Dati Gen'!C30,\"\")","v":""},0,null,{"$f":"'Dati Gen'!G30","v":0.04},{"$f":"T122*U122","v":0},0,null,{"$f":"'Dati Gen'!J30","v":0.22},0,{"$f":"IF('Dati Gen'!$M$36<>0,$AA$126*'Dati Gen'!M30/'Dati Gen'!$M$36,0)","v":0},null,{"$f":"IF(R122<>\"\",VLOOKUP(R122,'Dati Gen'!$B$44:$D$51,3,0),\"\")","v":""},null,null,0,0,0,0,0,0,0,0]
[null,null,null,null,null,null,null,null,null,null,null,null,null,null,null,null,{"$f":"IF('Dati Gen'!B31<>\"\",'Dati Gen'!B31,\"\")","v":""},{"$f":"IF('Dati Gen'!C31<>\"\",'Dati Gen'!C31,\"\")","v":""},0,null,{"$f":"'Dati Gen'!G31","v":0.04},{"$f":"T123*U123","v":0},0,null,{"$f":"'Dati Gen'!J31","v":0.22},0,{"$f":"IF('Dati Gen'!$M$36<>0,$AA$126*'Dati Gen'!M31/'Dati Gen'!$M$36,0)","v":0},null,{"$f":"IF(R123<>\"\",VLOOKUP(R123,'Dati Gen'!$B$44:$D$51,3,0),\"\")","v":""},null,null,0,0,0,0,0,0,0,0]
[null,null,null,null,null,null,null,null,null,null,null,null,null,null,null,null,{"$f":"IF('Dati Gen'!B32<>\"\",'Dati Gen'!B32,\"\")","v":""},{"$f":"IF('Dati Gen'!C32<>\"\",'Dati Gen'!C32,\"\")","v":""},0,null,{"$f":"'Dati Gen'!G32","v":0.04},{"$f":"T124*U124","v":0},0,null,{"$f":"'Dati Gen'!J32","v":0.22},0,{"$f":"IF('Dati Gen'!$M$36<>0,$AA$126*'Dati Gen'!M32/'Dati Gen'!$M$36,0)","v":0},null,{"$f":"IF(R124<>\"\",VLOOKUP(R124,'Dati Gen'!$B$44:$D$51,3,0),\"\")","v":""},null,null,0,0,0,0,0,0,0,0]
[null,null,null,null,null,null,null,null,null,null,null,null,null,null,null,null,{"$f":"IF('Dati Gen'!B35<>\"\",'Dati Gen'!B35,\"\")","v":"Visto Conformità"},{"$f":"IF('Dati Gen'!C35<>\"\",'Dati Gen'!C35,\"\")","v":"Consulente1"},0,null,{"$f":"'Dati Gen'!G35","v":0.04},{"$f":"S125*U125","v":0},0,null,{"$f":"'Dati Gen'!J35","v":0.22},0,{"$f":"IF('Dati Gen'!$M$36<>0,$AA$126*'Dati Gen'!M35/'Dati Gen'!$M$36,0)","v":0},null,{"$f":"IF(R125<>\"\",VLOOKUP(R125,'Dati Gen'!$B$44:$D$51,3,0),\"\")","v":"NO"},null,null,0,0,0,0,0,0,0,0]
[null,null,null,null,null,null,null,null,null,null,null,null,null,null,null,null,null,null,{"$f":"SUM(S117:T125)","v":0},null,{"$f":"SUM(V117:V125)","v":0},null,{"$f":"SUM(W117:X125)","v":0},null,null,{"$f":"SUM(Z117:Z125)","v":0},{"$f":"SpeseTecFinale","v":0},null,null,null,null,{"$f":"SUM(AF117:AF125)","v":0},{"$f":"SUM(AG117:AG125)","v":0},0,0,0,0,0,0,null,{"$f":"SUM(AF126:AM126)","v":0}]
[null,null,null,null,null,null,null,null,null,null,null,null,null,null,null,null,null,null,null,null,null,null,null,null,null,null,null,null,null,null,null,{"$f":"IF($AO$126<>0,AF126/$AO$126,0)","v":0},0,0,0,0,0,0,0]
[]
[null,null,null,null,null,null,null,null,null,null,null,null,null,null,null,null,"Ripartizione Spese Tecniche SAL. Finale1 - ALTRI INTERVENTI",null,null,null,null,null,null,null,null,null,null,null,"Applica Sconto in Fattura"]
[null,null,null,null,null,null,null,null,null,null,null,null,null,null,null,null,"Lavoro","Tecnico","Onorario",null,"C.Cassa",null,"Imponibile",null,"IVA",null,"Totale",null,null,null,null,{"$f":"AF116","v":"Architetto1"},{"$f":"AG116","v":"Ingegnere2"},"Consulente1",0,0,0,0,0]
[null,null,null,null,null,null,null,null,null,null,null,null,null,null,null,null,{"$f":"IF('Dati Gen'!B25<>\"\",'Dati Gen'!B25,\"\")","v":"Redazione APE ante, Progettazione energetica"},{"$f":"IF('Dati Gen'!C25<>\"\",'Dati Gen'!C25,\"\")","v":"Architetto1"},{"$f":"W131/(1+U131)","v":0},null,{"$f":"'Dati Gen'!G25","v":0.04},{"$f":"S131*U131","v":0},{"$f":"AA131/(1+Y131)","v":0},null,{"$f":"'Dati Gen'!J25","v":0.22},{"$f":"Y131*(S131+V131)","v":0},{"$f":"IF('Dati Gen'!$M$36<>0,$AA$140*'Dati Gen'!M25/'Dati Gen'!$M$36,0)","v":0},null,{"$f":"IF(R131<>\"\",VLOOKUP(R131,'Dati Gen'!$B$44:$D$51,3,0),\"\")","v":"SI"},null,null,{"$f":"IF($R131=AF$116,$AA131,0)","v":0},{"$f":"IF($R131=AG$116,$AA131,0)","v":0},0,0,0,0,0,0]
[null,null,null,null,null,null,null,null,null,null,null,null,null,null,null,null,{"$f":"IF('Dati Gen'!B26<>\"\",'Dati Gen'!B26,\"\")","v":"Progettazione e DD.LL."},{"$f":"IF('Dati Gen'!C26<>\"\",'Dati Gen'!C26,\"\")","v":"Architetto1"},{"$f":"W132/(1+U132)","v":0},null,{"$f":"'Dati Gen'!G26","v":0.04},{"$f":"S132*U132","v":0},{"$f":"AA132/(1+Y132)","v":0},null,{"$f":"'Dati Gen'!J26","v":0.22},{"$f":"(S132+V132)*Y132","v":0},{"$f":"IF('Dati Gen'!$M$36<>0,$AA$140*'Dati Gen'!M26/'Dati Gen'!$M$36,0)","v":0},null,{"$f":"IF(R132<>\"\",VLOOKUP(R132,'Dati Gen'!$B$44:$D$51,3,0),\"\")","v":"SI"},null,null,{"$f":"IF($R132=AF$116,$AA132,0)","v":0},0,0,0,0,0,0,0]
[null,null,null,null,null,null,null,null,null,null,null,null,null,null,null,null,{"$f":"IF('Dati Gen'!B27<>\"\",'Dati Gen'!B27,\"\")","v":"Coordinamento sicurezza"},{"$f":"IF('Dati Gen'!C27<>\"\",'Dati Gen'!C27,\"\")","v":"Ingegnere2"},0,null,{"$f":"'Dati Gen'!G27","v":0.04},{"$f":"S133*U133","v":0},0,null,{"$f":"'Dati Gen'!J27","v":0.22},0,{"$f":"IF('Dati Gen'!$M$36<>0,$AA$140*'Dati Gen'!M27/'Dati Gen'!$M$36,0)","v":0},null,{"$f":"IF(R133<>\"\",VLOOKUP(R133,'Dati Gen'!$B$44:$D$51,3,0),\"\")","v":"NO"},null,null,0,0,0,0,0,0,0,0]
[null,null,null,null,null,null,null,null,null,null,null,null,null,null,null,null,{"$f":"IF('Dati Gen'!B28<>\"\",'Dati Gen'!B28,\"\")","v":"Redazione APE post"},{"$f":"IF('Dati Gen'!C28<>\"\",'Dati Gen'!C28,\"\")","v":"Architetto1"},0,null,{"$f":"'Dati Gen'!G28","v":0.04},{"$f":"S134*U134","v":0},0,null,{"$f":"'Dati Gen'!J28","v":0.22},0,{"$f":"IF('Dati Gen'!$M$36<>0,$AA$140*'Dati Gen'!M28/'Dati Gen'!$M$36,0)","v":0},null,{"$f":"IF(R134<>\"\",VLOOKUP(R134,'Dati Gen'!$B$44:$D$51,3,0),\"\")","v":"SI"},null,null,0,0,0,0,0,0,0,0]
[null,null,null,null,null,null,null,null,null,null,null,null,null,null,null,null,{"$f":"IF('Dati Gen'!B29<>\"\",'Dati Gen'!B29,\"\")","v":""},{"$f":"IF('Dati Gen'!C29<>\"\",'Dati Gen'!C29,\"\")","v":""},0,null,{"$f":"'Dati Gen'!G29","v":0.04},{"$f":"T135*U135","v":0},0,null,{"$f":"'Dati Gen'!J29","v":0.22},0,{"$f":"IF('Dati Gen'!$M$36<>0,$AA$140*'Dati Gen'!M29/'Dati Gen'!$M$36,0)","v":0},null,{"$f":"IF(R135<>\"\",VLOOKUP(R135,'Dati Gen'!$B$44:$D$51,3,0),\"\")","v":""},null,null,0,0,0,0,0,0,0,0]
[null,null,null,null,null,null,null,null,null,null,null,null,null,null,null,null,{"$f":"IF('Dati Gen'!B30<>\"\",'Dati Gen'!B30,\"\")","v":""},{"$f":"IF('Dati Gen'!C30<>\"\",'Dati Gen'!C30,\"\")","v":""},0,null,{"$f":"'Dati Gen'!G30","v":0.04},{"$f":"T136*U136","v":0},0,null,{"$f":"'Dati Gen'!J30","v":0.22},0,{"$f":"IF('Dati Gen'!$M$36<>0,$AA$140*'Dati Gen'!M30/'Dati Gen'!$M$36,0)","v":0},null,{"$f":"IF(R136<>\"\",VLOOKUP(R136,'Dati Gen'!$B$44:$D$51,3,0),\"\")","v":""},null,null,0,0,0,0,0,0,0,0]
[null,null,null,null,null,null,null,null,null,null,null,null,null,null,null,null,{"$f":"IF('Dati Gen'!B31<>\"\",'Dati Gen'!B31,\"\")","v":""},{"$f":"IF('Dati Gen'!C31<>\"\",'Dati Gen'!C31,\"\")","v":""},0,null,{"$f":"'Dati Gen'!G31","v":0.04},{"$f":"T137*U137","v":0},0,null,{"$f":"'Dati Gen'!J31","v":0.22},0,{"$f":"IF('Dati Gen'!$M$36<>0,$AA$140*'Dati Gen'!M31/'Dati Gen'!$M$36,0)","v":0},null,{"$f":"IF(R137<>\"\",VLOOKUP(R137,'Dati Gen'!$B$44:$D$51,3,0),\"\")","v":""},null,null,0,0,0,0,0,0,0,0]
[null,null,null,null,null,null,null,null,null,null,null,null,null,null,null,null,{"$f":"IF('Dati Gen'!B32<>\"\",'Dati Gen'!B32,\"\")","v":""},{"$f":"IF('Dati Gen'!C32<>\"\",'Dati Gen'!C32,\"\")","v":""},0,null,{"$f":"'Dati Gen'!G32","v":0.04},{"$f":"T138*U138","v":0},0,null,{"$f":"'Dati Gen'!J32","v":0.22},0,{"$f":"IF('Dati Gen'!$M$36<>0,$AA$140*'Dati Gen'!M32/'Dati Gen'!$M$36,0)","v":0},null,{"$f":"IF(R138<>\"\",VLOOKUP(R138,'Dati Gen'!$B$44:$D$51,3,0),\"\")","v":""},null,null,0,0,0,0,0,0,0,0]
[null,null,null,null,null,null,null,null,null,null,null,null,null,null,null,null,{"$f":"IF('Dati Gen'!B35<>\"\",'Dati Gen'!B35,\"\")","v":"Visto Conformità"},{"$f":"IF('Dati Gen'!C35<>\"\",'Dati Gen'!C35,\"\")","v":"Consulente1"},0,null,{"$f":"'Dati Gen'!G35","v":0.04},{"$f":"S139*U139","v":0},0,null,{"$f":"'Dati Gen'!J35","v":0.22},0,{"$f":"IF('Dati Gen'!$M$36<>0,$AA$140*'Dati Gen'!M35/'Dati Gen'!$M$36,0)","v":0},null,{"$f":"IF(R139<>\"\",VLOOKUP(R139,'Dati Gen'!$B$44:$D$51,3,0),\"\")","v":"NO"},null,null,0,0,0,0,0,0,0,0]
[null,null,null,null,null,null,null,null,null,null,null,null,null,null,null,null,null,null,{"$f":"SUM(S131:T139)","v":0},null,{"$f":"SUM(V131:V139)","v":0},null,{"$f":"SUM(W131:X139)","v":0},null,null,{"$f":"SUM(Z131:Z139)","v":0},{"$f":"K93","v":0},null,null,null,null,{"$f":"SUM(AF131:AF139)","v":0},{"$f":"SUM(AG131:AG139)","v":0},0,0,0,0,0,0,null,{"$f":"SUM(AF140:AM140)","v":0}]
[null,null,null,null,null,null,null,null,null,null,null,null,null,null,null,null,null,null,null,null,null,null,null,null,null,null,null,null,null,null,null,{"$f":"IF($AO$140<>0,AF140/$AO$140,0)","v":0},0,0,0,0,0,0,0]

{"sheet":"Pratica ENEA","index":9,"n_rows":434,"n_cols":32,"rows_kept":434,"cut":false,"hidden":false,"merged":[[244,9,244,10],[245,1,245,8],[245,9,245,10],[246,9,246,10],[67,1,67,4],[67,5,67,6],[67,7,67,8],[67,9,67,10],[53,1,58,4],[62,1,62,5],[68,5,68,6],[61,1,61,5],[60,1,60,5],[246,7,246,8],[243,1,243,8],[204,1,204,8],[207,5,207,6],[207,7,207,8],[207,9,207,10],[206,1,206,4],[195,1,195,8],[195,9,195,10],[194,7,194,8],[194,9,194,10],[32,9,32,10],[51,1,51,5],[52,1,52,18],[53,5,54,5],[53,6,54,6],[53,7,54,7],[46,1,46,5],[47,1,47,5],[37,9,37,10],[38,1,38,8],[43,1,43,5],[44,1,44,5],[42,1,42,18],[37,1,37,4],[37,5,37,6],[37,7,37,8],[38,9,38,10],[53,8,53,11],[53,12,53,18],[45,1,45,5],[8,27,8,30],[12,27,12,28],[11,1,11,6],[10,22,10,23],[8,22,8,23],[9,22,9,23],[11,22,11,23],[10,2,10,7],[8,2,8,5],[8,6,8,10],[9,27,9,30],[10,27,10,28],[19,1,19,5],[36,1,36,4],[36,9,36,10],[33,1,33,8],[23,1,23,5],[32,1,32,8],[29,1,29,5],[33,9,33,10],[28,1,28,5],[20,1,20,5],[21,1,21,5],[22,1,22,5],[24,1,24,5],[27,1,27,5],[35,5,35,6],[35,7,35,8],[36,5,36,6],[36,7,36,8],[35,1,35,4],[35,9,35,10],[34,1,34,8],[34,9,34,10],[31,1,31,8],[31,9,31,10],[286,1,286,5],[240,9,240,10],[266,1,267,5],[266,6,267,6],[254,9,254,10],[250,9,250,10],[248,7,248,8],[248,1,248,4],[248,9,248,10],[246,5,246,6],[266,10,267,10],[257,7,257,8],[257,1,257,4],[253,1,253,10],[278,1,278,8],[255,9,255,10],[254,1,254,8],[243,9,243,10],[244,1,244,8],[246,1,246,4],[248,5,248,6],[252,9,252,10],[250,1,250,8],[251,1,251,8],[17,11,18,11],[12,22,12,23],[11,7,11,8],[16,1,16,14],[14,1,14,18],[12,1,12,19],[11,9,11,10],[17,8,18,8],[11,27,11,28],[17,9,18,9],[17,10,18,10],[17,12,17,14],[17,1,18,5],[17,6,18,6],[17,7,18,7],[1,12,1,18],[1,2,1,6],[1,7,1,11],[3,2,3,11],[6,6,6,11],[7,2,7,7],[9,2,9,3],[9,4,9,7],[9,9,9,10],[2,2,2,5],[4,6,4,11],[2,6,2,11],[5,6,5,11],[1,27,1,31],[1,22,1,26],[3,22,3,25],[4,22,4,23],[5,22,5,23],[6,22,6,23],[7,22,7,26],[2,22,2,25],[4,27,4,28],[2,27,2,30],[3,27,3,30],[5,27,5,28],[7,27,7,31],[6,27,6,28],[236,5,236,6],[230,1,230,8],[222,9,222,10],[223,1,223,8],[235,9,235,10],[228,1,228,8],[235,1,235,4],[77,1,77,18],[82,1,82,5],[190,9,190,10],[168,1,168,5],[192,9,192,10],[175,9,175,10],[197,1,197,5],[193,7,193,8],[188,1,188,10],[208,5,208,6],[217,9,217,10],[205,1,205,8],[205,9,205,10],[235,7,235,8],[229,1,229,8],[223,9,223,10],[221,1,221,8],[221,9,221,10],[222,1,222,8],[48,1,48,5],[49,1,49,5],[50,1,50,5],[220,1,220,10],[184,1,184,5],[179,9,179,10],[179,7,179,8],[192,5,192,6],[192,7,192,8],[157,7,157,8],[158,1,158,4],[202,1,202,10],[203,1,203,8],[203,9,203,10],[208,1,208,4],[219,9,219,10],[206,5,206,6],[206,7,206,8],[206,9,206,10],[217,6,217,8],[217,1,217,5],[209,1,209,8],[247,7,247,8],[236,7,236,8],[224,1,224,4],[236,1,236,4],[236,9,236,10],[225,5,225,6],[225,9,225,10],[224,9,224,10],[170,1,170,5],[178,1,178,4],[178,5,178,6],[178,7,178,8],[180,1,180,8],[174,1,174,8],[174,9,174,10],[219,1,219,5],[207,1,207,4],[218,9,218,10],[219,6,219,8],[218,1,218,5],[218,6,218,8],[199,1,199,5],[200,1,200,5],[201,1,201,5],[209,9,209,10],[208,7,208,8],[208,9,208,10],[204,9,204,10],[155,9,155,10],[156,1,156,8],[177,7,177,8],[163,1,163,5],[164,1,164,5],[157,1,157,4],[157,5,157,6],[159,7,159,8],[159,9,159,10],[166,1,166,5],[158,5,158,6],[171,1,171,5],[172,1,172,5],[173,1,173,10],[155,1,155,8],[167,1,167,5],[175,1,175,8],[185,1,185,5],[176,1,176,8],[176,9,176,10],[102,1,102,5],[102,7,102,8],[127,9,127,10],[123,1,123,5],[120,7,120,8],[123,7,123,8],[131,1,131,8],[130,1,130,4],[130,9,130,10],[111,9,111,10],[112,1,112,4],[112,5,112,6],[128,1,128,4],[128,5,128,6],[109,1,109,8],[126,1,126,8],[112,9,112,10],[110,1,110,4],[110,5,110,6],[110,7,110,8],[111,1,111,4],[111,5,111,6],[129,7,129,8],[125,1,125,8],[99,1,99,5],[99,7,99,8],[99,12,99,13],[100,1,100,5],[100,7,100,8],[100,12,100,13],[97,12,97,13],[98,1,98,5],[101,7,101,8],[101,12,101,13],[96,12,96,13],[97,1,97,5],[102,12,102,13],[104,1,104,8],[103,7,103,8],[79,1,79,14],[69,9,69,10],[70,9,70,10],[64,1,64,8],[64,9,64,10],[65,1,65,8],[65,9,65,10],[66,1,66,8],[66,9,66,10],[68,9,68,10],[69,1,69,4],[69,5,69,6],[69,7,69,8],[70,1,70,8],[68,7,68,8],[68,1,68,4],[97,7,97,8],[104,9,104,10],[98,12,98,13],[80,1,81,5],[80,6,81,6],[80,7,81,7],[80,8,81,8],[80,9,81,9],[80,10,81,10],[80,11,81,11],[80,12,80,14],[103,12,103,13],[91,9,91,10],[98,7,98,8],[83,1,83,5],[92,1,92,8],[91,1,91,8],[84,1,84,5],[85,1,85,5],[86,1,86,5],[87,1,87,5],[90,1,90,5],[101,1,101,5],[92,9,92,10],[95,1,95,15],[96,1,96,5],[96,7,96,8],[127,1,127,8],[123,13,123,14],[122,1,122,5],[119,7,119,8],[122,13,122,14],[120,13,120,14],[122,7,122,8],[125,9,125,10],[121,1,121,5],[119,1,119,5],[120,1,120,5],[126,9,126,10],[107,1,107,8],[107,9,107,10],[103,1,103,5],[124,1,124,10],[120,16,120,17],[121,16,121,17],[122,16,122,17],[119,16,119,17],[123,16,123,17],[106,1,106,10],[118,1,118,5],[108,1,108,8],[108,9,108,10],[109,9,109,10],[118,7,118,8],[117,1,117,18],[118,13,118,14],[118,16,118,17],[119,13,119,14],[121,7,121,8],[121,13,121,14],[110,9,110,10],[111,7,111,8],[112,7,112,8],[177,9,177,10],[178,9,178,10],[156,9,156,10],[147,5,148,5],[147,6,148,6],[144,1,144,5],[158,7,158,8],[158,9,158,10],[177,5,177,6],[177,1,177,4],[162,1,162,5],[160,1,160,8],[160,9,160,10],[157,9,157,10],[159,1,159,4],[159,5,159,6],[128,7,128,8],[128,9,128,10],[129,1,129,4],[129,5,129,6],[133,1,133,18],[147,12,147,18],[154,1,154,8],[154,9,154,10],[147,8,147,11],[129,9,129,10],[143,1,143,5],[134,1,134,5],[145,1,145,10],[147,1,152,4],[139,1,139,5],[135,1,135,5],[140,1,140,5],[138,1,138,5],[142,1,142,5],[147,7,148,7],[136,1,136,5],[131,9,131,10],[130,5,130,6],[130,7,130,8],[235,5,235,6],[226,1,226,4],[226,5,226,6],[237,9,237,10],[237,5,237,6],[237,7,237,8],[179,1,179,4],[193,1,193,4],[193,5,193,6],[187,1,187,5],[186,1,186,5],[198,1,198,5],[194,5,194,6],[179,5,179,6],[180,9,180,10],[191,1,191,8],[191,9,191,10],[189,1,189,8],[189,9,189,10],[190,1,190,8],[194,1,194,4],[193,9,193,10],[183,1,183,5],[192,1,192,4],[224,7,224,8],[226,9,226,10],[234,1,234,8],[234,9,234,10],[225,1,225,4],[229,9,229,10],[230,9,230,10],[224,5,224,6],[233,9,233,10],[228,9,228,10],[226,7,226,8],[233,1,233,8],[225,7,225,8],[231,1,231,10],[232,1,232,8],[232,9,232,10],[266,11,267,11],[278,9,278,10],[259,1,259,4],[258,5,258,6],[258,7,258,8],[237,1,237,4],[257,5,257,6],[256,1,256,8],[256,9,256,10],[257,9,257,10],[255,1,255,8],[242,1,242,10],[240,1,240,8],[241,1,241,8],[247,1,247,4],[241,9,241,10],[239,1,239,8],[247,5,247,6],[247,9,247,10],[239,9,239,10],[272,1,272,5],[273,1,273,5],[251,9,251,10],[252,1,252,8],[294,9,294,10],[288,1,288,5],[282,12,282,13],[283,12,283,13],[283,1,283,5],[282,1,282,5],[282,7,282,8],[258,1,258,4],[266,12,266,14],[277,1,277,8],[277,9,277,10],[259,5,259,6],[259,7,259,8],[259,9,259,10],[276,1,276,5],[280,1,280,15],[271,1,271,5],[266,7,267,7],[266,8,267,8],[266,9,267,9],[269,1,269,5],[265,1,265,14],[258,9,258,10],[263,1,263,18],[288,7,288,8],[291,1,291,10],[302,13,302,14],[302,16,302,17],[293,1,293,8],[281,1,281,5],[281,12,281,13],[281,7,281,8],[268,1,268,5],[297,5,297,6],[297,7,297,8],[297,9,297,10],[301,1,301,18],[295,1,295,4],[295,5,295,6],[302,7,302,8],[289,1,289,8],[289,9,289,10],[283,7,283,8],[284,1,284,5],[270,1,270,5],[292,1,292,8],[292,9,292,10],[294,1,294,8],[303,7,303,8],[303,13,303,14],[303,16,303,17],[302,1,302,5],[303,1,303,5],[293,9,293,10],[288,12,288,13],[284,12,284,13],[285,12,285,13],[286,12,286,13],[287,1,287,5],[287,7,287,8],[284,7,284,8],[285,1,285,5],[285,7,285,8],[287,12,287,13],[286,7,286,8],[295,7,295,8],[295,9,295,10],[296,1,296,4],[296,5,296,6],[296,7,296,8],[296,9,296,10],[297,1,297,4],[319,1,319,5],[325,1,325,5],[311,5,311,6],[306,1,306,5],[307,1,307,5],[308,1,308,8],[308,9,308,10],[309,1,309,8],[309,9,309,10],[318,1,318,5],[321,1,321,5],[322,1,322,5],[316,1,316,18],[317,1,317,5],[307,7,307,8],[310,1,310,8],[310,9,310,10],[313,1,313,4],[313,5,313,6],[313,7,313,8],[313,9,313,10],[314,1,314,8],[311,7,311,8],[311,9,311,10],[334,12,334,18],[331,1,331,5],[327,1,327,5],[326,1,326,5],[344,1,344,10],[346,1,346,8],[330,1,330,5],[345,1,345,8],[345,9,345,10],[332,1,332,5],[334,1,339,4],[342,1,342,5],[333,1,333,10],[312,1,312,4],[312,5,312,6],[312,7,312,8],[312,9,312,10],[311,1,311,4],[305,1,305,5],[304,7,304,8],[307,16,307,17],[307,13,307,14],[304,13,304,14],[304,16,304,17],[305,7,305,8],[305,13,305,14],[305,16,305,17],[304,1,304,5],[306,16,306,17],[306,7,306,8],[306,13,306,14],[360,1,360,4],[357,1,357,8],[357,9,357,10],[358,1,358,8],[358,9,358,10],[360,5,360,6],[347,9,347,10],[349,5,349,6],[349,9,349,10],[349,1,349,4],[350,5,350,6],[350,9,350,10],[348,7,348,8],[349,7,349,8],[350,7,350,8],[347,1,347,8],[351,1,351,8],[359,9,359,10],[314,9,314,10],[370,1,370,8],[353,1,353,5],[354,1,354,5],[355,1,355,5],[356,1,356,10],[359,1,359,8],[348,1,348,4],[348,5,348,6],[348,9,348,10],[346,9,346,10],[341,1,341,5],[334,6,335,6],[334,7,335,7],[334,8,334,11],[343,1,343,5],[361,1,361,4],[361,5,361,6],[361,7,361,8],[361,9,361,10],[369,1,369,8],[369,9,369,10],[363,9,363,10],[350,1,350,4],[366,9,366,10],[373,5,373,6],[373,7,373,8],[373,9,373,10],[385,1,385,4],[382,1,382,8],[377,1,377,5],[378,1,378,5],[362,1,362,4],[362,5,362,6],[363,1,363,8],[365,1,365,5],[366,1,366,5],[362,7,362,8],[362,9,362,10],[367,9,367,10],[368,1,368,10],[365,9,365,10],[378,9,378,10],[379,9,379,10],[380,1,380,10],[384,1,384,4],[384,7,384,8],[374,1,374,4],[323,1,323,5],[370,9,370,10],[367,1,367,5],[360,7,360,8],[360,9,360,10],[351,9,351,10],[334,5,335,5],[385,9,385,10],[385,5,385,6],[371,1,371,8],[372,7,372,8],[371,9,371,10],[372,1,372,4],[372,5,372,6],[372,9,372,10],[381,9,381,10],[382,9,382,10],[375,1,375,8],[379,1,379,5],[383,1,383,8],[384,5,384,6],[384,9,384,10],[374,9,374,10],[385,7,385,8],[386,9,386,10],[386,5,386,6],[386,7,386,8],[387,1,387,8],[387,9,387,10],[396,7,396,8],[396,9,396,10],[401,6,401,7],[386,1,386,4],[393,1,393,8],[397,9,397,10],[374,5,374,6],[374,7,374,8],[373,1,373,4],[381,1,381,8],[383,9,383,10],[375,9,375,10],[377,9,377,10],[421,9,421,10],[408,9,408,10],[409,1,409,4],[409,5,409,6],[392,1,392,10],[389,1,389,5],[390,1,390,5],[393,9,393,10],[398,1,398,4],[398,5,398,6],[398,7,398,8],[398,9,398,10],[391,1,391,5],[396,5,396,6],[397,1,397,4],[397,5,397,6],[397,7,397,8],[402,1,402,5],[402,6,402,7],[394,1,394,8],[394,9,394,10],[410,9,410,10],[395,1,395,8],[395,9,395,10],[396,1,396,4],[406,1,406,8],[406,9,406,10],[407,1,407,8],[407,9,407,10],[408,1,408,4],[408,5,408,6],[408,7,408,8],[403,6,403,7],[399,1,399,8],[399,9,399,10],[401,1,401,5],[409,7,409,8],[409,9,409,10],[410,1,410,4],[410,5,410,6],[410,7,410,8],[404,1,404,10],[405,1,405,8],[405,9,405,10],[403,1,403,5],[419,9,419,10],[418,1,418,8],[418,9,418,10],[417,9,417,10],[415,1,415,5],[414,1,414,5],[422,1,422,4],[431,1,431,4],[411,1,411,10],[413,1,413,5],[416,1,416,10],[417,1,417,8],[432,5,432,6],[432,7,432,8],[422,5,422,6],[422,7,422,8],[431,5,431,6],[421,7,421,8],[421,1,421,4],[431,7,431,8],[419,1,419,8],[434,1,434,10],[420,1,420,4],[420,5,420,6],[420,7,420,8],[424,1,424,5],[425,1,425,5],[427,1,427,10],[428,1,428,8],[428,9,428,10],[429,1,429,8],[429,9,429,10],[433,5,433,6],[433,7,433,8],[433,9,433,10],[426,1,426,5],[420,9,420,10],[431,9,431,10],[421,5,421,6],[422,9,422,10],[432,9,432,10],[433,1,433,4],[430,9,430,10],[430,1,430,8],[432,1,432,4]]}
[null,null,null,null,null,null,null,null,null,null,null,null,null,null,null,null,null,null,null,null,{"$f":"MATCH(\"Riepilogo Finale\",B:B,0)","v":{"$error":"#N/A"}},null,"Riepilogo Importi SAL"]
[null,"Tipologia Edificio",{"$f":"IF(TipoEdif=1,'Dati Gen'!Q5,'Dati Gen'!Q6)","v":"Edificio Unifamiliare"},null,null,null,null,{"$f":"IF(TipoEdif=2,'Dati Gen'!K5,\"\")","v":""},null,null,null,null,"https://detrazionifiscali.enea.it/creaasseverazione.asp",null,null,null,null,null,null,null,null,null,"Totali Progetto",null,null,null,null,"Totali Interventi Trainati Parti Comuni"]
[null,"Data Inizio Lavori",{"$f":"'Dati Gen'!E14","v":"00:00:00"},null,null,null,null,null,null,null,null,null,null,null,null,null,null,null,null,null,null,null,"Spese previste in progetto",null,null,null,{"$f":"AA9+AF3+AF9","v":0},"Spese previste in progetto",null,null,null,{"$f":"J109+J127+J156+J176+J191+J205+J223+J234+J245+J256","v":0}]
[null,"Comune Ubicazione",{"$f":"'Dati Gen'!E8","v":0},null,null,null,null,null,null,null,null,null,null,null,null,{"$f":"NomeApp","v":"Pratica.110plus"},null,"V.ne",{"$f":"'Dati Gen'!L3","v":"4.3.1"},null,null,null,"Spese Ammissibili",null,null,null,{"$f":"AA10+AF4+AF10","v":0},"Spese Ammissibili",null,null,null,{"$f":"J110+J128+J157+J177+J192+J206+J224+J235+J246+J257","v":0}]
[null,"Comune Montano","X","SI",null,"NO","Elenco Comuni Montani",null,null,null,null,null,null,null,null,null,null,null,{"$f":"'Dati Gen'!K4","v":"©2021-2022 SIM srl - www.madosoft.it"},null,null,null,"Realizzati",null,"SAL 30%","SAL 60%","SAL FINALE","Realizzati",null,"SAL 30%","SAL 60%","SAL FINALE"]
[null,"Interessato Infrazione",null,"SI","X","NO","Elenco Comuni Infrazioni",null,null,null,null,null,null,null,null,null,null,null,null,null,null,null,"Costo Lavori Realizzati",null,{"$f":"Y12+AD6+AD12","v":0},{"$f":"Z12+AE6+AE12","v":0},{"$f":"AA12+AF6+AF12","v":0},"Costo Lavori Realizzati",null,{"$f":"F112+F130+F159+F179+F194+F208+F226+F237+F248+F259","v":0},{"$f":"H112+H130+H159+H179+H194+H208+H226+H237+H248+H259","v":0},{"$f":"J112+J130+J159+J179+J194+J208+J226+J237+J248+J259","v":0}]
[null,"Intervento comma 4-Ter",null,"SI","X","NO","160% Zone Terremotate",null,null,null,null,null,null,null,null,{"$f":"C2","v":"Edificio Unifamiliare"},null,null,null,null,null,null,"di cui ammessi",null,0,0,0,"di cui ammessi",null,{"$f":"F113+F131+F160+F180+F195+F209+F227+F238+F249+F260","v":0},{"$f":"H113+H131+H160+H180+H195+H209+H227+H238+H249+H260","v":0},{"$f":"J113+J131+J160+J180+J195+J209+J227+J238+J249+J260","v":0}]
[null,"Indirizzo",{"$f":"'Dati Gen'!E9","v":0},null,null,null,null,null,"N.Civico ",{"$f":"'Dati Gen'!N9","v":"D"},"CAP",{"$f":"'Dati Gen'!N8","v":0},null,null,null,{"$f":"IF('Dati Gen'!E9<>\"\",CONCATENATE(C8,\" N.\",J8),\"\")","v":""},null,null,null,null,null,null,"Totali Interventi Trainanti",null,null,null,null,"Totali Interventi Trainati  U.Imm."]
[null,"Anno di Costruzione Immobile",{"$f":"'Dati Gen'!E11","v":0},null,null,null,{"$f":"'Dati Gen'!H11","v":"Superficie Totale Disperdente   :"},null,null,null,null,{"$f":"'Dati Gen'!N11","v":0},null,null,null,{"$f":"IF('Dati Gen'!E8<>\"\",CONCATENATE(L8,\" \",C4),\"\")","v":""},null,null,null,null,null,null,"Spese previste in progetto",null,null,null,{"$f":"J34+J66","v":0},"Spese previste in progetto",null,null,null,{"$f":"J294+J310+J347+J359+J371+J383+J395+J407+J419+J430","v":0}]
[null,"Edificio in area non Metanizzata","SI",null,"Intervento Art.3 C.1 Let.D)E)F) DPR.380",null,null,null,"SI","Vincoli/Restriz. Edilizie",null,{"$f":"'Dati Gen'!N14","v":"NO"},null,null,null,null,null,null,null,null,null,null,"Spese Ammissibili",null,null,null,{"$f":"J35+J67","v":0},"Spese Ammissibili",null,null,null,{"$f":"J295+J311+J348+J360+J372+J384+J396+J408+J420+J431","v":0}]
[null,"Autorizzazione Edilizia",{"$f":"'Dati Gen'!E12","v":"Licenza Edilizia / Titolo Edilizio"},null,null,null,null,null,{"$f":"'Dati Gen'!K12","v":"N."},{"$f":"'Dati Gen'!L12","v":0},{"$f":"'Dati Gen'!M12","v":"Data"},{"$f":"'Dati Gen'!N12","v":"00:00:00"},null,null,null,null,null,null,null,null,null,null,"Realizzati",null,"SAL 30%","SAL 60%","SAL FINALE","Realizzati",null,"SAL 30%","SAL 60%","SAL FINALE"]
[null,{"$f":"'Dati Gen'!B13","v":"Relazione ex Legge 10/91  Depositata al Comune in Data "},null,null,null,null,null,{"$f":"IF('Dati Gen'!I13<>\"\",'Dati Gen'!I13,\"\")","v":""},null,"Prot. N. ",null,{"$f":"IF('Dati Gen'!N13<>\"\",'Dati Gen'!N13,\"\")","v":""},null,null,null,null,null,null,null,null,null,null,"Costo Lavori Realizzati",null,{"$f":"F37+F69","v":0},{"$f":"H37+H69","v":0},{"$f":"J37+J69","v":0},"Costo Lavori Realizzati",null,{"$f":"F297+F313+F350+F362+F374+F386+F398+F410+F422+F433","v":0},{"$f":"H297+H313+H350+H362+H374+H386+H398+H410+H422+H433","v":0},{"$f":"J297+J313+J350+J362+J374+J386+J398+J410+J422+J433","v":0}]
[null,{"$f":"IF('Computo-Massimali'!C6<>\"\",\"Attenzione! Tabella Computo-Massimali non completa. Si consiglia di completare, prima di compilare Pratica ENEA\",\"\")","v":"Attenzione! Tabella Computo-Massimali non completa. Si consiglia di completare, prima di compilare Pratica ENEA"},null,null,null,null,null,null,null,null,null,null,null,null,null,null,null,null,null,null,null,null,"di cui ammessi",null,{"$f":"F38+F70","v":0},{"$f":"H38+H70","v":0},{"$f":"J38+J70","v":0},"di cui ammessi",null,{"$f":"F298+F314+F351+F363+F375+F387+F399+F411+F423+F434","v":0},{"$f":"H298+H314+H351+H363+H375+H387+H399+H411+H423+H434","v":0},{"$f":"J298+J314+J351+J363+J375+J387+J399+J411+J423+J434","v":0}]
[]
[null,"INTERVENTI TRAINANTI",null,null,null,null,null,null,null,null,null,null,null,null,null,null,null,null,null,".."]
[]
[null,"intervento di isolamento termico delle superfici opache verticali, orizzontali e inclinate : PV) PO) POND) PS)"]
[null,"Descrizione",null,null,null,null,"Superficie mq","Trasm. Ante","Trasm. Post","Trasm.P. YIE","Confine","Coiben-tazione","Realizzati mq"]
[null,null,null,null,null,null,null,null,null,null,null,null,"SAL.30%","SAL.60%","SAL.FIN."]
[null,null,null,null,null,null,22.58,0.89139999999999997,0.22359999999999999,0.01,"Esterno","Esterna",22.58]
[null,null,null,null,null,null,123.7,1.839,0.252,1.7299999999999999E-2,"Esterno","Esterna",123.7]
[]
[]
[]
[]
[]
[]
[]
[]
[]
[]
[null,"Superficie Totale disperdente oggetto di intervento                              [mq]",null,null,null,null,null,null,null,{"$f":"SUM(G20:G30)","v":146.28}]
[null,"Spesa Massima Ammissibile ",null,null,null,null,null,null,null,{"$f":"'Computo-Massimali'!T13","v":0}]
[null,"Costo Complessivo Previsto in progetto",null,null,null,null,null,null,null,{"$f":"'Computo-Massimali'!L13","v":0}]
[null,"Spesa Ammessa",null,null,null,null,null,null,null,{"$f":"IF(J34<J33,J34,J33)","v":0}]
[null,null,null,null,null,"SAL 30%",null,"SAL 60%",null,"SAL FINALE"]
[null,"Costo Lavori Realizzati",null,null,null,{"$f":"'SAL.30%'!L14","v":0},null,{"$f":"'SAL.60%'!L13","v":0},null,{"$f":"SAL.Finale!L13","v":0}]
[null,"di cui ammessi",null,null,null,{"$f":"IF(F37<J35,F37,J35)","v":0},null,{"$f":"IF(H37<J35,H37,J35)","v":0},null,{"$f":"IF(J37<J35,J37,J35)","v":0}]
[null,"Risparmio di energia primaria non rinnovabile di progetto    [kWh/anno]"]
[]
[]
[]
[null,"Intervento di sostituzione degli impianti di climatizzazione invernale esistenti"]
[null,"Descrizione Nuovo Impianto",null,null,null,null,"Tipo Sostituito","P.Nom Sostituito","P.Nom kW","Rendim Util Nomin. 100%","Destinata","Efficienza  Riscaldam. hs","Efficienza  ACS hw","Tipo Aliment.","Classe Dispositivo Termoreg. Evoluto","Tipo PDC","Pot. El. Assorb kW","COP","Superfic. Risc. Da PDC",null,null,"Descrizione Impianto"]
[null,null,null,null,null,null,null,null,null,null,null,null,null,null,null,"-",null,null,null,null,null,"-"]
[null,null,null,null,null,null,"-",null,null,null,"-",null,null,"-","-","-",null,null,null,null,null,"CC) Caldaie a condensazione"]
[null,null,null,null,null,null,"-",null,null,null,"-",null,null,"-","-","-",null,null,null,null,null,"PC) Pompe di calore (PDC) a compressione di vapore elettriche anche sonde geotermiche"]
[null,null,null,null,null,null,"-",null,null,null,"-",null,null,"-","-","-",null,null,null,null,null,"PCA) Pompe di calore a gas ad assorbimento o a compressione di vapore azionate da motore primo"]
[null,null,null,null,null,null,"-",null,null,null,"-",null,null,"-","-","-",null,null,null,null,null,"SI) Sistemi Ibridi"]
[null,null,null,null,null,null,"-",null,null,null,"-",null,null,"-","-","-",null,null,null,null,null,"CO) Sistemi microcogenerazione"]
[null,null,null,null,null,null,"-",null,null,null,"-",null,null,"-","-","-",null,null,null,null,null,"SA) Installazione di scaldacqua a pompa di calore in sostituzione di un sistema di produzione di acqua calda quando avviene con lo stesso generatore di calore destinato alla climatizzazione invernale ai sensi delle lettere b) e c) del comma 1 dell’articolo 119 del Decreto Rilancio"]
[null,null,null,null,null,null,"-",null,null,null,"-",null,null,"-","-","-",null,null,null,null,null,"ST) Collettori solari"]
[null,null,null,null,null,null,null,null,null,null,null,null,null,null,null,null,null,null,null,null,null,"TR) Teleriscaldamento (esclusivamente per i comuni montani non interessati dalle procedure di infrazione comunitaria n. 2014/2147 del 10 luglio 2014 o n. 2015/2043 del 28 maggio 2015 per la non ottemperanza dell’Italia agli obblighi previsti dalla direttiva 2008/50/CE, l’allaccio a sistemi di teleriscaldamento efficiente ai sensi dell’articolo 2, comma 2, lettera tt), del decreto legislativo 4 luglio 2014, n. 102)"]
[null,"SI) Sistemi Ibridi",null,null,null,null,"Tipo Sostituito","P.Nom Sostituito","Caldaia a Condensazione",null,null,null,"Pompa di Calore"]
[null,null,null,null,null,null,null,null,"P.Nom kW","Rendim Nomin. 100%","Efficienza  Riscaldam. hs","Tipo Aliment.","Tipo PDC","Tipo Roof Top","P.Nom    kW","Pot. El. Assorb kW","COP","Inverter","Sonde Geotermiche",null,null,"Tipo Sostituito"]
[null,null,null,null,null,1,null,null,null,null,null,null,null,null,null,null,null,null,null,null,null,"-"]
[null,null,null,null,null,2,null,null,null,null,null,null,null,null,null,null,null,null,null,null,null,"Caldaia Standard"]
[null,null,null,null,null,3,"-",null,null,null,null,"-","-","-",null,null,null,"-","-",null,null,"Caldaia Bassa Temperatura"]
[null,null,null,null,null,4,"-",null,null,null,null,"-","-","-",null,null,null,"-","-",null,null,"Caldaia a Condensazione Gas"]
[null,null,null,null,null,null,null,null,null,null,null,null,null,null,null,null,null,null,null,null,null,"Caldaia Condens.Gasolio"]
[null,"Destinati a :   Climatizzazione Invernale",null,null,null,null,"x",null,null,null,null,null,null,null,null,null,null,null,null,null,null,"Pompa di Calore anche con sonda geotermica"]
[null,"                         Climatizzazione estiva",null,null,null,null,null,null,null,null,null,null,null,null,null,null,null,null,null,null,null,"Generatori di Aria Calda"]
[null,"                         prod. di acqua calda sanitaria",null,null,null,null,"x",null,null,null,null,null,null,null,null,null,null,null,null,null,null,"Teleriscaldamento (solo in caso di distacco obbligato)"]
[null,null,null,null,null,null,null,null,null,null,null,null,null,null,null,null,null,null,null,null,null,"Impianto a biomassa"]
[null,"Spesa Massima Ammissibile ",null,null,null,null,null,null,null,{"$f":"'Computo-Massimali'!T14","v":0},null,null,null,null,null,null,null,null,null,null,null,"Altro"]
[null,"Costo Complessivo Previsto in progetto",null,null,null,null,null,null,null,{"$f":"'Computo-Massimali'!L14","v":0}]
[null,"Spesa Ammessa",null,null,null,null,null,null,null,{"$f":"IF(J66<J65,J66,J65)","v":0}]
[null,null,null,null,null,"SAL 30%",null,"SAL 60%",null,"SAL FINALE"]
[null,"Costo Lavori Realizzati",null,null,null,{"$f":"'SAL.30%'!L15","v":0},null,{"$f":"'SAL.60%'!L14","v":0},null,{"$f":"SAL.Finale!L14","v":0}]
[null,"di cui ammessi",null,null,null,{"$f":"IF(F69<J67,F69,J67)","v":0},null,{"$f":"IF(H69<J67,H69,J67)","v":0},null,{"$f":"IF(J69<J67,J69,J67)","v":0}]
[null,"Risparmio di energia primaria non rinnovabile di progetto    [kWh/anno]"]
[]
[]
[]
[]
[]
[]
[null,"INTERVENTI TRAINATI PARTI COMUNI CONDOMINIALI",null,null,null,null,null,null,null,null,null,null,null,null,null,null,null,null,null,".."]
[]
[null,"intervento di isolamento termico delle superfici opache verticali, orizzontali e inclinate dell'involucro  PV) PO) PS)"]
[null,"Descrizione",null,null,null,null,"Superficie mq","Trasm. Ante","Trasm. Post","Trasm.P. YIE","Confine","Coiben-tazione","Realizzati mq"]
[null,null,null,null,null,null,null,null,null,null,null,null,"SAL.30%","SAL.60%","SAL.FIN."]
[]
[]
[]
[]
[]
[]
[null,null,null,null,null,null,null,null,null,null,"-","-"]
[null,null,null,null,null,null,null,null,null,null,"-","-"]
[null,null,null,null,null,null,null,null,null,null,"-","-"]
[null,"Superficie Totale disperdente oggetto di intervento                              [mq]",null,null,null,null,null,null,null,{"$f":"SUM(G83:G91)","v":0}]
[null,"Risparmio di energia primaria non rinnovabile di progetto    [kWh/anno]"]
[]
[]
[null,"IN) Sostituzione degli infissi "]
[null,"Descrizione",null,null,null,null,"Telaio Prima","Vetro Prima",null,"Trasm. Ante","Superfice mq","Telaio Dopo","Vetro Dopo",null,"Trasm. Post","Chius. Oscura"]
[]
[]
[]
[null,null,null,null,null,null,"-","-",null,null,null,"-","-"]
[null,null,null,null,null,null,"-","-",null,null,null,"-","-"]
[null,null,null,null,null,null,"-","-",null,null,null,"-","-"]
[null,null,null,null,null,null,"-","-",null,null,null,"-","-"]
[null,"Risparmio di energia primaria non rinnovabile di progetto    [kWh/anno]"]
[]
[null,"Isolamento termico sup. verticali, orizzontali, inclinate e Sostituzione Infissi"]
[null,"Spesa Massima Ammissibile ",null,null,null,null,null,null,null,{"$f":"'Computo-Massimali'!T24","v":0}]
[null,"Costo Complessivo Previsto in progetto",null,null,null,null,null,null,null,{"$f":"'Computo-Massimali'!L24","v":0}]
[null,"Spesa Ammessa",null,null,null,null,null,null,null,{"$f":"IF(J109<J108,J109,J108)","v":0}]
[null,null,null,null,null,"SAL 30%",null,"SAL 60%",null,"SAL FINALE"]
[null,"Costo Lavori Realizzati",null,null,null,{"$f":"'SAL.30%'!L25","v":0},null,{"$f":"'SAL.60%'!L24","v":0},null,{"$f":"SAL.Finale!L24","v":0}]
[null,"di cui ammessi",null,null,null,{"$f":"IF(F112<J110,F112,J110)","v":0},null,{"$f":"IF(H112<J110,H112,J110)","v":0},null,{"$f":"IF(J112<J110,J112,J110)","v":0}]
[]
[]
[]
[]
[null,"SS) Schermature solari Anche chiusure oscuranti"]
[null,"Descrizione",null,null,null,null,"Tipo Schermatura","Installazione",null,"Superf. Schermatura","Superfice finestra protetta","Resistenza term. suppl m2K/W","Orientamento","Tipo Calcolo",null,"gtot","Materiale schermatura",null,"Meccan. Regolaz."]
[null,null,null,null,null,null,"-","-",null,null,null,null,"-","-",null,null,"-",null,"-"]
[null,null,null,null,null,null,"-","-",null,null,null,null,"-","-",null,null,"-",null,"-"]
[null,null,null,null,null,null,"-","-",null,null,null,null,"-","-",null,null,"-",null,"-"]
[null,null,null,null,null,null,"-","-",null,null,null,null,"-","-",null,null,"-",null,"-"]
[null,null,null,null,null,null,"-","-",null,null,null,null,"-","-",null,null,"-",null,"-"]
[]
[null,"Spesa Massima Ammissibile ",null,null,null,null,null,null,null,{"$f":"'Computo-Massimali'!T25","v":0}]
[null,"Costo Complessivo Previsto in progetto",null,null,null,null,null,null,null,{"$f":"'Computo-Massimali'!L25","v":0}]
[null,"Spesa Ammessa",null,null,null,null,null,null,null,{"$f":"IF(J127<J126,J127,J126)","v":0}]
[null,null,null,null,null,"SAL 30%",null,"SAL 60%",null,"SAL FINALE"]
[null,"Costo Lavori Realizzati",null,null,null,{"$f":"'SAL.30%'!L26","v":0},null,{"$f":"'SAL.60%'!L25","v":0},null,{"$f":"SAL.Finale!L25","v":0}]
[null,"di cui ammessi",null,null,null,{"$f":"IF(F130<J128,F130,J128)","v":0},null,{"$f":"IF(H130<J128,H130,J128)","v":0},null,{"$f":"IF(J130<J128,J130,J128)","v":0}]
[null,"Risparmio di energia primaria non rinnovabile di progetto    [kWh/anno]"]
[]
[null,"Intervento, sulle parti comuni, di sostituzione degli impianti di climatizzazione invernale esistenti con impianti dotati di"]
[null,"CC) Caldaie a condensazione",null,null,null,null,"Tipo Sostituito","P.Nom Sostituito","P.Nom kW","Rendim Util Nomin. 100%","Destinata","Efficienza  Riscaldam. hs","Efficienza  ACS     hw","Tipo Aliment.","Classe Dispositivo Termoreg. Evoluto"]
[null,null,null,null,null,null,"-",null,null,null,"-",null,null,"-","-"]
[null,null,null,null,null,null,"-",null,null,null,"-",null,null,"-","-",null,null,null,null,null,null,"Tipo Generatore"]
[null,null,null,null,null,null,null,null,null,null,null,null,null,null,null,null,null,null,null,null,null,"-"]
[null,"PC) Pompe di calore (PDC) a compressione di vapore elettriche anche sonde geotermiche",null,null,null,null,"Tipo Sostituito","P.Nom Sostituito","Tipo PDC","Tipo Roof Top","P.Nom kW","Pot. El. Assorb kW","Inverter","COP","Reversibile","Sonde Geotermiche","Sup. Riscald. dalla PDC",null,null,null,null,"Cucine a legna"]
[null,null,null,null,null,null,"-",null,"-","-",null,null,"-",null,"-","-"]
[null,null,null,null,null,null,"-",null,"-","-",null,null,"-",null,"-","-"]
[]
[null,"PCA) Pompe di calore a gas ad assorbimento o a compressione di vapore azionate da motore primo",null,null,null,null,"Tipo Sostituito","P.Nom Sostituito","Tipo PDC","Tipo Roof Top","P.Nom kW","Inverter","GUEh","Reversibile","GUEc","Sup. Riscald. Dalla PDC"]
[null,null,null,null,null,null,"-",null,"-","-",null,"-",null,"-"]
[null,null,null,null,null,null,"-",null,"-","-",null,"-",null,"-"]
[]
[]
[null,"SI) Sistemi Ibridi",null,null,null,null,"Tipo Sostituito","P.Nom Sostituito","Caldaia a Condensazione",null,null,null,"Pompa di Calore"]
[null,null,null,null,null,null,null,null,"P.Nom kW","Rendim Nomin. 100%","Efficienza  Riscaldam. hs","Tipo Aliment.","Tipo PDC","Tipo Roof Top","P.Nom    kW","Pot. El. Assorb kW","COP","Inverter","Sonde Geotermiche",null,null,"Tipo Sostituito"]
[null,null,null,null,null,1,null,null,null,null,null,null,null,null,null,null,null,null,null,null,null,"-"]
[null,null,null,null,null,2,null,null,null,null,null,null,null,null,null,null,null,null,null,null,null,"Caldaia Standard"]
[null,null,null,null,null,3,"-",null,null,null,null,"-","-","-",null,null,null,"-","-",null,null,"Caldaia Bassa Temperatura"]
[null,null,null,null,null,4,"-",null,null,null,null,"-","-","-",null,null,null,"-","-",null,null,"Caldaia a Condensazione Gas"]
[]
[null,"Spesa Massima Ammissibile per Impianti Climatizzazione CC) PC) PCA) SI)",null,null,null,null,null,null,null,{"$f":"'Computo-Massimali'!T26","v":0}]
[null,"Spese Previste in progetto per Impianti Climatizzazione  CC) PC) PCA) SI)",null,null,null,null,null,null,null,{"$f":"'Computo-Massimali'!L26","v":0}]
[null,"Spesa Ammessa",null,null,null,null,null,null,null,{"$f":"IF(J156<J155,J156,J155)","v":0}]
[null,null,null,null,null,"SAL 30%",null,"SAL 60%",null,"SAL FINALE"]
[null,"Costo Lavori Realizzati",null,null,null,{"$f":"'SAL.30%'!L27","v":0},null,{"$f":"'SAL.60%'!L26","v":0},null,{"$f":"SAL.Finale!L26","v":0}]
[null,"di cui ammessi",null,null,null,{"$f":"IF(F159<J157,F159,J157)","v":0},null,{"$f":"IF(H159<J157,H159,J157)","v":0},null,{"$f":"IF(J159<J157,J159,J157)","v":0}]
[null,"Risparmio di energia primaria non rinnovabile di progetto    [kWh/anno]"]
[]
[null,"GA) Generatori di Aria Calda a Condensazione",null,null,null,null,"Tipo Sostituito","Pu. scald. sostituito kW","Pu. scald. PDC  kW","COP nuovo scald.","Capacità accumulo litri"]
[null,null,null,null,null,null,"-"]
[null,null,null,null,null,null,"-"]
[]
[null,"IB) Impianti a Biomassa",null,null,null,null,"Tipo Sostituito","Pu. scald. sostituito kW","Pu. scald. PDC  kW","COP nuovo scald.","Capacità accumulo litri"]
[null,null,null,null,null,null,"-"]
[null,null,null,null,null,null,"-"]
[]
[null,"SA) Scaldacqua a pompa di calore",null,null,null,null,"Tipo Sostituito","Pu. scald. sostituito kW","Pu. scald. PDC  kW","COP nuovo scald.","Capacità accumulo litri"]
[null,null,null,null,null,null,"-"]
[null,null,null,null,null,null,"-"]
[]
[null,"Spesa Massima Ammissibile per Impianti GA) IB) SA)",null,null,null,null,null,null,null,{"$f":"'Computo-Massimali'!T30","v":0}]
[null,"Spese Previste in progetto per Impianti  GA) IB) SA)",null,null,null,null,null,null,null,{"$f":"'Computo-Massimali'!L30","v":0}]
[null,"Spesa Ammessa",null,null,null,null,null,null,null,{"$f":"IF(J176<J175,J176,J175)","v":0}]
[null,null,null,null,null,"SAL 30%",null,"SAL 60%",null,"SAL FINALE"]
[null,"Costo Lavori Realizzati",null,null,null,{"$f":"'SAL.30%'!L31","v":0},null,{"$f":"'SAL.60%'!L30","v":0},null,{"$f":"SAL.Finale!L30","v":0}]
[null,"di cui ammessi",null,null,null,{"$f":"IF(F179<J177,F179,J177)","v":0},null,{"$f":"IF(H179<J177,H179,J177)","v":0},null,{"$f":"IF(J179<J177,J179,J177)","v":0}]
[null,"Risparmio di energia primaria non rinnovabile di progetto    [kWh/anno]"]
[]
[]
[null,"CO) Sistemi microcogenerazione ",null,null,null,null,"Tipo Sostituito","P.Nom Sostituito","Pot. Elettr. kW","Pot. Immes. kW","Pot. Term. Rec. kW","PES %","Tipo Aliment.","Tipo Intervent","a Celle Combust.","Riscaldatore Supplement.","P.Risc. Supp kW","Efficienz hs %","Classe Energet"]
[null,null,null,null,null,null,"-",null,null,null,null,null,"-","-","-","-",null,null,"-"]
[null,null,null,null,null,null,"-",null,null,null,null,null,"-","-","-","-",null,null,"-"]
[null,null,null,null,null,null,"-",null,null,null,null,null,"-","-","-","-",null,null,"-"]
[null,null,null,null,null,null,"-",null,null,null,null,null,"-","-","-","-",null,null,"-"]
[]
[null,"Spesa Massima Ammissibile per CO) Sistemi Microgenerazione",null,null,null,null,null,null,null,{"$f":"'Computo-Massimali'!T31","v":0}]
[null,"Spese Previste in progetto per CO) Microgenerazione",null,null,null,null,null,null,null,{"$f":"'Computo-Massimali'!L31","v":0}]
[null,"Spesa Ammessa",null,null,null,null,null,null,null,{"$f":"IF(J191<J190,J191,J190)","v":0}]
[null,null,null,null,null,"SAL 30%",null,"SAL 60%",null,"SAL FINALE"]
[null,"Costo Lavori Realizzati",null,null,null,{"$f":"'SAL.30%'!L32","v":0},null,{"$f":"'SAL.60%'!L31","v":0},null,{"$f":"SAL.Finale!L31","v":0}]
[null,"di cui ammessi",null,null,null,{"$f":"IF(F194<J192,F194,J192)","v":0},null,{"$f":"IF(H194<J192,H194,J192)","v":0},null,{"$f":"IF(J194<J192,J194,J192)","v":0}]
[null,"Risparmio di energia primaria non rinnovabile di progetto    [kWh/anno]"]
[]
[null,"ST) Collettori Solari",null,null,null,null,"Sup lorda Ag singolo modulo","N. di moduli","S.tot","Tipo di colllettori","Tipo di installazione","Inclinaz. %","Orientamento","Factory Made","Qcol / Qsol kWht  oppure    QL MJ","Accumulo   litri","Dest. Calore","Solar Keymrk","Tipo impianto sost."]
[null,null,null,null,null,null,null,null,{"$f":"G199*H199","v":0},"-","-"]
[null,null,null,null,null,null,null,null,{"$f":"G200*H200","v":0},"-","-",null,"-","-",null,null,"-","-","-"]
[null,null,null,null,null,null,null,null,{"$f":"G201*H201","v":0},"-","-",null,"-","-",null,null,"-","-","-"]
[null,null,null,null,null,null,null,null,{"$f":"G202*H202","v":0},"-","-",null,"-","-",null,null,"-","-","-"]
[]
[null,"Spesa Massima Ammissibile per ST) Collettori Solari",null,null,null,null,null,null,null,{"$f":"'Computo-Massimali'!T32","v":0}]
[null,"Spese Previste in progetto per ST) Collettori Solari",null,null,null,null,null,null,null,{"$f":"'Computo-Massimali'!L32","v":0}]
[null,"Spesa Ammessa",null,null,null,null,null,null,null,{"$f":"IF(J205<J204,J205,J204)","v":0}]
[null,null,null,null,null,"SAL 30%",null,"SAL 60%",null,"SAL FINALE"]
[null,"Costo Lavori Realizzati",null,null,null,{"$f":"'SAL.30%'!L33","v":0},null,{"$f":"'SAL.60%'!L32","v":0},null,{"$f":"SAL.Finale!L32","v":0}]
[null,"di cui ammessi",null,null,null,{"$f":"IF(F208<J206,F208,J206)","v":0},null,{"$f":"IF(H208<J206,H208,J206)","v":0},null,{"$f":"IF(J208<J206,J208,J206)","v":0}]
[null,"Risparmio di energia primaria non rinnovabile di progetto    [kWh/anno]"]
[]
[]
[]
[]
[]
[]
[]
[null,"FV) Fotovoltaico",null,null,null,null,"Codice POD",null,null,"Potenza Picco kW"]
[]
[]
[]
[null,"Spesa Massima Ammissibile per FV) Fotovoltaico",null,null,null,null,null,null,null,{"$f":"'Computo-Massimali'!T33","v":0}]
[null,"Spese Previste in progetto per FV) Fotovoltaico",null,null,null,null,null,null,null,{"$f":"'Computo-Massimali'!L33","v":0}]
[null,"Spesa Ammessa",null,null,null,null,null,null,null,{"$f":"IF(J223<J222,J223,J222)","v":0}]
[null,null,null,null,null,"SAL 30%",null,"SAL 60%",null,"SAL FINALE"]
[null,"Costo Lavori Realizzati",null,null,null,{"$f":"'SAL.30%'!L34","v":0},null,{"$f":"'SAL.60%'!L33","v":0},null,{"$f":"SAL.Finale!L33","v":0}]
[null,"di cui ammessi",null,null,null,{"$f":"IF(F226<J224,F226,J224)","v":0},null,{"$f":"IF(H226<J224,H226,J224)","v":0},null,{"$f":"IF(J226<J224,J226,J224)","v":0}]
[]
[null,"AC) Sistema di Accumulo",null,null,null,null,null,null,null,"Capacità kWh"]
[]
[]
[]
[null,"Spesa Massima Ammissibile per AC) Sistema di Accumulo",null,null,null,null,null,null,null,{"$f":"'Computo-Massimali'!T34","v":0}]
[null,"Spese Previste in progetto per AC) Sistema di Accumulo",null,null,null,null,null,null,null,{"$f":"'Computo-Massimali'!L34","v":0}]
[null,"Spesa Ammessa",null,null,null,null,null,null,null,{"$f":"IF(J234<J233,J234,J233)","v":0}]
[null,null,null,null,null,"SAL 30%",null,"SAL 60%",null,"SAL FINALE"]
[null,"Costo Lavori Realizzati",null,null,null,{"$f":"'SAL.30%'!L35","v":0},null,{"$f":"'SAL.60%'!L34","v":0},null,{"$f":"SAL.Finale!L34","v":0}]
[null,"di cui ammessi",null,null,null,{"$f":"IF(F237<J235,F237,J235)","v":0},null,{"$f":"IF(H237<J235,H237,J235)","v":0},null,{"$f":"IF(J237<J235,J237,J235)","v":0}]
[]
[null,"CR) Infrastrutture per la ricarica dei veicoli elettrici"]
[null,null,null,null,null,null,null,null,null,0]
[]
[]
[null,"Spesa Massima Ammissibile per CR) Colonnine di Ricarica",null,null,null,null,null,null,null,{"$f":"'Computo-Massimali'!T35","v":0}]
[null,"Spese Previste in progetto per CR) Colonnine di Ricarica",null,null,null,null,null,null,null,{"$f":"'Computo-Massimali'!L35","v":0}]
[null,"Spesa Ammessa",null,null,null,null,null,null,null,{"$f":"IF(J245<J244,J245,J244)","v":0}]
[null,null,null,null,null,"SAL 30%",null,"SAL 60%",null,"SAL FINALE"]
[null,"Costo Lavori Realizzati",null,null,null,{"$f":"'SAL.30%'!L36","v":0},null,{"$f":"'SAL.60%'!L35","v":0},null,{"$f":"SAL.Finale!L35","v":0}]
[null,"di cui ammessi",null,null,null,{"$f":"IF(F248<J246,F248,J246)","v":0},null,{"$f":"IF(H248<J246,H248,J246)","v":0},null,{"$f":"IF(J248<J246,J248,J246)","v":0}]
[]
[null,"EBA) Barriere Architettoniche"]
[null,null,null,null,null,null,null,null,null,0]
[]
[]
[null,"Spesa Massima Ammissibile per EBA) Barriere Architettoniche",null,null,null,null,null,null,null,{"$f":"'Computo-Massimali'!T36","v":0}]
[null,"Spese Previste in progetto per EBA) Barriere Architettoniche",null,null,null,null,null,null,null,{"$f":"'Computo-Massimali'!L36","v":0}]
[null,"Spesa Ammessa",null,null,null,null,null,null,null,{"$f":"IF(J256<J255,J256,J255)","v":0}]
[null,null,null,null,null,"SAL 30%",null,"SAL 60%",null,"SAL FINALE"]
[null,"Costo Lavori Realizzati",null,null,null,{"$f":"'SAL.30%'!L37","v":0},null,{"$f":"'SAL.60%'!L36","v":0},null,{"$f":"SAL.Finale!L36","v":0}]
[null,"di cui ammessi",null,null,null,{"$f":"IF(F259<J257,F259,J257)","v":0},null,{"$f":"IF(H259<J257,H259,J257)","v":0},null,{"$f":"IF(J259<J257,J259,J257)","v":0}]
[]
[]
[]
[null,"INTERVENTI TRAINATI Unità Immobiliare",null,null,null,null,null,null,null,null,null,null,null,null,null,null,null,null,null,".."]
[]
[null,"intervento di isolamento termico delle superfici opache verticali e orizzontali: PV)Pareti Verticali; PO)Coperture; PS)Pavimenti"]
[null,"Descrizione",null,null,null,null,"Superficie mq","Trasm. Ante","Trasm. Post","Trasm.P. YIE","Confine","Coiben-tazione","Realizzati mq"]
[null,null,null,null,null,null,null,null,null,null,null,null,"SAL.30%","SAL.60%","SAL.FIN."]
[]
[]
[]
[]
[]
[]
[]
[]
[]
[null,"Superficie Totale disperdente oggetto di intervento                              [mq]",null,null,null,null,null,null,null,{"$f":"SUM(G269:G277)","v":0}]
[null,"Risparmio di energia primaria non rinnovabile di progetto    [kWh/anno]",null,null,null,null,null,null,null,0]
[]
[null,"Sostituzione degli infissi "]
[null,"Descrizione",null,null,null,null,"Telaio Prima","Vetro Prima",null,"Trasm. Ante","Superfice mq","Telaio Dopo","Vetro Dopo",null,"Trasm. Post","Chius. Oscura"]
[]
[]
[]
[null,null,null,null,null,null,"-","-",null,null,null,"-","-"]
[null,null,null,null,null,null,"-","-",null,null,null,"-","-"]
[null,null,null,null,null,null,"-","-",null,null,null,"-","-"]
[null,null,null,null,null,null,"-","-",null,null,null,"-","-"]
[null,"Risparmio di energia primaria non rinnovabile di progetto    [kWh/anno]"]
[]
[null,"Isolamento termico sup. verticali , orizzontali e Sostituzione Infissi"]
[null,"Spesa Massima Ammissibile ",null,null,null,null,null,null,null,{"$f":"'Computo-Massimali'!T46","v":0}]
[null,"Costo Complessivo Previsto in progetto",null,null,null,null,null,null,null,{"$f":"'Computo-Massimali'!L46","v":0}]
[null,"Spesa Ammessa",null,null,null,null,null,null,null,{"$f":"IF(J294<J293,J294,J293)","v":0}]
[null,null,null,null,null,"SAL 30%",null,"SAL 60%",null,"SAL FINALE"]
[null,"Costo Lavori Realizzati",null,null,null,{"$f":"'SAL.30%'!L47","v":0},null,{"$f":"'SAL.60%'!L46","v":0},null,{"$f":"SAL.Finale!L46","v":0}]
[null,"di cui ammessi",null,null,null,{"$f":"IF(F297<J295,F297,J295)","v":0},null,{"$f":"IF(H297<J295,H297,J295)","v":0},null,{"$f":"IF(J297<J295,J297,J295)","v":0}]
[]
[]
[]
[null,"SS) Schermature solari e chiusure oscuranti"]
[null,"Descrizione",null,null,null,null,"Tipo Schermatura","Installazione",null,"Superf. Schermatura","Superfice finestra protetta","Resistenza term. suppl m2K/W","Orientamento","Tipo Calcolo",null,"gtot","Materiale schermatura",null,"Meccan. Regolaz."]
[null,null,null,null,null,null,"-","-",null,null,null,null,"-","-",null,null,"-",null,"-"]
[null,null,null,null,null,null,"-","-",null,null,null,null,"-","-",null,null,"-",null,"-"]
[null,null,null,null,null,null,"-","-",null,null,null,null,"-","-",null,null,"-",null,"-"]
[null,null,null,null,null,null,"-","-",null,null,null,null,"-","-",null,null,"-",null,"-"]
[null,null,null,null,null,null,"-","-",null,null,null,null,"-","-",null,null,"-",null,"-"]
[null,"Spesa Massima Ammissibile ",null,null,null,null,null,null,null,{"$f":"'Computo-Massimali'!T47","v":0}]
[null,"Costo Complessivo Previsto in progetto",null,null,null,null,null,null,null,{"$f":"'Computo-Massimali'!L47","v":0}]
[null,"Spesa Ammessa",null,null,null,null,null,null,null,{"$f":"IF(J310<J309,J310,J309)","v":0}]
[null,null,null,null,null,"SAL 30%",null,"SAL 60%",null,"SAL FINALE"]
[null,"Costo Lavori Realizzati",null,null,null,{"$f":"'SAL.30%'!L48","v":0},null,{"$f":"'SAL.60%'!L47","v":0},null,{"$f":"SAL.Finale!L47","v":0}]
[null,"di cui ammessi",null,null,null,{"$f":"IF(F313<J311,F313,J311)","v":0},null,{"$f":"IF(H313<J311,H313,J311)","v":0},null,{"$f":"IF(J313<J311,J313,J311)","v":0}]
[null,"Risparmio di energia primaria non rinnovabile di progetto    [kWh/anno]"]
[]
[null,"Impianti"]
[null,"CC) Caldaie a condensazione",null,null,null,null,"Tipo Sostituito","P.Nom Sostituito","P.Nom kW","Rendim Util Nomin. 100%","Destinata","Efficienza  Riscaldam. hs","Efficienza  ACS     hw","Tipo Aliment.","Classe Dispositivo Termoreg. Evoluto"]
[null,null,null,null,null,null,"-",null,null,null,"-",null,null,"-","-"]
[null,null,null,null,null,null,"-",null,null,null,"-",null,null,"-","-",null,null,null,null,null,null,"Tipo Generatore"]
[null,null,null,null,null,null,null,null,null,null,null,null,null,null,null,null,null,null,null,null,null,"-"]
[null,"GA) Generatori di aria calda a condensazione",null,null,null,null,"Tipo Sostituito","P.Nom Sostituito","P.Nom kW","Rendim Util Nomin. 100%","Tipo Aliment.",null,null,null,null,null,null,null,null,null,null,"Caldaia"]
[null,null,null,null,null,null,"-",null,null,null,"-",null,null,null,null,null,null,null,null,null,null,"Stufe"]
[null,null,null,null,null,null,"-",null,null,null,"-",null,null,null,null,null,null,null,null,null,null,"Camini"]
[null,null,null,null,null,null,null,null,null,null,null,null,null,null,null,null,null,null,null,null,null,"Termostufe"]
[null,"PC) Pompe di calore (PDC) a compressione di vapore elettriche anche sonde geotermiche",null,null,null,null,"Tipo Sostituito","P.Nom Sostituito","Tipo PDC","Tipo Roof Top","P.Nom kW","Pot. El. Assorb kW","Inverter","COP","Reversibile","Sonde Geotermiche","Sup. Riscald. dalla PDC",null,null,null,null,"Cucine a legna"]
[null,null,null,null,null,null,"-",null,"-","-",null,null,"-",null,"-","-"]
[null,null,null,null,null,null,"-",null,"-","-",null,null,"-",null,"-","-"]
[]
[]
[null,"PCA) Pompe di calore a gas ad assorbimento o a compressione di vapore azionate da motore primo",null,null,null,null,"Tipo Sostituito","P.Nom Sostituito","Tipo PDC","Tipo Roof Top","P.Nom kW","Inverter","GUEh","Reversibile","GUEc","Sup. Riscald. Dalla PDC"]
[null,null,null,null,null,null,"-",null,"-","-",null,"-",null,"-"]
[null,null,null,null,null,null,"-",null,"-","-",null,"-",null,"-"]
[]
[null,"SI) Sistemi Ibridi",null,null,null,null,"Tipo Sostituito","P.Nom Sostituito","Caldaia a Condensazione",null,null,null,"Pompa di Calore"]
[null,null,null,null,null,null,null,null,"P.Nom kW","Rendim Nomin. 100%","Efficienza  Riscaldam. hs","Tipo Aliment.","Tipo PDC","Tipo Roof Top","P.Nom    kW","Pot. El. Assorb kW","COP","Inverter","Sonde Geotermiche",null,null,"Tipo Sostituito"]
[null,null,null,null,null,1,null,null,null,null,null,null,null,null,null,null,null,null,null,null,null,"-"]
[null,null,null,null,null,2,null,null,null,null,null,null,null,null,null,null,null,null,null,null,null,"Caldaia Standard"]
[null,null,null,null,null,3,"-",null,null,null,null,"-","-","-",null,null,null,"-","-",null,null,"Caldaia Bassa Temperatura"]
[null,null,null,null,null,4,"-",null,null,null,null,"-","-","-",null,null,null,"-","-",null,null,"Caldaia a Condensazione Gas"]
[]
[null,"SA) Scaldacqua a pompa di calore",null,null,null,null,"Tipo Sostituito","Pu. scald. sostituito kW","Pu. scald. PDC  kW","COP nuovo scald.","Capacità accumulo litri"]
[null,null,null,null,null,null,"-"]
[null,null,null,null,null,null,"-"]
[]
[null,"Spesa Massima Ammissibile per Impianti CC) GA) PC) PCA) SI) ed SA)",null,null,null,null,null,null,null,{"$f":"'Computo-Massimali'!T50","v":0}]
[null,"Spese Previste in progetto per Impianti CC) GA) PC) PCA) SI) ed SA)",null,null,null,null,null,null,null,{"$f":"'Computo-Massimali'!L50","v":0}]
[null,"Spesa Ammessa",null,null,null,null,null,null,null,{"$f":"IF(J347<J346,J347,J346)","v":0}]
[null,null,null,null,null,"SAL 30%",null,"SAL 60%",null,"SAL FINALE"]
[null,"Costo Lavori Realizzati",null,null,null,{"$f":"'SAL.30%'!L50","v":0},null,{"$f":"'SAL.60%'!L50","v":0},null,{"$f":"SAL.Finale!L50","v":0}]
[null,"di cui ammessi",null,null,null,{"$f":"IF(F350<J348,F350,J348)","v":0},null,{"$f":"IF(H350<J348,H350,J348)","v":0},null,{"$f":"IF(J350<J348,J350,J348)","v":0}]
[null,"Risparmio di energia primaria non rinnovabile di progetto    [kWh/anno]"]
[]
[null,"CO) Sistemi microcogenerazione ",null,null,null,null,"Tipo Sostituito","P.Nom Sostituito","Pot. Elettr. kW","Pot. Immes. kW","Pot. Term. Rec. kW","PES %","Tipo Aliment.","Tipo Intervent","a Celle Combust.","Riscaldatore Supplement.","P.Risc. Supp kW","Efficienz hs %","Classe Energet"]
[null,null,null,null,null,null,"-",null,null,null,null,null,"-","-","-","-",null,null,"-"]
[null,null,null,null,null,null,"-",null,null,null,null,null,"-","-","-","-",null,null,"-"]
[]
[null,"Spesa Massima Ammissibile per CO) Sistemi Microgenerazione",null,null,null,null,null,null,null,{"$f":"'Computo-Massimali'!T51","v":0}]
[null,"Spese Previste in progetto per CO) Microgenerazione",null,null,null,null,null,null,null,{"$f":"'Computo-Massimali'!L51","v":0}]
[null,"Spesa Ammessa",null,null,null,null,null,null,null,{"$f":"IF(J359<J358,J359,J358)","v":0}]
[null,null,null,null,null,"SAL 30%",null,"SAL 60%",null,"SAL FINALE"]
[null,"Costo Lavori Realizzati",null,null,null,{"$f":"'SAL.30%'!L51","v":0},null,{"$f":"'SAL.60%'!L51","v":0},null,{"$f":"SAL.Finale!L51","v":0}]
[null,"di cui ammessi",null,null,null,{"$f":"IF(F362<J360,F362,J360)","v":0},null,{"$f":"IF(H362<J360,H362,J360)","v":0},null,{"$f":"IF(J362<J360,J362,J360)","v":0}]
[null,"Risparmio di energia primaria non rinnovabile di progetto    [kWh/anno]"]
[]
[null,"IB) Generatori a biomassa installazione, di impianti di climatizzazione invernale dotati di generatori di calore alimentati da biomasse combustibili ",null,null,null,null,"Tipo Sostituito","P.Nom Sostituito","Classe Gener. re","Tipo Generatore",null,"Impianto destinato a","Tipo Aliment.","P.u.      kW","P. al focolare kW","Rendimento a P. nom.","Sup. Riscald mq",null,null," "]
[null,null,null,null,null,null,"-",null,"-",null,null,"-","-"]
[null,null,null,null,null,null,"-",null,"-",null,null,"-","-"]
[]
[null,"Spesa Massima Ammissibile per IB) Generatori a biomassa",null,null,null,null,null,null,null,{"$f":"'Computo-Massimali'!T52","v":0}]
[null,"Spese Previste in progetto per IB) Generatori a biomassa",null,null,null,null,null,null,null,{"$f":"'Computo-Massimali'!L52","v":0}]
[null,"Spesa Ammessa",null,null,null,null,null,null,null,{"$f":"IF(J371<J370,J371,J370)","v":0}]
[null,null,null,null,null,"SAL 30%",null,"SAL 60%",null,"SAL FINALE"]
[null,"Costo Lavori Realizzati",null,null,null,{"$f":"'SAL.30%'!L52","v":0},null,{"$f":"'SAL.60%'!L52","v":0},null,{"$f":"SAL.Finale!L52","v":0}]
[null,"di cui ammessi",null,null,null,{"$f":"IF(F374<J372,F374,J372)","v":0},null,{"$f":"IF(H374<J372,H374,J372)","v":0},null,{"$f":"IF(J374<J372,J374,J372)","v":0}]
[null,"Risparmio di energia primaria non rinnovabile di progetto    [kWh/anno]"]
[]
[null,"BA) Building Automation",null,null,null,null,"Controllo Climatizzaz. Invernale","Controllo Climatizz. Estiva","Controllo ACS","Classe Sistema Esistente",null,"Classe Sistema Dopo interv.","Superfici Ambienti Contr."]
[]
[null,null,null,null,null,null,"-","-","-",null,null,"-"]
[]
[null,"Spesa Massima Ammissibile per BA) Building Automation",null,null,null,null,null,null,null,{"$f":"'Computo-Massimali'!T53","v":0}]
[null,"Spese Previste in progetto per BA) Building Automation",null,null,null,null,null,null,null,{"$f":"'Computo-Massimali'!L53","v":0}]
[null,"Spesa Ammessa",null,null,null,null,null,null,null,{"$f":"IF(J383<J382,J383,J382)","v":0}]
[null,null,null,null,null,"SAL 30%",null,"SAL 60%",null,"SAL FINALE"]
[null,"Costo Lavori Realizzati",null,null,null,{"$f":"'SAL.30%'!L53","v":0},null,{"$f":"'SAL.60%'!L53","v":0},null,{"$f":"SAL.Finale!L53","v":0}]
[null,"di cui ammessi",null,null,null,{"$f":"IF(F386<J384,F386,J384)","v":0},null,{"$f":"IF(H386<J384,H386,J384)","v":0},null,{"$f":"IF(J386<J384,J386,J384)","v":0}]
[null,"Risparmio di energia primaria non rinnovabile di progetto    [kWh/anno]"]
[]
[null,"ST) Collettori Solari",null,null,null,null,"Sup lorda Ag singolo modulo","N. di moduli","S.tot","Tipo di colllettori","Tipo di installazione","Inclinaz. %","Orientamento","Factory Made","Qcol / Qsol kWht  oppure    QL MJ","Accumulo   litri","Dest. Calore","Solar Keymrk","Tipo impianto sost."]
[null,null,null,null,null,null,null,null,{"$f":"G391*H391","v":0}]
[null,null,null,null,null,null,null,null,{"$f":"G392*H392","v":0},"-","-",null,"-","-",null,null,"-","-","-"]
[]
[null,"Spesa Massima Ammissibile per ST) Collettori Solari",null,null,null,null,null,null,null,{"$f":"'Computo-Massimali'!T54","v":0}]
[null,"Spese Previste in progetto per ST) Collettori Solari",null,null,null,null,null,null,null,{"$f":"'Computo-Massimali'!L54","v":0}]
[null,"Spesa Ammessa",null,null,null,null,null,null,null,{"$f":"IF(J395<J394,J395,J394)","v":0}]
[null,null,null,null,null,"SAL 30%",null,"SAL 60%",null,"SAL FINALE"]
[null,"Costo Lavori Realizzati",null,null,null,{"$f":"'SAL.30%'!L54","v":0},null,{"$f":"'SAL.60%'!L54","v":0},null,{"$f":"SAL.Finale!L54","v":0}]
[null,"di cui ammessi",null,null,null,{"$f":"IF(F398<J396,F398,J396)","v":0},null,{"$f":"IF(H398<J396,H398,J396)","v":0},null,{"$f":"IF(J398<J396,J398,J396)","v":0}]
[null,"Risparmio di energia primaria non rinnovabile di progetto    [kWh/anno]"]
[]
[null,"FV) Fotovoltaico",null,null,null,null,"Codice POD",null,"Potenza Picco kW"]
[]
[]
[]
[null,"Spesa Massima Ammissibile per FV) Fotovoltaico",null,null,null,null,null,null,null,{"$f":"'Computo-Massimali'!T55","v":0}]
[null,"Spese Previste in progetto per FV) Fotovoltaico",null,null,null,null,null,null,null,{"$f":"'Computo-Massimali'!L55","v":0}]
[null,"Spesa Ammessa",null,null,null,null,null,null,null,{"$f":"IF(J407<J406,J407,J406)","v":0}]
[null,null,null,null,null,"SAL 30%",null,"SAL 60%",null,"SAL FINALE"]
[null,"Costo Lavori Realizzati",null,null,null,{"$f":"'SAL.30%'!L55","v":0},null,{"$f":"'SAL.60%'!L55","v":0},null,{"$f":"SAL.Finale!L55","v":0}]
[null,"di cui ammessi",null,null,null,{"$f":"IF(F410<J408,F410,J408)","v":0},null,{"$f":"IF(H410<J408,H410,J408)","v":0},null,{"$f":"IF(J410<J408,J410,J408)","v":0}]
[]
[]
[null,"AC) Sistema di Accumulo",null,null,null,null,"Capacità kWh"]
[]
[]
[]
[null,"Spesa Massima Ammissibile perAC) Sistema di Accumulo",null,null,null,null,null,null,null,{"$f":"'Computo-Massimali'!T56","v":0}]
[null,"Spese Previste in progetto per AC) Sistema di Accumulo",null,null,null,null,null,null,null,{"$f":"'Computo-Massimali'!L56","v":0}]
[null,"Spesa Ammessa",null,null,null,null,null,null,null,{"$f":"IF(J419<J418,J419,J418)","v":0}]
[null,null,null,null,null,"SAL 30%",null,"SAL 60%",null,"SAL FINALE"]
[null,"Costo Lavori Realizzati",null,null,null,{"$f":"'SAL.30%'!L56","v":0},null,{"$f":"'SAL.60%'!L56","v":0},null,{"$f":"SAL.Finale!L56","v":0}]
[null,"di cui ammessi",null,null,null,{"$f":"IF(F422<J420,F422,J420)","v":0},null,{"$f":"IF(H422<J420,H422,J420)","v":0},null,{"$f":"IF(J422<J420,J422,J420)","v":0}]
[]
[null,"CR) Infrastrutture per la ricarica veicoli elettrici"]
[null,null,null,null,null,null,0]
[]
[]
[null,"Spesa Massima Ammissibile per CR) Colonnine di Ricarica",null,null,null,null,null,null,null,{"$f":"'Computo-Massimali'!T57","v":0}]
[null,"Spese Previste in progetto per CR) Colonnine di Ricarica",null,null,null,null,null,null,null,{"$f":"'Computo-Massimali'!L57","v":0}]
[null,"Spesa Ammessa",null,null,null,null,null,null,null,{"$f":"IF(J430<J429,J430,J429)","v":0}]
[null,null,null,null,null,"SAL 30%",null,"SAL 60%",null,"SAL FINALE"]
[null,"Costo Lavori Realizzati",null,null,null,{"$f":"'SAL.30%'!L57","v":0},null,{"$f":"'SAL.60%'!L57","v":0},null,{"$f":"SAL.Finale!L57","v":0}]
[null,"di cui ammessi",null,null,null,{"$f":"IF(F433<J431,F433,J431)","v":0},null,{"$f":"IF(H433<J431,H433,J431)","v":0},null,{"$f":"IF(J433<J431,J433,J431)","v":0}]

{"sheet":"Fatture","index":10,"n_rows":0,"n_cols":0,"rows_kept":0,"cut":false,"hidden":false,"merged":[]}

{"sheet":"Cessione Credito","index":11,"n_rows":200,"n_cols":17,"rows_kept":200,"cut":false,"hidden":false,"merged":[]}
[]
[null,null,null,null,null,null,null,null,null,null,null,null,null,null,"RENDICONTO","Importo Spesa","Credito Ceduto"]
[null,null,null,null,null,null,null,null,null,null,null,null,null,null,"Importo Complessivo",{"$f":"+P10+P16","v":51850.501922607422},{"$f":"+Q10+Q16","v":57035.552307128906}]
[]
[null,null,null,null,null,null,null,null,null,null,null,null,null,null,"1 - Isolamento Sup. Opache Verticali, Orizz. o Inclinate"]
[null,null,null,null,null,null,null,null,null,null,null,null,null,null,"Fornitore","Importo Spesa","Credito Ceduto"]
[null,null,null,null,null,null,null,null,null,null,null,null,null,null,"SIM srl",24000,26400]
[null,null,null,null,null,null,null,null,null,null,null,null,null,null,"Ingegnere1",5075.2001953125,5582.72021484375]
[null,null,null,null,null,null,null,null,null,null,null,null,null,null,"Consulente",553.658203125,609.0240478515625]
[null,null,null,null,null,null,null,null,null,null,null,null,null,null,null,{"$f":"SUM(P7:P9)","v":29628.8583984375},{"$f":"SUM(Q7:Q9)","v":32591.744262695313}]
[null,null,null,null,null,null,null,null,null,null,null,null,null,null,"11 - Sistemi di microcogenerazione"]
[null,null,null,null,null,null,null,null,null,null,null,null,null,null,"Fornitore","Importo Spesa","Credito Ceduto"]
[null,null,null,null,null,null,null,null,null,null,null,null,null,null,"SIM srl",18000,19800]
[null,null,null,null,null,null,null,null,null,null,null,null,null,null,"Ingegnere1",3806.39990234375,4187.0400390625]
[null,null,null,null,null,null,null,null,null,null,null,null,null,null,"Consulente",415.24362182617188,456.76800537109375]
[null,null,null,null,null,null,null,null,null,null,null,null,null,null,null,{"$f":"SUM(P13:P15)","v":22221.643524169922},{"$f":"SUM(Q13:Q15)","v":24443.808044433594}]
[]
[]
[]
[]
[]
[]
[]
[]
[]
[]
[]
[]
[]
[]
[]
[]
[]
[]
[]
[]
[]
[]
[]
[]
[]
[]
[]
[]
[]
[]
[]
[]
[]
[]
[]
[]
[]
[]
[]
[]
[]
[]
[]
[null,null,null,null,null,null,null,null,""]
[]
[]
[]
[]
[]
[]
[]
[]
[]
[]
[]
[]
[]
[]
[]
[]
[]
[]
[]
[]
[]
[]
[]
[]
[]
[]
[]
[]
[]
[]
[]
[]
[]
[]
[]
[]
[]
[]
[]
[]
[]
[]
[]
[]
[]
[]
[]
[]
[]
[]
[]
[]
[]
[]
[]
[]
[]
[]
[]
[]
[]
[]
[]
[]
[]
[]
[]
[]
[]
[]
[]
[]
[]
[]
[]
[]
[]
[]
[]
[]
[]
[]
[]
[]
[]
[]
[]
[]
[]
[null,"©2021 Created By SIM srl - www.madosoft.it"]
[]
[]
[]
[]
[]
[]
[]
[]
[]
[]
[]
[]
[]
[]
[]
[]
[]
[]
[]
[]
[]
[]
[]
[]
[]
[]
[]
[]
[]
[]
[]
[]
[]
[]
[]
[]
[]
[]
[]
[]
[]
[]
[]
[]
[]
[]
[]
[]
[]
[null,"©2021 Created By SIM srl - www.madosoft.it"]

{"sheet":"Personal","index":12,"n_rows":367,"n_cols":19,"rows_kept":367,"cut":false,"hidden":false,"merged":[[174,0,174,4],[175,0,175,4],[176,0,176,4],[177,0,177,4],[178,0,178,4],[169,0,169,6],[171,0,171,13],[172,0,173,4],[172,5,173,5],[172,6,173,6],[172,7,173,7],[172,8,173,8],[172,9,173,9],[172,10,173,10],[172,11,172,13],[192,11,192,12],[196,0,196,4],[196,6,196,7],[196,11,196,12],[193,0,193,4],[193,6,193,7],[193,11,193,12],[194,0,194,4],[194,6,194,7],[194,11,194,12],[187,0,187,6],[195,0,195,4],[195,6,195,7],[195,11,195,12],[191,0,191,4],[191,6,191,7],[191,11,191,12],[188,0,188,14],[189,0,189,4],[189,6,189,7],[189,11,189,12],[190,0,190,4],[190,6,190,7],[190,11,190,12],[192,0,192,4],[192,6,192,7]]}
[]
[null,"RENDICONTO APPALTATORE / GENERAL CONTRACTOR"]
[null,null,"Incasso/Spesa","Importo ","Iva","Totale","Saldo"]
[null,"2021-01-01","Spesa",5000,{"$f":"IF(D4<>0,IF(C4=\"Incasso\",D4*0.22,-D4*0.22),\"\")","v":-1100},{"$f":"IF(D4<>0,IF(C4=\"Incasso\",D4+E4,-D4+E4),\"\")","v":-6100},{"$f":"IF(F4<>0,F4,\"\")","v":-6100}]
[null,"2021-01-01","Spesa",10000,{"$f":"IF(D5<>0,IF(C5=\"Incasso\",D5*0.22,-D5*0.22),\"\")","v":-2200},{"$f":"IF(D5<>0,IF(C5=\"Incasso\",D5+E5,-D5+E5),\"\")","v":-12200},{"$f":"IF(G4<>0,IF(F5<>0,G4+F5,\"\"),\"\")","v":-18300}]
[null,"2021-02-16","Incasso",12000,2640,14640,{"$f":"IF(G5<>0,IF(F6<>0,G5+F6,\"\"),\"\")","v":-3660}]
[null,"2021-02-16","Spesa",3000,-660,-3660,{"$f":"IF(ISNUMBER(G6),IF(ISNUMBER(F7),G6+F7,\"\"),\"\")","v":-7320}]
[null,null,null,null,"","",{"$f":"IF(ISNUMBER(G7),IF(ISNUMBER(F8),G7+F8,\"\"),\"\")","v":""}]
[null,null,null,null,"","",""]
[null,null,null,null,"","",""]
[null,null,null,null,"","",""]
[null,null,null,null,"","",""]
[null,null,null,null,"","",""]
[null,null,null,null,"","",""]
[null,null,null,null,"","",""]
[null,null,null,null,"","",""]
[null,null,null,null,"","",""]
[null,null,null,null,"","",""]
[null,null,null,null,"","",""]
[null,null,null,null,"","",""]
[null,null,null,null,"","",""]
[null,null,null,null,"","",""]
[null,null,null,null,"","",""]
[null,null,null,null,"","",""]
[null,null,null,null,"","",""]
[null,null,null,null,"","",""]
[null,null,null,null,"","",""]
[null,null,null,null,"","",""]
[null,null,null,null,"","",""]
[null,null,null,null,"","",""]
[null,null,null,null,"","",""]
[]
[null,null,null,"Entrate: ",{"$f":"SUMIF(F4:F31,\">0\",F4:F31)","v":14640},"Iva Incassata: ",{"$f":"SUMIF(E4:E31,\">0\",E4:E31)","v":2640}]
[null,null,null,"Uscite: ",{"$f":"SUMIF(F4:F31,\"<0\",F4:F31)","v":-21960},"Iva Pagata: ",{"$f":"SUMIF(E4:E31,\"<0\",E4:E31)","v":-3960},null,null,null,"Pag.","ncasella","Delta"]
[null,null,null,"Saldo:  ",{"$f":"SUM(F4:F31)","v":-7320},"Saldo Iva:  ",{"$f":"SUM(E4:E31)","v":-1320},null,null,null,1,48,0,{"$f":"21*(L35-56*(K35-1)-48)/4","v":0},null,"RENDICONTO"]
[null,null,null,null,null,null,null,null,null,null,1,{"$f":"L35+4","v":52},21,21,null,"Tipo Intervento:  1 - Isolamento Sup. Opache Verticali, Orizz. o Inclinate "]
[null,null,null,null,null,null,null,null,null,null,1,{"$f":"L36+4","v":56},42,42,null,"Fornitore","Importo Spesa","Credito Ceduto"]
[null,null,null,null,null,null,null,null,null,null,1,{"$f":"L37+4","v":60},63,63,null,"aaa",42250.1484375,46475.16015625]
[null,null,null,null,null,null,null,null,null,null,2,{"$f":"L35+56","v":104},0,0,null,"aaa",1100.7445098391727,1210.8189608230896,"Quota xTecnici che non applicano sconto"]
[null,null,null,null,null,null,null,null,null,null,2,{"$f":"L39+4","v":108},21,21,null,"bbb",6145.0927734375,6759.60205078125]
[null,null,null,null,null,null,null,null,null,null,2,{"$f":"L40+4","v":112},42,42,null,null,49495.985720776676,54445.58116785434]
[null,null,null,null,null,null,null,null,null,null,2,{"$f":"L41+4","v":116},63,63,null,"Tipo Intervento:  2 - Sostituzione degli Impianti di Climatizzazione Esistenti"]
[null,null,null,null,null,null,null,null,null,null,null,null,null,null,null,"Fornitore","Importo Spesa","Credito Ceduto"]
[null,null,null,null,null,null,null,null,null,null,null,null,null,null,null,"aaa",10560.9521484375,11617.0478515625]
[null,null,null,null,null,null,null,null,null,null,null,null,null,null,null,"bbb",1384.5616455078125,1523.017822265625]
[null,null,null,null,null,null,null,null,null,null,null,null,null,null,null,null,11945.513793945313,13140.065673828125]
[]
[null,null,null,null,null,null,null,null,null,null,null,null,null,null,null,"Importi Totali Cessione",61441.499514721989,67585.646841682465]
[]
[]
[]
[]
[null,null,"ImportoLavori","Spese","Importo"]
[null,"Interventi Isolamento T",{"$f":"'Computo-Massimali'!J13","v":0},{"$f":"'Computo-Massimali'!K13","v":0},{"$f":"SUM(C54:D54)","v":0}]
[null,"Impianti Climatizzazione e ACS T",{"$f":"'Computo-Massimali'!J14","v":0},{"$f":"'Computo-Massimali'!K14","v":0},{"$f":"SUM(C55:D55)","v":0}]
[null,"Totali Trainanti",{"$f":"SUM(C54:C55)","v":0},{"$f":"SUM(D54:D55)","v":0},{"$f":"SUM(C56:D56)","v":0}]
[null,"Interventi Isolamento PC",{"$f":"SUM('Computo-Massimali'!J20:'Computo-Massimali'!J22)","v":0},{"$f":"SUM('Computo-Massimali'!K20:'Computo-Massimali'!K22)","v":0},{"$f":"SUM(C57:D57)","v":0}]
[null,"Infissi PC",{"$f":"'Computo-Massimali'!J23","v":0},{"$f":"'Computo-Massimali'!K23","v":0}]
[]
[]
[]
[]
[]
[]
[]
[]
[]
[]
[]
[]
[]
[]
[]
[]
[]
[]
[]
[]
[]
[]
[]
[]
[]
[]
[]
[]
[]
[]
[]
[]
[]
[]
[]
[]
[]
[]
[]
[]
[]
[]
[]
[]
[null,null,{"$f":"IF('Dati Gen'!N11<>\"\",'Dati Gen'!N11,IF(D103<>\"\",D103,0))","v":{"$error":"#REF!"}},{"$f":"'SAL.30%'!#REF!","v":{"$error":"#REF!"}},{"$f":"'SAL.60%'!C4","v":"08/05/2022"},{"$f":"TODAY()","v":"2022-05-12"}]
[null,"Stati Avanzamento Lavori",{"$f":"CONCATENATE(\"Avvio \",C103)","v":{"$error":"#REF!"}},{"$f":"CONCATENATE(\"SAL.30% \",D103)","v":{"$error":"#REF!"}},{"$f":"CONCATENATE(\"SAL.60% \",E103)","v":"SAL.60% 08/05/2022"},{"$f":"CONCATENATE(\"Oggi \",TEXT(F103,\"gg/mm/aaaa\"))","v":"Oggi 12/05/2022"}]
[null,{"$f":"'Computo-Massimali'!C9","v":"PV) Isolamento pareti perimetrali"},0,{"$f":"'SAL.30%'!N10","v":0},{"$f":"'SAL.60%'!N9","v":0},{"$f":"IF(SAL.Finale!N9>0,SAL.Finale!N9,IF(E105>0,E105,IF(D105>0,D105,0)))","v":0}]
[null,{"$f":"'Computo-Massimali'!C10","v":"PO) Isolamento coperture"},0,{"$f":"'SAL.30%'!N11","v":0},{"$f":"'SAL.60%'!N10","v":0},{"$f":"IF(SAL.Finale!N10>0,SAL.Finale!N10,IF(E106>0,E106,IF(D106>0,D106,0)))","v":0}]
[null,{"$f":"'Computo-Massimali'!C11","v":"POND) Isol. coperture non disperdenti"},0,{"$f":"'SAL.30%'!N12","v":0},{"$f":"'SAL.60%'!N11","v":0},{"$f":"IF(SAL.Finale!N11>0,SAL.Finale!N11,IF(E107>0,E107,IF(D107>0,D107,0)))","v":0}]
[null,{"$f":"'Computo-Massimali'!C12","v":"PS) Isolamento Pavimenti"},0,{"$f":"'SAL.30%'!N13","v":0},{"$f":"'SAL.60%'!N12","v":0},{"$f":"IF(SAL.Finale!N12>0,SAL.Finale!N12,IF(E108>0,E108,IF(D108>0,D108,0)))","v":0}]
[null,{"$f":"'Computo-Massimali'!C14","v":"Impianti climatizzazione e ACS "},0,{"$f":"'SAL.30%'!N15","v":0},{"$f":"'SAL.60%'!N14","v":0},{"$f":"IF(SAL.Finale!N14>0,SAL.Finale!N14,IF(E109>0,E109,IF(D109>0,D109,0)))","v":0}]
[null,{"$f":"'Computo-Massimali'!C15","v":"SismaBonus Zona 1,2 o 3"},0,{"$f":"'SAL.30%'!N16","v":0},{"$f":"'SAL.60%'!N15","v":0},{"$f":"IF(SAL.Finale!N15>0,SAL.Finale!N15,IF(E110>0,E110,IF(D110>0,D110,0)))","v":0}]
[null,{"$f":"'Computo-Massimali'!C16","v":"Totale interventi Trainanti  : "},0,{"$f":"'SAL.30%'!N17","v":0},{"$f":"'SAL.60%'!N16","v":0},{"$f":"IF(SAL.Finale!N16>0,SAL.Finale!N16,IF(E111>0,E111,IF(D111>0,D111,0)))","v":0}]
[]
[]
[]
[null,{"$f":"'Computo-Massimali'!C20","v":"PV) Isolamento pareti perimetrali"},0,{"$f":"'SAL.30%'!N21","v":0},{"$f":"'SAL.60%'!N20","v":0},{"$f":"IF(SAL.Finale!N20>0,SAL.Finale!N20,IF(E115>0,E115,IF(D115>0,D115,0)))","v":0}]
[null,{"$f":"'Computo-Massimali'!C21","v":"PO) Isolamento coperture"},0,{"$f":"'SAL.30%'!N22","v":0},{"$f":"'SAL.60%'!N21","v":0},{"$f":"IF(SAL.Finale!N21>0,SAL.Finale!N21,IF(E116>0,E116,IF(D116>0,D116,0)))","v":0}]
[null,{"$f":"'Computo-Massimali'!C22","v":"PS) Isolamento Pavimenti"},0,{"$f":"'SAL.30%'!N23","v":0},{"$f":"'SAL.60%'!N22","v":0},{"$f":"IF(SAL.Finale!N22>0,SAL.Finale!N22,IF(E117>0,E117,IF(D117>0,D117,0)))","v":0}]
[null,{"$f":"'Computo-Massimali'!C23","v":"IN) Serramenti con chiusure oscuranti"},0,{"$f":"'SAL.30%'!N24","v":0},{"$f":"'SAL.60%'!N23","v":0},{"$f":"IF(SAL.Finale!N23>0,SAL.Finale!N23,IF(E118>0,E118,IF(D118>0,D118,0)))","v":0}]
[null,{"$f":"'Computo-Massimali'!C24","v":"Totali Isolamento PV) PO) PS) e IN)"},0,{"$f":"'SAL.30%'!N25","v":0},{"$f":"'SAL.60%'!N24","v":0},{"$f":"IF(SAL.Finale!N24>0,SAL.Finale!N24,IF(E119>0,E119,IF(D119>0,D119,0)))","v":0}]
[null,{"$f":"'Computo-Massimali'!C25","v":"SS) Schermature solari e chiusure oscuranti"},0,{"$f":"'SAL.30%'!N26","v":0},{"$f":"'SAL.60%'!N25","v":0},{"$f":"IF(SAL.Finale!N25>0,SAL.Finale!N25,IF(E120>0,E120,IF(D120>0,D120,0)))","v":0}]
[null,{"$f":"'Computo-Massimali'!C26","v":"Impianti climatizzazione con "},0,{"$f":"'SAL.30%'!N27","v":0},{"$f":"'SAL.60%'!N26","v":0},{"$f":"IF(SAL.Finale!N26>0,SAL.Finale!N26,IF(E121>0,E121,IF(D121>0,D121,0)))","v":0}]
[null,{"$f":"'Computo-Massimali'!C27","v":"GA) Generatori aria calda Condensazione"},0,{"$f":"'SAL.30%'!N28","v":0},{"$f":"'SAL.60%'!N27","v":0},{"$f":"IF(SAL.Finale!N27>0,SAL.Finale!N27,IF(E122>0,E122,IF(D122>0,D122,0)))","v":0}]
[null,{"$f":"'Computo-Massimali'!C28","v":"IB) Impianti Biomassa"},0,{"$f":"'SAL.30%'!N29","v":0},{"$f":"'SAL.60%'!N28","v":0},{"$f":"IF(SAL.Finale!N28>0,SAL.Finale!N28,IF(E123>0,E123,IF(D123>0,D123,0)))","v":0}]
[null,{"$f":"'Computo-Massimali'!C29","v":"SA) Scaldacqua a pompa di calore"},0,{"$f":"'SAL.30%'!N30","v":0},{"$f":"'SAL.60%'!N29","v":0},{"$f":"IF(SAL.Finale!N29>0,SAL.Finale!N29,IF(E124>0,E124,IF(D124>0,D124,0)))","v":0}]
[null,{"$f":"'Computo-Massimali'!C30","v":"Totali GA)  IB)  SA)"},0,{"$f":"'SAL.30%'!N31","v":0},{"$f":"'SAL.60%'!N30","v":0},{"$f":"IF(SAL.Finale!N30>0,SAL.Finale!N30,IF(E125>0,E125,IF(D125>0,D125,0)))","v":0}]
[null,{"$f":"'Computo-Massimali'!C31","v":"CO) Sistemi di Microgenerazione"},0,{"$f":"'SAL.30%'!N32","v":0},{"$f":"'SAL.60%'!N31","v":0},{"$f":"IF(SAL.Finale!N31>0,SAL.Finale!N31,IF(E126>0,E126,IF(D126>0,D126,0)))","v":0}]
[null,{"$f":"'Computo-Massimali'!C32","v":"ST) Collettori Solari"},0,{"$f":"'SAL.30%'!N33","v":0},{"$f":"'SAL.60%'!N32","v":0},{"$f":"IF(SAL.Finale!N32>0,SAL.Finale!N32,IF(E127>0,E127,IF(D127>0,D127,0)))","v":0}]
[null,{"$f":"'Computo-Massimali'!C33","v":"FV) Solare Fotovoltaico [ kWp ]"},0,{"$f":"'SAL.30%'!N34","v":0},{"$f":"'SAL.60%'!N33","v":0},{"$f":"IF(SAL.Finale!N33>0,SAL.Finale!N33,IF(E128>0,E128,IF(D128>0,D128,0)))","v":0}]
[null,{"$f":"'Computo-Massimali'!C34","v":"AC) Sistema di Accumulo [ kWh ]"},0,{"$f":"'SAL.30%'!N35","v":0},{"$f":"'SAL.60%'!N34","v":0},{"$f":"IF(SAL.Finale!N34>0,SAL.Finale!N34,IF(E129>0,E129,IF(D129>0,D129,0)))","v":0}]
[null,{"$f":"'Computo-Massimali'!C35","v":"CR) Colonnine di Ricarica  [ N. ]"},0,{"$f":"'SAL.30%'!N36","v":0},{"$f":"'SAL.60%'!N35","v":0},{"$f":"IF(SAL.Finale!N35>0,SAL.Finale!N35,IF(E130>0,E130,IF(D130>0,D130,0)))","v":0}]
[null,{"$f":"'Computo-Massimali'!C36","v":"EBA) Eliminazione Barriere architettoniche"},0,{"$f":"'SAL.30%'!N37","v":0},{"$f":"'SAL.60%'!N36","v":0},{"$f":"IF(SAL.Finale!N36>0,SAL.Finale!N36,IF(E131>0,E131,IF(D131>0,D131,0)))","v":0}]
[]
[]
[]
[]
[]
[null,{"$f":"'Computo-Massimali'!C42","v":"PV) Isolamento pareti perimetrali"},0,{"$f":"'SAL.30%'!N43","v":0},{"$f":"'SAL.60%'!N42","v":0},{"$f":"IF(SAL.Finale!N42>0,SAL.Finale!N42,IF(E137>0,E137,IF(D137>0,D137,0)))","v":0}]
[null,{"$f":"'Computo-Massimali'!C43","v":"PO) Isolamento coperture"},0,{"$f":"'SAL.30%'!N44","v":0},{"$f":"'SAL.60%'!N43","v":0},{"$f":"IF(SAL.Finale!N43>0,SAL.Finale!N43,IF(E138>0,E138,IF(D138>0,D138,0)))","v":0}]
[null,{"$f":"'Computo-Massimali'!C44","v":"PS) Isolamento Pavimenti"},0,{"$f":"'SAL.30%'!N45","v":0},{"$f":"'SAL.60%'!N44","v":0},{"$f":"IF(SAL.Finale!N44>0,SAL.Finale!N44,IF(E139>0,E139,IF(D139>0,D139,0)))","v":0}]
[null,{"$f":"'Computo-Massimali'!C45","v":"IN) Serramenti con chiusure oscuranti"},0,{"$f":"'SAL.30%'!N46","v":0},{"$f":"'SAL.60%'!N45","v":0},{"$f":"IF(SAL.Finale!N45>0,SAL.Finale!N45,IF(E140>0,E140,IF(D140>0,D140,0)))","v":0}]
[null,{"$f":"'Computo-Massimali'!C46","v":"Totali Isolamento PV) PO) PS) e IN"},0,{"$f":"'SAL.30%'!N47","v":0},{"$f":"'SAL.60%'!N46","v":0},{"$f":"IF(SAL.Finale!N46>0,SAL.Finale!N46,IF(E141>0,E141,IF(D141>0,D141,0)))","v":0}]
[null,{"$f":"'Computo-Massimali'!C47","v":"SS) Schermature solari e chiusure oscuranti"},0,{"$f":"'SAL.30%'!N48","v":0},{"$f":"'SAL.60%'!N47","v":0},{"$f":"IF(SAL.Finale!N47>0,SAL.Finale!N47,IF(E142>0,E142,IF(D142>0,D142,0)))","v":0}]
[null,{"$f":"'Computo-Massimali'!C48","v":"Impianti climatizzazione con "},0,{"$f":"'SAL.30%'!N49","v":0},{"$f":"'SAL.60%'!N48","v":0},{"$f":"IF(SAL.Finale!N48>0,SAL.Finale!N48,IF(E143>0,E143,IF(D143>0,D143,0)))","v":0}]
[null,{"$f":"'Computo-Massimali'!C49","v":"SA) Scaldacqua a pompa di calore"},0,{"$f":"'SAL.30%'!#REF!","v":{"$error":"#REF!"}},{"$f":"'SAL.60%'!N49","v":0},{"$f":"IF(SAL.Finale!N49>0,SAL.Finale!N49,IF(E144>0,E144,IF(D144>0,D144,0)))","v":{"$error":"#REF!"}}]
[null,{"$f":"'Computo-Massimali'!C50","v":"Totali Impianti ed  SA)"},0,{"$f":"'SAL.30%'!N50","v":0},{"$f":"'SAL.60%'!N50","v":0},{"$f":"IF(SAL.Finale!N50>0,SAL.Finale!N50,IF(E145>0,E145,IF(D145>0,D145,0)))","v":0}]
[null,{"$f":"'Computo-Massimali'!C51","v":"CO) Sistemi di Microgenerazione"},0,{"$f":"'SAL.30%'!N51","v":0},{"$f":"'SAL.60%'!N51","v":0},{"$f":"IF(SAL.Finale!N51>0,SAL.Finale!N51,IF(E146>0,E146,IF(D146>0,D146,0)))","v":0}]
[null,{"$f":"'Computo-Massimali'!C52","v":"IB) Generatori a Biomassa"},0,{"$f":"'SAL.30%'!N52","v":0},{"$f":"'SAL.60%'!N52","v":0},{"$f":"IF(SAL.Finale!N52>0,SAL.Finale!N52,IF(E147>0,E147,IF(D147>0,D147,0)))","v":0}]
[null,{"$f":"'Computo-Massimali'!C53","v":"BA) Building Automation"},0,{"$f":"'SAL.30%'!N53","v":0},{"$f":"'SAL.60%'!N53","v":0},{"$f":"IF(SAL.Finale!N53>0,SAL.Finale!N53,IF(E148>0,E148,IF(D148>0,D148,0)))","v":0}]
[null,{"$f":"'Computo-Massimali'!C54","v":"ST) Collettori Solari"},0,{"$f":"'SAL.30%'!#REF!","v":{"$error":"#REF!"}},{"$f":"'SAL.60%'!N54","v":0},{"$f":"IF(SAL.Finale!N54>0,SAL.Finale!N54,IF(E149>0,E149,IF(D149>0,D149,0)))","v":{"$error":"#REF!"}}]
[null,{"$f":"'Computo-Massimali'!C55","v":"FV) Solare Fotovoltaico [ kWp ]"},0,{"$f":"'SAL.30%'!N54","v":0},{"$f":"'SAL.60%'!N55","v":0},{"$f":"IF(SAL.Finale!N55>0,SAL.Finale!N55,IF(E150>0,E150,IF(D150>0,D150,0)))","v":0}]
[null,{"$f":"'Computo-Massimali'!C56","v":"AC) Sistema di Accumulo [ kWh ]"},0,{"$f":"'SAL.30%'!N55","v":0},{"$f":"'SAL.60%'!N56","v":0},{"$f":"IF(SAL.Finale!N56>0,SAL.Finale!N56,IF(E151>0,E151,IF(D151>0,D151,0)))","v":0}]
[null,{"$f":"'Computo-Massimali'!C57","v":"CR) Colonnine di Ricarica"},0,{"$f":"'SAL.30%'!N56","v":0},{"$f":"'SAL.60%'!N57","v":0},{"$f":"IF(SAL.Finale!N57>0,SAL.Finale!N57,IF(E152>0,E152,IF(D152>0,D152,0)))","v":0}]
[null,{"$f":"'Computo-Massimali'!C59","v":"Totale Interventi trainati"},0,{"$f":"'SAL.30%'!N58","v":0},{"$f":"'SAL.60%'!N59","v":0},{"$f":"IF(SAL.Finale!N59>0,SAL.Finale!N59,IF(E153>0,E153,IF(D153>0,D153,0)))","v":0}]
[]
[]
[]
[]
[]
[]
[]
[]
[]
[]
[]
[]
[]
["Continuazione … Pratica Enea"]
[]
[]
["INTERVENTI TRAINANTI"]
[]
["intervento di isolamento termico delle superfici opache verticali, orizzontali e inclinate : PV) PO) POND) PS)"]
["Descrizione",null,null,null,null,"Superficie mq","Trasm. Ante","Trasm. Post","Trasm.P. YIE","Confine","Coiben-tazione","Realizzati mq"]
[null,null,null,null,null,null,null,null,null,null,null,"SAL.30%","SAL.60%","SAL.FIN."]
[null,null,null,null,null,22.58,0.89139999999999997,0.22359999999999999,0.01,"Esterno","Esterna",22.58]
[null,null,null,null,null,123.7,1.839,0.252,1.7299999999999999E-2,"Esterno","Esterna",123.7]
[]
[]
[]
[]
[]
[]
[]
[]
[]
[]
[]
["INTERVENTI TRAINATI Unità Immobiliare"]
["Sostituzione degli infissi "]
["Descrizione",null,null,null,null,"Telaio Prima","Vetro Prima",null,"Trasm. Ante","Superfice mq","Telaio Dopo","Vetro Dopo",null,"Trasm. Post","Chius. Oscura"]
[]
[]
[]
[null,null,null,null,null,"-","-",null,null,null,"-","-"]
[null,null,null,null,null,"-","-",null,null,null,"-","-"]
[null,null,null,null,null,"-","-",null,null,null,"-","-"]
[null,null,null,null,null,"-","-",null,null,null,"-","-"]
[]
[]
[]
[]
[]
[]
[]
[]
[]
[]
[]
[]
[]
[]
[]
[]
[]
[]
[]
[]
[]
[]
[]
[]
[]
[]
[]
[]
[]
[]
[]
[]
[]
[]
[]
[]
[]
[]
[]
[]
[]
[]
[]
[]
[]
[]
[]
[]
[]
[]
[]
[]
[]
[]
[]
[]
[]
[]
[]
[]
[]
[]
[]
[]
[]
[]
[]
[]
[]
[]
[]
[]
[]
[]
[]
[]
[]
[]
[]
[]
[]
[]
[]
[]
[]
[]
[]
[]
[]
[]
[]
[]
[]
[]
[]
[]
[]
[]
[]
[]
[]
[]
[]
[]
[]
[]
[]
[]
[]
[]
[]
[]
[]
[]
[]
[]
[]
[]
[]
[]
[]
[]
[]
[]
[]
[]
[]
[]
[]
[]
[]
[]
[]
[]
[]
[]
[]
[]
[null,null,null,null,null,null,null,null,null,null,"Note Acquisto Contratto Licenza EULA"]
[]
[]
[]
[]
[]
[]
[]
[]
[]
[]
[]
[]
[]
[]
[]
[]
[]
[]
[]
[]
[]
[]
[]
[]
[]
[]
[]
[]
[]
[null,null,null,null,null,null,null,null,null,"Capriate Legno + Solai Legno","Capriate Legno + Solai Legno","Capriate Acciaio + Solai Acciaio"]
[null,null,null,null,null,null,null,null,null,"YouTube","Likedin","Questo indirizzo email è protetto dagli spambots. È necessario abilitare JavaScript per vederlo."]

{"sheet":"ModelloFattura","index":13,"n_rows":265,"n_cols":26,"rows_kept":265,"cut":false,"hidden":true,"merged":[[47,11,47,12],[48,11,48,12],[49,11,49,12],[50,11,50,12],[51,11,51,12],[52,11,52,12],[53,11,53,12],[0,1,0,12],[38,11,38,12],[39,11,39,12],[40,11,40,12],[41,11,41,12],[42,11,42,12],[43,11,43,12],[44,11,44,12],[45,11,45,12],[46,11,46,12],[29,11,29,12],[30,11,30,12],[31,11,31,12],[32,11,32,12],[33,11,33,12],[34,11,34,12],[35,11,35,12],[36,11,36,12],[37,11,37,12],[20,11,20,12],[21,11,21,12],[22,11,22,12],[23,11,23,12],[24,11,24,12],[25,11,25,12],[26,11,26,12],[27,11,27,12],[28,11,28,12],[11,11,11,12],[12,11,12,12],[13,11,13,12],[14,11,14,12],[15,11,15,12],[16,11,16,12],[17,11,17,12],[18,11,18,12],[19,11,19,12],[1,7,1,9],[20,1,20,4],[21,1,21,4],[21,6,21,7],[21,8,21,9],[22,1,22,4],[22,6,22,7],[22,8,22,9],[23,1,23,4],[23,6,23,7],[23,8,23,9],[8,1,8,4],[9,1,9,4],[10,1,10,4],[11,1,11,4],[12,1,12,4],[13,1,13,4],[14,1,14,4],[15,1,15,4],[16,1,16,4],[17,1,17,4],[18,1,18,4],[18,6,18,7],[18,8,18,9],[54,1,54,12],[242,6,242,8],[243,6,243,8],[244,6,244,8],[169,6,169,8],[170,6,170,8],[171,6,171,8],[172,6,172,8],[173,6,173,8],[174,6,174,8],[231,6,231,8],[178,2,178,5],[181,6,181,8],[182,6,182,8],[183,6,183,8],[219,5,220,12],[221,1,221,12],[184,2,184,5],[200,2,200,5],[55,3,55,6],[55,7,59,7],[56,3,56,6],[57,3,57,6],[58,3,58,6],[245,6,245,8],[195,6,195,8],[196,6,196,8],[197,6,197,8],[198,6,198,8],[237,6,237,8],[238,6,238,8],[234,6,234,8],[235,6,235,8],[236,6,236,8],[232,6,232,8],[233,6,233,8],[208,3,208,12],[209,3,209,12],[229,2,229,5],[230,2,230,5],[231,2,231,5],[226,2,226,5],[225,6,225,8],[226,6,226,8],[217,10,217,12],[218,10,218,12],[199,2,199,5],[199,6,199,8],[222,6,222,8],[202,3,202,4],[191,2,191,5],[201,1,201,12],[194,2,194,5],[195,2,195,5],[196,2,196,5],[197,2,197,5],[198,2,198,5],[208,1,208,2],[209,1,209,2],[214,1,214,2],[215,1,215,2],[216,1,216,2],[217,1,217,2],[218,1,218,2],[192,2,192,5],[193,2,193,5],[219,1,219,2],[219,3,219,4],[220,1,220,2],[220,3,220,4],[222,2,222,5],[230,6,230,8],[206,11,206,12],[178,6,178,8],[179,6,179,8],[180,6,180,8],[205,11,205,12],[194,6,194,8],[202,11,202,12],[203,11,203,12],[204,11,204,12],[214,10,214,12],[215,10,215,12],[216,10,216,12],[214,7,218,7],[214,3,214,6],[215,3,215,6],[216,3,216,6],[217,3,217,6],[218,3,218,6],[182,2,182,5],[183,2,183,5],[227,2,227,5],[228,2,228,5],[200,6,200,8],[91,2,91,9],[92,2,92,9],[112,3,112,6],[175,6,175,8],[176,6,176,8],[177,6,177,8],[138,2,138,9],[139,2,139,9],[103,3,103,12],[108,10,108,12],[109,10,109,12],[110,10,110,12],[111,10,111,12],[112,10,112,12],[128,2,128,9],[132,2,132,9],[133,2,133,9],[108,1,108,2],[109,1,109,2],[110,1,110,2],[111,1,111,2],[121,2,121,9],[122,2,122,9],[118,2,118,9],[55,10,55,12],[56,10,56,12],[57,10,57,12],[58,10,58,12],[59,10,59,12],[61,24,63,24],[61,25,63,25],[70,2,70,9],[71,2,71,9],[63,2,63,9],[64,2,64,9],[65,2,65,9],[60,5,61,12],[62,1,62,12],[61,1,61,2],[60,1,60,2],[60,3,60,4],[61,3,61,4],[59,3,59,6],[74,2,74,9],[66,2,66,9],[67,2,67,9],[68,2,68,9],[69,2,69,9],[72,2,72,9],[73,2,73,9],[100,11,100,12],[111,3,111,6],[75,2,75,9],[76,2,76,9],[77,2,77,9],[78,2,78,9],[79,2,79,9],[80,2,80,9],[81,2,81,9],[82,2,82,9],[83,2,83,9],[87,2,87,9],[88,2,88,9],[89,2,89,9],[90,2,90,9],[102,1,102,2],[102,3,102,12],[117,2,117,9],[114,24,116,24],[93,2,93,9],[94,2,94,9],[96,11,96,12],[97,11,97,12],[98,11,98,12],[96,3,96,4],[103,1,103,2],[112,1,112,2],[108,7,112,7],[108,3,108,6],[109,3,109,6],[110,3,110,6],[116,2,116,9],[113,1,113,2],[113,3,113,4],[114,25,116,25],[119,2,119,9],[120,2,120,9],[137,2,137,9],[169,2,169,5],[127,2,127,9],[161,10,161,12],[162,10,162,12],[163,10,163,12],[164,10,164,12],[165,10,165,12],[168,1,168,12],[166,1,166,2],[166,3,166,4],[167,1,167,2],[167,3,167,4],[134,2,134,9],[135,2,135,9],[136,2,136,9],[123,2,123,9],[124,2,124,9],[149,11,149,12],[150,11,150,12],[151,11,151,12],[170,2,170,5],[161,1,161,2],[162,1,162,2],[163,1,163,2],[164,1,164,2],[165,1,165,2],[166,5,167,12],[161,7,165,7],[161,3,161,6],[162,3,162,6],[163,3,163,6],[164,3,164,6],[165,3,165,6],[171,2,171,5],[172,2,172,5],[173,2,173,5],[174,2,174,5],[175,2,175,5],[176,2,176,5],[177,2,177,5],[181,2,181,5],[179,2,179,5],[180,2,180,5],[233,2,233,5],[241,6,241,8],[237,2,237,5],[238,2,238,5],[239,2,239,5],[239,6,239,8],[240,6,240,8],[184,6,184,8],[185,6,185,8],[186,6,186,8],[187,6,187,8],[188,6,188,8],[189,6,189,8],[190,6,190,8],[191,6,191,8],[192,6,192,8],[185,2,185,5],[186,2,186,5],[187,2,187,5],[188,2,188,5],[193,6,193,8],[189,2,189,5],[190,2,190,5],[229,6,229,8],[223,2,223,5],[223,6,223,8],[224,6,224,8],[224,2,224,5],[225,2,225,5],[227,6,227,8],[228,6,228,8],[261,1,261,2],[242,2,242,5],[243,2,243,5],[244,2,244,5],[245,2,245,5],[246,2,246,5],[234,2,234,5],[235,2,235,5],[236,2,236,5],[240,2,240,5],[241,2,241,5],[246,6,246,8],[247,6,247,8],[248,6,248,8],[249,6,249,8],[250,6,250,8],[232,2,232,5],[262,1,262,2],[256,11,256,12],[257,11,257,12],[258,11,258,12],[259,11,259,12],[261,3,261,12],[262,3,262,12],[247,2,247,5],[248,2,248,5],[249,2,249,5],[250,2,250,5],[251,2,251,5],[255,11,255,12],[252,2,252,5],[253,2,253,5],[254,1,254,12],[255,3,255,4],[251,6,251,8],[252,6,252,8],[253,6,253,8],[152,11,152,12],[153,11,153,12],[155,3,155,12],[156,3,156,12],[95,1,95,12],[148,1,148,12],[115,1,115,12],[156,1,156,2],[141,2,141,9],[142,2,142,9],[143,2,143,9],[144,2,144,9],[145,2,145,9],[146,2,146,9],[147,2,147,9],[149,3,149,4],[155,1,155,2],[140,2,140,9],[125,2,125,9],[126,2,126,9],[114,1,114,2],[114,3,114,4],[113,5,114,12],[99,11,99,12],[3,8,3,9],[3,10,3,11],[3,6,3,7],[3,2,3,4],[4,8,4,9],[4,10,4,11],[4,6,4,7],[4,2,4,4],[5,2,5,4],[5,6,5,7],[5,8,5,9],[5,10,5,11],[6,2,6,4],[6,6,6,7],[6,8,6,9],[6,10,6,11],[8,6,8,7],[8,8,8,9],[9,6,9,7],[9,8,9,9],[10,6,10,7],[10,8,10,9],[8,11,8,12],[9,11,9,12],[10,11,10,12],[11,6,11,7],[11,8,11,9],[12,6,12,7],[12,8,12,9],[13,6,13,7],[13,8,13,9],[14,6,14,7],[14,8,14,9],[15,6,15,7],[15,8,15,9],[16,6,16,7],[16,8,16,9],[17,6,17,7],[17,8,17,9],[19,6,19,7],[19,8,19,9],[20,6,20,7],[20,8,20,9],[19,1,19,4],[24,1,24,4],[24,6,24,7],[24,8,24,9],[25,1,25,4],[25,6,25,7],[25,8,25,9],[26,1,26,4],[26,6,26,7],[26,8,26,9],[27,1,27,4],[27,6,27,7],[27,8,27,9],[28,1,28,4],[28,6,28,7],[28,8,28,9],[29,1,29,4],[29,6,29,7],[29,8,29,9],[30,1,30,4],[30,6,30,7],[30,8,30,9],[31,1,31,4],[31,6,31,7],[31,8,31,9],[32,1,32,4],[32,6,32,7],[32,8,32,9],[33,1,33,4],[33,6,33,7],[33,8,33,9],[34,1,34,4],[34,6,34,7],[34,8,34,9],[35,1,35,4],[35,6,35,7],[35,8,35,9],[36,1,36,4],[36,6,36,7],[36,8,36,9],[37,1,37,4],[37,6,37,7],[37,8,37,9],[38,1,38,4],[38,6,38,7],[38,8,38,9],[39,1,39,4],[39,6,39,7],[39,8,39,9],[40,1,40,4],[40,6,40,7],[40,8,40,9],[41,1,41,4],[41,6,41,7],[41,8,41,9],[42,1,42,4],[42,6,42,7],[42,8,42,9],[45,1,45,4],[45,6,45,7],[45,8,45,9],[46,1,46,4],[46,6,46,7],[46,8,46,9],[47,1,47,4],[47,6,47,7],[47,8,47,9],[48,1,48,4],[48,6,48,7],[48,8,48,9],[49,1,49,4],[49,6,49,7],[49,8,49,9]]}
[]
[null,"RIEPILOGO  FATTURE SAL N.",null,null,null,null,"del"]
[null,{"$f":"IF(TipoEdif=1,CONCATENATE(\"da emettere al Cliente \",Committenti!B3,\" \",Committenti!C3),CONCATENATE(\"da emettere al Condominio \",'Dati Gen'!K5))","v":"da emettere al Cliente Tizio Caio"},null,null,null,null,null,null,null,null,null,5,5]
[null,"Tipo","Fornitore",null,null,"Importo","Sconto",null,"a Pagare",null,"Credito spettante",null,"Data"]
[]
[]
[]
[null,"da emettere al General Contractor",null,null,null,null,null,null,null,null,null,10,10]
[null,"Tecnico",null,null,null,"Imponibile","Iva",null,"Importo",null,"Rit.Acconto","Netto a Pagare"]
[]
[]
[]
[]
[]
[]
[]
[]
[]
[]
[]
[]
[]
[]
[]
[]
[]
[]
[]
[]
[]
[]
[]
[]
[]
[]
[]
[]
[]
[]
[]
[]
[]
[]
[]
[]
[]
[]
[]
[]
[]
[]
[]
[]
[]
[null,{"$f":"IF('Computo-Massimali'!$C$6<>\"\",\"Attenzione! Tabella Computo-Massimali non completa. Si consiglia di completare, prima di Creare Fatture\",\"\")","v":"Attenzione! Tabella Computo-Massimali non completa. Si consiglia di completare, prima di Creare Fatture"}]
[null,"Fornitore",null,null,null,null,null,null," Cliente",null,null,null,null,null,"Fattura Fornitore Superbonus 110"]
[null,"Indirizzo",null,null,null,null,null,null," Indirizzo",null,""]
[null,"Città",null,null,null,null,null,null," Città",null," "]
[null,"CF./P.Iva",null,null,null,null,null,null," C.F. : "]
[null,"Tel./Mail"]
[null,"FATTURA N."]
[null,"DATA",null,null,null,null,null,null,null,null,null,null,null,null,null,null,{"$f":"'SAL.30%'!AF$127","v":0},{"$f":"'SAL.30%'!AG$127","v":0},{"$f":"'SAL.30%'!AH$127","v":0},{"$f":"'SAL.30%'!AI$127","v":0},{"$f":"'SAL.30%'!AJ$127","v":0},{"$f":"'SAL.30%'!AK$127","v":0},{"$f":"'SAL.30%'!AL$127","v":0},{"$f":"'SAL.30%'!AM$127","v":0},"Spese Tecniche Fatturate Direttamente","Spese Tecniche Non Fatturate Direttamente"]
[null,null,null,null,null,null,null,null,null,null,null,null,null,null,null,null,{"$f":"'Dati Gen'!$D$44","v":"SI"},{"$f":"'Dati Gen'!$D$45","v":"NO"},{"$f":"'Dati Gen'!$D$46","v":"NO"},{"$f":"'Dati Gen'!$D$47","v":"NO"},{"$f":"'Dati Gen'!$D$48","v":"NO"},{"$f":"'Dati Gen'!$D$49","v":"NO"},{"$f":"'Dati Gen'!$D$50","v":"NO"},{"$f":"'Dati Gen'!$D$51","v":"NO"}]
[null,null,"DESCRIZIONE",null,null,null,null,null,null,null,"PREZZO","%IVA","IMPORTO",null,"Importo Iva","Spese Tecniche",{"$f":"IF('Dati Gen'!$B$44<>\"\",'Dati Gen'!$B$44,\"\")","v":"Architetto1"},{"$f":"IF('Dati Gen'!$B$45<>\"\",'Dati Gen'!$B$45,\"\")","v":"Ingegnere2"},{"$f":"IF('Dati Gen'!$B$46<>\"\",'Dati Gen'!$B$46,\"\")","v":"Consulente1"},{"$f":"IF('Dati Gen'!$B$47<>\"\",'Dati Gen'!$B$47,\"\")","v":""},{"$f":"IF('Dati Gen'!$B$48<>\"\",'Dati Gen'!$B$48,\"\")","v":""},{"$f":"IF('Dati Gen'!$B$49<>\"\",'Dati Gen'!$B$49,\"\")","v":""},{"$f":"IF('Dati Gen'!$B$50<>\"\",'Dati Gen'!$B$50,\"\")","v":""},{"$f":"IF('Dati Gen'!$B$51<>\"\",'Dati Gen'!$B$51,\"\")","v":""}]
[null,{"$f":"IF(C65<>\"\",1,\"\")","v":""},null,null,null,null,null,null,null,null,null,null,{"$f":"IF(K65<>\"\",K65*(1+L65),\"\")","v":""},null,{"$f":"IF(K65<>\"\",K65*L65,0)","v":0},0,{"$f":"P65*Q62","v":0},{"$f":"P65*R62","v":0},{"$f":"P65*S62","v":0},{"$f":"P65*T62","v":0},{"$f":"P65*U62","v":0},{"$f":"P65*V62","v":0},{"$f":"P65*W62","v":0},{"$f":"P65*X62","v":0},{"$f":"SUMIF(Q63:X63,\"SI\",Q65:X65)","v":0},{"$f":"SUM(Q65:X65)-Y65","v":0}]
[null,{"$f":"IF(C66<>\"\",B65+1,\"\")","v":""},null,null,null,null,null,null,null,null,null,null,{"$f":"IF(K66<>\"\",K66*(1+L66),\"\")","v":""},null,{"$f":"IF(K66<>\"\",K66*L66,0)","v":0},0,{"$f":"P66*Q62","v":0},{"$f":"P66*R62","v":0},{"$f":"P66*S62","v":0},{"$f":"P66*T62","v":0},{"$f":"P66*U62","v":0},{"$f":"P66*V62","v":0},{"$f":"P66*W62","v":0},{"$f":"P66*X62","v":0},{"$f":"SUMIF(Q63:X63,\"SI\",Q66:X66)","v":0},0]
[null,"",null,null,null,null,null,null,null,null,null,null,{"$f":"IF(K67<>\"\",K67*(1+L67),\"\")","v":""},null,{"$f":"IF(K67<>\"\",K67*L67,0)","v":0},0,{"$f":"P67*Q62","v":0},{"$f":"P67*R62","v":0},{"$f":"P67*S62","v":0},{"$f":"P67*T62","v":0},{"$f":"P67*U62","v":0},{"$f":"P67*V62","v":0},{"$f":"P67*W62","v":0},{"$f":"P67*X62","v":0},{"$f":"SUMIF(Q63:X63,\"SI\",Q67:X67)","v":0},0]
[null,"",null,null,null,null,null,null,null,null,null,null,"",null,{"$f":"IF(K68<>\"\",K68*L68,0)","v":0},0,{"$f":"P68*Q62","v":0},{"$f":"P68*R62","v":0},{"$f":"P68*S62","v":0},{"$f":"P68*T62","v":0},{"$f":"P68*U62","v":0},{"$f":"P68*V62","v":0},{"$f":"P68*W62","v":0},{"$f":"P68*X62","v":0},{"$f":"SUMIF(Q63:X63,\"SI\",Q68:X68)","v":0},0]
[null,"",null,null,null,null,null,null,null,null,null,null,"",null,0,0,{"$f":"P69*Q62","v":0},{"$f":"P69*R62","v":0},{"$f":"P69*S62","v":0},{"$f":"P69*T62","v":0},{"$f":"P69*U62","v":0},{"$f":"P69*V62","v":0},{"$f":"P69*W62","v":0},{"$f":"P69*X62","v":0},{"$f":"SUMIF(Q63:X63,\"SI\",Q69:X69)","v":0},0]
[null,"",null,null,null,null,null,null,null,null,null,null,"",null,0,0,{"$f":"P70*Q62","v":0},{"$f":"P70*R62","v":0},{"$f":"P70*S62","v":0},{"$f":"P70*T62","v":0},{"$f":"P70*U62","v":0},{"$f":"P70*V62","v":0},{"$f":"P70*W62","v":0},{"$f":"P70*X62","v":0},{"$f":"SUMIF(Q63:X63,\"SI\",Q70:X70)","v":0},0]
[null,"",null,null,null,null,null,null,null,null,null,null,"",null,0,0,{"$f":"P71*Q62","v":0},{"$f":"P71*R62","v":0},{"$f":"P71*S62","v":0},{"$f":"P71*T62","v":0},{"$f":"P71*U62","v":0},{"$f":"P71*V62","v":0},{"$f":"P71*W62","v":0},{"$f":"P71*X62","v":0},{"$f":"SUMIF(Q63:X63,\"SI\",Q71:X71)","v":0},0]
[null,"",null,null,null,null,null,null,null,null,null,null,"",null,0,0,{"$f":"P72*Q62","v":0},{"$f":"P72*R62","v":0},{"$f":"P72*S62","v":0},{"$f":"P72*T62","v":0},{"$f":"P72*U62","v":0},{"$f":"P72*V62","v":0},{"$f":"P72*W62","v":0},{"$f":"P72*X62","v":0},{"$f":"SUMIF(Q63:X63,\"SI\",Q72:X72)","v":0},0]
[null,"",null,null,null,null,null,null,null,null,null,null,"",null,0,0,{"$f":"P73*Q62","v":0},{"$f":"P73*R62","v":0},{"$f":"P73*S62","v":0},{"$f":"P73*T62","v":0},{"$f":"P73*U62","v":0},{"$f":"P73*V62","v":0},{"$f":"P73*W62","v":0},{"$f":"P73*X62","v":0},{"$f":"SUMIF(Q63:X63,\"SI\",Q73:X73)","v":0},0]
[null,"",null,null,null,null,null,null,null,null,null,null,"",null,0,0,{"$f":"P74*Q62","v":0},{"$f":"P74*R62","v":0},{"$f":"P74*S62","v":0},{"$f":"P74*T62","v":0},{"$f":"P74*U62","v":0},{"$f":"P74*V62","v":0},{"$f":"P74*W62","v":0},{"$f":"P74*X62","v":0},{"$f":"SUMIF(Q63:X63,\"SI\",Q74:X74)","v":0},0]
[null,{"$f":"IF(C75<>\"\",B74+1,\"\")","v":""},null,null,null,null,null,null,null,null,null,null,"",null,0,0,{"$f":"P75*Q62","v":0},{"$f":"P75*R62","v":0},{"$f":"P75*S62","v":0},{"$f":"P75*T62","v":0},{"$f":"P75*U62","v":0},{"$f":"P75*V62","v":0},{"$f":"P75*W62","v":0},{"$f":"P75*X62","v":0},{"$f":"SUMIF(Q63:X63,\"SI\",Q75:X75)","v":0},0]
[null,"",null,null,null,null,null,null,null,null,null,null,"",null,0,0,{"$f":"P76*Q62","v":0},{"$f":"P76*R62","v":0},{"$f":"P76*S62","v":0},{"$f":"P76*T62","v":0},{"$f":"P76*U62","v":0},{"$f":"P76*V62","v":0},{"$f":"P76*W62","v":0},{"$f":"P76*X62","v":0},{"$f":"SUMIF(Q63:X63,\"SI\",Q76:X76)","v":0},0]
[null,"",null,null,null,null,null,null,null,null,null,null,"",null,0,0,{"$f":"P77*Q62","v":0},{"$f":"P77*R62","v":0},{"$f":"P77*S62","v":0},{"$f":"P77*T62","v":0},{"$f":"P77*U62","v":0},{"$f":"P77*V62","v":0},{"$f":"P77*W62","v":0},{"$f":"P77*X62","v":0},{"$f":"SUMIF(Q63:X63,\"SI\",Q77:X77)","v":0},0]
[null,"",null,null,null,null,null,null,null,null,null,null,"",null,0,0,{"$f":"P78*Q62","v":0},{"$f":"P78*R62","v":0},{"$f":"P78*S62","v":0},{"$f":"P78*T62","v":0},{"$f":"P78*U62","v":0},{"$f":"P78*V62","v":0},{"$f":"P78*W62","v":0},{"$f":"P78*X62","v":0},{"$f":"SUMIF(Q63:X63,\"SI\",Q78:X78)","v":0},0]
[null,"",null,null,null,null,null,null,null,null,null,null,"",null,0,0,{"$f":"P79*Q62","v":0},{"$f":"P79*R62","v":0},{"$f":"P79*S62","v":0},{"$f":"P79*T62","v":0},{"$f":"P79*U62","v":0},{"$f":"P79*V62","v":0},{"$f":"P79*W62","v":0},{"$f":"P79*X62","v":0},{"$f":"SUMIF(Q63:X63,\"SI\",Q79:X79)","v":0},0]
[null,"",null,null,null,null,null,null,null,null,null,null,"",null,0,0,{"$f":"P80*Q62","v":0},{"$f":"P80*R62","v":0},{"$f":"P80*S62","v":0},{"$f":"P80*T62","v":0},{"$f":"P80*U62","v":0},{"$f":"P80*V62","v":0},{"$f":"P80*W62","v":0},{"$f":"P80*X62","v":0},{"$f":"SUMIF(Q63:X63,\"SI\",Q80:X80)","v":0},0]
[null,"",null,null,null,null,null,null,null,null,null,null,"",null,0,0,{"$f":"P81*Q62","v":0},{"$f":"P81*R62","v":0},{"$f":"P81*S62","v":0},{"$f":"P81*T62","v":0},{"$f":"P81*U62","v":0},{"$f":"P81*V62","v":0},{"$f":"P81*W62","v":0},{"$f":"P81*X62","v":0},{"$f":"SUMIF(Q63:X63,\"SI\",Q81:X81)","v":0},0]
[null,"",null,null,null,null,null,null,null,null,null,null,"",null,0,0,{"$f":"P82*Q62","v":0},{"$f":"P82*R62","v":0},{"$f":"P82*S62","v":0},{"$f":"P82*T62","v":0},{"$f":"P82*U62","v":0},{"$f":"P82*V62","v":0},{"$f":"P82*W62","v":0},{"$f":"P82*X62","v":0},{"$f":"SUMIF(Q63:X63,\"SI\",Q82:X82)","v":0},0]
[null,"",null,null,null,null,null,null,null,null,null,null,"",null,0,0,{"$f":"P83*Q62","v":0},{"$f":"P83*R62","v":0},{"$f":"P83*S62","v":0},{"$f":"P83*T62","v":0},{"$f":"P83*U62","v":0},{"$f":"P83*V62","v":0},{"$f":"P83*W62","v":0},{"$f":"P83*X62","v":0},{"$f":"SUMIF(Q63:X63,\"SI\",Q83:X83)","v":0},0]
[null,"",null,null,null,null,null,null,null,null,null,null,"",null,0,0,{"$f":"P84*Q62","v":0},{"$f":"P84*R62","v":0},{"$f":"P84*S62","v":0},{"$f":"P84*T62","v":0},{"$f":"P84*U62","v":0},{"$f":"P84*V62","v":0},{"$f":"P84*W62","v":0},{"$f":"P84*X62","v":0},{"$f":"SUMIF(Q63:X63,\"SI\",Q84:X84)","v":0},0]
[null,"",null,null,null,null,null,null,null,null,null,null,"",null,{"$f":"IF(K85<>\"\",K85*L85,0)","v":0},0,{"$f":"P85*Q62","v":0},{"$f":"P85*R62","v":0},{"$f":"P85*S62","v":0},{"$f":"P85*T62","v":0},{"$f":"P85*U62","v":0},{"$f":"P85*V62","v":0},{"$f":"P85*W62","v":0},{"$f":"P85*X62","v":0},{"$f":"SUMIF(Q63:X63,\"SI\",Q85:X85)","v":0},0]
[null,"",null,null,null,null,null,null,null,null,null,null,"",null,{"$f":"IF(K86<>\"\",K86*L86,0)","v":0},0,{"$f":"P86*Q62","v":0},{"$f":"P86*R62","v":0},{"$f":"P86*S62","v":0},{"$f":"P86*T62","v":0},{"$f":"P86*U62","v":0},{"$f":"P86*V62","v":0},{"$f":"P86*W62","v":0},{"$f":"P86*X62","v":0},{"$f":"SUMIF(Q63:X63,\"SI\",Q86:X86)","v":0},0]
[null,"",null,null,null,null,null,null,null,null,null,null,"",null,{"$f":"IF(K87<>\"\",K87*L87,0)","v":0},0,{"$f":"P87*Q62","v":0},{"$f":"P87*R62","v":0},{"$f":"P87*S62","v":0},{"$f":"P87*T62","v":0},{"$f":"P87*U62","v":0},{"$f":"P87*V62","v":0},{"$f":"P87*W62","v":0},{"$f":"P87*X62","v":0},{"$f":"SUMIF(Q63:X63,\"SI\",Q87:X87)","v":0},0]
[null,"",null,null,null,null,null,null,null,null,null,null,"",null,0,0,{"$f":"P88*Q62","v":0},{"$f":"P88*R62","v":0},{"$f":"P88*S62","v":0},{"$f":"P88*T62","v":0},{"$f":"P88*U62","v":0},{"$f":"P88*V62","v":0},{"$f":"P88*W62","v":0},{"$f":"P88*X62","v":0},{"$f":"SUMIF(Q63:X63,\"SI\",Q88:X88)","v":0},0]
[null,"",null,null,null,null,null,null,null,null,null,null,"",null,0,0,{"$f":"P89*Q62","v":0},{"$f":"P89*R62","v":0},{"$f":"P89*S62","v":0},{"$f":"P89*T62","v":0},{"$f":"P89*U62","v":0},{"$f":"P89*V62","v":0},{"$f":"P89*W62","v":0},{"$f":"P89*X62","v":0},{"$f":"SUMIF(Q63:X63,\"SI\",Q89:X89)","v":0},0]
[null,"",null,null,null,null,null,null,null,null,null,null,"",null,0,0,{"$f":"P90*Q62","v":0},{"$f":"P90*R62","v":0},{"$f":"P90*S62","v":0},{"$f":"P90*T62","v":0},{"$f":"P90*U62","v":0},{"$f":"P90*V62","v":0},{"$f":"P90*W62","v":0},{"$f":"P90*X62","v":0},{"$f":"SUMIF(Q63:X63,\"SI\",Q90:X90)","v":0},0]
[null,"",null,null,null,null,null,null,null,null,null,null,"",null,0,0,{"$f":"P91*Q62","v":0},{"$f":"P91*R62","v":0},{"$f":"P91*S62","v":0},{"$f":"P91*T62","v":0},{"$f":"P91*U62","v":0},{"$f":"P91*V62","v":0},{"$f":"P91*W62","v":0},{"$f":"P91*X62","v":0},{"$f":"SUMIF(Q63:X63,\"SI\",Q91:X91)","v":0},0]
[null,"",null,null,null,null,null,null,null,null,null,null,"",null,0,0,{"$f":"P92*Q62","v":0},{"$f":"P92*R62","v":0},{"$f":"P92*S62","v":0},{"$f":"P92*T62","v":0},{"$f":"P92*U62","v":0},{"$f":"P92*V62","v":0},{"$f":"P92*W62","v":0},{"$f":"P92*X62","v":0},{"$f":"SUMIF(Q63:X63,\"SI\",Q92:X92)","v":0},0]
[null,"",null,null,null,null,null,null,null,null,null,null,"",null,0,0,{"$f":"P93*Q62","v":0},{"$f":"P93*R62","v":0},{"$f":"P93*S62","v":0},{"$f":"P93*T62","v":0},{"$f":"P93*U62","v":0},{"$f":"P93*V62","v":0},{"$f":"P93*W62","v":0},{"$f":"P93*X62","v":0},{"$f":"SUMIF(Q63:X63,\"SI\",Q93:X93)","v":0},0]
[null,"",null,null,null,null,null,null,null,null,null,null,"",null,0,0,{"$f":"P94*Q62","v":0},{"$f":"P94*R62","v":0},{"$f":"P94*S62","v":0},{"$f":"P94*T62","v":0},{"$f":"P94*U62","v":0},{"$f":"P94*V62","v":0},{"$f":"P94*W62","v":0},{"$f":"P94*X62","v":0},{"$f":"SUMIF(Q63:X63,\"SI\",Q94:X94)","v":0},0]
[null,"",null,null,null,null,null,null,null,null,null,null,"",null,0,0,{"$f":"P95*Q62","v":0},{"$f":"P95*R62","v":0},{"$f":"P95*S62","v":0},{"$f":"P95*T62","v":0},{"$f":"P95*U62","v":0},{"$f":"P95*V62","v":0},{"$f":"P95*W62","v":0},{"$f":"P95*X62","v":0},{"$f":"SUMIF(Q63:X63,\"SI\",Q95:X95)","v":0},0]
[null,null,null,null,null,null,null,null,null,null,null,null,null,null,{"$f":"SUM(O65:O95)","v":0},{"$f":"SUM(P65:P95)","v":0},{"$f":"SUM(Q65:Q95)","v":0},0,{"$f":"SUM(S65:S95)","v":0},0,{"$f":"SUM(U65:U95)","v":0},0,0,0,{"$f":"SUM(Y65:Y95)","v":0},{"$f":"SUM(Z65:Z95)","v":0}]
[null,null,{"$f":"IF(D97<>\"\",\"Spese\",\"\")","v":""},{"$f":"IF(SUMIF(L65:L95,\"=0\",K65:K95)<>0,SUMIF(L65:L95,\"=0\",K65:K95),\"\")","v":""},null,null,null,null,null,null,"Imponibile  ",{"$f":"SUMIF(L65:L95,\"<>0\",K65:K95)","v":0}]
[null,null,null,null,null,null,null,null,null,null,"IVA  ",{"$f":"O96","v":0}]
[null,null,null,null,null,null,null,null,null,null,"Totale  ",{"$f":"IF(D97<>\"\",SUM(L97:M98)+D97,SUM(L97:M98))","v":0}]
[null,null,null,null,null,null,null,null,null,null,"Sconto in Fattura",0]
[null,null,null,null,null,null,null,null,null,null,"Netto a Pagare  ",{"$f":"IF(L99+L100<>0,L99+L100,\"0,00 €\")","v":"0,00 €"}]
[]
[null,"Pagamento"]
[null,"Note"]
[]
[null,"©2021 SIM srl - www.madosoft.it",null,null,null,null,null,null,null,null,null,null,"Pag. 1/1"]
[]
[]
[null,"Fornitore",null,null,null,null,null,null," Cliente",null,null,null,null,null,"Fattura Fornitore Altri Interventi"]
[null,"Indirizzo",null,null,null,null,null,null," Indirizzo",null,""]
[null,"Città",null,null,null,null,null,null," Città",null," "]
[null,"CF./P.Iva",null,null,null,null,null,null," C.F. : "]
[null,"Tel./Mail"]
[null,"FATTURA N."]
[null,"DATA",null,null,null,null,null,null,null,null,null,null,null,null,null,null,{"$f":"'SAL.30%'!AF$127","v":0},{"$f":"'SAL.30%'!AG$127","v":0},{"$f":"'SAL.30%'!AH$127","v":0},{"$f":"'SAL.30%'!AI$127","v":0},{"$f":"'SAL.30%'!AJ$127","v":0},{"$f":"'SAL.30%'!AK$127","v":0},{"$f":"'SAL.30%'!AL$127","v":0},{"$f":"'SAL.30%'!AM$127","v":0},"Spese Tecniche Fatturate Direttamente","Spese Tecniche Non Fatturate Direttamente"]
[null,null,null,null,null,null,null,null,null,null,null,null,null,null,null,null,{"$f":"'Dati Gen'!$D$44","v":"SI"},{"$f":"'Dati Gen'!$D$45","v":"NO"},{"$f":"'Dati Gen'!$D$46","v":"NO"},{"$f":"'Dati Gen'!$D$47","v":"NO"},{"$f":"'Dati Gen'!$D$48","v":"NO"},{"$f":"'Dati Gen'!$D$49","v":"NO"},{"$f":"'Dati Gen'!$D$50","v":"NO"},{"$f":"'Dati Gen'!$D$51","v":"NO"}]
[null,null,"DESCRIZIONE",null,null,null,null,null,null,null,"PREZZO","%IVA","IMPORTO",null,"Importo Iva","Spese Tecniche",{"$f":"IF('Dati Gen'!$B$44<>\"\",'Dati Gen'!$B$44,\"\")","v":"Architetto1"},{"$f":"IF('Dati Gen'!$B$45<>\"\",'Dati Gen'!$B$45,\"\")","v":"Ingegnere2"},{"$f":"IF('Dati Gen'!$B$46<>\"\",'Dati Gen'!$B$46,\"\")","v":"Consulente1"},{"$f":"IF('Dati Gen'!$B$47<>\"\",'Dati Gen'!$B$47,\"\")","v":""},{"$f":"IF('Dati Gen'!$B$48<>\"\",'Dati Gen'!$B$48,\"\")","v":""},{"$f":"IF('Dati Gen'!$B$49<>\"\",'Dati Gen'!$B$49,\"\")","v":""},{"$f":"IF('Dati Gen'!$B$50<>\"\",'Dati Gen'!$B$50,\"\")","v":""},{"$f":"IF('Dati Gen'!$B$51<>\"\",'Dati Gen'!$B$51,\"\")","v":""}]
[null,{"$f":"IF(C118<>\"\",1,\"\")","v":""},null,null,null,null,null,null,null,null,null,null,{"$f":"IF(K118<>\"\",K118*(1+L118),\"\")","v":""},null,{"$f":"IF(K118<>\"\",K118*L118,0)","v":0},0,{"$f":"P118*Q115","v":0},{"$f":"P118*R115","v":0},{"$f":"P118*S115","v":0},{"$f":"P118*T115","v":0},{"$f":"P118*U115","v":0},{"$f":"P118*V115","v":0},{"$f":"P118*W115","v":0},{"$f":"P118*X115","v":0},{"$f":"SUMIF(Q116:X116,\"SI\",Q118:X118)","v":0},{"$f":"SUM(Q118:X118)-Y118","v":0}]
[null,{"$f":"IF(C119<>\"\",B118+1,\"\")","v":""},null,null,null,null,null,null,null,null,null,null,{"$f":"IF(K119<>\"\",K119*(1+L119),\"\")","v":""},null,{"$f":"IF(K119<>\"\",K119*L119,0)","v":0},0,{"$f":"P119*Q115","v":0},{"$f":"P119*R115","v":0},{"$f":"P119*S115","v":0},{"$f":"P119*T115","v":0},{"$f":"P119*U115","v":0},{"$f":"P119*V115","v":0},{"$f":"P119*W115","v":0},{"$f":"P119*X115","v":0},{"$f":"SUMIF(Q116:X116,\"SI\",Q119:X119)","v":0},0]
[null,"",null,null,null,null,null,null,null,null,null,null,"",null,{"$f":"IF(K120<>\"\",K120*L120,0)","v":0},0,{"$f":"P120*Q115","v":0},{"$f":"P120*R115","v":0},{"$f":"P120*S115","v":0},{"$f":"P120*T115","v":0},{"$f":"P120*U115","v":0},{"$f":"P120*V115","v":0},{"$f":"P120*W115","v":0},{"$f":"P120*X115","v":0},{"$f":"SUMIF(Q116:X116,\"SI\",Q120:X120)","v":0},0]
[null,"",null,null,null,null,null,null,null,null,null,null,"",null,{"$f":"IF(K121<>\"\",K121*L121,0)","v":0},0,{"$f":"P121*Q115","v":0},{"$f":"P121*R115","v":0},{"$f":"P121*S115","v":0},{"$f":"P121*T115","v":0},{"$f":"P121*U115","v":0},{"$f":"P121*V115","v":0},{"$f":"P121*W115","v":0},{"$f":"P121*X115","v":0},{"$f":"SUMIF(Q116:X116,\"SI\",Q121:X121)","v":0},0]
[null,"",null,null,null,null,null,null,null,null,null,null,"",null,0,0,{"$f":"P122*Q115","v":0},{"$f":"P122*R115","v":0},{"$f":"P122*S115","v":0},{"$f":"P122*T115","v":0},{"$f":"P122*U115","v":0},{"$f":"P122*V115","v":0},{"$f":"P122*W115","v":0},{"$f":"P122*X115","v":0},{"$f":"SUMIF(Q116:X116,\"SI\",Q122:X122)","v":0},0]
[null,"",null,null,null,null,null,null,null,null,null,null,"",null,0,0,{"$f":"P123*Q115","v":0},{"$f":"P123*R115","v":0},{"$f":"P123*S115","v":0},{"$f":"P123*T115","v":0},{"$f":"P123*U115","v":0},{"$f":"P123*V115","v":0},{"$f":"P123*W115","v":0},{"$f":"P123*X115","v":0},{"$f":"SUMIF(Q116:X116,\"SI\",Q123:X123)","v":0},0]
[null,"",null,null,null,null,null,null,null,null,null,null,"",null,0,0,{"$f":"P124*Q115","v":0},{"$f":"P124*R115","v":0},{"$f":"P124*S115","v":0},{"$f":"P124*T115","v":0},{"$f":"P124*U115","v":0},{"$f":"P124*V115","v":0},{"$f":"P124*W115","v":0},{"$f":"P124*X115","v":0},{"$f":"SUMIF(Q116:X116,\"SI\",Q124:X124)","v":0},0]
[null,"",null,null,null,null,null,null,null,null,null,null,"",null,0,0,{"$f":"P125*Q115","v":0},{"$f":"P125*R115","v":0},{"$f":"P125*S115","v":0},{"$f":"P125*T115","v":0},{"$f":"P125*U115","v":0},{"$f":"P125*V115","v":0},{"$f":"P125*W115","v":0},{"$f":"P125*X115","v":0},{"$f":"SUMIF(Q116:X116,\"SI\",Q125:X125)","v":0},0]
[null,"",null,null,null,null,null,null,null,null,null,null,"",null,0,0,{"$f":"P126*Q115","v":0},{"$f":"P126*R115","v":0},{"$f":"P126*S115","v":0},{"$f":"P126*T115","v":0},{"$f":"P126*U115","v":0},{"$f":"P126*V115","v":0},{"$f":"P126*W115","v":0},{"$f":"P126*X115","v":0},{"$f":"SUMIF(Q116:X116,\"SI\",Q126:X126)","v":0},0]
[null,"",null,null,null,null,null,null,null,null,null,null,"",null,0,0,{"$f":"P127*Q115","v":0},{"$f":"P127*R115","v":0},{"$f":"P127*S115","v":0},{"$f":"P127*T115","v":0},{"$f":"P127*U115","v":0},{"$f":"P127*V115","v":0},{"$f":"P127*W115","v":0},{"$f":"P127*X115","v":0},{"$f":"SUMIF(Q116:X116,\"SI\",Q127:X127)","v":0},0]
[null,"",null,null,null,null,null,null,null,null,null,null,"",null,0,0,{"$f":"P128*Q115","v":0},{"$f":"P128*R115","v":0},{"$f":"P128*S115","v":0},{"$f":"P128*T115","v":0},{"$f":"P128*U115","v":0},{"$f":"P128*V115","v":0},{"$f":"P128*W115","v":0},{"$f":"P128*X115","v":0},{"$f":"SUMIF(Q116:X116,\"SI\",Q128:X128)","v":0},0]
[null,"",null,null,null,null,null,null,null,null,null,null,"",null,{"$f":"IF(K129<>\"\",K129*L129,0)","v":0},0,{"$f":"P129*Q115","v":0},{"$f":"P129*R115","v":0},{"$f":"P129*S115","v":0},{"$f":"P129*T115","v":0},{"$f":"P129*U115","v":0},{"$f":"P129*V115","v":0},{"$f":"P129*W115","v":0},{"$f":"P129*X115","v":0},{"$f":"SUMIF(Q116:X116,\"SI\",Q129:X129)","v":0},0]
[null,"",null,null,null,null,null,null,null,null,null,null,"",null,{"$f":"IF(K130<>\"\",K130*L130,0)","v":0},0,{"$f":"P130*Q115","v":0},{"$f":"P130*R115","v":0},{"$f":"P130*S115","v":0},{"$f":"P130*T115","v":0},{"$f":"P130*U115","v":0},{"$f":"P130*V115","v":0},{"$f":"P130*W115","v":0},{"$f":"P130*X115","v":0},{"$f":"SUMIF(Q116:X116,\"SI\",Q130:X130)","v":0},0]
[null,"",null,null,null,null,null,null,null,null,null,null,"",null,{"$f":"IF(K131<>\"\",K131*L131,0)","v":0},0,{"$f":"P131*Q115","v":0},{"$f":"P131*R115","v":0},{"$f":"P131*S115","v":0},{"$f":"P131*T115","v":0},{"$f":"P131*U115","v":0},{"$f":"P131*V115","v":0},{"$f":"P131*W115","v":0},{"$f":"P131*X115","v":0},{"$f":"SUMIF(Q116:X116,\"SI\",Q131:X131)","v":0},0]
[null,"",null,null,null,null,null,null,null,null,null,null,"",null,{"$f":"IF(K132<>\"\",K132*L132,0)","v":0},0,{"$f":"P132*Q115","v":0},{"$f":"P132*R115","v":0},{"$f":"P132*S115","v":0},{"$f":"P132*T115","v":0},{"$f":"P132*U115","v":0},{"$f":"P132*V115","v":0},{"$f":"P132*W115","v":0},{"$f":"P132*X115","v":0},{"$f":"SUMIF(Q116:X116,\"SI\",Q132:X132)","v":0},0]
[null,"",null,null,null,null,null,null,null,null,null,null,"",null,{"$f":"IF(K133<>\"\",K133*L133,0)","v":0},0,{"$f":"P133*Q115","v":0},{"$f":"P133*R115","v":0},{"$f":"P133*S115","v":0},{"$f":"P133*T115","v":0},{"$f":"P133*U115","v":0},{"$f":"P133*V115","v":0},{"$f":"P133*W115","v":0},{"$f":"P133*X115","v":0},{"$f":"SUMIF(Q116:X116,\"SI\",Q133:X133)","v":0},0]
[null,"",null,null,null,null,null,null,null,null,null,null,"",null,0,0,{"$f":"P134*Q115","v":0},{"$f":"P134*R115","v":0},{"$f":"P134*S115","v":0},{"$f":"P134*T115","v":0},{"$f":"P134*U115","v":0},{"$f":"P134*V115","v":0},{"$f":"P134*W115","v":0},{"$f":"P134*X115","v":0},{"$f":"SUMIF(Q116:X116,\"SI\",Q134:X134)","v":0},0]
[null,"",null,null,null,null,null,null,null,null,null,null,"",null,0,0,{"$f":"P135*Q115","v":0},{"$f":"P135*R115","v":0},{"$f":"P135*S115","v":0},{"$f":"P135*T115","v":0},{"$f":"P135*U115","v":0},{"$f":"P135*V115","v":0},{"$f":"P135*W115","v":0},{"$f":"P135*X115","v":0},{"$f":"SUMIF(Q116:X116,\"SI\",Q135:X135)","v":0},0]
[null,"",null,null,null,null,null,null,null,null,null,null,"",null,0,0,{"$f":"P136*Q115","v":0},{"$f":"P136*R115","v":0},{"$f":"P136*S115","v":0},{"$f":"P136*T115","v":0},{"$f":"P136*U115","v":0},{"$f":"P136*V115","v":0},{"$f":"P136*W115","v":0},{"$f":"P136*X115","v":0},{"$f":"SUMIF(Q116:X116,\"SI\",Q136:X136)","v":0},0]
[null,"",null,null,null,null,null,null,null,null,null,null,"",null,0,0,{"$f":"P137*Q115","v":0},{"$f":"P137*R115","v":0},{"$f":"P137*S115","v":0},{"$f":"P137*T115","v":0},{"$f":"P137*U115","v":0},{"$f":"P137*V115","v":0},{"$f":"P137*W115","v":0},{"$f":"P137*X115","v":0},{"$f":"SUMIF(Q116:X116,\"SI\",Q137:X137)","v":0},0]
[null,"",null,null,null,null,null,null,null,null,null,null,"",null,0,0,{"$f":"P138*Q115","v":0},{"$f":"P138*R115","v":0},{"$f":"P138*S115","v":0},{"$f":"P138*T115","v":0},{"$f":"P138*U115","v":0},{"$f":"P138*V115","v":0},{"$f":"P138*W115","v":0},{"$f":"P138*X115","v":0},{"$f":"SUMIF(Q116:X116,\"SI\",Q138:X138)","v":0},0]
[null,"",null,null,null,null,null,null,null,null,null,null,"",null,0,0,{"$f":"P139*Q115","v":0},{"$f":"P139*R115","v":0},{"$f":"P139*S115","v":0},{"$f":"P139*T115","v":0},{"$f":"P139*U115","v":0},{"$f":"P139*V115","v":0},{"$f":"P139*W115","v":0},{"$f":"P139*X115","v":0},{"$f":"SUMIF(Q116:X116,\"SI\",Q139:X139)","v":0},0]
[null,"",null,null,null,null,null,null,null,null,null,null,"",null,0,0,{"$f":"P140*Q115","v":0},{"$f":"P140*R115","v":0},{"$f":"P140*S115","v":0},{"$f":"P140*T115","v":0},{"$f":"P140*U115","v":0},{"$f":"P140*V115","v":0},{"$f":"P140*W115","v":0},{"$f":"P140*X115","v":0},{"$f":"SUMIF(Q116:X116,\"SI\",Q140:X140)","v":0},0]
[null,"",null,null,null,null,null,null,null,null,null,null,"",null,0,0,{"$f":"P141*Q115","v":0},{"$f":"P141*R115","v":0},{"$f":"P141*S115","v":0},{"$f":"P141*T115","v":0},{"$f":"P141*U115","v":0},{"$f":"P141*V115","v":0},{"$f":"P141*W115","v":0},{"$f":"P141*X115","v":0},{"$f":"SUMIF(Q116:X116,\"SI\",Q141:X141)","v":0},0]
[null,"",null,null,null,null,null,null,null,null,null,null,"",null,0,0,{"$f":"P142*Q115","v":0},{"$f":"P142*R115","v":0},{"$f":"P142*S115","v":0},{"$f":"P142*T115","v":0},{"$f":"P142*U115","v":0},{"$f":"P142*V115","v":0},{"$f":"P142*W115","v":0},{"$f":"P142*X115","v":0},{"$f":"SUMIF(Q116:X116,\"SI\",Q142:X142)","v":0},0]
[null,"",null,null,null,null,null,null,null,null,null,null,"",null,0,0,{"$f":"P143*Q115","v":0},{"$f":"P143*R115","v":0},{"$f":"P143*S115","v":0},{"$f":"P143*T115","v":0},{"$f":"P143*U115","v":0},{"$f":"P143*V115","v":0},{"$f":"P143*W115","v":0},{"$f":"P143*X115","v":0},{"$f":"SUMIF(Q116:X116,\"SI\",Q143:X143)","v":0},0]
[null,"",null,null,null,null,null,null,null,null,null,null,"",null,0,0,{"$f":"P144*Q115","v":0},{"$f":"P144*R115","v":0},{"$f":"P144*S115","v":0},{"$f":"P144*T115","v":0},{"$f":"P144*U115","v":0},{"$f":"P144*V115","v":0},{"$f":"P144*W115","v":0},{"$f":"P144*X115","v":0},{"$f":"SUMIF(Q116:X116,\"SI\",Q144:X144)","v":0},0]
[null,"",null,null,null,null,null,null,null,null,null,null,"",null,0,0,{"$f":"P145*Q115","v":0},{"$f":"P145*R115","v":0},{"$f":"P145*S115","v":0},{"$f":"P145*T115","v":0},{"$f":"P145*U115","v":0},{"$f":"P145*V115","v":0},{"$f":"P145*W115","v":0},{"$f":"P145*X115","v":0},{"$f":"SUMIF(Q116:X116,\"SI\",Q145:X145)","v":0},0]
[null,"",null,null,null,null,null,null,null,null,null,null,"",null,0,0,{"$f":"P146*Q115","v":0},{"$f":"P146*R115","v":0},{"$f":"P146*S115","v":0},{"$f":"P146*T115","v":0},{"$f":"P146*U115","v":0},{"$f":"P146*V115","v":0},{"$f":"P146*W115","v":0},{"$f":"P146*X115","v":0},{"$f":"SUMIF(Q116:X116,\"SI\",Q146:X146)","v":0},0]
[null,"",null,null,null,null,null,null,null,null,null,null,"",null,0,0,{"$f":"P147*Q115","v":0},{"$f":"P147*R115","v":0},{"$f":"P147*S115","v":0},{"$f":"P147*T115","v":0},{"$f":"P147*U115","v":0},{"$f":"P147*V115","v":0},{"$f":"P147*W115","v":0},{"$f":"P147*X115","v":0},{"$f":"SUMIF(Q116:X116,\"SI\",Q147:X147)","v":0},0]
[null,"",null,null,null,null,null,null,null,null,null,null,"",null,0,0,{"$f":"P148*Q115","v":0},{"$f":"P148*R115","v":0},{"$f":"P148*S115","v":0},{"$f":"P148*T115","v":0},{"$f":"P148*U115","v":0},{"$f":"P148*V115","v":0},{"$f":"P148*W115","v":0},{"$f":"P148*X115","v":0},{"$f":"SUMIF(Q116:X116,\"SI\",Q148:X148)","v":0},0]
[null,null,null,null,null,null,null,null,null,null,null,null,null,null,{"$f":"SUM(O118:O148)","v":0},0,0,0,0,0,0,0,0,0,0,0]
[null,null,{"$f":"IF(D150<>\"\",\"Spese\",\"\")","v":""},{"$f":"IF(SUMIF(L118:L148,\"=0\",K118:K148)<>0,SUMIF(L118:L148,\"=0\",K118:K148),\"\")","v":""},null,null,null,null,null,null,"Imponibile  ",{"$f":"SUMIF(L118:L148,\"<>0\",K118:K148)","v":0}]
[null,null,null,null,null,null,null,null,null,null,"IVA  ",{"$f":"O149","v":0}]
[null,null,null,null,null,null,null,null,null,null,"Totale  ",{"$f":"IF(D150<>\"\",SUM(L150:M151)+D150,SUM(L150:M151))","v":0}]
[null,null,null,null,null,null,null,null,null,null,"Sconto in Fattura",0]
[null,null,null,null,null,null,null,null,null,null,"Netto a Pagare  ",{"$f":"IF(L152+L153<>0,L152+L153,\"0,00 €\")","v":"0,00 €"}]
[]
[null,"Pagamento"]
[null,"Note"]
[]
[null,"©2021 SIM srl - www.madosoft.it",null,null,null,null,null,null,null,null,null,null,"Pag. 1/1"]
[]
[]
[null,"Fornitore",null,null,null,null,null,null," Cliente",null,null,null,null,null,"Fattura Tecnico Superbonus 110"]
[null,"Indirizzo",null,null,null,null,null,null," Indirizzo",null,""]
[null,"Città",null,null,null,null,null,null," Città",null," "]
[null,"CF./P.Iva",null,null,null,null,null,null," C.F. : "]
[null,"Tel./Mail"]
[null,"FATTURA N."]
[null,"DATA"]
[]
[null,null,"DESCRIZIONE",null,null,null,"ONORARIO",null,null,"%CASSA","IMPONIBILE","%IVA","IMPORTO",null,"Importo Iva"]
[null,{"$f":"IF(C171<>\"\",1,\"\")","v":""},null,null,null,null,null,null,null,null,{"$f":"IF(G171<>\"\",G171*(1+J171),\"\")","v":""},null,{"$f":"IF(K171<>\"\",K171*(1+L171),\"\")","v":""},null,{"$f":"IF(K171<>\"\",K171*L171,0)","v":0}]
[null,{"$f":"IF(C172<>\"\",B171+1,\"\")","v":""},null,null,null,null,null,null,null,null,{"$f":"IF(G172<>\"\",G172*(1+J172),\"\")","v":""},null,{"$f":"IF(K172<>\"\",K172*(1+L172),\"\")","v":""},null,{"$f":"IF(K172<>\"\",K172*L172,0)","v":0}]
[null,"",null,null,null,null,null,null,null,null,"",null,"",null,0]
[null,"",null,null,null,null,null,null,null,null,"",null,"",null,0]
[null,"",null,null,null,null,null,null,null,null,"",null,"",null,0]
[null,"",null,null,null,null,null,null,null,null,"",null,"",null,0]
[null,"",null,null,null,null,null,null,null,null,"",null,"",null,0]
[null,"",null,null,null,null,null,null,null,null,"",null,{"$f":"IF(K178<>\"\",K178*(1+L178),\"\")","v":""},null,{"$f":"IF(K178<>\"\",K178*L178,0)","v":0}]
[null,"",null,null,null,null,null,null,null,null,"",null,"",null,{"$f":"IF(K179<>\"\",K179*L179,0)","v":0}]
[null,"",null,null,null,null,null,null,null,null,"",null,"",null,{"$f":"IF(K180<>\"\",K180*L180,0)","v":0}]
[null,"",null,null,null,null,null,null,null,null,"",null,"",null,{"$f":"IF(K181<>\"\",K181*L181,0)","v":0}]
[null,"",null,null,null,null,null,null,null,null,"",null,"",null,0]
[null,"",null,null,null,null,null,null,null,null,"",null,"",null,0]
[null,"",null,null,null,null,null,null,null,null,"",null,"",null,0]
[null,"",null,null,null,null,null,null,null,null,"",null,"",null,0]
[null,"",null,null,null,null,null,null,null,null,"",null,"",null,0]
[null,"",null,null,null,null,null,null,null,null,"",null,"",null,0]
[null,"",null,null,null,null,null,null,null,null,"",null,"",null,0]
[null,"",null,null,null,null,null,null,null,null,"",null,"",null,0]
[null,"",null,null,null,null,null,null,null,null,"",null,"",null,0]
[null,"",null,null,null,null,null,null,null,null,"",null,"",null,0]
[null,"",null,null,null,null,null,null,null,null,"",null,"",null,0]
[null,"",null,null,null,null,null,null,null,null,"",null,"",null,0]
[null,"",null,null,null,null,null,null,null,null,"",null,"",null,0]
[null,"",null,null,null,null,null,null,null,null,"",null,"",null,0]
[null,"",null,null,null,null,null,null,null,null,"",null,"",null,0]
[null,"",null,null,null,null,null,null,null,null,"",null,"",null,0]
[null,"",null,null,null,null,null,null,null,null,"",null,"",null,0]
[null,"",null,null,null,null,null,null,null,null,"",null,"",null,0]
[null,"",null,null,null,null,null,null,null,null,"",null,"",null,0]
[null,"",null,null,null,null,null,null,null,null,"",null,"",null,0]
[null,null,null,null,null,null,null,null,null,null,null,null,null,null,{"$f":"SUM(O171:O201)","v":0}]
[null,null,null,null,null,null,null,null,null,null,"Imponibile  ",{"$f":"SUM(K171:K201)","v":0}]
[null,null,null,null,null,null,null,null,null,null,"IVA  ",{"$f":"O202","v":0}]
[null,null,null,null,null,null,null,null,null,null,"Totale  ",{"$f":"SUM(L203:M204)","v":0}]
[null,null,null,null,null,null,null,null,null,null,"Sconto in Fattura",0]
[null,null,null,null,null,null,null,null,null,null,"Netto a Pagare  ",{"$f":"IF(L205+L206<>0,L205+L206,\"0,00 €\")","v":"0,00 €"}]
[]
[null,"Pagamento"]
[null,"Note"]
[]
[null,"©2021 SIM srl - www.madosoft.it",null,null,null,null,null,null,null,null,null,null,"Pag. 1/1"]
[]
[]
[null,"Fornitore",null,null,null,null,null,null," Cliente",null,null,null,null,null,"Fattura Tecnico Altri Interventi"]
[null,"Indirizzo",null,null,null,null,null,null," Indirizzo",null,""]
[null,"Città",null,null,null,null,null,null," Città",null," "]
[null,"CF./P.Iva",null,null,null,null,null,null," C.F. : "]
[null,"Tel./Mail"]
[null,"FATTURA N."]
[null,"DATA"]
[]
[null,null,"DESCRIZIONE",null,null,null,"ONORARIO",null,null,"%CASSA","IMPONIBILE","%IVA","IMPORTO",null,"Importo Iva"]
[null,{"$f":"IF(C224<>\"\",1,\"\")","v":""},null,null,null,null,null,null,null,null,{"$f":"IF(G224<>\"\",G224*(1+J224),\"\")","v":""},null,{"$f":"IF(K224<>\"\",K224*(1+L224),\"\")","v":""},null,{"$f":"IF(K224<>\"\",K224*L224,0)","v":0}]
[null,{"$f":"IF(C225<>\"\",B224+1,\"\")","v":""},null,null,null,null,null,null,null,null,{"$f":"IF(G225<>\"\",G225*(1+J225),\"\")","v":""},null,{"$f":"IF(K225<>\"\",K225*(1+L225),\"\")","v":""},null,{"$f":"IF(K225<>\"\",K225*L225,0)","v":0}]
[null,"",null,null,null,null,null,null,null,null,"",null,"",null,0]
[null,"",null,null,null,null,null,null,null,null,"",null,"",null,0]
[null,"",null,null,null,null,null,null,null,null,"",null,"",null,0]
[null,"",null,null,null,null,null,null,null,null,"",null,"",null,0]
[null,"",null,null,null,null,null,null,null,null,"",null,"",null,0]
[null,"",null,null,null,null,null,null,null,null,"",null,"",null,0]
[null,"",null,null,null,null,null,null,null,null,"",null,"",null,0]
[null,"",null,null,null,null,null,null,null,null,"",null,{"$f":"IF(K233<>\"\",K233*(1+L233),\"\")","v":""},null,0]
[null,"",null,null,null,null,null,null,null,null,"",null,"",null,{"$f":"IF(K234<>\"\",K234*L234,0)","v":0}]
[null,"",null,null,null,null,null,null,null,null,"",null,"",null,{"$f":"IF(K235<>\"\",K235*L235,0)","v":0}]
[null,"",null,null,null,null,null,null,null,null,"",null,"",null,{"$f":"IF(K236<>\"\",K236*L236,0)","v":0}]
[null,"",null,null,null,null,null,null,null,null,"",null,"",null,{"$f":"IF(K237<>\"\",K237*L237,0)","v":0}]
[null,{"$f":"IF(C238<>\"\",B234+1,\"\")","v":""},null,null,null,null,null,null,null,null,"",null,"",null,0]
[null,"",null,null,null,null,null,null,null,null,"",null,"",null,0]
[null,"",null,null,null,null,null,null,null,null,"",null,"",null,0]
[null,"",null,null,null,null,null,null,null,null,"",null,"",null,0]
[null,"",null,null,null,null,null,null,null,null,"",null,"",null,0]
[null,"",null,null,null,null,null,null,null,null,"",null,"",null,0]
[null,"",null,null,null,null,null,null,null,null,"",null,"",null,0]
[null,"",null,null,null,null,null,null,null,null,"",null,"",null,0]
[null,"",null,null,null,null,null,null,null,null,"",null,"",null,0]
[null,"",null,null,null,null,null,null,null,null,"",null,"",null,0]
[null,"",null,null,null,null,null,null,null,null,"",null,"",null,0]
[null,"",null,null,null,null,null,null,null,null,"",null,"",null,0]
[null,"",null,null,null,null,null,null,null,null,"",null,"",null,0]
[null,"",null,null,null,null,null,null,null,null,"",null,"",null,0]
[null,"",null,null,null,null,null,null,null,null,"",null,"",null,0]
[null,"",null,null,null,null,null,null,null,null,"",null,"",null,{"$f":"IF(K253<>\"\",K253*L253,0)","v":0}]
[null,"",null,null,null,null,null,null,null,null,"",null,"",null,0]
[null,null,null,null,null,null,null,null,null,null,null,null,null,null,{"$f":"SUM(O224:O254)","v":0}]
[null,null,null,null,null,null,null,null,null,null,"Imponibile  ",{"$f":"SUM(K224:K254)","v":0}]
[null,null,null,null,null,null,null,null,null,null,"IVA  ",{"$f":"O255","v":0}]
[null,null,null,null,null,null,null,null,null,null,"Totale  ",{"$f":"SUM(L256:M257)","v":0}]
[null,null,null,null,null,null,null,null,null,null,"Sconto in Fattura",0]
[null,null,null,null,null,null,null,null,null,null,"Netto a Pagare  ",{"$f":"IF(L258+L259<>0,L258+L259,\"0,00 €\")","v":"0,00 €"}]
[]
[null,"Pagamento"]
[null,"Note"]
[]
[null,"©2021 SIM srl - www.madosoft.it",null,null,null,null,null,null,null,null,null,null,"Pag. 1/1"]

{"sheet":"ModelloCessione","index":14,"n_rows":150,"n_cols":9,"rows_kept":150,"cut":false,"hidden":true,"merged":[]}
[]
[]
[]
[]
[]
[]
[]
[]
[]
[]
[]
[]
[]
[]
[]
[]
[]
[]
[]
[]
[]
[]
[]
[]
[]
[]
[]
[]
[]
[]
[]
[]
[]
[]
[]
[]
[]
[]
[]
[]
[]
[]
[]
[]
[]
[]
[]
[]
[]
[]
[]
[]
[]
[]
[]
[]
[]
[]
[]
[null,null,null,null,null,null,null,null,""]
[]
[]
[]
[]
[]
[]
[]
[]
[]
[]
[]
[]
[]
[]
[]
[]
[]
[]
[]
[]
[]
[]
[]
[]
[]
[]
[]
[]
[]
[]
[]
[]
[]
[]
[]
[]
[]
[]
[]
[]
[]
[]
[]
[]
[]
[]
[]
[]
[]
[]
[]
[]
[]
[]
[]
[]
[]
[]
[]
[]
[]
[]
[]
[]
[]
[]
[]
[]
[]
[]
[]
[]
[]
[]
[]
[]
[]
[]
[]
[]
[]
[]
[]
[]
[]
[]
[]
[]
[]
[null,"©2021 Created By SIM srl - www.madosoft.it"]